Workbook

Sheet 3.1 PM10_CA_TAL_01
F2: Tabla 3.1. Concentraciones horarias y 24 horas de PM₁₀
B6: TÍTULO DEL ESTUDIO: | F6: Evaluación ambiental de seguimiento de la calidad del aire en el ámbito de influencia de la unidad fiscalizable Quellaveco de la empresa Anglo American Quellaveco S.A., distrito Torata, provincia Mariscal Nieto, departamento Moquegua, en julio 2025
B8: ESTACIÓN DE MONITOREO: | F8: Alto Tala (CA-TAL-02) | Q8: CÓDIGO DE ACCIÓN: | V8: 0005-7-2025-417
B10: DATOS DEL EQUIPO
B12: EQUIPO: | F12: Monitor automático de partículas | Q12: MARCA: | V12: GRIMM
B14: MODELO: | F14: EDM 180 | Q14: SERIE: | V14: 18A20147
B16: Hora\Día | C16: 1 | D16: 2 | E16: 3 | F16: 4 | G16: 5 | H16: 6 | I16: 7 | J16: 8 | K16: 9 | L16: 10 | M16: 11 | N16: 12 | O16: 13 | P16: 14 | Q16: 15 | R16: 16 | S16: 17 | T16: 18 | U16: 19 | V16: 20 | W16: 21 | X16: 22 | Y16: 23 | Z16: 24 | AA16: 25 | AB16: 26 | AC16: 27 | AD16: 28 | AE16: 29 | AF16: 30 | AG16: 31
B17: 0 | C17: SE | D17: SE | E17: SE | F17: SE | G17: SE | H17: SE | I17: SE | J17: SE | K17: SE | L17: SE | M17: SE | N17: 73.57 | O17: 66.1 | P17: MA | Q17: MA | R17: MA | S17: MA | T17: MA | U17: MA | V17: MA | W17: MA | X17: 43.72 | Y17: 66.25 | Z17: 65.67 | AA17: 38.88 | AB17: 42.58 | AC17: 22.73 | AD17: 41.96 | AE17: 39.79 | AF17: 36.7 | AG17: 24.41
B18: 0.041666667 | C18: SE | D18: SE | E18: SE | F18: SE | G18: SE | H18: SE | I18: SE | J18: SE | K18: SE | L18: SE | M18: SE | N18: 67.75 | O18: 48.92 | P18: MA | Q18: MA | R18: MA | S18: MA | T18: MA | U18: MA | V18: MA | W18: MA | X18: 46.03 | Y18: 74.47 | Z18: 57.39 | AA18: 38.25 | AB18: 29.69 | AC18: 20.92 | AD18: 29.65 | AE18: 42.82 | AF18: 42.02 | AG18: 20.55
B19: 0.083333333 | C19: SE | D19: SE | E19: SE | F19: SE | G19: SE | H19: SE | I19: SE | J19: SE | K19: SE | L19: SE | M19: SE | N19: 87.47 | O19: 86.52 | P19: MA | Q19: MA | R19: MA | S19: MA | T19: MA | U19: MA | V19: MA | W19: MA | X19: 37.58 | Y19: 66.17 | Z19: 40.65 | AA19: 39.7 | AB19: 26.32 | AC19: 12.36 | AD19: 20.88 | AE19: 36.38 | AF19: 29.19 | AG19: 23.7
B20: 0.125 | C20: SE | D20: SE | E20: SE | F20: SE | G20: SE | H20: SE | I20: SE | J20: SE | K20: SE | L20: SE | M20: SE | N20: 100.38 | O20: 54.12 | P20: MA | Q20: MA | R20: MA | S20: MA | T20: MA | U20: MA | V20: MA | W20: MA | X20: 35.26 | Y20: 76.92 | Z20: 37.36 | AA20: 48.33 | AB20: 16.36 | AC20: 11.36 | AD20: 51.03 | AE20: 42.91 | AF20: 37.21 | AG20: 33.28
B21: 0.16666667 | C21: SE | D21: SE | E21: SE | F21: SE | G21: SE | H21: SE | I21: SE | J21: SE | K21: SE | L21: SE | M21: SE | N21: 126.88 | O21: 85.42 | P21: MA | Q21: MA | R21: MA | S21: MA | T21: MA | U21: MA | V21: MA | W21: MA | X21: 40.12 | Y21: 93.24 | Z21: 68.38 | AA21: 41.77 | AB21: 30.86 | AC21: 7.13 | AD21: 39.37 | AE21: 40.23 | AF21: 40.33 | AG21: 31.88
B22: 0.20833333 | C22: SE | D22: SE | E22: SE | F22: SE | G22: SE | H22: SE | I22: SE | J22: SE | K22: SE | L22: SE | M22: SE | N22: 170.52 | O22: 66.88 | P22: MA | Q22: MA | R22: MA | S22: MA | T22: MA | U22: MA | V22: MA | W22: MA | X22: 48.12 | Y22: 88.47 | Z22: 59.88 | AA22: 48.81 | AB22: 16.48 | AC22: 21.82 | AD22: 60.41 | AE22: 14.67 | AF22: 29.61 | AG22: 33.9
B23: 0.25 | C23: SE | D23: SE | E23: SE | F23: SE | G23: SE | H23: SE | I23: SE | J23: SE | K23: SE | L23: SE | M23: SE | N23: 147.71 | O23: 56.82 | P23: MA | Q23: MA | R23: MA | S23: MA | T23: MA | U23: MA | V23: MA | W23: MA | X23: 29.68 | Y23: 98.38 | Z23: 54.34 | AA23: 29.41 | AB23: 24.61 | AC23: 18.48 | AD23: 42.51 | AE23: 23.4 | AF23: 33.05 | AG23: 28.3
B24: 0.29166667 | C24: SE | D24: SE | E24: SE | F24: SE | G24: SE | H24: SE | I24: SE | J24: SE | K24: SE | L24: SE | M24: SE | N24: 57.45 | O24: 28.62 | P24: MA | Q24: MA | R24: MA | S24: MA | T24: MA | U24: MA | V24: MA | W24: MA | X24: 61.02 | Y24: 85.81 | Z24: 36.98 | AA24: 30.22 | AB24: 19.18 | AC24: 24.62 | AD24: 43.9 | AE24: 29.06 | AF24: 15.62 | AG24: 17.93
B25: 0.33333333 | C25: SE | D25: SE | E25: SE | F25: SE | G25: SE | H25: SE | I25: SE | J25: SE | K25: SE | L25: SE | M25: SE | N25: 26.16 | O25: 12.33 | P25: MA | Q25: MA | R25: MA | S25: MA | T25: MA | U25: MA | V25: MA | W25: MA | X25: 20.24 | Y25: 51.75 | Z25: 32.75 | AA25: 18.01 | AB25: 29.22 | AC25: 9.61 | AD25: 25.52 | AE25: 27.38 | AF25: 20.68 | AG25: 16.65
B26: 0.375 | C26: SE | D26: SE | E26: SE | F26: SE | G26: SE | H26: SE | I26: SE | J26: SE | K26: SE | L26: SE | M26: SE | N26: 27.35 | O26: IE | P26: MA | Q26: MA | R26: MA | S26: MA | T26: MA | U26: MA | V26: MA | W26: MA | X26: 19.92 | Y26: 28.79 | Z26: 37.88 | AA26: 31.3 | AB26: 26.13 | AC26: 9 | AD26: 21.68 | AE26: 30.33 | AF26: 21.09 | AG26: 8.39
B27: 0.41666667 | C27: SE | D27: SE | E27: SE | F27: SE | G27: SE | H27: SE | I27: SE | J27: SE | K27: SE | L27: SE | M27: SE | N27: 24.63 | O27: MA | P27: MA | Q27: MA | R27: MA | S27: MA | T27: MA | U27: MA | V27: MA | W27: MA | X27: 47.77 | Y27: 47.33 | Z27: 28.02 | AA27: 32.58 | AB27: 36.62 | AC27: 18.39 | AD27: 16.31 | AE27: 19.92 | AF27: 23.08 | AG27: 9.69
B28: 0.45833333 | C28: SE | D28: SE | E28: SE | F28: SE | G28: SE | H28: SE | I28: SE | J28: SE | K28: SE | L28: SE | M28: SE | N28: 26.34 | O28: MA | P28: MA | Q28: MA | R28: MA | S28: MA | T28: MA | U28: MA | V28: MA | W28: 14.63 | X28: 17.22 | Y28: 38.24 | Z28: 21.88 | AA28: 37.13 | AB28: 39.9 | AC28: 21.73 | AD28: 27.98 | AE28: 16.16 | AF28: 21.44 | AG28: 13.97
B29: 0.5 | C29: SE | D29: SE | E29: SE | F29: SE | G29: SE | H29: SE | I29: SE | J29: SE | K29: SE | L29: SE | M29: SE | N29: 26.48 | O29: MA | P29: MA | Q29: MA | R29: MA | S29: MA | T29: MA | U29: MA | V29: MA | W29: 14.25 | X29: 27.98 | Y29: 30.84 | Z29: 26.57 | AA29: 31.3 | AB29: 47.5 | AC29: 16.25 | AD29: 18.07 | AE29: 17.73 | AF29: 22.92 | AG29: 24.02
B30: 0.54166667 | C30: SE | D30: SE | E30: SE | F30: SE | G30: SE | H30: SE | I30: SE | J30: SE | K30: SE | L30: SE | M30: SE | N30: 39 | O30: MA | P30: MA | Q30: MA | R30: MA | S30: MA | T30: MA | U30: MA | V30: MA | W30: 21.82 | X30: 46.15 | Y30: 37.62 | Z30: 32.99 | AA30: 40.26 | AB30: MA | AC30: 15.12 | AD30: 27.67 | AE30: 21.68 | AF30: 26.98 | AG30: 31.82
B31: 0.58333333 | C31: SE | D31: SE | E31: SE | F31: SE | G31: SE | H31: SE | I31: SE | J31: SE | K31: SE | L31: SE | M31: SE | N31: 47.03 | O31: MA | P31: MA | Q31: MA | R31: MA | S31: MA | T31: MA | U31: MA | V31: MA | W31: 36.32 | X31: 65.43 | Y31: 37.86 | Z31: 41.64 | AA31: 46.88 | AB31: VF | AC31: 16.01 | AD31: 35.7 | AE31: 19.93 | AF31: 28.64 | AG31: 18.92
B32: 0.625 | C32: SE | D32: SE | E32: SE | F32: SE | G32: SE | H32: SE | I32: SE | J32: SE | K32: SE | L32: SE | M32: MA | N32: 37.72 | O32: MA | P32: MA | Q32: MA | R32: MA | S32: MA | T32: MA | U32: MA | V32: MA | W32: 36.57 | X32: 47.34 | Y32: 34.38 | Z32: 62.75 | AA32: 36.74 | AB32: 34.47 | AC32: 12.42 | AD32: 23.42 | AE32: 13.96 | AF32: 30.68 | AG32: 15.73
B33: 0.66666667 | C33: SE | D33: SE | E33: SE | F33: SE | G33: SE | H33: SE | I33: SE | J33: SE | K33: SE | L33: SE | M33: VF | N33: 29.03 | O33: MA | P33: MA | Q33: MA | R33: MA | S33: MA | T33: MA | U33: MA | V33: MA | W33: 37.53 | X33: 28.6 | Y33: 37.77 | Z33: 53.06 | AA33: 41.59 | AB33: 28.84 | AC33: 15.78 | AD33: 23.42 | AE33: 20.48 | AF33: 27.46 | AG33: 22.72
B34: 0.70833333 | C34: SE | D34: SE | E34: SE | F34: SE | G34: SE | H34: SE | I34: SE | J34: SE | K34: SE | L34: SE | M34: 25.7 | N34: 22.26 | O34: MA | P34: MA | Q34: MA | R34: MA | S34: MA | T34: MA | U34: MA | V34: MA | W34: 21.2 | X34: 27.81 | Y34: 37.08 | Z34: 64.27 | AA34: 54.73 | AB34: 29.19 | AC34: 17.52 | AD34: 22.91 | AE34: 39.15 | AF34: 31.62 | AG34: 25.93
B35: 0.75 | C35: SE | D35: SE | E35: SE | F35: SE | G35: SE | H35: SE | I35: SE | J35: SE | K35: SE | L35: SE | M35: 33.95 | N35: 80.34 | O35: MA | P35: MA | Q35: MA | R35: MA | S35: MA | T35: MA | U35: MA | V35: MA | W35: 12.13 | X35: 94.01 | Y35: 59.23 | Z35: 62.14 | AA35: 22.06 | AB35: 43.33 | AC35: 20.92 | AD35: 48.52 | AE35: 30.93 | AF35: 11.25 | AG35: 14.94
B36: 0.79166667 | C36: SE | D36: SE | E36: SE | F36: SE | G36: SE | H36: SE | I36: SE | J36: SE | K36: SE | L36: SE | M36: 59.17 | N36: 95.39 | O36: MA | P36: MA | Q36: MA | R36: MA | S36: MA | T36: MA | U36: MA | V36: MA | W36: 82.82 | X36: 190.02 | Y36: 122.31 | Z36: 66.62 | AA36: 48.98 | AB36: 73.8 | AC36: 50.71 | AD36: 101.97 | AE36: 42.39 | AF36: 9.46 | AG36: 11.34
B37: 0.83333333 | C37: SE | D37: SE | E37: SE | F37: SE | G37: SE | H37: SE | I37: SE | J37: SE | K37: SE | L37: SE | M37: 134.72 | N37: 60.76 | O37: MA | P37: MA | Q37: MA | R37: MA | S37: MA | T37: MA | U37: MA | V37: MA | W37: 69.62 | X37: 103.91 | Y37: 70.36 | Z37: 91.66 | AA37: 40.77 | AB37: 18.11 | AC37: 50.38 | AD37: 71.19 | AE37: 66.58 | AF37: 31.59 | AG37: 6.92
B38: 0.875 | C38: SE | D38: SE | E38: SE | F38: SE | G38: SE | H38: SE | I38: SE | J38: SE | K38: SE | L38: SE | M38: 78.79 | N38: 106.92 | O38: MA | P38: MA | Q38: MA | R38: MA | S38: MA | T38: MA | U38: MA | V38: MA | W38: 58.94 | X38: 112.75 | Y38: 51.32 | Z38: 69.17 | AA38: 46.45 | AB38: 6.92 | AC38: 58.45 | AD38: 48.92 | AE38: 82.75 | AF38: 36.71 | AG38: 20.16
B39: 0.91666667 | C39: SE | D39: SE | E39: SE | F39: SE | G39: SE | H39: SE | I39: SE | J39: SE | K39: SE | L39: SE | M39: 90.62 | N39: 77.08 | O39: MA | P39: MA | Q39: MA | R39: MA | S39: MA | T39: MA | U39: MA | V39: MA | W39: 51.99 | X39: 78.11 | Y39: 83.44 | Z39: 51.31 | AA39: 40.98 | AB39: 18.12 | AC39: 36.91 | AD39: 89.76 | AE39: 35.66 | AF39: 26.52 | AG39: 21.08
B40: 0.95833333 | C40: SE | D40: SE | E40: SE | F40: SE | G40: SE | H40: SE | I40: SE | J40: SE | K40: SE | L40: SE | M40: 100.88 | N40: 62.52 | O40: MA | P40: MA | Q40: MA | R40: MA | S40: MA | T40: MA | U40: MA | V40: MA | W40: 69.54 | X40: 46.87 | Y40: 83.03 | Z40: 45.45 | AA40: 32.88 | AB40: 11.43 | AC40: 67.14 | AD40: 75.31 | AE40: 50.32 | AF40: 27.76 | AG40: 27.06
B41: Promedio de PM₁₀ en 24 h | C41: SE | D41: SE | E41: SE | F41: SE | G41: SE | H41: SE | I41: SE | J41: SE | K41: SE | L41: SE | M41: ID | N41: 67.5 | O41: ID | P41: MA | Q41: MA | R41: MA | S41: MA | T41: MA | U41: MA | V41: MA | W41: ID | X41: 54.8 | Y41: 62.5 | Z41: 50.4 | AA41: 38.3 | AB41: 29.5 | AC41: 24 | AD41: 42 | AE41: 33.5 | AF41: 27.6 | AG41: 21
B42: ECA aire de PM10 | C42: 100 µg/m³ en periodo de 24 horas
C44: SE: | D44: Sin equipo | F44: MA: | G44: Mantenimiento preventivo | K44: VF: | L44: Verificacion operacional | O44: ID: | P44: Insuficiencia de datos | S44: IE: | T44: Interrupcion electrica

Sheet 3.2 PM25_CA_TAL_01
F2: Tabla 3.2. Concentraciones horarias y 24 horas de PM₂‚₅
B6: TÍTULO DEL ESTUDIO: | F6: =+'3.1 PM10_CA_TAL_01'!F6 -> Evaluación ambiental de seguimiento de la calidad del aire en el ámbito de influencia de la unidad fiscalizable Quellaveco de la empresa Anglo American Quellaveco S.A., distrito Torata, provincia Mariscal Nieto, departamento Moquegua, en julio 2025
B8: ESTACIÓN DE MONITOREO: | F8: Alto Tala (CA-TAL-02) | Q8: CÓDIGO DE ACCIÓN: | V8: 0005-7-2025-417
B10: DATOS DEL EQUIPO
B12: EQUIPO: | F12: Monitor automático de partículas | Q12: MARCA: | V12: GRIMM
B14: MODELO: | F14: EDM 180 | Q14: SERIE: | V14: 18A20147
B16: Hora\Día | C16: 1 | D16: 2 | E16: 3 | F16: 4 | G16: 5 | H16: 6 | I16: 7 | J16: 8 | K16: 9 | L16: 10 | M16: 11 | N16: 12 | O16: 13 | P16: 14 | Q16: 15 | R16: 16 | S16: 17 | T16: 18 | U16: 19 | V16: 20 | W16: 21 | X16: 22 | Y16: 23 | Z16: 24 | AA16: 25 | AB16: 26 | AC16: 27 | AD16: 28 | AE16: 29 | AF16: 30 | AG16: 31
B17: 0 | C17: SE | D17: SE | E17: SE | F17: SE | G17: SE | H17: SE | I17: SE | J17: SE | K17: SE | L17: SE | M17: SE | N17: 9.3 | O17: 8.54 | P17: MA | Q17: MA | R17: MA | S17: MA | T17: MA | U17: MA | V17: MA | W17: MA | X17: 4.53 | Y17: 8.57 | Z17: 8.21 | AA17: 5.88 | AB17: 6.7 | AC17: 4.76 | AD17: 7.63 | AE17: 6.31 | AF17: 7.15 | AG17: 4.53
B18: 0.041666667 | C18: SE | D18: SE | E18: SE | F18: SE | G18: SE | H18: SE | I18: SE | J18: SE | K18: SE | L18: SE | M18: SE | N18: 7.92 | O18: 6.53 | P18: MA | Q18: MA | R18: MA | S18: MA | T18: MA | U18: MA | V18: MA | W18: MA | X18: 4.13 | Y18: 8 | Z18: 7.33 | AA18: 6.01 | AB18: 6.13 | AC18: 4.77 | AD18: 5.58 | AE18: 6.74 | AF18: 7.89 | AG18: 3.38
B19: 0.083333333 | C19: SE | D19: SE | E19: SE | F19: SE | G19: SE | H19: SE | I19: SE | J19: SE | K19: SE | L19: SE | M19: SE | N19: 8.98 | O19: 9 | P19: MA | Q19: MA | R19: MA | S19: MA | T19: MA | U19: MA | V19: MA | W19: MA | X19: 3.3 | Y19: 6.87 | Z19: 5.8 | AA19: 5.91 | AB19: 5.61 | AC19: 3.56 | AD19: 4.38 | AE19: 6.84 | AF19: 5.88 | AG19: 3.5
B20: 0.125 | C20: SE | D20: SE | E20: SE | F20: SE | G20: SE | H20: SE | I20: SE | J20: SE | K20: SE | L20: SE | M20: SE | N20: 9.49 | O20: 6.51 | P20: MA | Q20: MA | R20: MA | S20: MA | T20: MA | U20: MA | V20: MA | W20: MA | X20: 3.08 | Y20: 7.48 | Z20: 5.28 | AA20: 6.42 | AB20: 4.22 | AC20: 3.19 | AD20: 7.98 | AE20: 6.84 | AF20: 6.28 | AG20: 3.93
B21: 0.16666667 | C21: SE | D21: SE | E21: SE | F21: SE | G21: SE | H21: SE | I21: SE | J21: SE | K21: SE | L21: SE | M21: SE | N21: 10.37 | O21: 8.75 | P21: MA | Q21: MA | R21: MA | S21: MA | T21: MA | U21: MA | V21: MA | W21: MA | X21: 4.02 | Y21: 8.16 | Z21: 7.8 | AA21: 5.95 | AB21: 6.32 | AC21: 2.8 | AD21: 5.71 | AE21: 6.97 | AF21: 6.38 | AG21: 3.75
B22: 0.20833333 | C22: SE | D22: SE | E22: SE | F22: SE | G22: SE | H22: SE | I22: SE | J22: SE | K22: SE | L22: SE | M22: SE | N22: 12.83 | O22: 8.15 | P22: MA | Q22: MA | R22: MA | S22: MA | T22: MA | U22: MA | V22: MA | W22: MA | X22: 4.9 | Y22: 7.8 | Z22: 7.37 | AA22: 6.2 | AB22: 4.5 | AC22: 5.39 | AD22: 6.83 | AE22: 4.32 | AF22: 5.38 | AG22: 4.23
B23: 0.25 | C23: SE | D23: SE | E23: SE | F23: SE | G23: SE | H23: SE | I23: SE | J23: SE | K23: SE | L23: SE | M23: SE | N23: 11.38 | O23: 12.4 | P23: MA | Q23: MA | R23: MA | S23: MA | T23: MA | U23: MA | V23: MA | W23: MA | X23: 2.73 | Y23: 7.47 | Z23: 6.61 | AA23: 4.52 | AB23: 5.36 | AC23: 4.81 | AD23: 5.64 | AE23: 5.12 | AF23: 5.6 | AG23: 3.95
B24: 0.29166667 | C24: SE | D24: SE | E24: SE | F24: SE | G24: SE | H24: SE | I24: SE | J24: SE | K24: SE | L24: SE | M24: SE | N24: 5.49 | O24: 3.64 | P24: MA | Q24: MA | R24: MA | S24: MA | T24: MA | U24: MA | V24: MA | W24: MA | X24: 5.03 | Y24: 7.12 | Z24: 4.82 | AA24: 5.04 | AB24: 4.33 | AC24: 4.78 | AD24: 5.07 | AE24: 5.84 | AF24: 3.95 | AG24: 2.82
B25: 0.33333333 | C25: SE | D25: SE | E25: SE | F25: SE | G25: SE | H25: SE | I25: SE | J25: SE | K25: SE | L25: SE | M25: SE | N25: 3.41 | O25: 2.54 | P25: MA | Q25: MA | R25: MA | S25: MA | T25: MA | U25: MA | V25: MA | W25: MA | X25: 2.25 | Y25: 4.9 | Z25: 4.88 | AA25: 3.54 | AB25: 5.27 | AC25: 2.9 | AD25: 3.99 | AE25: 5.63 | AF25: 3.86 | AG25: 2.23
B26: 0.375 | C26: SE | D26: SE | E26: SE | F26: SE | G26: SE | H26: SE | I26: SE | J26: SE | K26: SE | L26: SE | M26: SE | N26: 3.66 | O26: IE | P26: MA | Q26: MA | R26: MA | S26: MA | T26: MA | U26: MA | V26: MA | W26: MA | X26: 2.22 | Y26: 3.05 | Z26: 5.16 | AA26: 4.17 | AB26: 4.79 | AC26: 2.46 | AD26: 3.31 | AE26: 5.32 | AF26: 3.35 | AG26: 1.61
B27: 0.41666667 | C27: SE | D27: SE | E27: SE | F27: SE | G27: SE | H27: SE | I27: SE | J27: SE | K27: SE | L27: SE | M27: SE | N27: 3.96 | O27: MA | P27: MA | Q27: MA | R27: MA | S27: MA | T27: MA | U27: MA | V27: MA | W27: MA | X27: 4.33 | Y27: 5.03 | Z27: 4.15 | AA27: 4.71 | AB27: 5.27 | AC27: 3.04 | AD27: 2.94 | AE27: 4.19 | AF27: 3.62 | AG27: 2.24
B28: 0.45833333 | C28: SE | D28: SE | E28: SE | F28: SE | G28: SE | H28: SE | I28: SE | J28: SE | K28: SE | L28: SE | M28: SE | N28: 4.65 | O28: MA | P28: MA | Q28: MA | R28: MA | S28: MA | T28: MA | U28: MA | V28: MA | W28: 4.68 | X28: 2.04 | Y28: 4.38 | Z28: 3.93 | AA28: 5.32 | AB28: 5.93 | AC28: 3.48 | AD28: 4.28 | AE28: 3.75 | AF28: 4.19 | AG28: 3.01
B29: 0.5 | C29: SE | D29: SE | E29: SE | F29: SE | G29: SE | H29: SE | I29: SE | J29: SE | K29: SE | L29: SE | M29: SE | N29: 4.47 | O29: MA | P29: MA | Q29: MA | R29: MA | S29: MA | T29: MA | U29: MA | V29: MA | W29: 2.12 | X29: 4.22 | Y29: 3.98 | Z29: 5.08 | AA29: 5.23 | AB29: 6.73 | AC29: 3.3 | AD29: 3.96 | AE29: 3.8 | AF29: 4.88 | AG29: 3.08
B30: 0.54166667 | C30: SE | D30: SE | E30: SE | F30: SE | G30: SE | H30: SE | I30: SE | J30: SE | K30: SE | L30: SE | M30: SE | N30: 6.26 | O30: MA | P30: MA | Q30: MA | R30: MA | S30: MA | T30: MA | U30: MA | V30: MA | W30: 2.76 | X30: 6.14 | Y30: 6.33 | Z30: 5.26 | AA30: 6.61 | AB30: MA | AC30: 3.08 | AD30: 4.79 | AE30: 4.24 | AF30: 5.15 | AG30: 3.55
B31: 0.58333333 | C31: SE | D31: SE | E31: SE | F31: SE | G31: SE | H31: SE | I31: SE | J31: SE | K31: SE | L31: SE | M31: SE | N31: 6.65 | O31: MA | P31: MA | Q31: MA | R31: MA | S31: MA | T31: MA | U31: MA | V31: MA | W31: 4.42 | X31: 8.03 | Y31: 6 | Z31: 6.24 | AA31: 7.18 | AB31: VF | AC31: 3.31 | AD31: 5.28 | AE31: 4.68 | AF31: 8.64 | AG31: 2.58
B32: 0.625 | C32: SE | D32: SE | E32: SE | F32: SE | G32: SE | H32: SE | I32: SE | J32: SE | K32: SE | L32: SE | M32: MA | N32: 6 | O32: MA | P32: MA | Q32: MA | R32: MA | S32: MA | T32: MA | U32: MA | V32: MA | W32: 4.12 | X32: 5.82 | Y32: 5.78 | Z32: 7.82 | AA32: 5.63 | AB32: 4.36 | AC32: 2.75 | AD32: 4.34 | AE32: 3.12 | AF32: 4.98 | AG32: 2.42
B33: 0.66666667 | C33: SE | D33: SE | E33: SE | F33: SE | G33: SE | H33: SE | I33: SE | J33: SE | K33: SE | L33: SE | M33: VF | N33: 5.3 | O33: MA | P33: MA | Q33: MA | R33: MA | S33: MA | T33: MA | U33: MA | V33: MA | W33: 3.45 | X33: 3.61 | Y33: 6.05 | Z33: 7.47 | AA33: 5.96 | AB33: 4.07 | AC33: 3.17 | AD33: 3.88 | AE33: 3.88 | AF33: 5.05 | AG33: 4.1
B34: 0.70833333 | C34: SE | D34: SE | E34: SE | F34: SE | G34: SE | H34: SE | I34: SE | J34: SE | K34: SE | L34: SE | M34: 5.22 | N34: 4.92 | O34: MA | P34: MA | Q34: MA | R34: MA | S34: MA | T34: MA | U34: MA | V34: MA | W34: 2.65 | X34: 3.75 | Y34: 5.71 | Z34: 8.12 | AA34: 6.94 | AB34: 3.62 | AC34: 3.28 | AD34: 4.15 | AE34: 5.56 | AF34: 5.88 | AG34: 3.82
B35: 0.75 | C35: SE | D35: SE | E35: SE | F35: SE | G35: SE | H35: SE | I35: SE | J35: SE | K35: SE | L35: SE | M35: 6.05 | N35: 10.19 | O35: MA | P35: MA | Q35: MA | R35: MA | S35: MA | T35: MA | U35: MA | V35: MA | W35: 1.87 | X35: 20.82 | Y35: 7.98 | Z35: 8.25 | AA35: 4.53 | AB35: 6.13 | AC35: 3.62 | AD35: 7.39 | AE35: 5 | AF35: 3.02 | AG35: 2.81
B36: 0.79166667 | C36: SE | D36: SE | E36: SE | F36: SE | G36: SE | H36: SE | I36: SE | J36: SE | K36: SE | L36: SE | M36: 9.16 | N36: 11.92 | O36: MA | P36: MA | Q36: MA | R36: MA | S36: MA | T36: MA | U36: MA | V36: MA | W36: 9.51 | X36: 40.63 | Y36: 14.47 | Z36: 8.32 | AA36: 7.23 | AB36: 9.55 | AC36: 7.78 | AD36: 13.44 | AE36: 6.3 | AF36: 2.35 | AG36: 2.25
B37: 0.83333333 | C37: SE | D37: SE | E37: SE | F37: SE | G37: SE | H37: SE | I37: SE | J37: SE | K37: SE | L37: SE | M37: 15.79 | N37: 8.51 | O37: MA | P37: MA | Q37: MA | R37: MA | S37: MA | T37: MA | U37: MA | V37: MA | W37: 7.33 | X37: 16.88 | Y37: 8.49 | Z37: 11.05 | AA37: 6.36 | AB37: 3.72 | AC37: 6.93 | AD37: 10.72 | AE37: 9.22 | AF37: 5.35 | AG37: 1.73
B38: 0.875 | C38: SE | D38: SE | E38: SE | F38: SE | G38: SE | H38: SE | I38: SE | J38: SE | K38: SE | L38: SE | M38: 9.65 | N38: 10.76 | O38: MA | P38: MA | Q38: MA | R38: MA | S38: MA | T38: MA | U38: MA | V38: MA | W38: 5.98 | X38: 15.09 | Y38: 6.72 | Z38: 9.93 | AA38: 7.26 | AB38: 2.42 | AC38: 9.05 | AD38: 7.28 | AE38: 9.08 | AF38: 5.81 | AG38: 3.58
B39: 0.91666667 | C39: SE | D39: SE | E39: SE | F39: SE | G39: SE | H39: SE | I39: SE | J39: SE | K39: SE | L39: SE | M39: 10.08 | N39: 8.79 | O39: MA | P39: MA | Q39: MA | R39: MA | S39: MA | T39: MA | U39: MA | V39: MA | W39: 4.9 | X39: 8.84 | Y39: 9.78 | Z39: 7.84 | AA39: 6.58 | AB39: 3.34 | AC39: 6.6 | AD39: 13.26 | AE39: 5.15 | AF39: 4.5 | AG39: 4.27
B40: 0.95833333 | C40: SE | D40: SE | E40: SE | F40: SE | G40: SE | H40: SE | I40: SE | J40: SE | K40: SE | L40: SE | M40: 12.38 | N40: 7.53 | O40: MA | P40: MA | Q40: MA | R40: MA | S40: MA | T40: MA | U40: MA | V40: MA | W40: 6.13 | X40: 6.01 | Y40: 9.72 | Z40: 7.04 | AA40: 6.06 | AB40: 2.8 | AC40: 10.7 | AD40: 10.47 | AE40: 8.44 | AF40: 4.68 | AG40: 4.28
B41: Promedio de PM2,5 en 24 h | C41: SE | D41: SE | E41: SE | F41: SE | G41: SE | H41: SE | I41: SE | J41: SE | K41: SE | L41: SE | M41: ID | N41: 7.6 | O41: ID | P41: MA | Q41: MA | R41: MA | S41: MA | T41: MA | U41: MA | V41: MA | W41: ID | X41: 7.6 | Y41: 7.1 | Z41: 6.8 | AA41: 5.8 | AB41: 5.1 | AC41: 4.6 | AD41: 6.3 | AE41: 5.7 | AF41: 5.2 | AG41: 3.2
B42: ECA aire de PM2,5 | C42: 50 µg/m³ en periodo de 24 horas
C44: SE: | D44: Sin equipo | F44: MA: | G44: Mantenimiento preventivo | K44: VF: | L44: Verificacion operacional | O44: ID: | P44: Insuficiencia de datos | S44: IE: | T44: Interrupcion electrica

Sheet 3.3 MET_CA_TAL_01
D2: Tabla 3.3. Datos horarios Meteorológicos
C6: TÍTULO DEL ESTUDIO: | D6: =+'3.1 PM10_CA_TAL_01'!F6 -> Evaluación ambiental de seguimiento de la calidad del aire en el ámbito de influencia de la unidad fiscalizable Quellaveco de la empresa Anglo American Quellaveco S.A., distrito Torata, provincia Mariscal Nieto, departamento Moquegua, en julio 2025
C8: ESTACIÓN DE MONITOREO: | D8: Alto Tala (CA-TAL-02) | F8: CÓDIGO DE ACCIÓN: | H8: 0005-7-2025-417
C10: DATOS DEL EQUIPO
C12: EQUIPO: | D12: Sensor anemométrico; de presión; temperatura y humedad; pluviométrico | G12: MARCA: | H12: Lastem
C14: MODELO: | D14: DNB105.2, DQA251, DMA975, DQA231.1 | G14: SERIE: | H14: 21005924/21020360, 2140131/3000827, 21020253, 21020280
C16: FECHA Y HORA | D16: Presión atmosférica (mmHg) | E16: Precipitación (mm) | F16: Temperatura ambiental (°C) | G16: Humedad relativa (%) | H16: Velocidad de Viento (m/s) | I16: Dirección de Viento (°)
C17: 45849 | D17: SE | E17: SE | F17: SE | G17: SE | H17: SE | I17: SE
C18: 45849.042 | D18: SE | E18: SE | F18: SE | G18: SE | H18: SE | I18: SE
C19: 45849.083 | D19: SE | E19: SE | F19: SE | G19: SE | H19: SE | I19: SE
C20: 45849.125 | D20: SE | E20: SE | F20: SE | G20: SE | H20: SE | I20: SE
C21: 45849.167 | D21: SE | E21: SE | F21: SE | G21: SE | H21: SE | I21: SE
C22: 45849.208 | D22: SE | E22: SE | F22: SE | G22: SE | H22: SE | I22: SE
C23: 45849.25 | D23: SE | E23: SE | F23: SE | G23: SE | H23: SE | I23: SE
C24: 45849.292 | D24: SE | E24: SE | F24: SE | G24: SE | H24: SE | I24: SE
C25: 45849.333 | D25: SE | E25: SE | F25: SE | G25: SE | H25: SE | I25: SE
C26: 45849.375 | D26: SE | E26: SE | F26: SE | G26: SE | H26: SE | I26: SE
C27: 45849.417 | D27: SE | E27: SE | F27: SE | G27: SE | H27: SE | I27: SE
C28: 45849.458 | D28: SE | E28: SE | F28: SE | G28: SE | H28: SE | I28: SE
... C34: 45849.708 | D34: SE | E34: SE | F34: SE | G34: SE | H34: SE | I34: SE
C35: 45849.75 | D35: 507.6 | E35: 0 | F35: 8.9 | G35: 17.9 | H35: 0.9 | I35: 17.7
C36: 45849.792 | D36: 507.8 | E36: 0 | F36: 9.1 | G36: 17.2 | H36: 1.8 | I36: 43.6
C37: 45849.833 | D37: 507.9 | E37: 0 | F37: 8.7 | G37: 13.9 | H37: 2.6 | I37: 98.8
C38: 45849.875 | D38: 508 | E38: 0 | F38: 8.6 | G38: 10.7 | H38: 1 | I38: 145.2
C39: 45849.917 | D39: 507.9 | E39: 0 | F39: 8.1 | G39: 12 | H39: 0.5 | I39: 166.4
C40: 45849.958 | D40: 507.8 | E40: 0 | F40: 7.9 | G40: 10.5 | H40: 1.4 | I40: 116.7
C41: 45850 | D41: 507.6 | E41: 0 | F41: 8.2 | G41: 9.5 | H41: 2.2 | I41: 104.3
C42: 45850.042 | D42: 507.2 | E42: 0 | F42: 8.5 | G42: 9.9 | H42: 2.1 | I42: 115.5
C43: 45850.083 | D43: 507.1 | E43: 0 | F43: 8 | G43: 9.3 | H43: 2.9 | I43: 96.9
C44: 45850.125 | D44: 507.1 | E44: 0 | F44: 8.3 | G44: 8.1 | H44: 3.2 | I44: 112.6
C45: 45850.167 | D45: 507 | E45: 0 | F45: 8.4 | G45: 7.7 | H45: 3.5 | I45: 105.3
C46: 45850.208 | D46: 507 | E46: 0 | F46: 8.3 | G46: 7.7 | H46: 3.8 | I46: 108.8
... C70: 45851.208 | D70: 507.6 | E70: 0 | F70: 8.7 | G70: 7.2 | H70: 5.4 | I70: 87.2
C71: 45851.25 | D71: IE | E71: IE | F71: IE | G71: IE | H71: IE | I71: IE
C72: 45851.292 | D72: IE | E72: IE | F72: IE | G72: IE | H72: IE | I72: IE
C73: 45851.333 | D73: IE | E73: IE | F73: IE | G73: IE | H73: IE | I73: IE
C74: 45851.375 | D74: IE | E74: IE | F74: IE | G74: IE | H74: IE | I74: IE
C75: 45851.417 | D75: 508.4 | E75: 0 | F75: 16.8 | G75: 6.8 | H75: 3.9 | I75: 291.9
C76: 45851.458 | D76: 508 | E76: 0 | F76: 17.4 | G76: 8.3 | H76: 4.7 | I76: 292.1
C77: 45851.5 | D77: 507.6 | E77: 0 | F77: 17.4 | G77: 10.6 | H77: 5.6 | I77: 292.6
C78: 45851.542 | D78: 507.5 | E78: 0 | F78: 16.8 | G78: 14.2 | H78: 5.7 | I78: 291.2
C79: 45851.583 | D79: 507.4 | E79: 0 | F79: 16.1 | G79: 15.2 | H79: 4.5 | I79: 295.7
C80: 45851.625 | D80: 507.5 | E80: 0 | F80: 15.1 | G80: 16.8 | H80: 5 | I80: 296.4
C81: 45851.667 | D81: 507.8 | E81: 0 | F81: 13.8 | G81: 19.2 | H81: 2.4 | I81: 304.3
C82: 45851.708 | D82: 508.2 | E82: 0 | F82: 11.1 | G82: 20.6 | H82: 0.6 | I82: 322.3
C83: 45851.75 | D83: 508.4 | E83: 0 | F83: 10.8 | G83: 18 | H83: 1.5 | I83: 60.5
C84: 45851.792 | D84: 508.5 | E84: 0 | F84: 10.1 | G84: 17.4 | H84: 3.3 | I84: 82.3
C85: 45851.833 | D85: 508.7 | E85: 0 | F85: 9.8 | G85: 14.2 | H85: 3.1 | I85: 81.7
C86: 45851.875 | D86: 508.7 | E86: 0 | F86: 9.4 | G86: 11.7 | H86: 3.4 | I86: 90.9
... C316: 45861.458 | D316: 507.4 | E316: 0 | F316: 16.6 | G316: 10.3 | H316: 5.1 | I316: 295.7
C317: 45861.5 | D317: MA | E317: MA | F317: MA | G317: MA | H317: MA | I317: MA
C318: 45861.542 | D318: 506.7 | E318: 0 | F318: 16.5 | G318: 13.7 | H318: 6.1 | I318: 296.1
C319: 45861.583 | D319: 506.6 | E319: 0 | F319: 15.8 | G319: 15.1 | H319: 5.2 | I319: 293.9
C320: 45861.625 | D320: 506.4 | E320: 0 | F320: 14.9 | G320: 17.8 | H320: 4.4 | I320: 301.4
C321: 45861.667 | D321: 506.6 | E321: 0 | F321: 13.2 | G321: 20.9 | H321: 3 | I321: 304.8
C322: 45861.708 | D322: 506.9 | E322: 0 | F322: 10.1 | G322: 25.4 | H322: 1.1 | I322: 301.7
C323: 45861.75 | D323: 507 | E323: 0 | F323: 9.4 | G323: 24.6 | H323: 0.8 | I323: 115
C324: 45861.792 | D324: 507.1 | E324: 0 | F324: 9.5 | G324: 22.8 | H324: 1.2 | I324: 94.4
C325: 45861.833 | D325: 507.4 | E325: 0 | F325: 8.6 | G325: 21.6 | H325: 0.9 | I325: 79.6
C326: 45861.875 | D326: 507.6 | E326: 0 | F326: 8.8 | G326: 20 | H326: 2.8 | I326: 84.9
C327: 45861.917 | D327: 507.6 | E327: 0 | F327: 8.9 | G327: 19.3 | H327: 3.1 | I327: 88
C328: 45861.958 | D328: 507.5 | E328: 0 | F328: 8.8 | G328: 18.6 | H328: 3.8 | I328: 88.7
C329: 45862 | D329: 507.3 | E329: 0 | F329: 8.7 | G329: 17.9 | H329: 4 | I329: 91.4
... C370: 45863.708 | D370: 506 | E370: 0 | F370: 9.4 | G370: 22.8 | H370: 1.3 | I370: 301.8
C371: 45863.75 | D371: 506.1 | E371: MA | F371: 8.9 | G371: 22.4 | H371: 1.2 | I371: 89.9
C372: 45863.792 | D372: 506.3 | E372: 0 | F372: 8.8 | G372: 22 | H372: 2.9 | I372: 83.9
C373: 45863.833 | D373: 506.5 | E373: 0 | F373: 8.5 | G373: 21.8 | H373: 2.6 | I373: 85.2
C374: 45863.875 | D374: 506.7 | E374: 0 | F374: 7.9 | G374: 22.9 | H374: 2.6 | I374: 91.3
C375: 45863.917 | D375: 506.6 | E375: 0 | F375: 8.1 | G375: 22.7 | H375: 3.8 | I375: 96
C376: 45863.958 | D376: 506.4 | E376: 0 | F376: 7.9 | G376: 23.7 | H376: 4 | I376: 100.5
C377: 45864 | D377: 506.2 | E377: MA | F377: 7.7 | G377: 25.1 | H377: 4.1 | I377: 104.3
C378: 45864.042 | D378: 506 | E378: 0 | F378: 7.1 | G378: 26.9 | H378: 2.5 | I378: 105.1
C379: 45864.083 | D379: 505.7 | E379: 0 | F379: 6.8 | G379: 27.4 | H379: 2.1 | I379: 76
C380: 45864.125 | D380: 505.5 | E380: 0 | F380: 6.3 | G380: 27.9 | H380: 1.6 | I380: 40.1
C381: 45864.167 | D381: 505.4 | E381: 0 | F381: 6.9 | G381: 27.8 | H381: 3.3 | I381: 73.1
C382: 45864.208 | D382: 505.5 | E382: 0 | F382: 6.6 | G382: 29 | H382: 2.1 | I382: 46
C383: 45864.25 | D383: 505.8 | E383: 0 | F383: 6.4 | G383: 29.8 | H383: 1.6 | I383: 50.6
C384: 45864.292 | D384: 506.3 | E384: 0 | F384: 8.8 | G384: 23.5 | H384: 0.9 | I384: 0.7
C385: 45864.333 | D385: 506.9 | E385: 0 | F385: 11.3 | G385: 20.4 | H385: 1.6 | I385: 279.4
C386: 45864.375 | D386: 507 | E386: 0 | F386: 12.2 | G386: 18.5 | H386: 2.1 | I386: 264.1
C387: 45864.417 | D387: 506.7 | E387: 0 | F387: 13.9 | G387: 16.3 | H387: 2.9 | I387: 269.7
C388: 45864.458 | D388: 506.4 | E388: MA | F388: 14.6 | G388: 16.2 | H388: 3.9 | I388: 277.4
C389: 45864.5 | D389: 506.3 | E389: MA | F389: 13.9 | G389: 16.5 | H389: 3.8 | I389: 278.1
C390: 45864.542 | D390: 506 | E390: 0 | F390: 13.9 | G390: 16.6 | H390: 4.4 | I390: 278.9
C391: 45864.583 | D391: 506.1 | E391: 0 | F391: 12.4 | G391: 18.3 | H391: 5.8 | I391: 289.8
C392: 45864.625 | D392: 506.2 | E392: 0 | F392: 11.4 | G392: 20.9 | H392: 5.5 | I392: 294.1
C393: 45864.667 | D393: 506.4 | E393: 0 | F393: 9.4 | G393: 24.2 | H393: 3.6 | I393: 307.7
C394: 45864.708 | D394: 506.8 | E394: 0 | F394: 6.9 | G394: 29.3 | H394: 2.1 | I394: 298.9
C395: 45864.75 | D395: 506.8 | E395: 0 | F395: 5.5 | G395: 30.3 | H395: 1.3 | I395: 100.9
C396: 45864.792 | D396: 506.9 | E396: 0 | F396: 7.5 | G396: 23.9 | H396: 3.2 | I396: 92.9
C397: 45864.833 | D397: 507.1 | E397: 0 | F397: 8.1 | G397: 26.7 | H397: 2.4 | I397: 56.4
C398: 45864.875 | D398: 507.3 | E398: 0 | F398: 7.6 | G398: 32.3 | H398: 2.8 | I398: 28.5
C399: 45864.917 | D399: 507.3 | E399: 0 | F399: 5.7 | G399: 31.3 | H399: 1.1 | I399: 9.9
C400: 45864.958 | D400: 507.3 | E400: 0 | F400: 6.7 | G400: 37.5 | H400: 1.7 | I400: 74.1
C401: 45865 | D401: 507.2 | E401: 0 | F401: 6.9 | G401: 39.8 | H401: 3 | I401: 99.3
... C418: 45865.708 | D418: 507.2 | E418: 0 | F418: 8.9 | G418: 31.4 | H418: 1.7 | I418: 348.2
C419: 45865.75 | D419: 507.1 | E419: MA | F419: 8.1 | G419: 30.3 | H419: 1.6 | I419: 115.5
C420: 45865.792 | D420: 507.4 | E420: 0 | F420: 7.9 | G420: 29.9 | H420: 2.4 | I420: 129.3
C421: 45865.833 | D421: 507.6 | E421: 0 | F421: 7.7 | G421: 30 | H421: 3.2 | I421: 119.4
C422: 45865.875 | D422: 507.7 | E422: 0 | F422: 7.3 | G422: 28.6 | H422: 2.6 | I422: 124.7
...

Sheet 3.4 Cálculo PM10 y VM
E2: Tabla 3.4. Volumen muestreado de metales - Bajo volumen
B7: TÍTULO DEL ESTUDIO: | E7: Evaluación ambiental de seguimiento de la calidad del aire en el ámbito de la unidad fiscalizable Quellaveco de la empresa Anglo American Quellaveco S.A., distrito Torata, provincia Mariscal Nieto, departamento Moquegua, en julio de 2025
B9: ESTACIÓN DE MONITOREO: | E9: Alto Tala (CA-TAL-02) | H9: CÓDIGO DE ACCIÓN: | J9: 0005-7-2025-417
B11: DATOS DE LOS EQUIPOS
B13: EQUIPO | E13: MUESTREADOR MANUAL DE MATERIAL PARTICULADO DE BAJO VOLUMEN PARA PARTÍCULAS CON DIAMETRO MENOR A 10 MICRAS (PM10)
B14: MARCA | E14: Met One Instruments | G14: MODELO | I14: E-FRM-DC | K14: SERIE | L14: B12689
B16: N° | C16: Parámetro | D16: N° Filtro | E16: Fecha Inicio | F16: Fecha Final | G16: Tiempo o periodo de muestreo en minutos (t) | I16: Flujo de muestreo, en m3/min (Qa) | K16: Volumen de muestreo en m3 (Va)* | L16: ΔPeso (µg) ** | M16: Concentración de partículas (µg/m3)
B17: 1 | C17: PM10 | D17: TAL-1 | E17: 45859.566 | F17: 45860.566 | G17: =(F17-E17)*1440 -> 1440 | I17: =16.67/1000 -> 0.01667 | K17: =G17*I17 -> 24.0048 | L17: -- | M17: ---
B18: 2 | D18: TAL-2 | E18: 45860.569 | F18: 45861.486 | G18: =(F18-E18)*1440 -> 1320 | I18: =16.67/1000 -> 0.01667 | K18: =G18*I18 -> 22.0044 | L18: -- | M18: ---
B19: 3 | D19: TAL-3 | E19: 45861.49 | F19: 45862.406 | G19: =(F19-E19)*1440 -> 1320 | I19: =16.67/1000 -> 0.01667 | K19: =G19*I19 -> 22.0044 | L19: -- | M19: ---
B20: 4 | D20: TAL-4 | E20: 45862.41 | F20: 45863.41 | G20: =(F20-E20)*1440 -> 1440 | I20: =16.67/1000 -> 0.01667 | K20: =G20*I20 -> 24.0048 | L20: -- | M20: ---
B21: 5 | D21: TAL-5 | E21: 45863.458 | F21: 45864.458 | G21: =(F21-E21)*1440 -> 1440 | I21: =16.67/1000 -> 0.01667 | K21: =G21*I21 -> 24.0048 | L21: -- | M21: ---
B22: 6 | D22: TAL-6** | E22: 45864.467 | F22: 45864.47 | G22: 5 | H22: =(G22-F22)*60*24 -> -66037637 | I22: - | K22: - | L22: -- | M22: ---
B24: OBSERVACIONES:
B25: (*) En el caso del material particulado y las sustancias que deben analizarse en la fase de partículas (metales, iones, carbonáceas, otros), el volumen de muestreo se debe expresar en las condiciones ambientales (volumen actual) en términos de temperatura ambiental y presión atmosférica promedio, medidas durante el período de muestreo. (Sección L.1.3 Cálculo de concentraciones señalada en el Protocolo de Monitoreo de la Calidad del aire del MINAM - D.S. N° 010-2019-MINAM). "-" : No aplica. **: Blanco de Campo

Sheet 3.5 Conc. de Metales PM 10
E2: Tabla 3.5. Pesaje y concentración de metales en PM10 bajo volumen
B7: TÍTULO DEL ESTUDIO: | E7: Evaluación ambiental de seguimiento de la calidad del aire en el ámbito de la unidad fiscalizable Quellaveco de la empresa Anglo American Quellaveco S.A., distrito Torata, provincia Mariscal Nieto, departamento Moquegua, en julio de 2025
B9: ESTACIÓN DE MONITOREO: | E9: Alto Tala (CA-TAL-02) | G9: CÓDIGO DE ACCIÓN: | J9: 0005-7-2025-417
B11: RESULTADOS DE LABORATORIO
B12: Metal medido en PM10 | D12: Unidad | E12: Fecha
E13: 45859 | F13: 45860 | G13: 45861 | H13: 45862 | I13: 45863 | J13: 26/07/2025**
B14: Aluminio (Al) | C14: Al | D14: µg/mtra | E14: 14 | F14: 20 | G14: 16 | H14: 15 | I14: 12 | J14: < L.C.
B15: Antimonio (Sb) | C15: Sb | D15: µg/mtra | E15: <0,02 | F15: <0,02 | G15: <0,02 | H15: <0,02 | I15: <0,02 | J15: < L.C.
B16: Arsénico (As) | C16: As | D16: µg/mtra | E16: <0,02 | F16: <0,02 | G16: <0,02 | H16: <0,02 | I16: <0,02 | J16: < L.C.
B17: Bario (Ba) | C17: Ba | D17: µg/mtra | E17: 0.14 | F17: 0.16 | G17: 0.12 | H17: 0.16 | I17: 0.1 | J17: < L.C.
B18: Berilio (Be) | C18: Be | D18: µg/mtra | E18: <0,02 | F18: <0,02 | G18: <0,02 | H18: <0,02 | I18: <0,02 | J18: < L.C.
B19: Boro (B) | C19: B | D19: µg/mtra | E19: <0,16 | F19: <0,16 | G19: <0,16 | H19: <0,16 | I19: <0,16 | J19: < L.C.
B20: Cadmio (Cd) | C20: Cd | D20: µg/mtra | E20: <0,02 | F20: <0,02 | G20: <0,02 | H20: <0,02 | I20: <0,02 | J20: < L.C.
B21: Calcio (Ca) | C21: Ca | D21: µg/mtra | E21: <5,0 | F21: <5,0 | G21: <5,0 | H21: <5,0 | I21: <5,0 | J21: < L.C.
B22: Cobalto (Co) | C22: Co | D22: µg/mtra | E22: <0,02 | F22: <0,02 | G22: <0,02 | H22: <0,02 | I22: <0,02 | J22: < L.C.
B23: Cobre (Cu) | C23: Cu | D23: µg/mtra | E23: 0.78 | F23: 1.3 | G23: 0.85 | H23: 0.6 | I23: 0.55 | J23: < L.C.
B24: Cromo (Cr) | C24: Cr | D24: µg/mtra | E24: <0,02 | F24: <0,02 | G24: <0,02 | H24: <0,02 | I24: <0,02 | J24: < L.C.
B25: Estaño (Sn) | C25: Sn | D25: µg/mtra | E25: <0,02 | F25: <0,02 | G25: <0,02 | H25: <0,02 | I25: <0,02 | J25: < L.C.
B26: Estroncio (Sr) | C26: Sr | D26: µg/mtra | E26: 0.09 | F26: 0.12 | G26: 0.08 | H26: 0.08 | I26: 0.07 | J26: < L.C.
B27: Hierro (Fe) | C27: Fe | D27: µg/mtra | E27: 14 | F27: 20 | G27: 14 | H27: 14 | I27: 12 | J27: < L.C.
B28: Litio (Li) | C28: Li | D28: µg/mtra | E28: <0,02 | F28: 0.02 | G28: <0,02 | H28: <0,02 | I28: <0,02 | J28: < L.C.
B29: Magnesio (Mg) | C29: Mg | D29: µg/mtra | E29: <5,0 | F29: <5,0 | G29: <5,0 | H29: <5,0 | I29: <5,0 | J29: < L.C.
B30: Manganeso (Mn) | C30: Mn | D30: µg/mtra | E30: 0.39 | F30: 0.53 | G30: 0.46 | H30: 0.43 | I30: 0.38 | J30: < L.C.
B31: Mercurio (Hg) | C31: Hg | D31: µg/mtra | E31: <0,0017 | F31: <0,0017 | G31: <0,0017 | H31: <0,0017 | I31: <0,0017 | J31: < L.C.
B32: Molibdeno (Mo) | C32: Mo | D32: µg/mtra | E32: 0.04 | F32: 0.05 | G32: 0.03 | H32: 0.03 | I32: 0.02 | J32: < L.C.
B33: Níquel (Ni) | C33: Ni | D33: µg/mtra | E33: <0,02 | F33: <0,02 | G33: <0,02 | H33: <0,02 | I33: <0,02 | J33: < L.C.
B34: Plata (Ag) | C34: Ag | D34: µg/mtra | E34: <0,02 | F34: <0,02 | G34: <0,02 | H34: <0,02 | I34: <0,02 | J34: < L.C.
B35: Plomo (Pb) | C35: Pb | D35: µg/mtra | E35: 0.02 | F35: 0.03 | G35: 0.04 | H35: 0.04 | I35: 0.04 | J35: < L.C.
B36: Potasio (K) | C36: K | D36: µg/mtra | E36: 6 | F36: 11 | G36: 7 | H36: 7 | I36: 6 | J36: < L.C.
B37: Selenio (Se) | C37: Se | D37: µg/mtra | E37: <0,02 | F37: <0,02 | G37: <0,02 | H37: <0,02 | I37: <0,02 | J37: < L.C.
B38: Silicio (Si) | C38: Si | D38: µg/mtra | E38: 13 | F38: 26 | G38: 22 | H38: 15 | I38: 10 | J38: < L.C.
B39: Sodio (Na) | C39: Na | D39: µg/mtra | E39: <5,0 | F39: <5,0 | G39: <5,0 | H39: <5,0 | I39: <5,0 | J39: < L.C.
B40: Talio (Tl) | C40: Tl | D40: µg/mtra | E40: <0,01 | F40: <0,01 | G40: <0,01 | H40: <0,01 | I40: <0,01 | J40: < L.C.
B41: Titanio (Ti) | C41: Ti | D41: µg/mtra | E41: 0.45 | F41: 0.61 | G41: 0.51 | H41: 0.51 | I41: 0.43 | J41: < L.C.
B42: Vanadio (V) | C42: V | D42: µg/mtra | E42: <0,02 | F42: 0.03 | G42: 0.02 | H42: 0.02 | I42: <0,02 | J42: < L.C.
B43: Zinc (Zn) | C43: Zn | D43: µg/mtra | E43: 0.12 | F43: 0.09 | G43: 0.17 | H43: 0.24 | I43: 0.11 | J43: < L.C.
B44: - : | C44: Sin data | E44: **: | F44: Blanco de Campo | G44: *: | H44: Valor referencial
B45: < L.C.: | C45: Debajo del límite de cuantificación
B46: Fuente: Informes de Ensayo: EMA-PE01-25-03930, AT-25/016187 del laboratorio AGQ Labs Peru
B49: CONCENTRACIÓN DE METALES
B50: Metal medido en PM10 | D50: Unidad | E50: =E12 -> Fecha
E51: =E13 -> 45859 | F51: =F13 -> 45860 | G51: =G13 -> 45861 | H51: =H13 -> 45862 | I51: =I13 -> 45863 | J51: 26/07/2025**
B52: Volumen de muestreo, en m3 (Va) | E52: ='3.4 Cálculo PM10 y VM'!K17 -> 24.0048 | F52: ='3.4 Cálculo PM10 y VM'!K18 -> 22.0044 | G52: ='3.4 Cálculo PM10 y VM'!K19 -> 22.0044 | H52: ='3.4 Cálculo PM10 y VM'!K20 -> 24.0048 | I52: ='3.4 Cálculo PM10 y VM'!K21 -> 24.0048 | J52: -
B53: Aluminio (Al) | C53: Al | D53: µg/m3 | E53: =IF(ISNUMBER(FIND("<",E14)),"< L.C.",PRODUCT(E14,1/E$52)) -> 0.58321669 | F53: =IF(ISNUMBER(FIND("<",F14)),"< L.C.",PRODUCT(F14,1/F$52)) -> 0.90890913 | G53: =IF(ISNUMBER(FIND("<",G14)),"< L.C.",PRODUCT(G14,1/G$52)) -> 0.7271273 | H53: =IF(ISNUMBER(FIND("<",H14)),"< L.C.",PRODUCT(H14,1/H$52)) -> 0.62487502 | I53: =IF(ISNUMBER(FIND("<",I14)),"< L.C.",PRODUCT(I14,1/I$52)) -> 0.49990002 | J53: < L.C.
B54: Antimonio (Sb) | C54: Sb | D54: µg/m3 | E54: =IF(ISNUMBER(FIND("<",E15)),"< L.C.",PRODUCT(E15,1/E$52)) -> < L.C. | F54: =IF(ISNUMBER(FIND("<",F15)),"< L.C.",PRODUCT(F15,1/F$52)) -> < L.C. | G54: =IF(ISNUMBER(FIND("<",G15)),"< L.C.",PRODUCT(G15,1/G$52)) -> < L.C. | H54: =IF(ISNUMBER(FIND("<",H15)),"< L.C.",PRODUCT(H15,1/H$52)) -> < L.C. | I54: =IF(ISNUMBER(FIND("<",I15)),"< L.C.",PRODUCT(I15,1/I$52)) -> < L.C. | J54: < L.C.
B55: Arsénico (As) | C55: As | D55: µg/m3 | E55: =IF(ISNUMBER(FIND("<",E16)),"< L.C.",PRODUCT(E16,1/E$52)) -> < L.C. | F55: =IF(ISNUMBER(FIND("<",F16)),"< L.C.",PRODUCT(F16,1/F$52)) -> < L.C. | G55: =IF(ISNUMBER(FIND("<",G16)),"< L.C.",PRODUCT(G16,1/G$52)) -> < L.C. | H55: =IF(ISNUMBER(FIND("<",H16)),"< L.C.",PRODUCT(H16,1/H$52)) -> < L.C. | I55: =IF(ISNUMBER(FIND("<",I16)),"< L.C.",PRODUCT(I16,1/I$52)) -> < L.C. | J55: < L.C.
B56: Bario (Ba) | C56: Ba | D56: µg/m3 | E56: =IF(ISNUMBER(FIND("<",E17)),"< L.C.",PRODUCT(E17,1/E$52)) -> 0.0058321669 | F56: =IF(ISNUMBER(FIND("<",F17)),"< L.C.",PRODUCT(F17,1/F$52)) -> 0.007271273 | G56: =IF(ISNUMBER(FIND("<",G17)),"< L.C.",PRODUCT(G17,1/G$52)) -> 0.0054534548 | H56: =IF(ISNUMBER(FIND("<",H17)),"< L.C.",PRODUCT(H17,1/H$52)) -> 0.0066653336 | I56: =IF(ISNUMBER(FIND("<",I17)),"< L.C.",PRODUCT(I17,1/I$52)) -> 0.0041658335 | J56: < L.C.
B57: Berilio (Be) | C57: Be | D57: µg/m3 | E57: =IF(ISNUMBER(FIND("<",E18)),"< L.C.",PRODUCT(E18,1/E$52)) -> < L.C. | F57: =IF(ISNUMBER(FIND("<",F18)),"< L.C.",PRODUCT(F18,1/F$52)) -> < L.C. | G57: =IF(ISNUMBER(FIND("<",G18)),"< L.C.",PRODUCT(G18,1/G$52)) -> < L.C. | H57: =IF(ISNUMBER(FIND("<",H18)),"< L.C.",PRODUCT(H18,1/H$52)) -> < L.C. | I57: =IF(ISNUMBER(FIND("<",I18)),"< L.C.",PRODUCT(I18,1/I$52)) -> < L.C. | J57: < L.C.
B58: Boro (B) | C58: B | D58: µg/m3 | E58: =IF(ISNUMBER(FIND("<",E19)),"< L.C.",PRODUCT(E19,1/E$52)) -> < L.C. | F58: =IF(ISNUMBER(FIND("<",F19)),"< L.C.",PRODUCT(F19,1/F$52)) -> < L.C. | G58: =IF(ISNUMBER(FIND("<",G19)),"< L.C.",PRODUCT(G19,1/G$52)) -> < L.C. | H58: =IF(ISNUMBER(FIND("<",H19)),"< L.C.",PRODUCT(H19,1/H$52)) -> < L.C. | I58: =IF(ISNUMBER(FIND("<",I19)),"< L.C.",PRODUCT(I19,1/I$52)) -> < L.C. | J58: < L.C.
B59: Cadmio (Cd) | C59: Cd | D59: µg/m3 | E59: =IF(ISNUMBER(FIND("<",E20)),"< L.C.",PRODUCT(E20,1/E$52)) -> < L.C. | F59: =IF(ISNUMBER(FIND("<",F20)),"< L.C.",PRODUCT(F20,1/F$52)) -> < L.C. | G59: =IF(ISNUMBER(FIND("<",G20)),"< L.C.",PRODUCT(G20,1/G$52)) -> < L.C. | H59: =IF(ISNUMBER(FIND("<",H20)),"< L.C.",PRODUCT(H20,1/H$52)) -> < L.C. | I59: =IF(ISNUMBER(FIND("<",I20)),"< L.C.",PRODUCT(I20,1/I$52)) -> < L.C. | J59: < L.C.
B60: Calcio (Ca) | C60: Ca | D60: µg/m3 | E60: =IF(ISNUMBER(FIND("<",E21)),"< L.C.",PRODUCT(E21,1/E$52)) -> < L.C. | F60: =IF(ISNUMBER(FIND("<",F21)),"< L.C.",PRODUCT(F21,1/F$52)) -> < L.C. | G60: =IF(ISNUMBER(FIND("<",G21)),"< L.C.",PRODUCT(G21,1/G$52)) -> < L.C. | H60: =IF(ISNUMBER(FIND("<",H21)),"< L.C.",PRODUCT(H21,1/H$52)) -> < L.C. | I60: =IF(ISNUMBER(FIND("<",I21)),"< L.C.",PRODUCT(I21,1/I$52)) -> < L.C. | J60: < L.C.
B61: Cobalto (Co) | C61: Co | D61: µg/m3 | E61: =IF(ISNUMBER(FIND("<",E22)),"< L.C.",PRODUCT(E22,1/E$52)) -> < L.C. | F61: =IF(ISNUMBER(FIND("<",F22)),"< L.C.",PRODUCT(F22,1/F$52)) -> < L.C. | G61: =IF(ISNUMBER(FIND("<",G22)),"< L.C.",PRODUCT(G22,1/G$52)) -> < L.C. | H61: =IF(ISNUMBER(FIND("<",H22)),"< L.C.",PRODUCT(H22,1/H$52)) -> < L.C. | I61: =IF(ISNUMBER(FIND("<",I22)),"< L.C.",PRODUCT(I22,1/I$52)) -> < L.C. | J61: < L.C.
B62: Cobre (Cu) | C62: Cu | D62: µg/m3 | E62: =IF(ISNUMBER(FIND("<",E23)),"< L.C.",PRODUCT(E23,1/E$52)) -> 0.032493501 | F62: =IF(ISNUMBER(FIND("<",F23)),"< L.C.",PRODUCT(F23,1/F$52)) -> 0.059079093 | G62: =IF(ISNUMBER(FIND("<",G23)),"< L.C.",PRODUCT(G23,1/G$52)) -> 0.038628638 | H62: =IF(ISNUMBER(FIND("<",H23)),"< L.C.",PRODUCT(H23,1/H$52)) -> 0.024995001 | I62: =IF(ISNUMBER(FIND("<",I23)),"< L.C.",PRODUCT(I23,1/I$52)) -> 0.022912084 | J62: < L.C.
B63: Cromo (Cr) | C63: Cr | D63: µg/m3 | E63: =IF(ISNUMBER(FIND("<",E24)),"< L.C.",PRODUCT(E24,1/E$52)) -> < L.C. | F63: =IF(ISNUMBER(FIND("<",F24)),"< L.C.",PRODUCT(F24,1/F$52)) -> < L.C. | G63: =IF(ISNUMBER(FIND("<",G24)),"< L.C.",PRODUCT(G24,1/G$52)) -> < L.C. | H63: =IF(ISNUMBER(FIND("<",H24)),"< L.C.",PRODUCT(H24,1/H$52)) -> < L.C. | I63: =IF(ISNUMBER(FIND("<",I24)),"< L.C.",PRODUCT(I24,1/I$52)) -> < L.C. | J63: < L.C.
B64: Estaño (Sn) | C64: Sn | D64: µg/m3 | E64: =IF(ISNUMBER(FIND("<",E25)),"< L.C.",PRODUCT(E25,1/E$52)) -> < L.C. | F64: =IF(ISNUMBER(FIND("<",F25)),"< L.C.",PRODUCT(F25,1/F$52)) -> < L.C. | G64: =IF(ISNUMBER(FIND("<",G25)),"< L.C.",PRODUCT(G25,1/G$52)) -> < L.C. | H64: =IF(ISNUMBER(FIND("<",H25)),"< L.C.",PRODUCT(H25,1/H$52)) -> < L.C. | I64: =IF(ISNUMBER(FIND("<",I25)),"< L.C.",PRODUCT(I25,1/I$52)) -> < L.C. | J64: < L.C.
... B82: Zinc (Zn) | C82: Zn | D82: µg/m3 | E82: =IF(ISNUMBER(FIND("<",E43)),"< L.C.",PRODUCT(E43,1/E$52)) -> 0.0049990002 | F82: =IF(ISNUMBER(FIND("<",F43)),"< L.C.",PRODUCT(F43,1/F$52)) -> 0.0040900911 | G82: =IF(ISNUMBER(FIND("<",G43)),"< L.C.",PRODUCT(G43,1/G$52)) -> 0.0077257276 | H82: =IF(ISNUMBER(FIND("<",H43)),"< L.C.",PRODUCT(H43,1/H$52)) -> 0.0099980004 | I82: =IF(ISNUMBER(FIND("<",I43)),"< L.C.",PRODUCT(I43,1/I$52)) -> 0.0045824168 | J82: < L.C.
B84: -: | C84: Sin data | E84: **: | F84: Blanco de Campo | G84: *: | H84: Valor referencial
B85: < L.C.: | C85: debajo del límite de cuantificación del método de ensayo de laboratorio

Sheet Fórmula EPA
A1: De acuerdo a Compendium EPA Method IO-2.1 SAMPLING OF AMBIENT AIR FOR TOTAL SUSPENDED PARTICULATE MATTER (SPM) AND PM10 USING HIGH VOLUME (HV) SAMPLER
A2: 1.- Calcular el flujo promedio del periodo de muestreo corregido a las condiciones estándar
A7: Dónde:
A8: Qa (m³/min): | B8: Velocidad del flujo del volumen real
A9: Qstd (m³/min std): | B9: Velocidad del flujo del volumen estándar
A10: Pstd (mm Hg): | B10: Presión barométrica estándar según EPA (760 mm Hg)
A11: Pa (mm Hg): | B11: Presión barométrica ambiental
A12: Ta (°K): | B12: Temperatura ambiental
A13: Tstd: | B13: Temperatura estándar según EPA (298 °K)
A16: 2.- Calcular el volumen total de aire muestreado
A19: Dónde:
A20: Vstd (m³std): | B20: Volumen total de aire muestreado en condiciones estándar
A21: Qstd (m³/min std): | B21: Velocidad del flujo del volumen estándar
A22: t (min): | B22: Tiempo de muestreo
A25: 3.- Calcular la concentración de material particulado
A30: Dónde:
A31: PM10 (µg/m3 std): | B31: Concentración de PM-10
A32: Wf, Wi (g): | B32: Pesos final e inicial de partículas de PM-10 colectadas en el filtro
A33: 10E6: | B33: Conversión de g a µg
A34: Vstd (m³std): | B34: Volumen total de aire muestreado en condiciones estándar
