Workbook

Sheet PM10 24H
E2: Tabla 3.1. Concentraciones horarias de PM₁₀
A6: TÍTULO DEL ESTUDIO: | E6: Evaluación ambiental de seguimiento de la calidad del aire en el CEBA Jose Pardo, distrito Ilo, provincia Ilo, departamento Moquegua, en diciembre 2025
A8: ESTACIÓN DE MONITOREO: | E8: CA-ILO-03 | P8: CÓDIGO DE ACCIÓN: | U8: 011-12-2025-417
A10: FECHA Y HORA DE INICIO: | E10: 45992 | P10: FECHA Y HORA FINAL: | U10: 31/12/2025 23:55:00
A12: DATOS DEL EQUIPO
A14: EQUIPO: | E14: Monitor automático de partículas | P14: CÓDIGO PATRIMONIAL | U14: 60226409-0032
A16: MARCA: | E16: GRIMM AEROSOL TECHNIK | L16: MODELO: | P16: EDM-180 | W16: SERIE: | Y16: 18A19093
A18: Hora\Día | B18: 1 | C18: 2 | D18: 3 | E18: 4 | F18: 5 | G18: 6 | H18: 7 | I18: 8 | J18: 9 | K18: 10 | L18: 11 | M18: 12 | N18: 13 | O18: 14 | P18: 15 | Q18: 16 | R18: 17 | S18: 18 | T18: 19 | U18: 20 | V18: 21 | W18: 22 | X18: 23 | Y18: 24 | Z18: 25 | AA18: 26 | AB18: 27 | AC18: 28 | AD18: 29 | AE18: 30 | AF18: 31
A19: 0 | B19: 13.81 | C19: 14.16 | D19: 16.27 | E19: 11.21 | F19: 27.98 | G19: 18.08 | H19: 12.27 | I19: 13.34 | J19: 12.88 | K19: 15.16 | L19: 32.26 | M19: 6.55 | N19: 15.11 | O19: MA | P19: MA | Q19: 13.38 | R19: 16.7 | S19: 11.67 | T19: 23.72 | U19: 21.18 | V19: 11.16 | W19: 8.13 | X19: 13.85 | Y19: 13.51 | Z19: 41.87 | AA19: 13.89 | AB19: 11.38 | AC19: 23.67 | AD19: 14.95 | AE19: 15.69 | AF19: 12.88
A20: 0.041666667 | B20: 14.18 | C20: 17.31 | D20: 15.12 | E20: 14.05 | F20: 28.71 | G20: 17.67 | H20: 19.21 | I20: 14.27 | J20: 8.72 | K20: 8.32 | L20: 22.38 | M20: 5.59 | N20: 16.1 | O20: MA | P20: MA | Q20: 17.37 | R20: 14.66 | S20: 15.39 | T20: 26.37 | U20: 18.78 | V20: 15.49 | W20: 8.59 | X20: 15.93 | Y20: 25.82 | Z20: 25.35 | AA20: 14.19 | AB20: 11.28 | AC20: 26.44 | AD20: 13.23 | AE20: 19.37 | AF20: 13.28
A21: 0.083333333 | B21: 12.54 | C21: 18.08 | D21: 18.48 | E21: 23.58 | F21: 15.33 | G21: 19.41 | H21: 14.03 | I21: 18.48 | J21: 6.63 | K21: 8.17 | L21: 8.57 | M21: 7.44 | N21: 11.96 | O21: MA | P21: MA | Q21: 14.43 | R21: 13.66 | S21: 37.23 | T21: 18.56 | U21: 19.24 | V21: 15.31 | W21: 6.71 | X21: 12.82 | Y21: 23.07 | Z21: 52.32 | AA21: 17 | AB21: 11.27 | AC21: 26.02 | AD21: 14.63 | AE21: 16.38 | AF21: 15.67
A22: 0.125 | B22: 12.01 | C22: 13.05 | D22: 23.49 | E22: 15.33 | F22: 25.99 | G22: 22.06 | H22: 13.74 | I22: 13.78 | J22: 6.47 | K22: 7.17 | L22: 6.62 | M22: 8.64 | N22: 13.03 | O22: MA | P22: MA | Q22: 17.3 | R22: 21.79 | S22: 30.96 | T22: 14.62 | U22: 23.09 | V22: 15.03 | W22: 8.71 | X22: 12.2 | Y22: 14.43 | Z22: 39.2 | AA22: 22.07 | AB22: 11.29 | AC22: 21.14 | AD22: 13.53 | AE22: 22.91 | AF22: 22.48
A23: 0.16666667 | B23: 15.78 | C23: 15.13 | D23: 25.62 | E23: 13.29 | F23: 25.98 | G23: 28.88 | H23: 18.38 | I23: 17.38 | J23: 9.18 | K23: 15.16 | L23: 8.11 | M23: 18.81 | N23: 13.74 | O23: MA | P23: MA | Q23: 30.58 | R23: 39.02 | S23: 30.01 | T23: 12.84 | U23: 14.77 | V23: 24.36 | W23: 12.03 | X23: 10.28 | Y23: 13.57 | Z23: 23.86 | AA23: 19.89 | AB23: 14.62 | AC23: 9.78 | AD23: 16.1 | AE23: 23.22 | AF23: 24.92
A24: 0.20833333 | B24: 14.58 | C24: 14.94 | D24: 28.86 | E24: 29.64 | F24: 41.7 | G24: 31.01 | H24: 35.68 | I24: 19.21 | J24: 10.75 | K24: 12.58 | L24: 21.76 | M24: 27.58 | N24: 23.41 | O24: MA | P24: MA | Q24: 43.23 | R24: 71.83 | S24: 32.42 | T24: 25.39 | U24: 41.46 | V24: 14.28 | W24: 24.33 | X24: 14.44 | Y24: 47.73 | Z24: 39.26 | AA24: 22.71 | AB24: 38.75 | AC24: 9.44 | AD24: 15.44 | AE24: 24.37 | AF24: 25.14
A25: 0.25 | B25: 16.88 | C25: 14.14 | D25: 26.48 | E25: 46.12 | F25: 50.48 | G25: 32.77 | H25: 23.78 | I25: 25.2 | J25: 9.81 | K25: 16.07 | L25: 9.78 | M25: 34.83 | N25: 27.7 | O25: MA | P25: MA | Q25: 19.78 | R25: 70.77 | S25: 43.55 | T25: 35.52 | U25: 33.22 | V25: 24.18 | W25: 28.76 | X25: 18.86 | Y25: 45.94 | Z25: 26.91 | AA25: 30.86 | AB25: 50.24 | AC25: 11.78 | AD25: 16.11 | AE25: 20.12 | AF25: 32.69
A26: 0.29166667 | B26: 28.87 | C26: 14.56 | D26: 27.71 | E26: 37.25 | F26: 27.26 | G26: 18.89 | H26: 15.23 | I26: 22.94 | J26: 12.82 | K26: 16.45 | L26: 11.33 | M26: 10.35 | N26: 16.26 | O26: MA | P26: MA | Q26: 28.51 | R26: 22.26 | S26: 27.85 | T26: 28.84 | U26: 20.54 | V26: 13.68 | W26: 16.86 | X26: 19.8 | Y26: 24.27 | Z26: 29.62 | AA26: 49.83 | AB26: 29.39 | AC26: 11.07 | AD26: 19.55 | AE26: 21.24 | AF26: 19.18
A27: 0.33333333 | B27: 57.61 | C27: 16.48 | D27: 37.01 | E27: 34.59 | F27: 26.38 | G27: 17.83 | H27: 14.41 | I27: 11.98 | J27: 14.09 | K27: 14.55 | L27: 14.85 | M27: 12.44 | N27: 11.88 | O27: MA | P27: MA | Q27: 21.74 | R27: 25.43 | S27: 24.59 | T27: 22.33 | U27: 19.04 | V27: 14.82 | W27: 14.62 | X27: 15.19 | Y27: 23 | Z27: 22.71 | AA27: 31.17 | AB27: 17.3 | AC27: 11.52 | AD27: 15.48 | AE27: 18.93 | AF27: 18.45
A28: 0.375 | B28: 28.53 | C28: 18.86 | D28: 24.38 | E28: 33.28 | F28: 16.95 | G28: 13.55 | H28: 16.8 | I28: 13.22 | J28: 13.41 | K28: 14.74 | L28: 13.11 | M28: 11.41 | N28: MA | O28: MA | P28: MA | Q28: 20.11 | R28: 17.88 | S28: 18.92 | T28: 15.79 | U28: 18.31 | V28: 23.6 | W28: 16.81 | X28: 14.29 | Y28: 16.42 | Z28: 22.48 | AA28: 27.9 | AB28: 22.33 | AC28: 12.21 | AD28: 19.38 | AE28: 14.31 | AF28: 16.5
A29: 0.41666667 | B29: 32.17 | C29: 20.49 | D29: 19.77 | E29: 13.79 | F29: 15.33 | G29: 12.63 | H29: 17.92 | I29: 13.63 | J29: 13.98 | K29: 15.66 | L29: 12.83 | M29: 9.03 | N29: MA | O29: MA | P29: MA | Q29: 27.52 | R29: 16.04 | S29: 15.34 | T29: 13.93 | U29: 24.92 | V29: 25.46 | W29: 16.4 | X29: 14.62 | Y29: 12.5 | Z29: 19.38 | AA29: 19.27 | AB29: 23.86 | AC29: 11.33 | AD29: 24.89 | AE29: 13.28 | AF29: 15.95
A30: 0.45833333 | B30: 33.67 | C30: 21.52 | D30: 15 | E30: 14.3 | F30: 14.76 | G30: 14.55 | H30: 14.55 | I30: 13.61 | J30: 12.26 | K30: 17.08 | L30: 12.8 | M30: 10.44 | N30: MA | O30: MA | P30: MA | Q30: 15.57 | R30: 11.22 | S30: 14.58 | T30: 13.02 | U30: 19.6 | V30: 29.85 | W30: 13.52 | X30: 12.38 | Y30: 11.64 | Z30: 10.97 | AA30: 17.75 | AB30: 33.18 | AC30: 12.28 | AD30: 18.67 | AE30: 16.56 | AF30: 11.28
A31: 0.5 | B31: 22.48 | C31: 15.27 | D31: 13.78 | E31: 15.43 | F31: 13.97 | G31: 13.99 | H31: 14 | I31: 13.6 | J31: 13.21 | K31: 22.08 | L31: 12.24 | M31: 12.44 | N31: MA | O31: MA | P31: MA | Q31: 14.94 | R31: 12.57 | S31: 15.88 | T31: 12.78 | U31: 16.91 | V31: 34.18 | W31: 11.35 | X31: 10.63 | Y31: 12.26 | Z31: 8.55 | AA31: 16.19 | AB31: 21.88 | AC31: 11.93 | AD31: 23.73 | AE31: 19.3 | AF31: 11.69
A32: 0.54166667 | B32: 14.52 | C32: 12.2 | D32: 13.13 | E32: 11.65 | F32: 13.21 | G32: 12.63 | H32: 11.41 | I32: 10.74 | J32: 10.57 | K32: 13.31 | L32: 12.7 | M32: 10.31 | N32: MA | O32: MA | P32: MA | Q32: 11.53 | R32: 13.81 | S32: 12.14 | T32: 10.78 | U32: 19.42 | V32: 15.35 | W32: 9.85 | X32: 8.5 | Y32: 9.63 | Z32: 8.44 | AA32: 12.57 | AB32: 14.27 | AC32: 10.11 | AD32: 12.86 | AE32: 13.67 | AF32: 9.41
A33: 0.58333333 | B33: 11.63 | C33: 12.42 | D33: 10.8 | E33: 14.7 | F33: 11.59 | G33: 9.94 | H33: 11.03 | I33: 11.53 | J33: 8.05 | K33: 12.03 | L33: 14.88 | M33: 11.47 | N33: MA | O33: MA | P33: MA | Q33: 11.22 | R33: 10.92 | S33: 11.39 | T33: 10.17 | U33: 18.92 | V33: 10.01 | W33: 9.46 | X33: 7.05 | Y33: 10.84 | Z33: 8.3 | AA33: 11.82 | AB33: 14.24 | AC33: 9.38 | AD33: 18.76 | AE33: 10.35 | AF33: 10.07
A34: 0.625 | B34: 12.02 | C34: 11.11 | D34: 11.67 | E34: 12.33 | F34: 12.03 | G34: 8.76 | H34: 9.48 | I34: 11.45 | J34: 7.27 | K34: 10.18 | L34: 10.51 | M34: 12.29 | N34: MA | O34: MA | P34: MA | Q34: 13.42 | R34: 12.16 | S34: 13.56 | T34: 10.45 | U34: 10.82 | V34: 7.73 | W34: 11.85 | X34: 9.87 | Y34: 9.26 | Z34: 8.57 | AA34: 13.03 | AB34: 12.81 | AC34: 9.15 | AD34: 11.13 | AE34: 10.07 | AF34: 9.78
A35: 0.66666667 | B35: 9.53 | C35: 12.63 | D35: 13.96 | E35: 12 | F35: 10.24 | G35: 10.51 | H35: 11.02 | I35: 11.37 | J35: 8.04 | K35: 10.31 | L35: 12.19 | M35: 10.68 | N35: MA | O35: MA | P35: 10.72 | Q35: 14.03 | R35: 13.42 | S35: 17.47 | T35: 13.22 | U35: 10.52 | V35: 7.13 | W35: 13.62 | X35: 11.07 | Y35: 11.07 | Z35: 8.65 | AA35: 12.33 | AB35: 10.07 | AC35: 9.56 | AD35: 14.53 | AE35: 12.53 | AF35: 11.88
A36: 0.70833333 | B36: 9.88 | C36: 20.73 | D36: 16.08 | E36: 13.53 | F36: 13.32 | G36: 9.84 | H36: 10.71 | I36: 8.32 | J36: 8.49 | K36: 8.79 | L36: 9.92 | M36: 9.1 | N36: MA | O36: MA | P36: 21.62 | Q36: 16.1 | R36: 13.49 | S36: 19.66 | T36: 12.57 | U36: 10.33 | V36: 8.79 | W36: 12.32 | X36: 11.5 | Y36: 10.6 | Z36: 10.97 | AA36: 12.48 | AB36: 9.72 | AC36: 10.82 | AD36: 11.9 | AE36: 14.14 | AF36: 13.09
A37: 0.75 | B37: 18.38 | C37: 27.6 | D37: 15.45 | E37: 11.04 | F37: 12.23 | G37: 9.69 | H37: 8.26 | I37: 8.7 | J37: 9.28 | K37: 8.63 | L37: 12.57 | M37: 8.58 | N37: MA | O37: MA | P37: 13.66 | Q37: 17.35 | R37: 15.81 | S37: 19.52 | T37: 12.77 | U37: 9.63 | V37: 8.03 | W37: 11.29 | X37: 12.58 | Y37: 11.43 | Z37: 12.6 | AA37: 14.85 | AB37: 9.03 | AC37: 10.54 | AD37: 10.76 | AE37: 13.12 | AF37: 15.28
A38: 0.79166667 | B38: 18.13 | C38: 23.28 | D38: 15.27 | E38: 16.28 | F38: 11.93 | G38: 13.18 | H38: 7.53 | I38: 9.48 | J38: 9 | K38: 8.48 | L38: 9.28 | M38: 8.38 | N38: MA | O38: MA | P38: 12.77 | Q38: 19.97 | R38: 18.71 | S38: 12.47 | T38: 12.88 | U38: 10.13 | V38: 7.28 | W38: 12.06 | X38: 11.5 | Y38: 16.41 | Z38: 14.06 | AA38: 17.11 | AB38: 8.93 | AC38: 15.32 | AD38: 10.48 | AE38: 16.74 | AF38: 14.72
A39: 0.83333333 | B39: 14.07 | C39: 19.83 | D39: 12.43 | E39: 17.65 | F39: 12.8 | G39: 20.01 | H39: 7.5 | I39: 12.05 | J39: 6.82 | K39: 11.09 | L39: 9.62 | M39: 8.8 | N39: MA | O39: MA | P39: 16.88 | Q39: 20.38 | R39: 26.3 | S39: 13.54 | T39: 10.44 | U39: 10.98 | V39: 6.66 | W39: 13.19 | X39: 10.69 | Y39: 13.99 | Z39: 10.61 | AA39: 12.47 | AB39: 10.81 | AC39: 13.79 | AD39: 9.52 | AE39: 13.53 | AF39: 21.94
A40: 0.875 | B40: 14.08 | C40: 11.62 | D40: 12.97 | E40: 21.76 | F40: 12.45 | G40: 14.53 | H40: 7.36 | I40: 12.1 | J40: 7.26 | K40: 10.86 | L40: 11.12 | M40: 7.07 | N40: MA | O40: MA | P40: 13.71 | Q40: 18.08 | R40: 18.27 | S40: 16.88 | T40: 26.42 | U40: 11.22 | V40: 7.03 | W40: 11.56 | X40: 10.23 | Y40: 19.43 | Z40: 12.22 | AA40: 15.34 | AB40: 12.39 | AC40: 12.46 | AD40: 10.74 | AE40: 15.82 | AF40: 20.81
A41: 0.91666667 | B41: 13.6 | C41: 11.37 | D41: 11.03 | E41: 16.88 | F41: 12.81 | G41: 10.28 | H41: 8.69 | I41: 11.53 | J41: 12.6 | K41: 8.05 | L41: 9.87 | M41: 7.72 | N41: MA | O41: MA | P41: 13.74 | Q41: 15.88 | R41: 14.19 | S41: 17.67 | T41: 17.21 | U41: 13.53 | V41: 8.21 | W41: 10.86 | X41: 14.42 | Y41: 21.24 | Z41: 11.93 | AA41: 37.12 | AB41: 9.53 | AC41: 13.24 | AD41: 13.67 | AE41: 17.58 | AF41: 18.02
A42: 0.95833333 | B42: 13.13 | C42: 13.86 | D42: 10.44 | E42: 18.42 | F42: 15.93 | G42: 12.53 | H42: 8.95 | I42: 10.72 | J42: 12.1 | K42: 19.33 | L42: 7.51 | M42: 8.07 | N42: MA | O42: MA | P42: 19.09 | Q42: 25.13 | R42: 10.78 | S42: 19.48 | T42: 19.26 | U42: 11.57 | V42: 8.22 | W42: 12.92 | X42: 11.47 | Y42: 20.24 | Z42: 11.66 | AA42: 37.2 | AB42: 28.25 | AC42: 16.14 | AD42: 12.71 | AE42: 17.18 | AF42: 26.64
A43: Promedio de PM₁₀ en 24 h | B43: 18.8 | C43: 16.3 | D43: 18.1 | E43: 19.5 | F43: 19.6 | G43: 16.4 | H43: 13.8 | I43: 13.7 | J43: 10.2 | K43: 12.7 | L43: 12.8 | M43: 11.6 | N43: ID | O43: MA | P43: ID | Q43: 19.5 | R43: 21.7 | S43: 20.5 | T43: 17.5 | U43: 17.8 | V43: 14.8 | W43: 13.2 | X43: 12.7 | Y43: 18.3 | Z43: 20 | AA43: 20.8 | AB43: 18.2 | AC43: 13.7 | AD43: 15.1 | AE43: 16.7 | AF43: 17.2
A44: ECA aire de PM₁₀ | B44: 100 µg/m³ en periodo de 24 horas
A45: Nota.- Los resultados obtenidos en el periodo de diciembre se consideran datos referenciales.
A46: ID: Insuficiencia de data
A47: MA: Mantenimiento
A54: Firmado por: | K54: Revisado por: | V54: Aprobado por:
A55: Operador de ensayo de calidad de aire | K55: Gestor de ensayo de calidad de aire | V55: Gestor QA/QC - aire

Sheet PM2.5 24H
E2: Tabla 3.2. Concentraciones horarias de PM₂,₅
A6: TÍTULO DEL ESTUDIO: | E6: ='PM10 24H'!E6 -> Evaluación ambiental de seguimiento de la calidad del aire en el CEBA Jose Pardo, distrito Ilo, provincia Ilo, departamento Moquegua, en diciembre 2025
A8: ESTACIÓN DE MONITOREO: | E8: CA-ILO-03 | P8: CÓDIGO DE ACCIÓN: | U8: ='PM10 24H'!U8 -> 011-12-2025-417
A10: FECHA Y HORA DE INICIO: | E10: ='PM10 24H'!E10 -> 45992 | P10: FECHA Y HORA FINAL: | U10: ='PM10 24H'!U10 -> 31/12/2025 23:55:00
A12: DATOS DEL EQUIPO
A14: EQUIPO: | E14: Monitor automático de partículas | P14: CÓDIGO PATRIMONIAL | U14: 60226409-0032
A16: MARCA: | E16: GRIMM AEROSOL TECHNIK | L16: MODELO: | P16: EDM-180 | W16: SERIE: | Y16: 18A19093
A18: Hora\Día | B18: 1 | C18: 2 | D18: 3 | E18: 4 | F18: 5 | G18: 6 | H18: 7 | I18: 8 | J18: 9 | K18: 10 | L18: 11 | M18: 12 | N18: 13 | O18: 14 | P18: 15 | Q18: 16 | R18: 17 | S18: 18 | T18: 19 | U18: 20 | V18: 21 | W18: 22 | X18: 23 | Y18: 24 | Z18: 25 | AA18: 26 | AB18: 27 | AC18: 28 | AD18: 29 | AE18: 30 | AF18: 31
A19: 0 | B19: 9.88 | C19: 10.57 | D19: 11.03 | E19: 8.47 | F19: 19.17 | G19: 13.29 | H19: 8.32 | I19: 7.65 | J19: 9.33 | K19: 8.98 | L19: 17.07 | M19: 4.85 | N19: 9.3 | O19: MA | P19: MA | Q19: 7.57 | R19: 10.22 | S19: 7.27 | T19: 17.17 | U19: 14.6 | V19: 8.37 | W19: 6.49 | X19: 8.99 | Y19: 9.12 | Z19: 27.09 | AA19: 9.78 | AB19: 6.51 | AC19: 16.02 | AD19: 10.89 | AE19: 11.05 | AF19: 9.51
A20: 0.041666667 | B20: 10.32 | C20: 12.4 | D20: 10.32 | E20: 10.41 | F20: 19.42 | G20: 12.67 | H20: 12.03 | I20: 9.57 | J20: 6.52 | K20: 5.6 | L20: 12.5 | M20: 4.05 | N20: 8.63 | O20: MA | P20: MA | Q20: 8.62 | R20: 8.24 | S20: 8.4 | T20: 18.27 | U20: 13.17 | V20: 10.76 | W20: 6.39 | X20: 10.7 | Y20: 17.52 | Z20: 9.11 | AA20: 9.79 | AB20: 6.97 | AC20: 17.73 | AD20: 9.65 | AE20: 13.52 | AF20: 10.22
A21: 0.083333333 | B21: 9.65 | C21: 13.03 | D21: 12.64 | E21: 16.27 | F21: 10.81 | G21: 13.38 | H21: 9.11 | I21: 12.61 | J21: 5.29 | K21: 5.68 | L21: 4.85 | M21: 4.95 | N21: 7.32 | O21: MA | P21: MA | Q21: 7.83 | R21: 7.36 | S21: 15.85 | T21: 13.28 | U21: 13.22 | V21: 11.65 | W21: 5.5 | X21: 9.1 | Y21: 16.48 | Z21: 15.97 | AA21: 11.53 | AB21: 7 | AC21: 17.59 | AD21: 10.82 | AE21: 12.06 | AF21: 10.69
A22: 0.125 | B22: 9.67 | C22: 10.11 | D22: 15.85 | E22: 10.91 | F22: 17.77 | G22: 14.88 | H22: 9.15 | I22: 9.49 | J22: 5.08 | K22: 5.18 | L22: 4.39 | M22: 5.52 | N22: 9 | O22: MA | P22: MA | Q22: 7.97 | R22: 10.38 | S22: 15.37 | T22: 10.62 | U22: 15.46 | V22: 11.81 | W22: 7.29 | X22: 8.88 | Y22: 9.23 | Z22: 11.78 | AA22: 14.82 | AB22: 7.16 | AC22: 14.2 | AD22: 10.2 | AE22: 17.63 | AF22: 13.78
A23: 0.16666667 | B23: 11.53 | C23: 11.47 | D23: 17.52 | E23: 9.22 | F23: 17.71 | G23: 19.49 | H23: 11.89 | I23: 11.72 | J23: 7.21 | K23: 8.88 | L23: 4.63 | M23: 12.53 | N23: 6.7 | O23: MA | P23: MA | Q23: 13.22 | R23: 16.66 | S23: 18.56 | T23: 9.64 | U23: 10.07 | V23: 18.94 | W23: 9.55 | X23: 7.62 | Y23: 8.57 | Z23: 8.08 | AA23: 13.32 | AB23: 7.66 | AC23: 7.19 | AD23: 11.83 | AE23: 18.51 | AF23: 15.07
A24: 0.20833333 | B24: 10.84 | C24: 11.2 | D24: 19.29 | E24: 13.38 | F24: 28.25 | G24: 20.41 | H24: 17.58 | I24: 12.03 | J24: 8.24 | K24: 7.32 | L24: 9.08 | M24: 16.69 | N24: 8.7 | O24: MA | P24: MA | Q24: 17.39 | R24: 24.37 | S24: 18.58 | T24: 17.12 | U24: 27.89 | V24: 10.65 | W24: 17.38 | X24: 8.88 | Y24: 14.7 | Z24: 14.37 | AA24: 12.99 | AB24: 14.22 | AC24: 7.01 | AD24: 11.28 | AE24: 19.89 | AF24: 14.01
A25: 0.25 | B25: 12.01 | C25: 10.44 | D25: 15 | E25: 26.62 | F25: 19.75 | G25: 15.5 | H25: 14.34 | I25: 14.24 | J25: 7.31 | K25: 8.36 | L25: 5.53 | M25: 15.46 | N25: 9.07 | O25: MA | P25: MA | Q25: 9.66 | R25: 20.6 | S25: 18 | T25: 20.22 | U25: 22.36 | V25: 16.42 | W25: 18.77 | X25: 10.07 | Y25: 17.74 | Z25: 13.81 | AA25: 12.76 | AB25: 17.5 | AC25: 7.06 | AD25: 11.97 | AE25: 14.76 | AF25: 16.43
A26: 0.29166667 | B26: 17.77 | C26: 10.02 | D26: 12.84 | E26: 22.84 | F26: 13.59 | G26: 10.67 | H26: 9 | I26: 14.23 | J26: 8.58 | K26: 8.31 | L26: 5.9 | M26: 5.72 | N26: 6.18 | O26: MA | P26: MA | Q26: 10.47 | R26: 9.22 | S26: 10.84 | T26: 14.03 | U26: 12.69 | V26: 8.94 | W26: 8.94 | X26: 9.57 | Y26: 12.12 | Z26: 17.12 | AA26: 15.88 | AB26: 12.85 | AC26: 6.97 | AD26: 13.95 | AE26: 14.42 | AF26: 11.3
A27: 0.33333333 | B27: 30.76 | C27: 9.52 | D27: 15.65 | E27: 17.35 | F27: 13.76 | G27: 10.44 | H27: 8.22 | I27: 7.06 | J27: 9.04 | K27: 7.65 | L27: 6.86 | M27: 6.44 | N27: 5.64 | O27: MA | P27: MA | Q27: 9.15 | R27: 10.31 | S27: 10.9 | T27: 10.49 | U27: 11.4 | V27: 7.95 | W27: 7.19 | X27: 8.14 | Y27: 10.03 | Z27: 12.86 | AA27: 12.76 | AB27: 9.05 | AC27: 7.05 | AD27: 9.99 | AE27: 10.74 | AF27: 11.67
A28: 0.375 | B28: 13.64 | C28: 9.57 | D28: 11.31 | E28: 15.03 | F28: 9.38 | G28: 8.37 | H28: 7.88 | I28: 7.26 | J28: 8.06 | K28: 7.82 | L28: 6.04 | M28: 5.69 | N28: MA | O28: MA | P28: MA | Q28: 8.3 | R28: 8.28 | S28: 9.6 | T28: 8.82 | U28: 9.24 | V28: 9.62 | W28: 7.32 | X28: 7.48 | Y28: 6.91 | Z28: 12.54 | AA28: 10.52 | AB28: 9.43 | AC28: 7.15 | AD28: 9.98 | AE28: 8.9 | AF28: 10.47
A29: 0.41666667 | B29: 13.68 | C29: 9.72 | D29: 9.44 | E29: 7.5 | F29: 9.28 | G29: 7.13 | H29: 8.07 | I29: 6.79 | J29: 8.09 | K29: 7.81 | L29: 5.87 | M29: 4.82 | N29: MA | O29: MA | P29: MA | Q29: 9.12 | R29: 7.53 | S29: 7.95 | T29: 7.59 | U29: 10.76 | V29: 10.06 | W29: 7.18 | X29: 7.29 | Y29: 6.08 | Z29: 8.98 | AA29: 8.18 | AB29: 9.27 | AC29: 7.21 | AD29: 11.53 | AE29: 7.83 | AF29: 8.15
A30: 0.45833333 | B30: 13.55 | C30: 10.53 | D30: 8.09 | E30: 8.36 | F30: 8.66 | G30: 6.99 | H30: 7.45 | I30: 6.76 | J30: 7.39 | K30: 7.16 | L30: 5.59 | M30: 5.65 | N30: MA | O30: MA | P30: MA | Q30: 6.08 | R30: 6 | S30: 6.68 | T30: 7.03 | U30: 9.24 | V30: 11.58 | W30: 6.28 | X30: 6.47 | Y30: 5.99 | Z30: 5.93 | AA30: 8.21 | AB30: 11.7 | AC30: 7.22 | AD30: 9.97 | AE30: 8.33 | AF30: 6.6
A31: 0.5 | B31: 10.28 | C31: 8.89 | D31: 7.77 | E31: 8.39 | F31: 8.32 | G31: 6.35 | H31: 7.16 | I31: 7.72 | J31: 7.77 | K31: 8.18 | L31: 5.61 | M31: 6.29 | N31: MA | O31: MA | P31: MA | Q31: 5.26 | R31: 6.31 | S31: 6.92 | T31: 7.08 | U31: 8.44 | V31: 12.33 | W31: 5.95 | X31: 5.76 | Y31: 6.9 | Z31: 4.94 | AA31: 7.8 | AB31: 9.04 | AC31: 7.09 | AD31: 10.85 | AE31: 8.29 | AF31: 6.67
A32: 0.54166667 | B32: 8.27 | C32: 6.77 | D32: 6.92 | E32: 6.38 | F32: 7.88 | G32: 6.08 | H32: 6.35 | I32: 6.84 | J32: 6.95 | K32: 6.13 | L32: 5.88 | M32: 5.82 | N32: MA | O32: MA | P32: MA | Q32: 4.95 | R32: 6.44 | S32: 6.16 | T32: 6.22 | U32: 8.73 | V32: 6.49 | W32: 5.69 | X32: 5.13 | Y32: 5.25 | Z32: 4.83 | AA32: 6.17 | AB32: 6.64 | AC32: 6.49 | AD32: 7.76 | AE32: 6.93 | AF32: 6.06
A33: 0.58333333 | B33: 7.38 | C33: 6.88 | D33: 6.1 | E33: 7.5 | F33: 7.82 | G33: 5.52 | H33: 5.94 | I33: 6.54 | J33: 4.81 | K33: 5.6 | L33: 7.1 | M33: 5.86 | N33: MA | O33: MA | P33: MA | Q33: 5.09 | R33: 5.85 | S33: 6.42 | T33: 5.9 | U33: 8.8 | V33: 5.42 | W33: 5.87 | X33: 4.6 | Y33: 5.61 | Z33: 4.97 | AA33: 6.49 | AB33: 6.72 | AC33: 6.39 | AD33: 9.12 | AE33: 6.77 | AF33: 6.12
A34: 0.625 | B34: 7.75 | C34: 6.94 | D34: 6.5 | E34: 7.09 | F34: 7.65 | G34: 5.56 | H34: 5.58 | I34: 6.36 | J34: 4.58 | K34: 5.52 | L34: 6.69 | M34: 5.93 | N34: MA | O34: MA | P34: MA | Q34: 6.07 | R34: 6.13 | S34: 7.55 | T34: 6.32 | U34: 6.87 | V34: 4.98 | W34: 7.16 | X34: 5.38 | Y34: 4.96 | Z34: 5.35 | AA34: 7.6 | AB34: 6.89 | AC34: 6.3 | AD34: 6.98 | AE34: 7.31 | AF34: 6.77
A35: 0.66666667 | B35: 7.06 | C35: 7.39 | D35: 7.11 | E35: 7.29 | F35: 7.24 | G35: 6.22 | H35: 6.12 | I35: 6.62 | J35: 4.88 | K35: 5.99 | L35: 7.42 | M35: 5.47 | N35: MA | O35: MA | P35: 5.57 | Q35: 6.47 | R35: 6.53 | S35: 9.42 | T35: 7.72 | U35: 6.94 | V35: 5.09 | W35: 8.1 | X35: 5.85 | Y35: 5.75 | Z35: 5.61 | AA35: 6.68 | AB35: 6.53 | AC35: 6.64 | AD35: 10.18 | AE35: 8.58 | AF35: 7.54
A36: 0.70833333 | B36: 7.37 | C36: 10.47 | D36: 7.89 | E36: 9.58 | F36: 9.01 | G36: 6.52 | H36: 6.02 | I36: 5.87 | J36: 5.41 | K36: 5.89 | L36: 6.83 | M36: 5.18 | N36: MA | O36: MA | P36: 7.33 | Q36: 7 | R36: 7.32 | S36: 11.18 | T36: 7.94 | U36: 7.2 | V36: 6.15 | W36: 8.61 | X36: 6.61 | Y36: 6.22 | Z36: 6.82 | AA36: 7.51 | AB36: 6.7 | AC36: 7.48 | AD36: 7.68 | AE36: 9.52 | AF36: 8.28
A37: 0.75 | B37: 13.96 | C37: 14.51 | D37: 7.86 | E37: 8.15 | F37: 9.18 | G37: 7.11 | H37: 5.45 | I37: 6.27 | J37: 6.01 | K37: 5.08 | L37: 8.07 | M37: 5.49 | N37: MA | O37: MA | P37: 6.78 | Q37: 7.74 | R37: 9.03 | S37: 10.56 | T37: 8.99 | U37: 7.32 | V37: 6.22 | W37: 8.44 | X37: 8.09 | Y37: 7.07 | Z37: 7.19 | AA37: 9.13 | AB37: 6.82 | AC37: 7.65 | AD37: 7.81 | AE37: 10.19 | AF37: 10.21
A38: 0.79166667 | B38: 13.43 | C38: 16.28 | D38: 8.02 | E38: 12.22 | F38: 8.71 | G38: 9.57 | H38: 5.79 | I38: 6.66 | J38: 5.13 | K38: 4.9 | L38: 6.08 | M38: 5.63 | N38: MA | O38: MA | P38: 7.38 | Q38: 8.97 | R38: 9.37 | S38: 8.62 | T38: 9.24 | U38: 8.07 | V38: 5.8 | W38: 9.41 | X38: 8.03 | Y38: 11.02 | Z38: 7.98 | AA38: 10.91 | AB38: 6.82 | AC38: 11.9 | AD38: 8.11 | AE38: 13.37 | AF38: 10.21
A39: 0.83333333 | B39: 10.06 | C39: 13.39 | D39: 7.3 | E39: 13.01 | F39: 9.46 | G39: 13.43 | H39: 5.9 | I39: 8.48 | J39: 4.39 | K39: 6.49 | L39: 6.12 | M39: 5.2 | N39: MA | O39: MA | P39: 9.16 | Q39: 9.93 | R39: 12.75 | S39: 9.71 | T39: 7.87 | U39: 8.34 | V39: 5.52 | W39: 9.62 | X39: 7.35 | Y39: 8.95 | Z39: 6.89 | AA39: 8.81 | AB39: 8.18 | AC39: 10.83 | AD39: 7.32 | AE39: 10.48 | AF39: 17.01
A40: 0.875 | B40: 10.31 | C40: 8.28 | D40: 7.26 | E40: 12.65 | F40: 9.15 | G40: 9.57 | H40: 5.08 | I40: 8.53 | J40: 4.47 | K40: 6 | L40: 6.54 | M40: 4.31 | N40: MA | O40: MA | P40: 6.78 | Q40: 10.12 | R40: 9.03 | S40: 11.73 | T40: 21.39 | U40: 8.24 | V40: 5.47 | W40: 8.6 | X40: 6.16 | Y40: 8.36 | Z40: 7.94 | AA40: 9.12 | AB40: 8.97 | AC40: 9.5 | AD40: 8.2 | AE40: 11.39 | AF40: 15.71
A41: 0.91666667 | B41: 10.28 | C41: 8.38 | D41: 7.24 | E41: 12.28 | F41: 9.12 | G41: 7.08 | H41: 5.8 | I41: 8.48 | J41: 9.15 | K41: 4.68 | L41: 6.1 | M41: 5.57 | N41: MA | O41: MA | P41: 7.98 | Q41: 8.74 | R41: 7.84 | S41: 12.45 | T41: 12.38 | U41: 9.69 | V41: 6.42 | W41: 8.14 | X41: 8.78 | Y41: 8.36 | Z41: 8.03 | AA41: 20.31 | AB41: 6.85 | AC41: 9.91 | AD41: 10.12 | AE41: 12.68 | AF41: 12.78
A42: 0.95833333 | B42: 9.99 | C42: 10.47 | D42: 7.69 | E42: 12.71 | F42: 11.59 | G42: 8.7 | H42: 6.58 | I42: 7.95 | J42: 7.85 | K42: 9.24 | L42: 5.22 | M42: 5.47 | N42: MA | O42: MA | P42: 13.64 | Q42: 16.38 | R42: 6.62 | S42: 13.56 | T42: 13.55 | U42: 8.72 | V42: 6.72 | W42: 9.09 | X42: 7.14 | Y42: 9.27 | Z42: 7.72 | AA42: 16.46 | AB42: 16.14 | AC42: 11.53 | AD42: 9.31 | AE42: 12.25 | AF42: 18.27
A43: Promedio de PM₂,₅ en 24 h | B43: 11.6 | C43: 10.3 | D43: 10.3 | E43: 11.8 | F43: 12.2 | G43: 10.2 | H43: 8.1 | I43: 8.6 | J43: 6.7 | K43: 6.8 | L43: 6.9 | M43: 6.6 | N43: ID | O43: MA | P43: ID | Q43: 8.8 | R43: 9.7 | S43: 10.9 | T43: 11.2 | U43: 11.1 | V43: 8.9 | W43: 8.5 | X43: 7.6 | Y43: 9.3 | Z43: 9.8 | AA43: 10.7 | AB43: 9 | AC43: 9.3 | AD43: 9.8 | AE43: 11.5 | AF43: 11
A44: ECA aire de PM₂,₅ | B44: 50 µg/m³ en periodo de 24 horas
A45: Nota.- Los resultados obtenidos en el periodo de diciembre se consideran datos referenciales.
A46: ID: Insuficiencia de data
A47: MA: Mantenimiento
A54: Firmado por: | K54: Revisado por: | V54: Aprobado por:
A55: Operador de ensayo de calidad de aire | K55: Gestor de ensayo de calidad de aire | V55: Gestor QA/QC - aire

Sheet SO2 24H
E2: Tabla 3.3. Concentraciones horarias de SO₂
A6: TÍTULO DEL ESTUDIO: | E6: ='PM10 24H'!E6 -> Evaluación ambiental de seguimiento de la calidad del aire en el CEBA Jose Pardo, distrito Ilo, provincia Ilo, departamento Moquegua, en diciembre 2025
A8: ESTACIÓN DE MONITOREO: | E8: CA-ILO-03 | P8: CÓDIGO DE ACCIÓN: | U8: ='PM10 24H'!U8 -> 011-12-2025-417
A10: FECHA Y HORA DE INICIO: | E10: ='PM10 24H'!E10 -> 45992 | P10: FECHA Y HORA FINAL: | U10: ='PM10 24H'!U10 -> 31/12/2025 23:55:00
A12: DATOS DEL EQUIPO
A14: EQUIPO: | E14: Analizador de dióxido de azufre | P14: CÓDIGO PATRIMONIAL | U14: 67220261-0025
A16: MARCA: | E16: ThermoScientific | L16: MODELO: | P16: 43i | W16: SERIE: | Y16: 1192914948
A18: Hora\Día | B18: 1 | C18: 2 | D18: 3 | E18: 4 | F18: 5 | G18: 6 | H18: 7 | I18: 8 | J18: 9 | K18: 10 | L18: 11 | M18: 12 | N18: 13 | O18: 14 | P18: 15 | Q18: 16 | R18: 17 | S18: 18 | T18: 19 | U18: 20 | V18: 21 | W18: 22 | X18: 23 | Y18: 24 | Z18: 25 | AA18: 26 | AB18: 27 | AC18: 28 | AD18: 29 | AE18: 30 | AF18: 31
A19: 0 | B19: 5.24 | C19: MA | D19: 7.55 | E19: 7.1 | F19: 29.42 | G19: 7.41 | H19: 7.44 | I19: 10.4 | J19: 7.44 | K19: 7.44 | L19: 94.27 | M19: 7.83 | N19: 25.44 | O19: MA | P19: MA | Q19: 6.58 | R19: 6.5 | S19: 6.58 | T19: 6.58 | U19: 6.21 | V19: 5.92 | W19: 7.47 | X19: 9.01 | Y19: 6.84 | Z19: 8.41 | AA19: 7.15 | AB19: 8.52 | AC19: 15.2 | AD19: 7.02 | AE19: 7 | AF19: 7.23
A20: 0.041666667 | B20: 5.21 | C20: MA | D20: 7.36 | E20: 7.26 | F20: 39.06 | G20: 7.47 | H20: 7.49 | I20: 20.02 | J20: 7.47 | K20: 7.57 | L20: 102.68 | M20: 7.76 | N20: 26.67 | O20: MA | P20: MA | Q20: 6.47 | R20: 6.37 | S20: 6.55 | T20: 6.65 | U20: 6.65 | V20: 7.55 | W20: 7.44 | X20: 19.52 | Y20: 61.41 | Z20: 7.05 | AA20: 7.02 | AB20: 7.57 | AC20: 20.1 | AD20: 7.2 | AE20: 7.26 | AF20: 6.97
A21: 0.083333333 | B21: 5.11 | C21: MA | D21: 7.83 | E21: 7.39 | F21: 13.86 | G21: 7.2 | H21: 7.39 | I21: 38.15 | J21: 7.44 | K21: 7.31 | L21: 10.64 | M21: 7.89 | N21: 20.49 | O21: MA | P21: MA | Q21: 6.45 | R21: 6.18 | S21: 26.23 | T21: 6.47 | U21: 7.68 | V21: 10.19 | W21: 6.76 | X21: 7.2 | Y21: 41.4 | Z21: 11.71 | AA21: 9.09 | AB21: 7.65 | AC21: 32.41 | AD21: 6.86 | AE21: 7.34 | AF21: 6.76
A22: 0.125 | B22: 5.19 | C22: MA | D22: 12.76 | E22: 7.49 | F22: 32.78 | G22: 7.57 | H22: 7.28 | I22: 18.76 | J22: 7.52 | K22: 7.49 | L22: 8.46 | M22: 7.86 | N22: 17.4 | O22: MA | P22: MA | Q22: 6.52 | R22: 6.39 | S22: 18.97 | T22: 6.39 | U22: 25.47 | V22: 9.98 | W22: 6.97 | X22: 6.73 | Y22: 19.31 | Z22: 11.4 | AA22: 42.08 | AB22: 7.36 | AC22: 28.92 | AD22: 7.07 | AE22: 10.95 | AF22: 6.86
A23: 0.16666667 | B23: 4.58 | C23: MA | D23: 11.63 | E23: 7.41 | F23: 41.11 | G23: 7.6 | H23: 7.78 | I23: 12.65 | J23: 7.34 | K23: 7.1 | L23: 8.2 | M23: 24.47 | N23: 10.72 | O23: MA | P23: MA | Q23: 16.98 | R23: 44.96 | S23: 22.17 | T23: 6.37 | U23: 8.67 | V23: 11.16 | W23: 7.1 | X23: 6.68 | Y23: 8.33 | Z23: 7.13 | AA23: 48.39 | AB23: 9.59 | AC23: 13.94 | AD23: 6.97 | AE23: 9.77 | AF23: 6.76
A24: 0.20833333 | B24: 5.21 | C24: MA | D24: 10.51 | E24: 7.49 | F24: 17.32 | G24: 7.76 | H24: 7.49 | I24: 22.19 | J24: 7.57 | K24: 7.15 | L24: 10.95 | M24: 77.74 | N24: 9.96 | O24: MA | P24: MA | Q24: 43.73 | R24: 89.11 | S24: 29.13 | T24: 17.13 | U24: 132.49 | V24: 7.36 | W24: 7.55 | X24: 6.65 | Y24: 7.39 | Z24: 50.15 | AA24: 38.44 | AB24: 10.95 | AC24: 7.76 | AD24: 8.86 | AE24: 12.16 | AF24: 7.23
A25: 0.25 | B25: 5.21 | C25: MA | D25: 9.25 | E25: 109.78 | F25: 19.36 | G25: 7.65 | H25: 7.55 | I25: 34.48 | J25: 7.47 | K25: 7.31 | L25: 8.31 | M25: 20.07 | N25: 10.98 | O25: MA | P25: MA | Q25: 8.02 | R25: 121.2 | S25: 100.08 | T25: 108.65 | U25: 87.9 | V25: 13.99 | W25: 11.95 | X25: 6.76 | Y25: 7.96 | Z25: 122.85 | AA25: 19.41 | AB25: 8.8 | AC25: 5.76 | AD25: 8.57 | AE25: 7.99 | AF25: 7.07
A26: 0.29166667 | B26: 5.58 | C26: MA | D26: 7.91 | E26: 149.63 | F26: 10.69 | G26: 7.6 | H26: 7.28 | I26: 14.02 | J26: 7.23 | K26: 7.55 | L26: 7.89 | M26: 8.8 | N26: 9.48 | O26: MA | P26: MA | Q26: 6.92 | R26: 19.83 | S26: 31.83 | T26: 32.12 | U26: 22.53 | V26: 8.93 | W26: 8.28 | X26: 6.6 | Y26: 7.18 | Z26: 155 | AA26: 14.2 | AB26: 7.94 | AC26: 6.34 | AD26: 7.55 | AE26: 14.02 | AF26: 7.34
A27: 0.33333333 | B27: 7.52 | C27: MA | D27: 9.04 | E27: 130.97 | F27: 35.4 | G27: 7.31 | H27: 7.55 | I27: 8.28 | J27: 7.94 | K27: 7.73 | L27: 7.94 | M27: 8.15 | N27: 8.46 | O27: MA | P27: MA | Q27: 6.79 | R27: 8.17 | S27: 8.7 | T27: 9.33 | U27: 8.57 | V27: 6.52 | W27: 7.07 | X27: 6.5 | Y27: 6.94 | Z27: 101.6 | AA27: 11.06 | AB27: 7.23 | AC27: 7.34 | AD27: 6.89 | AE27: 7.73 | AF27: 7.05
A28: 0.375 | B28: 5.48 | C28: MA | D28: 8.67 | E28: 45.14 | F28: 8.46 | G28: 7.28 | H28: 7.52 | I28: 7.65 | J28: 7.68 | K28: 7.62 | L28: 8.17 | M28: 8.2 | N28: 8.36 | O28: MA | P28: MA | Q28: 6.47 | R28: 7.34 | S28: 7.6 | T28: 7.34 | U28: 7.23 | V28: 6.39 | W28: 6.86 | X28: 6.58 | Y28: 7.05 | Z28: 74.62 | AA28: 8.07 | AB28: 7.15 | AC28: 7.26 | AD28: 7.1 | AE28: 7.31 | AF28: 7.05
A29: 0.41666667 | B29: 5.24 | C29: MA | D29: 7.78 | E29: 11.29 | F29: 6 | G29: 7.26 | H29: 7.47 | I29: 7.7 | J29: 7.52 | K29: 7.39 | L29: 8.12 | M29: VF | N29: MA | O29: MA | P29: MA | Q29: 6.89 | R29: 6.97 | S29: 7.2 | T29: 6.94 | U29: 7.2 | V29: 6.45 | W29: 6.6 | X29: 6.6 | Y29: 7.05 | Z29: 25.05 | AA29: 7.65 | AB29: 7.18 | AC29: 7.26 | AD29: 7 | AE29: 7.13 | AF29: 7.34
A30: 0.45833333 | B30: 5.34 | C30: MA | D30: 7.39 | E30: 7.86 | F30: 7.81 | G30: 7.34 | H30: 7.47 | I30: 7.81 | J30: 7.57 | K30: 7.6 | L30: 7.99 | M30: VF | N30: MA | O30: MA | P30: MA | Q30: 6.84 | R30: 6.86 | S30: 6.76 | T30: 6.97 | U30: 6.81 | V30: 6.84 | W30: 6.55 | X30: 6.81 | Y30: 6.86 | Z30: 8.99 | AA30: 7.44 | AB30: 7.13 | AC30: 7.23 | AD30: 7.28 | AE30: 7.02 | AF30: 7.15
A31: 0.5 | B31: 5.61 | C31: MA | D31: 7.41 | E31: 7.83 | F31: 7.6 | G31: 7.49 | H31: 7.55 | I31: 7.41 | J31: 7.36 | K31: 7.76 | L31: CT | M31: 8.44 | N31: MA | O31: MA | P31: VF | Q31: 6.65 | R31: 6.81 | S31: 6.47 | T31: 6.63 | U31: 6.26 | V31: 6.58 | W31: 6.86 | X31: 6.55 | Y31: 7.02 | Z31: 7.47 | AA31: 7.23 | AB31: 7.26 | AC31: 7.1 | AD31: 7.15 | AE31: 7.05 | AF31: 6.89
A32: 0.54166667 | B32: 5.27 | C32: MA | D32: 7.26 | E32: 7.62 | F32: 7.31 | G32: 7.47 | H32: 7.57 | I32: 7.44 | J32: 7.68 | K32: 7.7 | L32: 7.89 | M32: 8.1 | N32: MA | O32: MA | P32: MA | Q32: 6.55 | R32: 6.79 | S32: 6.94 | T32: 6.65 | U32: 6.03 | V32: 6.65 | W32: 6.65 | X32: 6.68 | Y32: 6.89 | Z32: 7.31 | AA32: 7.13 | AB32: 7.18 | AC32: 7.28 | AD32: 7.18 | AE32: 7.1 | AF32: 6.92
A33: 0.58333333 | B33: MA | C33: MA | D33: 7.18 | E33: 7.62 | F33: 7.7 | G33: 7.47 | H33: 7.49 | I33: 7.76 | J33: 7.68 | K33: 7.86 | L33: 7.89 | M33: 8.1 | N33: MA | O33: MA | P33: MA | Q33: 6.6 | R33: 6.81 | S33: 6.84 | T33: 6.68 | U33: 6.89 | V33: 6.47 | W33: 6.55 | X33: 6.52 | Y33: 6.71 | Z33: 7.76 | AA33: 7.36 | AB33: 7.1 | AC33: 7.44 | AD33: 7.34 | AE33: 6.97 | AF33: 7.02
A34: 0.625 | B34: MA | C34: MA | D34: 7.15 | E34: 7.57 | F34: 7.73 | G34: 7.49 | H34: 7.57 | I34: 7.6 | J34: 7.57 | K34: 7.86 | L34: 7.89 | M34: 8.04 | N34: MA | O34: MA | P34: MA | Q34: 6.58 | R34: 6.84 | S34: 6.79 | T34: 6.55 | U34: 6.94 | V34: 6.52 | W34: 6.65 | X34: 6.84 | Y34: 6.97 | Z34: 7.57 | AA34: 7.26 | AB34: 7.1 | AC34: 7.18 | AD34: 7.23 | AE34: 7.18 | AF34: 6.94
A35: 0.66666667 | B35: MA | C35: VF | D35: 6.97 | E35: 7.6 | F35: 7.47 | G35: 7.44 | H35: 7.62 | I35: 7.6 | J35: 7.6 | K35: 7.7 | L35: 8.23 | M35: 8.07 | N35: MA | O35: MA | P35: 6.5 | Q35: 6.37 | R35: 6.47 | S35: 7.1 | T35: 6.52 | U35: 6.71 | V35: 6.58 | W35: 6.79 | X35: 6.76 | Y35: 6.92 | Z35: 7.39 | AA35: 7.07 | AB35: 7.2 | AC35: 7.07 | AD35: 7.39 | AE35: 7.05 | AF35: 7
A36: 0.70833333 | B36: MA | C36: VF | D36: 6.68 | E36: 7.55 | F36: 7.39 | G36: 7.68 | H36: 7.65 | I36: 7.57 | J36: 7.83 | K36: 7.83 | L36: 8.02 | M36: 8.07 | N36: MA | O36: MA | P36: 6.89 | Q36: 6.52 | R36: 6.58 | S36: 7 | T36: 6.52 | U36: 6.76 | V36: 6.71 | W36: 6.89 | X36: 6.86 | Y36: 7 | Z36: 7.47 | AA36: 7.26 | AB36: 7.05 | AC36: 7.26 | AD36: 7.2 | AE36: 7.1 | AF36: 7.28
A37: 0.75 | B37: MA | C37: 7.81 | D37: 6.65 | E37: 7.39 | F37: 7.62 | G37: 7.65 | H37: 7.36 | I37: 7.6 | J37: 8.12 | K37: 7.7 | L37: 7.83 | M37: 7.68 | N37: MA | O37: MA | P37: 6.63 | Q37: 6.45 | R37: 6.63 | S37: 6.58 | T37: 6.5 | U37: 6.84 | V37: 6.94 | W37: 6.76 | X37: 7.05 | Y37: 6.94 | Z37: 7.26 | AA37: 7.18 | AB37: 7.26 | AC37: 7.13 | AD37: 7.36 | AE37: 7.1 | AF37: 7.18
A38: 0.79166667 | B38: MA | C38: 7.78 | D38: 7.18 | E38: 7.6 | F38: 7.7 | G38: 7.68 | H38: 7.52 | I38: 7.57 | J38: 7.91 | K38: 7.7 | L38: 7.83 | M38: 7.36 | N38: MA | O38: MA | P38: 6.39 | Q38: 6.5 | R38: 6.37 | S38: 6.81 | T38: 6.58 | U38: 6.73 | V38: 6.81 | W38: 6.52 | X38: 6.89 | Y38: 6.84 | Z38: 7.13 | AA38: 7.26 | AB38: 6.94 | AC38: 7.26 | AD38: 6.94 | AE38: 7.34 | AF38: 7.28
A39: 0.83333333 | B39: MA | C39: 7.76 | D39: 7.34 | E39: 7.55 | F39: 7.55 | G39: 7.78 | H39: 7.65 | I39: 7.23 | J39: 7.76 | K39: 7.94 | L39: 8.02 | M39: 8.04 | N39: MA | O39: MA | P39: 6.37 | Q39: 6.52 | R39: 6.45 | S39: 6.6 | T39: 6.6 | U39: 6.5 | V39: 6.65 | W39: 6.68 | X39: 6.86 | Y39: 6.89 | Z39: 6.94 | AA39: 7.18 | AB39: 7.05 | AC39: 7.49 | AD39: 7.23 | AE39: 7.07 | AF39: 8.02
A40: 0.875 | B40: MA | C40: 7.49 | D40: 7.52 | E40: 7.47 | F40: 7.62 | G40: 7.44 | H40: 7.52 | I40: 7.36 | J40: 7.73 | K40: 8.1 | L40: 7.83 | M40: 7.89 | N40: MA | O40: MA | P40: 6.6 | Q40: 6.37 | R40: 6.68 | S40: 6.58 | T40: 6.76 | U40: 6.34 | V40: 6.5 | W40: 6.65 | X40: 6.86 | Y40: 6.86 | Z40: 7.28 | AA40: 7.13 | AB40: 6.94 | AC40: 7.15 | AD40: 7.18 | AE40: 7.07 | AF40: 7.47
A41: 0.91666667 | B41: MA | C41: 7.76 | D41: 7.28 | E41: 7.41 | F41: 7.52 | G41: 7.39 | H41: 7.6 | I41: 7.52 | J41: 7.99 | K41: 7.73 | L41: 8.07 | M41: 7.55 | N41: MA | O41: MA | P41: 6.26 | Q41: 6.26 | R41: 6.52 | S41: 6.86 | T41: 6.52 | U41: 6.55 | V41: 7.34 | W41: 6.47 | X41: 6.86 | Y41: 6.81 | Z41: 7.2 | AA41: 104.77 | AB41: 7.15 | AC41: 7.18 | AD41: 7.07 | AE41: 7.07 | AF41: 7.23
A42: 0.95833333 | B42: MA | C42: 7.49 | D42: 7.23 | E42: 7.57 | F42: 7.65 | G42: 7.39 | H42: 7.57 | I42: 7.49 | J42: 7.68 | K42: 31.94 | L42: 8.07 | M42: 7.6 | N42: MA | O42: MA | P42: 6.52 | Q42: 6.39 | R42: 6.52 | S42: 6.81 | T42: 6.5 | U42: 6.39 | V42: 7.86 | W42: 6.52 | X42: 6.81 | Y42: 7.07 | Z42: 7.07 | AA42: 26.62 | AB42: 22.74 | AC42: 7.07 | AD42: 7.18 | AE42: 7 | AF42: 7.6
A43: Promedio de SO₂ en 24 h | B43: ID | C43: ID | D43: 8.1 | E43: 24.6 | F43: 14.7 | G43: 7.5 | H43: 7.5 | I43: 12.2 | J43: 7.6 | K43: 8.6 | L43: 16.1 | M43: 12.4 | N43: ID | O43: MA | P43: ID | Q43: 8.6 | R43: 17.1 | S43: 14.7 | T43: 12.5 | U43: 16.9 | V43: 7.6 | W43: 7.1 | X43: 7.4 | Y43: 11.3 | Z43: 28 | AA43: 17.6 | AB43: 8.3 | AC43: 10.3 | AD43: 7.3 | AE43: 7.9 | AF43: 7.2
A44: ECA aire de SO₂ | B44: 250 µg/m³ en periodo de 24 horas
A45: Nota.- Los resultados obtenidos en el periodo de diciembre se consideran datos referenciales.
A46: VF: Verificaciones
A47: ID: Insuficiencia de data
A48: MA: Mantenimiento
A54: Firmado por: | K54: Revisado por: | V54: Aprobado por:
A55: Operador de ensayo de calidad de aire | K55: Gestor de ensayo de calidad de aire | V55: Gestor QA/QC - aire

Sheet SO2 3H
E2: Tabla 3.4. Concentraciones promedio movil de 3 horas de SO₂
A6: TÍTULO DEL ESTUDIO: | E6: ='PM10 24H'!E6 -> Evaluación ambiental de seguimiento de la calidad del aire en el CEBA Jose Pardo, distrito Ilo, provincia Ilo, departamento Moquegua, en diciembre 2025
A8: ESTACIÓN DE MONITOREO: | E8: CA-ILO-03 | P8: CÓDIGO DE ACCIÓN: | U8: ='PM10 24H'!U8 -> 011-12-2025-417
A10: FECHA Y HORA DE INICIO: | E10: ='PM10 24H'!E10 -> 45992 | P10: FECHA Y HORA FINAL: | U10: ='PM10 24H'!U10 -> 31/12/2025 23:55:00
A12: DATOS DEL EQUIPO
A14: EQUIPO: | E14: Analizador de dióxido de azufre | P14: CÓDIGO PATRIMONIAL | U14: 67220261-0025
A16: MARCA: | E16: ThermoScientific | L16: MODELO: | P16: 43i | W16: SERIE: | Y16: 1192914948
A18: Hora\Día | B18: 1 | C18: 2 | D18: 3 | E18: 4 | F18: 5 | G18: 6 | H18: 7 | I18: 8 | J18: 9 | K18: 10 | L18: 11 | M18: 12 | N18: 13 | O18: 14 | P18: 15 | Q18: 16 | R18: 17 | S18: 18 | T18: 19 | U18: 20 | V18: 21 | W18: 22 | X18: 23 | Y18: 24 | Z18: 25 | AA18: 26 | AB18: 27 | AC18: 28 | AD18: 29 | AE18: 30 | AF18: 31
A19: 0 | B19: 5.36 | C19: MA | D19: 7.6 | E19: 7.2 | F19: 14.8 | G19: 7.53 | H19: 7.41 | I19: 8.52 | J19: 7.48 | K19: 7.7 | L19: 44.65 | M19: 7.99 | N19: 13.53 | O19: MA | P19: MA | Q19: 6.45 | R19: 6.38 | S19: 6.54 | T19: 6.75 | U19: 6.41 | V19: 6.29 | W19: 7.56 | X19: 7.33 | Y19: 6.84 | Z19: 7.43 | AA19: 7.14 | AB19: 46.64 | AC19: 15.03 | AD19: 7.09 | AE19: 7.08 | AF19: 7.1
A20: 0.041666667 | B20: 5.3 | C20: MA | D20: 7.47 | E20: 7.2 | F20: 25.35 | G20: 7.51 | H20: 7.44 | I20: 12.66 | J20: 7.47 | K20: 7.56 | L20: 76.3 | M20: 7.89 | N20: 19.9 | O20: MA | P20: MA | Q20: 6.52 | R20: 6.42 | S20: 6.55 | T20: 6.68 | U20: 6.45 | V20: 6.62 | W20: 7.59 | X20: 11.68 | Y20: 25.02 | Z20: 7.51 | AA20: 7.08 | AB20: 14.24 | AC20: 19.35 | AD20: 7.1 | AE20: 7.15 | AF20: 7.07
A21: 0.083333333 | B21: 5.19 | C21: MA | D21: 7.58 | E21: 7.25 | F21: 27.45 | G21: 7.36 | H21: 7.44 | I21: 22.86 | J21: 7.45 | K21: 7.44 | L21: 69.2 | M21: 7.83 | N21: 24.2 | O21: MA | P21: MA | Q21: 6.5 | R21: 6.35 | S21: 13.12 | T21: 6.57 | U21: 6.85 | V21: 7.89 | W21: 7.22 | X21: 11.91 | Y21: 36.55 | Z21: 9.06 | AA21: 7.75 | AB21: 7.91 | AC21: 22.57 | AD21: 7.03 | AE21: 7.2 | AF21: 6.99
A22: 0.125 | B22: 5.17 | C22: MA | D22: 9.32 | E22: 7.38 | F22: 28.57 | G22: 7.41 | H22: 7.39 | I22: 25.64 | J22: 7.48 | K22: 7.46 | L22: 40.59 | M22: 7.84 | N22: 21.52 | O22: MA | P22: MA | Q22: 6.48 | R22: 6.31 | S22: 17.25 | T22: 6.5 | U22: 13.27 | V22: 9.24 | W22: 7.06 | X22: 11.15 | Y22: 40.71 | Z22: 10.05 | AA22: 19.4 | AB22: 7.53 | AC22: 27.14 | AD22: 7.04 | AE22: 8.52 | AF22: 6.86
A23: 0.16666667 | B23: 4.96 | C23: MA | D23: 10.74 | E23: 7.43 | F23: 29.25 | G23: 7.46 | H23: 7.48 | I23: 23.19 | J23: 7.43 | K23: 7.3 | L23: 9.1 | M23: 13.41 | N23: 16.2 | O23: MA | P23: MA | Q23: 9.98 | R23: 19.18 | S23: 22.46 | T23: 6.41 | U23: 13.94 | V23: 10.44 | W23: 6.94 | X23: 6.87 | Y23: 23.01 | Z23: 10.08 | AA23: 33.19 | AB23: 8.2 | AC23: 25.09 | AD23: 6.97 | AE23: 9.35 | AF23: 6.79
A24: 0.20833333 | B24: 4.99 | C24: MA | D24: 11.63 | E24: 7.46 | F24: 30.4 | G24: 7.64 | H24: 7.52 | I24: 17.87 | J24: 7.48 | K24: 7.25 | L24: 9.2 | M24: 36.69 | N24: 12.69 | O24: MA | P24: MA | Q24: 22.41 | R24: 46.82 | S24: 23.42 | T24: 9.96 | U24: 55.54 | V24: 9.5 | W24: 7.21 | X24: 6.69 | Y24: 11.68 | Z24: 22.89 | AA24: 42.97 | AB24: 9.3 | AC24: 16.87 | AD24: 7.63 | AE24: 10.96 | AF24: 6.95
A25: 0.25 | B25: 5 | C25: MA | D25: 10.46 | E25: 41.56 | F25: 25.93 | G25: 7.67 | H25: 7.61 | I25: 23.11 | J25: 7.46 | K25: 7.19 | L25: 9.15 | M25: 40.76 | N25: 10.55 | O25: MA | P25: MA | Q25: 22.91 | R25: 85.09 | S25: 50.46 | T25: 44.05 | U25: 76.35 | V25: 10.84 | W25: 8.87 | X25: 6.7 | Y25: 7.89 | Z25: 60.04 | AA25: 35.41 | AB25: 9.78 | AC25: 9.15 | AD25: 8.13 | AE25: 9.97 | AF25: 7.02
A26: 0.29166667 | B26: 5.33 | C26: MA | D26: 9.22 | E26: 88.97 | F26: 15.79 | G26: 7.67 | H26: 7.44 | I26: 23.56 | J26: 7.42 | K26: 7.34 | L26: 9.05 | M26: 35.54 | N26: 10.14 | O26: MA | P26: MA | Q26: 19.56 | R26: 76.71 | S26: 53.68 | T26: 52.63 | U26: 80.97 | V26: 10.09 | W26: 9.26 | X26: 6.67 | Y26: 7.51 | Z26: 109.33 | AA26: 24.02 | AB26: 9.23 | AC26: 6.62 | AD26: 8.33 | AE26: 11.39 | AF26: 7.21
A27: 0.33333333 | B27: 6.1 | C27: MA | D27: 8.73 | E27: 130.13 | F27: 21.82 | G27: 7.52 | H27: 7.46 | I27: 18.93 | J27: 7.55 | K27: 7.53 | L27: 8.05 | M27: 12.34 | N27: 9.64 | O27: MA | P27: MA | Q27: 7.24 | R27: 49.73 | S27: 46.87 | T27: 50.03 | U27: 39.67 | V27: 9.81 | W27: 9.1 | X27: 6.62 | Y27: 7.36 | Z27: 126.48 | AA27: 14.89 | AB27: 7.99 | AC27: 6.48 | AD27: 7.67 | AE27: 9.91 | AF27: 7.15
A28: 0.375 | B28: 6.19 | C28: MA | D28: 8.54 | E28: 108.58 | F28: 18.18 | G28: 7.4 | H28: 7.45 | I28: 9.98 | J28: 7.62 | K28: 7.63 | L28: 8 | M28: 8.38 | N28: 8.77 | O28: MA | P28: MA | Q28: 6.73 | R28: 11.78 | S28: 16.04 | T28: 16.26 | U28: 12.78 | V28: 7.28 | W28: 7.4 | X28: 6.56 | Y28: 7.06 | Z28: 110.41 | AA28: 11.11 | AB28: 7.44 | AC28: 6.98 | AD28: 7.18 | AE28: 9.69 | AF28: 7.15
A29: 0.41666667 | B29: 6.08 | C29: MA | D29: 8.5 | E29: 62.47 | F29: 16.62 | G29: 7.28 | H29: 7.51 | I29: 7.88 | J29: 7.71 | K29: 7.58 | L29: 8.08 | M29: VF | N29: MA | O29: MA | P29: MA | Q29: 6.72 | R29: 7.49 | S29: 7.83 | T29: 7.87 | U29: 7.67 | V29: 6.45 | W29: 6.84 | X29: 6.56 | Y29: 7.01 | Z29: 67.09 | AA29: 8.93 | AB29: 7.19 | AC29: 7.29 | AD29: 7 | AE29: 7.39 | AF29: 7.15
A30: 0.45833333 | B30: 5.35 | C30: MA | D30: 7.95 | E30: 21.43 | F30: 7.42 | G30: 7.29 | H30: 7.49 | I30: 7.72 | J30: 7.59 | K30: 7.54 | L30: 8.09 | M30: VF | N30: MA | O30: MA | P30: MA | Q30: 6.73 | R30: 7.06 | S30: 7.19 | T30: 7.08 | U30: 7.08 | V30: 6.56 | W30: 6.67 | X30: 6.66 | Y30: 6.99 | Z30: 36.22 | AA30: 7.72 | AB30: 7.15 | AC30: 7.25 | AD30: 7.13 | AE30: 7.15 | AF30: 7.18
A31: 0.5 | B31: 5.4 | C31: MA | D31: 7.53 | E31: 8.99 | F31: 7.14 | G31: 7.36 | H31: 7.5 | I31: 7.64 | J31: 7.48 | K31: 7.58 | L31: CT | M31: ID | N31: MA | O31: MA | P31: VF | Q31: 6.79 | R31: 6.88 | S31: 6.81 | T31: 6.85 | U31: 6.76 | V31: 6.62 | W31: 6.67 | X31: 6.65 | Y31: 6.98 | Z31: 13.84 | AA31: 7.44 | AB31: 7.19 | AC31: 7.2 | AD31: 7.14 | AE31: 7.07 | AF31: 7.13
A32: 0.54166667 | B32: 5.41 | C32: MA | D32: 7.35 | E32: 7.77 | F32: 7.57 | G32: 7.43 | H32: 7.53 | I32: 7.55 | J32: 7.54 | K32: 7.69 | L32: ID | M32: ID | N32: MA | O32: MA | P32: MA | Q32: 6.68 | R32: 6.82 | S32: 6.72 | T32: 6.75 | U32: 6.37 | V32: 6.69 | W32: 6.69 | X32: 6.68 | Y32: 6.92 | Z32: 7.92 | AA32: 7.27 | AB32: 7.19 | AC32: 7.2 | AD32: 7.2 | AE32: 7.06 | AF32: 6.99
A33: 0.58333333 | B33: MA | C33: MA | D33: 7.28 | E33: 7.69 | F33: 7.54 | G33: 7.48 | H33: 7.54 | I33: 7.54 | J33: 7.57 | K33: 7.77 | L33: ID | M33: 8.21 | N33: MA | O33: MA | P33: MA | Q33: 6.6 | R33: 6.8 | S33: 6.75 | T33: 6.65 | U33: 6.39 | V33: 6.57 | W33: 6.69 | X33: 6.58 | Y33: 6.87 | Z33: 7.51 | AA33: 7.24 | AB33: 7.18 | AC33: 7.27 | AD33: 7.22 | AE33: 7.04 | AF33: 6.94
A34: 0.625 | B34: MA | C34: MA | D34: 7.2 | E34: 7.6 | F34: 7.58 | G34: 7.48 | H34: 7.54 | I34: 7.6 | J34: 7.64 | K34: 7.81 | L34: 7.89 | M34: 8.08 | N34: MA | O34: MA | P34: MA | Q34: 6.58 | R34: 6.81 | S34: 6.86 | T34: 6.63 | U34: 6.62 | V34: 6.55 | W34: 6.62 | X34: 6.68 | Y34: 6.86 | Z34: 7.55 | AA34: 7.25 | AB34: 7.13 | AC34: 7.3 | AD34: 7.25 | AE34: 7.08 | AF34: 6.96
A35: 0.66666667 | B35: MA | C35: MA | D35: 7.1 | E35: 7.6 | F35: 7.63 | G35: 7.47 | H35: 7.56 | I35: 7.65 | J35: 7.62 | K35: 7.81 | L35: 8 | M35: 8.07 | N35: MA | O35: MA | P35: ID | Q35: 6.52 | R35: 6.71 | S35: 6.91 | T35: 6.58 | U35: 6.85 | V35: 6.52 | W35: 6.66 | X35: 6.71 | Y35: 6.87 | Z35: 7.57 | AA35: 7.23 | AB35: 7.13 | AC35: 7.23 | AD35: 7.32 | AE35: 7.07 | AF35: 6.99
A36: 0.70833333 | B36: MA | C36: MA | D36: 6.93 | E36: 7.57 | F36: 7.53 | G36: 7.54 | H36: 7.61 | I36: 7.59 | J36: 7.67 | K36: 7.8 | L36: 8.05 | M36: 8.06 | N36: MA | O36: MA | P36: ID | Q36: 6.49 | R36: 6.63 | S36: 6.96 | T36: 6.53 | U36: 6.8 | V36: 6.6 | W36: 6.78 | X36: 6.82 | Y36: 6.96 | Z36: 7.48 | AA36: 7.2 | AB36: 7.12 | AC36: 7.17 | AD36: 7.27 | AE36: 7.11 | AF36: 7.07
A37: 0.75 | B37: MA | C37: ID | D37: 6.77 | E37: 7.51 | F37: 7.49 | G37: 7.59 | H37: 7.54 | I37: 7.59 | J37: 7.85 | K37: 7.74 | L37: 8.03 | M37: 7.94 | N37: MA | O37: MA | P37: 6.67 | Q37: 6.45 | R37: 6.56 | S37: 6.89 | T37: 6.51 | U37: 6.77 | V37: 6.74 | W37: 6.81 | X37: 6.89 | Y37: 6.95 | Z37: 7.37 | AA37: 7.17 | AB37: 7.17 | AC37: 7.15 | AD37: 7.32 | AE37: 7.08 | AF37: 7.15
A38: 0.79166667 | B38: MA | C38: ID | D38: 6.84 | E38: 7.51 | F38: 7.57 | G38: 7.67 | H38: 7.51 | I38: 7.58 | J38: 7.95 | K38: 7.74 | L38: 7.89 | M38: 7.7 | N38: MA | O38: MA | P38: 6.64 | Q38: 6.49 | R38: 6.53 | S38: 6.8 | T38: 6.53 | U38: 6.78 | V38: 6.82 | W38: 6.72 | X38: 6.93 | Y38: 6.93 | Z38: 7.29 | AA38: 7.23 | AB38: 7.08 | AC38: 7.22 | AD38: 7.17 | AE38: 7.18 | AF38: 7.25
A39: 0.83333333 | B39: MA | C39: 7.78 | D39: 7.06 | E39: 7.51 | F39: 7.62 | G39: 7.7 | H39: 7.51 | I39: 7.47 | J39: 7.93 | K39: 7.78 | L39: 7.89 | M39: 7.69 | N39: MA | O39: MA | P39: 6.46 | Q39: 6.49 | R39: 6.48 | S39: 6.66 | T39: 6.56 | U39: 6.69 | V39: 6.8 | W39: 6.65 | X39: 6.93 | Y39: 6.89 | Z39: 7.11 | AA39: 7.21 | AB39: 7.08 | AC39: 7.29 | AD39: 7.18 | AE39: 7.17 | AF39: 7.49
A40: 0.875 | B40: MA | C40: 7.68 | D40: 7.35 | E40: 7.54 | F40: 7.62 | G40: 7.63 | H40: 7.56 | I40: 7.39 | J40: 7.8 | K40: 7.91 | L40: 7.89 | M40: 7.76 | N40: MA | O40: MA | P40: 6.45 | Q40: 6.46 | R40: 6.5 | S40: 6.66 | T40: 6.65 | U40: 6.52 | V40: 6.65 | W40: 6.62 | X40: 6.87 | Y40: 6.86 | Z40: 7.12 | AA40: 7.19 | AB40: 6.98 | AC40: 7.3 | AD40: 7.12 | AE40: 7.16 | AF40: 7.59
A41: 0.91666667 | B41: MA | C41: 7.67 | D41: 7.38 | E41: 7.48 | F41: 7.56 | G41: 7.54 | H41: 7.59 | I41: 7.37 | J41: 7.83 | K41: 7.92 | L41: 7.97 | M41: 7.83 | N41: MA | O41: MA | P41: 6.41 | Q41: 6.38 | R41: 6.55 | S41: 6.68 | T41: 6.63 | U41: 6.46 | V41: 6.83 | W41: 6.6 | X41: 6.86 | Y41: 6.85 | Z41: 7.14 | AA41: 39.69 | AB41: 7.05 | AC41: 7.27 | AD41: 7.16 | AE41: 7.07 | AF41: 7.57
A42: 0.95833333 | B42: MA | C42: 7.58 | D42: 7.34 | E42: 7.48 | F42: 7.6 | G42: 7.41 | H42: 7.56 | I42: 7.46 | J42: 7.8 | K42: 15.92 | L42: 7.99 | M42: 7.68 | N42: MA | O42: MA | P42: 6.46 | Q42: 6.34 | R42: 6.57 | S42: 6.75 | T42: 6.59 | U42: 6.43 | V42: 7.23 | W42: 6.55 | X42: 6.84 | Y42: 6.91 | Z42: 7.18 | AA42: 46.17 | AB42: 12.28 | AC42: 7.13 | AD42: 7.14 | AE42: 7.05 | AF42: 7.43
A43: Promedio horario mas alto de SO₂ en 24 h | B43: =IFERROR(MAX(B19:B42),"") -> 6.19 | C43: =IFERROR(MAX(C19:C42),"") -> 7.78 | D43: =IFERROR(MAX(D19:D42),"") -> 11.63 | E43: =IFERROR(MAX(E19:E42),"") -> 130.13 | F43: =IFERROR(MAX(F19:F42),"") -> 30.4 | G43: =IFERROR(MAX(G19:G42),"") -> 7.7 | H43: =IFERROR(MAX(H19:H42),"") -> 7.61 | I43: =IFERROR(MAX(I19:I42),"") -> 25.64 | ... N43: =IFERROR(MAX(N19:N42),"") -> 24.2 | O43: MA | P43: =IFERROR(MAX(P19:P42),"") -> 6.67 | Q43: =IFERROR(MAX(Q19:Q42),"") -> 22.91 | R43: =IFERROR(MAX(R19:R42),"") -> 85.09 | S43: =IFERROR(MAX(S19:S42),"") -> 53.68 | T43: =IFERROR(MAX(T19:T42),"") -> 52.63 | U43: =IFERROR(MAX(U19:U42),"") -> 80.97 | V43: =IFERROR(MAX(V19:V42),"") -> 10.84 | W43: =IFERROR(MAX(W19:W42),"") -> 9.26 | ... AF43: =IFERROR(MAX(AF19:AF42),"") -> 7.59
A44: Estado de cuidado de SO₂ | B44: 500 µg/m³ en periodo de 3 horas móviles
A45: Nota.- Los resultados obtenidos en el periodo de diciembre se consideran datos referenciales.
A46: ID: Insuficiencia de data
A47: MA: Mantenimiento
A48: VF: Verificaciones
A49: CT: Coherencia Temporal
A55: Firmado por: | K55: Revisado por: | V55: Aprobado por:
A56: Operador de ensayo de calidad de aire | K56: Gestor de ensayo de calidad de aire | V56: Gestor QA/QC - aire

Sheet H2S_24H
E2: Tabla 3.5. Concentraciones horarias de H₂S
A6: TÍTULO DEL ESTUDIO: | E6: ='PM10 24H'!E6 -> Evaluación ambiental de seguimiento de la calidad del aire en el CEBA Jose Pardo, distrito Ilo, provincia Ilo, departamento Moquegua, en diciembre 2025
A8: ESTACIÓN DE MONITOREO: | E8: CA-ILO-03 | P8: CÓDIGO DE ACCIÓN: | U8: ='PM10 24H'!U8 -> 011-12-2025-417
A10: FECHA Y HORA DE INICIO: | E10: ='PM10 24H'!E10 -> 45992 | P10: FECHA Y HORA FINAL: | U10: ='PM10 24H'!U10 -> 31/12/2025 23:55:00
A12: DATOS DEL EQUIPO
A14: EQUIPO: | E14: Analizador sulfuro de hidrógeno | P14: CÓDIGO PATRIMONIAL | U14: 60220363-0002
A16: MARCA: | E16: ThermoScientific | L16: MODELO: | P16: 450i | W16: SERIE: | Y16: CM19490140
A18: Hora\Día | B18: 1 | C18: 2 | D18: 3 | E18: 4 | F18: 5 | G18: 6 | H18: 7 | I18: 8 | J18: 9 | K18: 10 | L18: 11 | M18: 12 | N18: 13 | O18: 14 | P18: 15 | Q18: 16 | R18: 17 | S18: 18 | T18: 19 | U18: 20 | V18: 21 | W18: 22 | X18: 23 | Y18: 24 | Z18: 25 | AA18: 26 | AB18: 27 | AC18: 28 | AD18: 29 | AE18: 30 | AF18: 31
A19: 0 | B19: 3.17 | C19: 2.89 | D19: 3.49 | E19: 3.38 | F19: 10.05 | G19: 3.73 | H19: 3.03 | I19: 3.56 | J19: 3.47 | K19: 3.56 | L19: 4.41 | M19: 4.09 | N19: 4.18 | O19: MA | P19: MA | Q19: 3.96 | R19: 4.2 | S19: 4.23 | T19: 4.53 | U19: 4.31 | V19: 4.34 | W19: 4.16 | X19: 4.56 | Y19: 3.91 | Z19: 4.45 | AA19: 4.67 | AB19: 4.59 | AC19: 7.26 | AD19: 4.13 | AE19: 4.42 | AF19: 4.93
A20: 0.041666667 | B20: 3.7 | C20: 3.32 | D20: 3.42 | E20: 3.6 | F20: 6.03 | G20: 3.81 | H20: 2.57 | I20: 4.21 | J20: 3.1 | K20: 3.6 | L20: 3.89 | M20: 4.21 | N20: 3.95 | O20: MA | P20: MA | Q20: 4.38 | R20: 3.99 | S20: 4.46 | T20: 4.75 | U20: 4.67 | V20: 4.28 | W20: 3.98 | X20: 4.59 | Y20: 4.17 | Z20: 4.11 | AA20: 4.99 | AB20: 4.59 | AC20: 6.03 | AD20: 4.71 | AE20: 4.66 | AF20: 4.67
A21: 0.083333333 | B21: 3.29 | C21: 3.36 | D21: 10.42 | E21: 4.5 | F21: 3.78 | G21: 3.46 | H21: 2.36 | I21: 4.46 | J21: 3.32 | K21: 3.85 | L21: 3.38 | M21: 3.95 | N21: 4.06 | O21: MA | P21: MA | Q21: 4.18 | R21: 3.88 | S21: 5.06 | T21: 4.38 | U21: 4.88 | V21: 4.38 | W21: 3.68 | X21: 4.68 | Y21: 4.34 | Z21: 4.98 | AA21: 6.39 | AB21: 4.82 | AC21: 6.06 | AD21: 4.66 | AE21: 4.55 | AF21: 4.73
A22: 0.125 | B22: 3.32 | C22: 3.29 | D22: 10.62 | E22: 4.8 | F22: 4.46 | G22: 3.74 | H22: 2.91 | I22: 3.84 | J22: 3.54 | K22: 3.13 | L22: 3.07 | M22: 4.13 | N22: 4.11 | O22: MA | P22: MA | Q22: 4.57 | R22: 4.28 | S22: 4.28 | T22: 4.2 | U22: 5.84 | V22: 4.13 | W22: 3.64 | X22: 4.73 | Y22: 3.91 | Z22: 4.7 | AA22: 26.47 | AB22: 4.77 | AC22: 5.42 | AD22: 4.75 | AE22: 4.38 | AF22: 4.57
A23: 0.16666667 | B23: 3.67 | C23: 3.18 | D23: 5.1 | E23: 3.74 | F23: 4.91 | G23: 4.28 | H23: 2.95 | I23: 3.85 | J23: 3.35 | K23: 3.52 | L23: 3.54 | M23: 3.86 | N23: 4.09 | O23: MA | P23: MA | Q23: 4.67 | R23: 4.82 | S23: 4.43 | T23: 4.53 | U23: 4.24 | V23: 4.2 | W23: 3.98 | X23: 4.7 | Y23: 3.92 | Z23: 4.43 | AA23: 19.35 | AB23: 4.56 | AC23: 4.7 | AD23: 4.67 | AE23: 4.57 | AF23: 4.86
A24: 0.20833333 | B24: 3.68 | C24: 3.36 | D24: 4.45 | E24: 4.57 | F24: 4.56 | G24: 3.75 | H24: 3.17 | I24: 3.5 | J24: 3.52 | K24: 3.77 | L24: 3.66 | M24: 3.82 | N24: 4.27 | O24: MA | P24: MA | Q24: 7.02 | R24: 4.39 | S24: 4.6 | T24: 5.53 | U24: 4.84 | V24: 4 | W24: 3.86 | X24: 4.36 | Y24: 4.71 | Z24: 4.8 | AA24: 13.05 | AB24: 5.1 | AC24: 4.57 | AD24: 5.09 | AE24: 4.7 | AF24: 4.56
A25: 0.25 | B25: 3.5 | C25: 3.29 | D25: 4.95 | E25: 8.35 | F25: 3.53 | G25: 3.1 | H25: 3.2 | I25: 3.41 | J25: 3.53 | K25: 4.07 | L25: 4.5 | M25: 3.92 | N25: 3.92 | O25: MA | P25: MA | Q25: 4.14 | R25: 4.09 | S25: 4.02 | T25: 4.68 | U25: 4.13 | V25: 3.95 | W25: 3.88 | X25: 4.35 | Y25: 4.63 | Z25: 4.74 | AA25: 6.59 | AB25: 4.77 | AC25: 4.43 | AD25: 4.86 | AE25: 4.45 | AF25: 4.88
A26: 0.29166667 | B26: 3.21 | C26: 3.38 | D26: 3.86 | E26: 5.2 | F26: 3.68 | G26: 2.78 | H26: 3.03 | I26: 3.64 | J26: 3.42 | K26: 3.21 | L26: 4.59 | M26: 3.61 | N26: 3.54 | O26: MA | P26: MA | Q26: 4.14 | R26: 3.85 | S26: 4.04 | T26: 4.42 | U26: 3.22 | V26: 3.84 | W26: 3.77 | X26: 4.56 | Y26: 4.25 | Z26: 5.71 | AA26: 5.63 | AB26: 4.71 | AC26: 5.16 | AD26: 4.86 | AE26: 4.53 | AF26: 4.55
A27: 0.33333333 | B27: 3.11 | C27: 2.99 | D27: 4.59 | E27: 4.11 | F27: 3.39 | G27: 2.81 | H27: 2.97 | I27: 3.6 | J27: 3.22 | K27: 3.16 | L27: 4.34 | M27: 4.11 | N27: 3.73 | O27: MA | P27: MA | Q27: 4.1 | R27: 3.57 | S27: 4.06 | T27: 3.96 | U27: 3.25 | V27: 4 | W27: 3.74 | X27: 4.63 | Y27: 4.32 | Z27: 4.88 | AA27: 5.52 | AB27: 4.8 | AC27: 5.21 | AD27: 4.41 | AE27: 4.3 | AF27: 5.75
A28: 0.375 | B28: 2.74 | C28: 3.14 | D28: 4.03 | E28: 3.63 | F28: 3.02 | G28: 3.02 | H28: 3 | I28: 3.43 | J28: 2.91 | K28: 3.54 | L28: 4.03 | M28: 3.79 | N28: 3.56 | O28: MA | P28: MA | Q28: 3.92 | R28: 3.6 | S28: 4.02 | T28: 3.92 | U28: 3.56 | V28: 4.18 | W28: 4.36 | X28: 4.21 | Y28: 4.5 | Z28: 4.67 | AA28: 4.92 | AB28: 4.6 | AC28: 4.89 | AD28: 4.77 | AE28: 4.52 | AF28: 4.84
A29: 0.41666667 | B29: 3.1 | C29: 3.1 | D29: 3.61 | E29: 3.14 | F29: 3.27 | G29: 3.47 | H29: 3.03 | I29: 3.49 | J29: 3.2 | K29: 3.31 | L29: 4.11 | M29: 4.24 | N29: MA | O29: MA | P29: MA | Q29: 4.25 | R29: 3.34 | S29: 4.03 | T29: 4.27 | U29: 3.59 | V29: 4.16 | W29: 4.35 | X29: 4.42 | Y29: 4.42 | Z29: 4.82 | AA29: 5.06 | AB29: 4.53 | AC29: 4.25 | AD29: 4.5 | AE29: 4.35 | AF29: 4.3
A30: 0.45833333 | B30: 3.21 | C30: 3.16 | D30: 3.03 | E30: 3.29 | F30: 3.54 | G30: 3.45 | H30: 3.2 | I30: 2.89 | J30: 3.13 | K30: 3.85 | L30: 4.13 | M30: VF | N30: MA | O30: MA | P30: MA | Q30: 4.03 | R30: 3.52 | S30: 4.39 | T30: 4.28 | U30: 3.42 | V30: 3.96 | W30: 3.92 | X30: 4.35 | Y30: 4.38 | Z30: 4.7 | AA30: 4.99 | AB30: 4.78 | AC30: 5.67 | AD30: 4.32 | AE30: 4.82 | AF30: 4.52
A31: 0.5 | B31: 3.27 | C31: 3.24 | D31: 3.31 | E31: 3.14 | F31: 3.35 | G31: 3.45 | H31: 3.02 | I31: 3.49 | J31: 3.22 | K31: 4.06 | L31: 3.98 | M31: 4.11 | N31: MA | O31: MA | P31: MA | Q31: 4.03 | R31: 3.74 | S31: 4.3 | T31: 4.2 | U31: 3.81 | V31: 3.88 | W31: 3.88 | X31: 4.46 | Y31: 4.2 | Z31: 4.81 | AA31: 5.02 | AB31: 4.81 | AC31: 5.74 | AD31: 4.64 | AE31: 4.38 | AF31: 4.23
A32: 0.54166667 | B32: 2.96 | C32: 3.5 | D32: 3.29 | E32: 3.66 | F32: 3.6 | G32: 3.56 | H32: 3.24 | I32: 3.52 | J32: 3.57 | K32: 3.88 | L32: 4.2 | M32: 4.13 | N32: MA | O32: MA | P32: MA | Q32: 3.42 | R32: 3.14 | S32: 4.14 | T32: 3.67 | U32: 4.24 | V32: 4.25 | W32: 3.91 | X32: 4.46 | Y32: 4.52 | Z32: 5.39 | AA32: 4.39 | AB32: 4.78 | AC32: 5.66 | AD32: 4.57 | AE32: 4.13 | AF32: 4.5
A33: 0.58333333 | B33: 2.97 | C33: 3.78 | D33: 3.31 | E33: 3.42 | F33: 3.59 | G33: 3.42 | H33: 3.18 | I33: 3.49 | J33: 3.77 | K33: 3.88 | L33: 3.99 | M33: 3.96 | N33: MA | O33: MA | P33: MA | Q33: 3.91 | R33: 3.74 | S33: 4.27 | T33: 4.17 | U33: 4.39 | V33: 4.45 | W33: 4.21 | X33: 4.31 | Y33: 4.38 | Z33: 5.09 | AA33: 4.35 | AB33: 4.84 | AC33: 5.06 | AD33: 4.49 | AE33: 4.42 | AF33: 4.73
A34: 0.625 | B34: 3.03 | C34: 3.45 | D34: 3.34 | E34: 3.89 | F34: 3.85 | G34: 3.64 | H34: 3.21 | I34: 3.45 | J34: 4.21 | K34: 3.99 | L34: 4.16 | M34: 4.06 | N34: MA | O34: MA | P34: MA | Q34: 3.79 | R34: 3.73 | S34: 4.17 | T34: 4.17 | U34: 4.35 | V34: 4.07 | W34: 4.07 | X34: 4.3 | Y34: 4.46 | Z34: 5.24 | AA34: 4.39 | AB34: 4.82 | AC34: 4.34 | AD34: 4.21 | AE34: 4.75 | AF34: 4.61
A35: 0.66666667 | B35: 3 | C35: 3.38 | D35: 3.54 | E35: 3.38 | F35: 3.79 | G35: 3.53 | H35: 3 | I35: 3.47 | J35: 4.18 | K35: 3.85 | L35: 4.2 | M35: 4.18 | N35: MA | O35: MA | P35: 5.02 | Q35: 3.82 | R35: 3.86 | S35: 4.04 | T35: 4.46 | U35: 3.98 | V35: 4.11 | W35: 4.14 | X35: 3.66 | Y35: 3.85 | Z35: 5.05 | AA35: 4.35 | AB35: 4.39 | AC35: 5.73 | AD35: 4.64 | AE35: 4.64 | AF35: 4.46
A36: 0.70833333 | B36: 3.1 | C36: 3.56 | D36: 3.6 | E36: 3.73 | F36: 3.95 | G36: 3.25 | H36: 3.32 | I36: 3.42 | J36: 3.68 | K36: 2.93 | L36: 4.28 | M36: 4.13 | N36: MA | O36: MA | P36: 4.89 | Q36: 3.57 | R36: 4.25 | S36: 4.45 | T36: 4.39 | U36: 3.92 | V36: 4.6 | W36: 4.2 | X36: 4.02 | Y36: 4.2 | Z36: 4.77 | AA36: 4.77 | AB36: 4.45 | AC36: 4.88 | AD36: 4.67 | AE36: 4.56 | AF36: 5.56
A37: 0.75 | B37: 3.14 | C37: 3.7 | D37: 3.24 | E37: 3.59 | F37: 3.22 | G37: 3.11 | H37: 3.45 | I37: 3.22 | J37: 4.23 | K37: 3.36 | L37: 4.2 | M37: 4.04 | N37: MA | O37: MA | P37: 4.64 | Q37: 3.71 | R37: 3.73 | S37: 4.81 | T37: 4.28 | U37: 4.1 | V37: 4.45 | W37: 4.23 | X37: 4.5 | Y37: 4.18 | Z37: 4.53 | AA37: 4.81 | AB37: 5.09 | AC37: 4.95 | AD37: 4.7 | AE37: 4.61 | AF37: 5.21
A38: 0.79166667 | B38: 3.2 | C38: 4.03 | D38: 3.75 | E38: 3.24 | F38: 3.45 | G38: 3.64 | H38: 3.56 | I38: 3.27 | J38: 4.36 | K38: 3.63 | L38: 4.16 | M38: 3.81 | N38: MA | O38: MA | P38: 4.42 | Q38: 3.85 | R38: 4.02 | S38: 4.77 | T38: 4.39 | U38: 4.21 | V38: 4.09 | W38: 4.64 | X38: 4.09 | Y38: 4.27 | Z38: 4.92 | AA38: 4.64 | AB38: 5.91 | AC38: 5.18 | AD38: 5.12 | AE38: 4.99 | AF38: 4.27
A39: 0.83333333 | B39: 2.96 | C39: 3.98 | D39: 3.18 | E39: 3.84 | F39: 3.52 | G39: 4.03 | H39: 3.16 | I39: 3.16 | J39: 3.78 | K39: 3.85 | L39: 4.27 | M39: 3.67 | N39: MA | O39: MA | P39: 4.25 | Q39: 3.52 | R39: 3.85 | S39: 4.75 | T39: 4.43 | U39: 4.09 | V39: 3.95 | W39: 4.46 | X39: 4.32 | Y39: 4.5 | Z39: 4.31 | AA39: 4.27 | AB39: 5.59 | AC39: 4.74 | AD39: 4.68 | AE39: 4.74 | AF39: 4.73
A40: 0.875 | B40: 3.03 | C40: 3.68 | D40: 3.61 | E40: 3.45 | F40: 3.75 | G40: 3.7 | H40: 3.6 | I40: 3.79 | J40: 3.29 | K40: 3.75 | L40: 4.27 | M40: 3.91 | N40: MA | O40: MA | P40: 4.25 | Q40: 3.57 | R40: 4.25 | S40: 4.38 | T40: 4.17 | U40: 4.28 | V40: 4.14 | W40: 4.38 | X40: 4.28 | Y40: 4.49 | Z40: 4.03 | AA40: 4.59 | AB40: 4.71 | AC40: 4.88 | AD40: 4.55 | AE40: 4.78 | AF40: 4.78
A41: 0.91666667 | B41: 3.29 | C41: 3.84 | D41: 3.52 | E41: 3.34 | F41: 3.81 | G41: 3.54 | H41: 2.56 | I41: 3.36 | J41: 3.42 | K41: 3.74 | L41: 4.06 | M41: 4.03 | N41: MA | O41: MA | P41: 4.03 | Q41: 4.16 | R41: 4.23 | S41: 4.66 | T41: 4.27 | U41: 4.14 | V41: 4.24 | W41: 4.06 | X41: 4.02 | Y41: 4.35 | Z41: 4.67 | AA41: 10.24 | AB41: 4.73 | AC41: 4.92 | AD41: 4.84 | AE41: 4.81 | AF41: 4.66
A42: 0.95833333 | B42: 3.31 | C42: 3.78 | D42: 3.47 | E42: 3.67 | F42: 3.98 | G42: 3.18 | H42: 3.7 | I42: 2.99 | J42: 3.77 | K42: 4.25 | L42: 4.23 | M42: 4.02 | N42: MA | O42: MA | P42: 3.96 | Q42: 4.34 | R42: 3.45 | S42: 4.81 | T42: 4.52 | U42: 4.41 | V42: 4.04 | W42: 4.7 | X42: 3.81 | Y42: 4.45 | Z42: 4.42 | AA42: 6.21 | AB42: 6.81 | AC42: 4.66 | AD42: 4.66 | AE42: 5.05 | AF42: 4.93
A43: Promedio de H₂S en 24 h | B43: 3.2 | C43: 3.4 | D43: 4.3 | E43: 3.9 | F43: 4.1 | G43: 3.5 | H43: 3.1 | I43: 3.5 | J43: 3.5 | K43: 3.7 | L43: 4.1 | M43: 4 | N43: ID | O43: MA | P43: ID | Q43: 4.1 | R43: 3.9 | S43: 4.4 | T43: 4.4 | U43: 4.2 | V43: 4.2 | W43: 4.1 | X43: 4.3 | Y43: 4.3 | Z43: 4.8 | AA43: 7.1 | AB43: 4.9 | AC43: 5.2 | AD43: 4.6 | AE43: 4.6 | AF43: 4.7
A44: ECA aire de H₂S | B44: 150 µg/m³ en periodo de 24 horas
A45: Nota.- Los resultados obtenidos en el periodo de diciembre se consideran datos referenciales.
A46: MA: Mantenimiento
A47: VF: Verificaciones
A48: ID: Insuficiencia de data
A55: Firmado por: | K55: Revisado por: | V55: Aprobado por:
A56: Operador de ensayo de calidad de aire | K56: Gestor de ensayo de calidad de aire | V56: Gestor QA/QC - aire

Sheet NO2 1H
E2: Tabla 3.6. Concentraciones horarias de NO₂
A6: TÍTULO DEL ESTUDIO: | E6: ='PM10 24H'!E6 -> Evaluación ambiental de seguimiento de la calidad del aire en el CEBA Jose Pardo, distrito Ilo, provincia Ilo, departamento Moquegua, en diciembre 2025
A8: ESTACIÓN DE MONITOREO: | E8: CA-ILO-03 | P8: CÓDIGO DE ACCIÓN: | U8: ='PM10 24H'!U8 -> 011-12-2025-417
A10: FECHA Y HORA DE INICIO: | E10: ='PM10 24H'!E10 -> 45992 | P10: FECHA Y HORA FINAL: | U10: ='PM10 24H'!U10 -> 31/12/2025 23:55:00
A12: DATOS DEL EQUIPO
A14: EQUIPO: | E14: Analizador dióxido de nitrógeno | P14: CÓDIGO PATRIMONIAL | U14: 67220261-0026
A16: MARCA: | E16: THERMO SCIENTIFIC | L16: MODELO: | P16: 42i | W16: SERIE: | Y16: 1192914961
A18: Hora\Día | B18: 1 | C18: 2 | D18: 3 | E18: 4 | F18: 5 | G18: 6 | H18: 7 | I18: 8 | J18: 9 | K18: 10 | L18: 11 | M18: 12 | N18: 13 | O18: 14 | P18: 15 | Q18: 16 | R18: 17 | S18: 18 | T18: 19 | U18: 20 | V18: 21 | W18: 22 | X18: 23 | Y18: 24 | Z18: 25 | AA18: 26 | AB18: 27 | AC18: 28 | AD18: 29 | AE18: 30 | AF18: 31
A19: 0 | B19: 5.3 | C19: 4.83 | D19: 5.45 | E19: 6.26 | F19: 13.35 | G19: 4.96 | H19: 4.61 | I19: 6.03 | J19: 4.23 | K19: 4.62 | L19: 12.67 | M19: 5.15 | N19: 8.69 | O19: MA | P19: MA | Q19: 4.7 | R19: 5.88 | S19: 5.41 | T19: 5.87 | U19: 6.94 | V19: 5.26 | W19: 4.85 | X19: 4.4 | Y19: 7.05 | Z19: 10.23 | AA19: 4.94 | AB19: 4.89 | AC19: 11.81 | AD19: 4.72 | AE19: 5.15 | AF19: 4.66
A20: 0.041666667 | B20: 5.4 | C20: 4.51 | D20: 4.59 | E20: 5.34 | F20: 12.2 | G20: 4.78 | H20: 4.38 | I20: 7.52 | J20: 3.78 | K20: 4 | L20: 10.38 | M20: 4.17 | N20: 8.05 | O20: MA | P20: MA | Q20: 5.25 | R20: 5.32 | S20: 4.91 | T20: 4.59 | U20: 6.66 | V20: 7.26 | W20: 4.34 | X20: 4.62 | Y20: 9.02 | Z20: 8.5 | AA20: 4.87 | AB20: 4.15 | AC20: 13.84 | AD20: 5.3 | AE20: 5.26 | AF20: 4.78
A21: 0.083333333 | B21: 4.66 | C21: 5.17 | D21: 9.89 | E21: 5.13 | F21: 7.18 | G21: 5.13 | H21: 4.25 | I21: 8.23 | J21: 3.65 | K21: 3.95 | L21: 5.77 | M21: 4.85 | N21: 7.09 | O21: MA | P21: MA | Q21: 4.72 | R21: 5 | S21: 10.62 | T21: 4.7 | U21: 7.82 | V21: 6.6 | W21: 3.67 | X21: 3.78 | Y21: 8.69 | Z21: 13.86 | AA21: 6.54 | AB21: 4.25 | AC21: 10.17 | AD21: 5.21 | AE21: 3.97 | AF21: 4.08
A22: 0.125 | B22: 4.36 | C22: 4.06 | D22: 12.03 | E22: 5.28 | F22: 11.83 | G22: 6.81 | H22: 4.29 | I22: 8.8 | J22: 3.68 | K22: 3.89 | L22: 6.17 | M22: 5.3 | N22: 8.5 | O22: MA | P22: MA | Q22: 5.32 | R22: 5.92 | S22: 9.4 | T22: 4.15 | U22: 10.55 | V22: 5.23 | W22: 3.7 | X22: 3.61 | Y22: 5.81 | Z22: 9.27 | AA22: 10.9 | AB22: 4.17 | AC22: 9.44 | AD22: 4.61 | AE22: 4.27 | AF22: 4.55
A23: 0.16666667 | B23: 5.09 | C23: 4.47 | D23: 15.57 | E23: 4.94 | F23: 11.92 | G23: 11.24 | H23: 4.55 | I23: 10.19 | J23: 4.12 | K23: 4.29 | L23: 6.13 | M23: 8.22 | N23: 8.33 | O23: MA | P23: MA | Q23: 7.76 | R23: 11.58 | S23: 13.59 | T23: 4.08 | U23: 6.19 | V23: 5.43 | W23: 4.38 | X23: 4.76 | Y23: 5.7 | Z23: 8.42 | AA23: 7.41 | AB23: 5.02 | AC23: 5.19 | AD23: 5.11 | AE23: 4.31 | AF23: 4.61
A24: 0.20833333 | B24: 8.01 | C24: 5.7 | D24: 14.66 | E24: 9.21 | F24: 19.23 | G24: 16.84 | H24: 5.43 | I24: 8.59 | J24: 5.6 | K24: 6.24 | L24: 8.69 | M24: 13.39 | N24: 11.58 | O24: MA | P24: MA | Q24: 10.45 | R24: 15.4 | S24: 14.29 | T24: 9.93 | U24: 16.88 | V24: 5.34 | W24: 7.69 | X24: 5.51 | Y24: 9.59 | Z24: 11.66 | AA24: 9.78 | AB24: 8.35 | AC24: 5.56 | AD24: 7.8 | AE24: 5.32 | AF24: 6.15
A25: 0.25 | B25: 7.09 | C25: 5.41 | D25: 14.1 | E25: 17.13 | F25: 14.49 | G25: 8.85 | H25: 5.64 | I25: 7.86 | J25: 5.38 | K25: 7.44 | L25: 6.2 | M25: 12.3 | N25: 9.81 | O25: MA | P25: MA | Q25: 6.41 | R25: 11.26 | S25: 10.9 | T25: 10.4 | U25: 13.78 | V25: 5.87 | W25: 6.11 | X25: 6.64 | Y25: 12.41 | Z25: 8.2 | AA25: 11.02 | AB25: 13.4 | AC25: 6.64 | AD25: 7.44 | AE25: 5.96 | AF25: 6.92
A26: 0.29166667 | B26: 6.3 | C26: 6.82 | D26: 16.36 | E26: 15.1 | F26: 7.82 | G26: 6.37 | H26: 5.23 | I26: 5.58 | J26: 4.98 | K26: 5.77 | L26: 6.3 | M26: 6.35 | N26: 6.96 | O26: MA | P26: MA | Q26: 6.75 | R26: 6.71 | S26: 6.47 | T26: 6.5 | U26: 6.2 | V26: 4.36 | W26: 5.56 | X26: 6.97 | Y26: 5.28 | Z26: 7.5 | AA26: 13.27 | AB26: 9.4 | AC26: 4.64 | AD26: 5.9 | AE26: 5.38 | AF26: 5.21
A27: 0.33333333 | B27: 6.24 | C27: 6.22 | D27: 19.59 | E27: 11.79 | F27: 9.57 | G27: 6.19 | H27: 4.76 | I27: 4.89 | J27: 4.94 | K27: 5.34 | L27: 5.98 | M27: 5.85 | N27: 5.64 | O27: MA | P27: MA | Q27: 5.23 | R27: 5.06 | S27: 5.53 | T27: 5.56 | U27: 5.25 | V27: 4.31 | W27: 5.21 | X27: 4.49 | Y27: 5.11 | Z27: 7.16 | AA27: 7.76 | AB27: 5.09 | AC27: 4.25 | AD27: 4.96 | AE27: 4.78 | AF27: 5.04
A28: 0.375 | B28: 4.83 | C28: 6.34 | D28: 10.13 | E28: 14.1 | F28: 5.15 | G28: 6.03 | H28: 4.53 | I28: 5.21 | J28: 4.79 | K28: 4.96 | L28: 5.49 | M28: 6.52 | N28: 6.73 | O28: MA | P28: MA | Q28: 4.96 | R28: 4.85 | S28: 5.21 | T28: 4.91 | U28: 4.76 | V28: 4.23 | W28: 4.79 | X28: 4.42 | Y28: 4.78 | Z28: 9.14 | AA28: 6.17 | AB28: 4.87 | AC28: 4.21 | AD28: 4.64 | AE28: 4.44 | AF28: 4.87
A29: 0.41666667 | B29: 4.7 | C29: 7.31 | D29: 8.91 | E29: 5.53 | F29: 4.94 | G29: 5.15 | H29: 4.7 | I29: 4.78 | J29: 4.78 | K29: 4.91 | L29: 5.34 | M29: 5.28 | N29: MA | O29: MA | P29: MA | Q29: 8.52 | R29: 4.93 | S29: 4.81 | T29: 4.55 | U29: 4.81 | V29: 4.02 | W29: 4.36 | X29: 4.42 | Y29: 4.47 | Z29: 7.37 | AA29: 5.53 | AB29: 5.06 | AC29: 4.06 | AD29: 4.4 | AE29: 4.4 | AF29: 4.83
A30: 0.45833333 | B30: 4.72 | C30: 9.55 | D30: 5.25 | E30: 5.81 | F30: 5.13 | G30: 5.13 | H30: 4.59 | I30: 4.62 | J30: 4.7 | K30: 4.91 | L30: 4.96 | M30: 5.88 | N30: MA | O30: MA | P30: MA | Q30: 5.68 | R30: 4.46 | S30: 4.96 | T30: 4.38 | U30: 4.66 | V30: 4.1 | W30: 4.32 | X30: 4.47 | Y30: 4.51 | Z30: 4.74 | AA30: 5.02 | AB30: 5 | AC30: 4.17 | AD30: 4.27 | AE30: 4.68 | AF30: 4.55
A31: 0.5 | B31: 4.7 | C31: 5 | D31: 5.08 | E31: 5.66 | F31: 4.98 | G31: 5.08 | H31: 4.64 | I31: 4.83 | J31: 4.68 | K31: 5.25 | L31: 4.91 | M31: VF | N31: MA | O31: MA | P31: MA | Q31: 4.79 | R31: 4.61 | S31: 4.83 | T31: 4.62 | U31: 4.49 | V31: 4.1 | W31: 4.19 | X31: 4.36 | Y31: 4.81 | Z31: 4.29 | AA31: 4.72 | AB31: 4.55 | AC31: 4.14 | AD31: 4.34 | AE31: 4.51 | AF31: 4.55
A32: 0.54166667 | B32: 5 | C32: 5.08 | D32: 5.23 | E32: 4.93 | F32: 4.93 | G32: 4.83 | H32: 4.55 | I32: 4.55 | J32: 4.61 | K32: 4.89 | L32: 4.96 | M32: 5.08 | N32: MA | O32: MA | P32: VF | Q32: 4.64 | R32: 4.46 | S32: 4.27 | T32: 4.44 | U32: 4.34 | V32: 3.95 | W32: 4.14 | X32: 4.32 | Y32: 4.7 | Z32: 3.95 | AA32: 4.47 | AB32: 4.61 | AC32: 4.02 | AD32: 4.14 | AE32: 4.4 | AF32: 4.47
A33: 0.58333333 | B33: 4.62 | C33: 5.06 | D33: 5.19 | E33: 4.87 | F33: 4.7 | G33: 4.59 | H33: 4.29 | I33: 4.51 | J33: 4.57 | K33: 4.76 | L33: 4.83 | M33: 4.98 | N33: MA | O33: MA | P33: MA | Q33: 4.53 | R33: 4.31 | S33: 4.27 | T33: 4.61 | U33: 4.38 | V33: 3.82 | W33: 4.34 | X33: 4.1 | Y33: 4.57 | Z33: 4.06 | AA33: 5.11 | AB33: 4.25 | AC33: 4 | AD33: 4.32 | AE33: 4.27 | AF33: 4.42
A34: 0.625 | B34: 4.62 | C34: 5.26 | D34: 5.15 | E34: 5.28 | F34: 5.06 | G34: 4.51 | H34: 4.27 | I34: 4.34 | J34: 4.29 | K34: 4.85 | L34: 4.91 | M34: 5.21 | N34: MA | O34: MA | P34: MA | Q34: 4.7 | R34: 4.47 | S34: 4.57 | T34: 4.59 | U34: 4.42 | V34: 3.85 | W34: 4.51 | X34: 4.42 | Y34: 4.55 | Z34: 3.89 | AA34: 5.85 | AB34: 4.51 | AC34: 3.93 | AD34: 4.19 | AE34: 4.34 | AF34: 4.51
A35: 0.66666667 | B35: 4.81 | C35: 5.77 | D35: 5.64 | E35: 5.3 | F35: 4.7 | G35: 4.74 | H35: 4.4 | I35: 4.46 | J35: 4.51 | K35: 5.19 | L35: 5.36 | M35: 5.51 | N35: MA | O35: MA | P35: 4.7 | Q35: 4.83 | R35: 5.26 | S35: 5.17 | T35: 5 | U35: 4.38 | V35: 3.95 | W35: 4.64 | X35: 4.59 | Y35: 4.94 | Z35: 4.32 | AA35: 6.41 | AB35: 4.76 | AC35: 4.02 | AD35: 4.85 | AE35: 4.94 | AF35: 4.7
A36: 0.70833333 | B36: 5.26 | C36: VF | D36: 6.17 | E36: 6.32 | F36: 5.64 | G36: 5.21 | H36: 4.36 | I36: 4.81 | J36: 4.83 | K36: 5.32 | L36: 6.45 | M36: 6.3 | N36: MA | O36: MA | P36: 5.49 | Q36: 5.64 | R36: 5.32 | S36: 5.62 | T36: 5.43 | U36: 4.85 | V36: 4.27 | W36: 4.66 | X36: 5.19 | Y36: 5.11 | Z36: 4.47 | AA36: 7.13 | AB36: 5.09 | AC36: 4.25 | AD36: 4.93 | AE36: 5.21 | AF36: 5.41
A37: 0.75 | B37: 5.79 | C37: 18.31 | D37: 7.52 | E37: 6.34 | F37: 6.02 | G37: 5.88 | H37: 4.66 | I37: 5.45 | J37: 5.45 | K37: 5.81 | L37: 7.56 | M37: 7.03 | N37: MA | O37: MA | P37: 6.52 | Q37: 6.19 | R37: 6.5 | S37: 6.17 | T37: 6.49 | U37: 5.53 | V37: 4.91 | W37: 5.02 | X37: 5.92 | Y37: 6 | Z37: 4.7 | AA37: 6.94 | AB37: 5.85 | AC37: 5.04 | AD37: 5.21 | AE37: 6.03 | AF37: 6.52
A38: 0.79166667 | B38: 6.58 | C38: 15.72 | D38: 7.75 | E38: 8.4 | F38: 6.39 | G38: 6.22 | H38: 4.78 | I38: 5.58 | J38: 5.73 | K38: 6.84 | L38: 6.99 | M38: 7.39 | N38: MA | O38: MA | P38: 7.09 | Q38: 6.99 | R38: 7.6 | S38: 6.69 | T38: 6.81 | U38: 6.26 | V38: 4.94 | W38: 5.7 | X38: 6.86 | Y38: 7.65 | Z38: 6.26 | AA38: 6.58 | AB38: 5.21 | AC38: 6.43 | AD38: 5.92 | AE38: 6.6 | AF38: 6.35
A39: 0.83333333 | B39: 5.98 | C39: 20.02 | D39: 6.5 | E39: 8.22 | F39: 6.32 | G39: 6.94 | H39: 5.26 | I39: 5.47 | J39: 5.87 | K39: 7.69 | L39: 7.88 | M39: 9.79 | N39: MA | O39: MA | P39: 6.96 | Q39: 8.5 | R39: 9.4 | S39: 7.26 | T39: 6.39 | U39: 6.19 | V39: 4.83 | W39: 6.13 | X39: 6.17 | Y39: 7.63 | Z39: 5.51 | AA39: 6.22 | AB39: 5.34 | AC39: 6.45 | AD39: 5.55 | AE39: 6.24 | AF39: 7.71
A40: 0.875 | B40: 6.15 | C40: 6.58 | D40: 6.88 | E40: 9.59 | F40: 6.41 | G40: 5.62 | H40: 5.64 | I40: 5.15 | J40: 5.06 | K40: 7.82 | L40: 6.92 | M40: 6.6 | N40: MA | O40: MA | P40: 6.75 | Q40: 6.81 | R40: 7.14 | S40: 7.26 | T40: 7.91 | U40: 6.22 | V40: 5.72 | W40: 5.68 | X40: 6.13 | Y40: 8.57 | Z40: 5.55 | AA40: 6.34 | AB40: 6.24 | AC40: 5.83 | AD40: 5.45 | AE40: 6.49 | AF40: 7.2
A41: 0.91666667 | B41: 5.53 | C41: 5.56 | D41: 6.2 | E41: 8.16 | F41: 5.85 | G41: 4.96 | H41: 5.56 | I41: 5.94 | J41: 5.49 | K41: 6.84 | L41: 6.77 | M41: 5.92 | N41: MA | O41: MA | P41: 6.13 | Q41: 6.96 | R41: 6.2 | S41: 6.17 | T41: 6.24 | U41: 6.35 | V41: 6.07 | W41: 5.11 | X41: 6.99 | Y41: 9.63 | Z41: 5.13 | AA41: 14.01 | AB41: 6.15 | AC41: 5.08 | AD41: 5.88 | AE41: 6.45 | AF41: 6.75
A42: 0.95833333 | B42: 4.51 | C42: 5.06 | D42: 5.77 | E42: 9.16 | F42: 5.13 | G42: 5.06 | H42: 6.56 | I42: 4.91 | J42: 4.94 | K42: 9.96 | L42: 5.47 | M42: 6.84 | N42: MA | O42: MA | P42: 6.22 | Q42: 6.39 | R42: 5.15 | S42: 5.41 | T42: 6.81 | U42: 5.66 | V42: 5.92 | W42: 4.93 | X42: 7.2 | Y42: 8.91 | Z42: 4.59 | AA42: 10 | AB42: 12.05 | AC42: 4.79 | AD42: 5.3 | AE42: 5.87 | AF42: 7.33
A43: Promedio horario mas alto de NO₂ en 24 h | B43: =IFERROR(MAX(B19:B42),"") -> 8.01 | C43: =IFERROR(MAX(C19:C42),"") -> 20.02 | D43: =IFERROR(MAX(D19:D42),"") -> 19.59 | E43: =IFERROR(MAX(E19:E42),"") -> 17.13 | F43: =IFERROR(MAX(F19:F42),"") -> 19.23 | G43: =IFERROR(MAX(G19:G42),"") -> 16.84 | H43: =IFERROR(MAX(H19:H42),"") -> 6.56 | I43: =IFERROR(MAX(I19:I42),"") -> 10.19 | ... N43: =IFERROR(MAX(N19:N42),"") -> 11.58 | O43: MA | P43: =IFERROR(MAX(P19:P42),"") -> 7.09 | Q43: =IFERROR(MAX(Q19:Q42),"") -> 10.45 | R43: =IFERROR(MAX(R19:R42),"") -> 15.4 | S43: =IFERROR(MAX(S19:S42),"") -> 14.29 | T43: =IFERROR(MAX(T19:T42),"") -> 10.4 | U43: =IFERROR(MAX(U19:U42),"") -> 16.88 | V43: =IFERROR(MAX(V19:V42),"") -> 7.26 | W43: =IFERROR(MAX(W19:W42),"") -> 7.69 | ... AF43: =IFERROR(MAX(AF19:AF42),"") -> 7.71
A44: ECA aire de NO₂ | B44: 200 µg/m³ en periodo de 1 hora
A45: Nota.- Los resultados obtenidos en el periodo de diciembre se consideran datos referenciales.
A46: VF: Verificaciones
A47: MA: Mantenimiento Preventivo
A55: Firmado por: | K55: Revisado por: | V55: Aprobado por:
A56: Operador de ensayo de calidad de aire | K56: Gestor de ensayo de calidad de aire | V56: Gestor QA/QC - aire

Sheet CO 1H
E2: Tabla 3.7. Concentraciones horarias de CO
A6: TÍTULO DEL ESTUDIO: | E6: ='PM10 24H'!E6 -> Evaluación ambiental de seguimiento de la calidad del aire en el CEBA Jose Pardo, distrito Ilo, provincia Ilo, departamento Moquegua, en diciembre 2025
A8: ESTACIÓN DE MONITOREO: | E8: CA-ILO-03 | P8: CÓDIGO DE ACCIÓN: | U8: ='PM10 24H'!U8 -> 011-12-2025-417
A10: FECHA Y HORA DE INICIO: | E10: ='PM10 24H'!E10 -> 45992 | P10: FECHA Y HORA FINAL: | U10: ='PM10 24H'!U10 -> 31/12/2025 23:55:00
A12: DATOS DEL EQUIPO
A14: EQUIPO: | E14: Analizador monóxido de carbono | P14: CÓDIGO PATRIMONIAL | U14: 60220359-0002
A16: MARCA: | E16: THERMO SCIENTIFIC | L16: MODELO: | P16: 48i | W16: SERIE: | Y16: 1193085162
A18: Hora\Día | B18: 1 | C18: 2 | D18: 3 | E18: 4 | F18: 5 | G18: 6 | H18: 7 | I18: 8 | J18: 9 | K18: 10 | L18: 11 | M18: 12 | N18: 13 | O18: 14 | P18: 15 | Q18: 16 | R18: 17 | S18: 18 | T18: 19 | U18: 20 | V18: 21 | W18: 22 | X18: 23 | Y18: 24 | Z18: 25 | AA18: 26 | AB18: 27 | AC18: 28 | AD18: 29 | AE18: 30 | AF18: 31
A19: 0 | B19: 387.83 | C19: 403.64 | D19: 372.5 | E19: 408.94 | F19: 462.29 | G19: 416.13 | H19: 411.48 | I19: 450.19 | J19: 421.42 | K19: 425.68 | L19: 484.64 | M19: 454.47 | N19: 375.1 | O19: MA | P19: MA | Q19: 297.04 | R19: 331.03 | S19: 320.18 | T19: 374.57 | U19: 442.93 | V19: 417.42 | W19: 408.92 | X19: 399.06 | Y19: 408.34 | Z19: 420.57 | AA19: 395.9 | AB19: 383.85 | AC19: 515.95 | AD19: 440.15 | AE19: 428.25 | AF19: 429.63
A20: 0.041666667 | B20: 394.68 | C20: 392.25 | D20: 372.59 | E20: 410.43 | F20: 452.96 | G20: 413.9 | H20: 406.62 | I20: 450.31 | J20: 419.65 | K20: 407.21 | L20: 459.32 | M20: 427.92 | N20: 359.35 | O20: MA | P20: MA | Q20: 301.16 | R20: 335.56 | S20: 317.23 | T20: 367.33 | U20: 435.96 | V20: 438.39 | W20: 415.68 | X20: 398.43 | Y20: 441.89 | Z20: 421.56 | AA20: 392.79 | AB20: 381.74 | AC20: 523.31 | AD20: 435.06 | AE20: 422.1 | AF20: 419.81
A21: 0.083333333 | B21: 374.67 | C21: 386.79 | D21: 385.76 | E21: 390.48 | F21: 413.42 | G21: 415.3 | H21: 410.04 | I21: 447.27 | J21: 419.09 | K21: 406.67 | L21: 427.17 | M21: 430.43 | N21: 346.86 | O21: MA | P21: MA | Q21: 293.18 | R21: 320.46 | S21: 351.99 | T21: 354.21 | U21: 424.56 | V21: 429.02 | W21: 392.86 | X21: 393.02 | Y21: 449.01 | Z21: 483.13 | AA21: 411.14 | AB21: 382.2 | AC21: 478.15 | AD21: 424.8 | AE21: 418.23 | AF21: 421.27
A22: 0.125 | B22: 375.62 | C22: 382.05 | D22: 389.73 | E22: 389.44 | F22: 456.32 | G22: 433.5 | H22: 409.03 | I22: 438.69 | J22: 417.38 | K22: 406.74 | L22: 424.72 | M22: 426.33 | N22: 378.65 | O22: MA | P22: MA | Q22: 296.37 | R22: 336.7 | S22: 353.05 | T22: 351.6 | U22: 449.57 | V22: 406.96 | W22: 388.69 | X22: 386.72 | Y22: 394.53 | Z22: 427.8 | AA22: 407.03 | AB22: 381.78 | AC22: 467.11 | AD22: 421.2 | AE22: 419.23 | AF22: 424.1
A23: 0.16666667 | B23: 381.25 | C23: 387.14 | D23: 390.18 | E23: 383.81 | F23: 447.6 | G23: 492.75 | H23: 415.32 | I23: 477.74 | J23: 419.21 | K23: 404.52 | L23: 423.71 | M23: 499.31 | N23: 363.38 | O23: MA | P23: MA | Q23: 328.55 | R23: 370.44 | S23: 417.75 | T23: 351.44 | U23: 409.53 | V23: 410.88 | W23: 394.92 | X23: 390.26 | Y23: 386.05 | Z23: 395.71 | AA23: 401.18 | AB23: 385.38 | AC23: 413.38 | AD23: 426.63 | AE23: 416.51 | AF23: 426.67
A24: 0.20833333 | B24: 396.06 | C24: 394.78 | D24: 406.66 | E24: 406.25 | F24: 577.98 | G24: 524.42 | H24: 420.57 | I24: 460.25 | J24: 428.96 | K24: 421.29 | L24: 442.77 | M24: 503.78 | N24: 382.44 | O24: MA | P24: MA | Q24: 347.21 | R24: 409.18 | S24: 415.75 | T24: 392.63 | U24: 487.73 | V24: 412.86 | W24: 426.63 | X24: 393.76 | Y24: 424.5 | Z24: 444.16 | AA24: 420.38 | AB24: 418.92 | AC24: 425.33 | AD24: 457 | AE24: 430.3 | AF24: 445.81
A25: 0.25 | B25: 401.42 | C25: 401.48 | D25: 438.32 | E25: 469.13 | F25: 501.28 | G25: 466.2 | H25: 428.75 | I25: 460.93 | J25: 437.34 | K25: 435.69 | L25: 436.79 | M25: 504.63 | N25: 390.7 | O25: MA | P25: MA | Q25: 329.13 | R25: 381.17 | S25: 372.66 | T25: 413.16 | U25: 517.71 | V25: 425.25 | W25: 425.74 | X25: 416.84 | Y25: 455.31 | Z25: 406.01 | AA25: 448.09 | AB25: 495.5 | AC25: 422.68 | AD25: 461.62 | AE25: 440.01 | AF25: 460.4
A26: 0.29166667 | B26: 399.05 | C26: 408.62 | D26: 460.03 | E26: 470.86 | F26: 421.33 | G26: 411.88 | H26: 422.44 | I26: 435.3 | J26: 436.06 | K26: 428.69 | L26: 437.62 | M26: 434.42 | N26: 334.96 | O26: MA | P26: MA | Q26: 333.7 | R26: 331.86 | S26: 341.46 | T26: 377.56 | U26: 415.16 | V26: 400.5 | W26: 408.4 | X26: 400.61 | Y26: 381.72 | Z26: 404.13 | AA26: 465.27 | AB26: 419.95 | AC26: 414.69 | AD26: 441.38 | AE26: 435.26 | AF26: 430.62
A27: 0.33333333 | B27: 394.69 | C27: 400.45 | D27: 487.29 | E27: 434.37 | F27: 427.24 | G27: 410.52 | H27: 413.38 | I27: 415.4 | J27: 429.01 | K27: 423.06 | L27: 430.82 | M27: 428.18 | N27: 317.56 | O27: MA | P27: MA | Q27: 316.05 | R27: 323.83 | S27: 327.21 | T27: 374.05 | U27: 399.74 | V27: 389.32 | W27: 396.45 | X27: 390.15 | Y27: 374.75 | Z27: 403.22 | AA27: 402.49 | AB27: 394.54 | AC27: 407.09 | AD27: 424.89 | AE27: 423.84 | AF27: 430.96
A28: 0.375 | B28: 371.63 | C28: 400.27 | D28: 412.19 | E28: 416.71 | F28: 382.47 | G28: 407.5 | H28: 401.11 | I28: 416.55 | J28: 419.27 | K28: 410.85 | L28: 413.53 | M28: VF | N28: 294.48 | O28: MA | P28: MA | Q28: 308.36 | R28: 333.1 | S28: 322.53 | T28: 376.15 | U28: 391.72 | V28: 390.22 | W28: 398.26 | X28: 384.57 | Y28: 358.95 | Z28: 394.86 | AA28: 392.35 | AB28: 399.28 | AC28: 404.21 | AD28: 413.11 | AE28: 411.42 | AF28: 425.4
A29: 0.41666667 | B29: 369.24 | C29: 403.79 | D29: 390.09 | E29: 355.43 | F29: 366.31 | G29: 381.6 | H29: 398.02 | I29: 405.57 | J29: 408.5 | K29: 407.03 | L29: 400.95 | M29: VF | N29: MA | O29: MA | P29: VF | Q29: 321.31 | R29: 307.2 | S29: 299.26 | T29: 360.11 | U29: 388.64 | V29: 383.09 | W29: 382.47 | X29: 374.32 | Y29: 343.62 | Z29: 385.72 | AA29: 387.62 | AB29: 388.35 | AC29: 393.13 | AD29: 410.88 | AE29: 399.88 | AF29: 408.89
A30: 0.45833333 | B30: 366.59 | C30: 408.5 | D30: 348.84 | E30: 351.15 | F30: 364.46 | G30: 369.83 | H30: 392.1 | I30: 402.44 | J30: 396.42 | K30: 391.89 | L30: 382.48 | M30: 249.5 | N30: MA | O30: MA | P30: MA | Q30: 281.82 | R30: 295.96 | S30: 287.26 | T30: 349.75 | U30: 366.33 | V30: 370.61 | W30: 361.58 | X30: 364.53 | Y30: 330.6 | Z30: 335.59 | AA30: 387.16 | AB30: 380.94 | AC30: 379.03 | AD30: 397.28 | AE30: 390.4 | AF30: 388.86
A31: 0.5 | B31: 374.97 | C31: 373.62 | D31: 339.28 | E31: 361.55 | F31: 350.24 | G31: 354.12 | H31: 373.81 | I31: 398.04 | J31: 382.73 | K31: 392.26 | L31: 372.98 | M31: 255.13 | N31: MA | O31: MA | P31: MA | Q31: 261.98 | R31: 296.19 | S31: 279.58 | T31: 345.51 | U31: 356.84 | V31: 355.65 | W31: 353.41 | X31: 353.35 | Y31: 338.04 | Z31: 327.04 | AA31: 379.15 | AB31: 370.15 | AC31: 373.59 | AD31: 393.48 | AE31: 382.97 | AF31: 391.44
A32: 0.54166667 | B32: 372.69 | C32: 362.58 | D32: 325.3 | E32: 353.94 | F32: 348.29 | G32: 345.24 | H32: 360.5 | I32: 393.29 | J32: 373.27 | K32: 379.55 | L32: 371.59 | M32: 267.29 | N32: MA | O32: MA | P32: MA | Q32: 253.3 | R32: 281.28 | S32: 271.12 | T32: 340.15 | U32: 346.52 | V32: 352.65 | W32: 348.97 | X32: 348.29 | Y32: 325.67 | Z32: 317 | AA32: 356.8 | AB32: 360.1 | AC32: 370.81 | AD32: 382.78 | AE32: 373.81 | AF32: 383.38
A33: 0.58333333 | B33: 373.67 | C33: 346.32 | D33: 319.73 | E33: 351.11 | F33: 343.9 | G33: 343.92 | H33: 347.09 | I33: 378.8 | J33: 362.19 | K33: 373.36 | L33: 369.43 | M33: 264.03 | N33: MA | O33: MA | P33: MA | Q33: 255.59 | R33: 273.38 | S33: 280.09 | T33: 335.78 | U33: 358.67 | V33: 352.52 | W33: 349.69 | X33: 342.25 | Y33: 318.94 | Z33: 318.55 | AA33: 351.73 | AB33: 358.89 | AC33: 367.3 | AD33: 380.36 | AE33: 373.27 | AF33: 377.96
A34: 0.625 | B34: 371.9 | C34: VF | D34: 343.94 | E34: 354.59 | F34: 352.83 | G34: 354.4 | H34: 357.24 | I34: 374.93 | J34: 367.38 | K34: 380.58 | L34: 379.95 | M34: 266.4 | N34: MA | O34: MA | P34: MA | Q34: 257.04 | R34: 264.58 | S34: 312.64 | T34: 342.19 | U34: 363.04 | V34: 358.46 | W34: 359.64 | X34: 348.15 | Y34: 314.41 | Z34: 319.64 | AA34: 370.05 | AB34: 368.08 | AC34: 367.01 | AD34: 381.41 | AE34: 379.1 | AF34: 386.08
A35: 0.66666667 | B35: 385.22 | C35: VF | D35: 360.25 | E35: 373.84 | F35: 369.13 | G35: 370.7 | H35: 367.49 | I35: 388.3 | J35: 380.43 | K35: 398.44 | L35: 405.35 | M35: 290.96 | N35: MA | O35: MA | P35: 275.29 | Q35: 274.82 | R35: 273.8 | S35: 335.33 | T35: 362.7 | U35: 373.84 | V35: 373.68 | W35: 371.02 | X35: 356.98 | Y35: 334.53 | Z35: 328.77 | AA35: 378.52 | AB35: 384.46 | AC35: 376.41 | AD35: 392.09 | AE35: 395.68 | AF35: 397.07
A36: 0.70833333 | B36: 392.94 | C36: VF | D36: 392.08 | E36: 402.73 | F36: 406.97 | G36: 405.5 | H36: 388.86 | I36: 413.4 | J36: 403.05 | K36: 415.79 | L36: 428.7 | M36: 319.68 | N36: MA | O36: MA | P36: 264.87 | Q36: 303.34 | R36: 296.12 | S36: 372.21 | T36: 385.94 | U36: 389.53 | V36: 394.02 | W36: 390.39 | X36: 384.84 | Y36: 365.06 | Z36: 352.07 | AA36: 403.24 | AB36: 404.34 | AC36: 392.99 | AD36: 410.84 | AE36: 421.35 | AF36: 409.22
A37: 0.75 | B37: 408.11 | C37: 439.7 | D37: 412.65 | E37: 412.59 | F37: 420.97 | G37: 416.29 | H37: 407.27 | I37: 423.2 | J37: 421.76 | K37: 440.52 | L37: 455.61 | M37: 339.86 | N37: MA | O37: MA | P37: 293.12 | Q37: 335.35 | R37: 326.25 | S37: 375.58 | T37: 400.74 | U37: 408.48 | V37: 413.07 | W37: 408.03 | X37: 409.72 | Y37: 400.88 | Z37: 377.37 | AA37: 415.77 | AB37: 422.23 | AC37: 420.68 | AD37: 426.76 | AE37: 456.9 | AF37: 447.71
A38: 0.79166667 | B38: 420.96 | C38: 466.99 | D38: 425.51 | E38: 442.36 | F38: 426.94 | G38: 429.85 | H38: 427.96 | I38: 430.73 | J38: 430.81 | K38: 455.47 | L38: 456.81 | M38: 349.81 | N38: MA | O38: MA | P38: 310.86 | Q38: 346.66 | R38: 363.63 | S38: 385.61 | T38: 429.96 | U38: 415.77 | V38: 414.4 | W38: 420.5 | X38: 408.01 | Y38: 446.36 | Z38: 403.05 | AA38: 423.17 | AB38: 429.12 | AC38: 440.39 | AD38: 443.16 | AE38: 473.68 | AF38: 451.97
A39: 0.83333333 | B39: 411.48 | C39: 493.94 | D39: 403.83 | E39: 460.8 | F39: 438.63 | G39: 436.26 | H39: 427.27 | I39: 435.99 | J39: 427.34 | K39: 450.11 | L39: 454.55 | M39: 350.04 | N39: MA | O39: MA | P39: 316.48 | Q39: 352.54 | R39: 393.52 | S39: 381.73 | T39: 413.21 | U39: 417.42 | V39: 420.93 | W39: 429.62 | X39: 399.69 | Y39: 460.67 | Z39: 404.75 | AA39: 427.83 | AB39: 435.92 | AC39: 448.05 | AD39: 433 | AE39: 456.91 | AF39: 492.38
A40: 0.875 | B40: 411.77 | C40: 392.94 | D40: 417.5 | E40: 449.2 | F40: 445.22 | G40: 419.17 | H40: 429.21 | I40: 440.43 | J40: 429.06 | K40: 458.26 | L40: 455.11 | M40: 351.3 | N40: MA | O40: MA | P40: 316.54 | Q40: 340.77 | R40: 343.08 | S40: 387.24 | T40: 439.81 | U40: 420.24 | V40: 420.83 | W40: 421.37 | X40: 402.25 | Y40: 454.69 | Z40: 410.66 | AA40: 411.6 | AB40: 439.12 | AC40: 446.4 | AD40: 433.53 | AE40: 461.58 | AF40: 508.59
A41: 0.91666667 | B41: 420.35 | C41: 377.33 | D41: 396.98 | E41: 450.66 | F41: 436.33 | G41: 425.76 | H41: 438.79 | I41: 432.79 | J41: 436.95 | K41: 450.72 | L41: 481.92 | M41: 355.29 | N41: MA | O41: MA | P41: 305.32 | Q41: 335.39 | R41: 336.14 | S41: 371.53 | T41: 415.7 | U41: 429.79 | V41: 421.87 | W41: 411.86 | X41: 411.3 | Y41: 483.45 | Z41: 391.4 | AA41: 493.66 | AB41: 431.69 | AC41: 444.61 | AD41: 437.98 | AE41: 454.2 | AF41: 497.98
A42: 0.95833333 | B42: 394.56 | C42: 378.66 | D42: 394.93 | E42: 430.57 | F42: 420.2 | G42: 416.75 | H42: 455.17 | I42: 427.35 | J42: 429.19 | K42: 470.78 | L42: 451.43 | M42: 367.78 | N42: MA | O42: MA | P42: 340.49 | Q42: 331.71 | R42: 311.76 | S42: 377.96 | T42: 404.17 | U42: 431.08 | V42: 428.98 | W42: 418.84 | X42: 395.81 | Y42: 458.55 | Z42: 387.46 | AA42: 438.78 | AB42: 486.68 | AC42: 442.77 | AD42: 435.21 | AE42: 445.21 | AF42: 486.7
A43: Promedio horario mas alto de CO en 24 h | B43: =IFERROR(MAX(B19:B42),"") -> 420.96 | C43: =IFERROR(MAX(C19:C42),"") -> 493.94 | D43: =IFERROR(MAX(D19:D42),"") -> 487.29 | E43: =IFERROR(MAX(E19:E42),"") -> 470.86 | F43: =IFERROR(MAX(F19:F42),"") -> 577.98 | G43: =IFERROR(MAX(G19:G42),"") -> 524.42 | H43: =IFERROR(MAX(H19:H42),"") -> 455.17 | I43: =IFERROR(MAX(I19:I42),"") -> 477.74 | ... N43: =IFERROR(MAX(N19:N42),"") -> 390.7 | O43: MA | P43: =IFERROR(MAX(P19:P42),"") -> 340.49 | Q43: =IFERROR(MAX(Q19:Q42),"") -> 352.54 | R43: =IFERROR(MAX(R19:R42),"") -> 409.18 | S43: =IFERROR(MAX(S19:S42),"") -> 417.75 | T43: =IFERROR(MAX(T19:T42),"") -> 439.81 | U43: =IFERROR(MAX(U19:U42),"") -> 517.71 | V43: =IFERROR(MAX(V19:V42),"") -> 438.39 | W43: =IFERROR(MAX(W19:W42),"") -> 429.62 | ... AF43: =IFERROR(MAX(AF19:AF42),"") -> 508.59
A44: ECA aire de CO | B44: 30000 µg/m³ en periodo de 1 hora
A45: Nota.- Los resultados obtenidos en el periodo de diciembre se consideran datos referenciales.
A46: VF: Verificaciones
A47: MA: Mantenimiento Preventivo
A54: Firmado por: | K54: Revisado por: | V54: Aprobado por:
A55: Operador de ensayo de calidad de aire | K55: Gestor de ensayo de calidad de aire | V55: Gestor QA/QC - aire

Sheet CO_8H
E2: Tabla 3.8. Concentraciones promedio móvil de 8 horas de CO
A6: TÍTULO DEL ESTUDIO: | E6: ='PM10 24H'!E6 -> Evaluación ambiental de seguimiento de la calidad del aire en el CEBA Jose Pardo, distrito Ilo, provincia Ilo, departamento Moquegua, en diciembre 2025
A8: ESTACIÓN DE MONITOREO: | E8: CA-ILO-03 | P8: CÓDIGO DE ACCIÓN: | U8: ='PM10 24H'!U8 -> 011-12-2025-417
A10: FECHA Y HORA DE INICIO: | E10: ='PM10 24H'!E10 -> 45992 | P10: FECHA Y HORA FINAL: | U10: ='PM10 24H'!U10 -> 31/12/2025 23:55:00
A12: DATOS DEL EQUIPO
A14: EQUIPO: | E14: Analizador monóxido de carbono | P14: CÓDIGO PATRIMONIAL | U14: 60220359-0002
A16: MARCA: | E16: THERMO SCIENTIFIC | L16: MODELO: | P16: 48i | W16: SERIE: | Y16: 1193085162
A18: Hora\Día | B18: 1 | C18: 2 | D18: 3 | E18: 4 | F18: 5 | G18: 6 | H18: 7 | I18: 8 | J18: 9 | K18: 10 | L18: 11 | M18: 12 | N18: 13 | O18: 14 | P18: 15 | Q18: 16 | R18: 17 | S18: 18 | T18: 19 | U18: 20 | V18: 21 | W18: 22 | X18: 23 | Y18: 24 | Z18: 25 | AA18: 26 | AB18: 27 | AC18: 28 | AD18: 29 | AE18: 30 | AF18: 31
A19: 0 | B19: 396.11 | C19: 407.98 | D19: 417.44 | E19: 406.55 | F19: 438.9 | G19: 426.42 | H19: 420.13 | I19: 428.09 | J19: 428.16 | K19: 425.48 | L19: 453.29 | M19: 454.82 | N19: 351.11 | O19: MA | P19: MA | Q19: 305.59 | R19: 334.6 | S19: 336.34 | T19: 378.3 | U19: 416.56 | V19: 416.22 | W19: 415.38 | X19: 412.46 | Y19: 402.5 | Z19: 436.28 | AA19: 390.33 | AB19: 424.74 | AC19: 445.63 | AD19: 434.5 | AE19: 431.09 | AF19: 449.93
A20: 0.041666667 | B20: 398.63 | C20: 407.89 | D20: 411.83 | E20: 408.85 | F20: 445.18 | G20: 427.29 | H20: 420.27 | I20: 435.77 | J20: 428.95 | K20: 426 | L20: 458.73 | M20: 454.73 | N20: 356.07 | O20: MA | P20: MA | Q20: 310.13 | R20: 338.63 | S20: 338.97 | T20: 377.69 | U20: 422.81 | V20: 422.32 | W20: 418.08 | X20: 413.46 | Y20: 409.63 | Z20: 443.34 | AA20: 395.42 | AB20: 422.05 | AC20: 460.5 | AD20: 439.76 | AE20: 432.5 | AF20: 449.74
A21: 0.083333333 | B21: 394.01 | C21: 405.22 | D21: 405.09 | E21: 406.08 | F21: 445.28 | G21: 426.58 | H21: 419.49 | I21: 440.77 | J21: 428.43 | K21: 424.11 | L21: 457.06 | M21: 451.58 | N21: 356.94 | O21: MA | P21: MA | Q21: 310.13 | R21: 336.77 | S21: 342.19 | T21: 375.02 | U21: 425.79 | V21: 424.89 | W21: 415.56 | X21: 411.59 | Y21: 414.54 | Z21: 453.62 | AA21: 399.64 | AB21: 417.85 | AC21: 467.49 | AD21: 440.28 | AE21: 431.43 | AF21: 445.29
A22: 0.125 | B22: 391.01 | C22: 400.36 | D22: 395.43 | E22: 401.57 | F22: 447.03 | G22: 427.4 | H22: 416.89 | I22: 442.11 | J22: 426.76 | K22: 421.1 | L22: 453.22 | M22: 447.77 | N22: 360.55 | O22: MA | P22: MA | Q22: 308.32 | R22: 335.52 | S22: 340.87 | T22: 370.77 | U22: 428.24 | V22: 423.79 | W22: 412.35 | X22: 407.36 | Y22: 412.85 | Z22: 451.3 | AA22: 400.14 | AB22: 412.68 | AC22: 472.24 | AD22: 437.88 | AE22: 428.44 | AF22: 439.09
A23: 0.16666667 | B23: 389.85 | C23: 397.32 | D23: 382.46 | E23: 399.06 | F23: 445.38 | G23: 434.17 | H23: 414.27 | I23: 448.42 | J23: 424.67 | K23: 418.25 | L23: 449.92 | M23: 453.36 | N23: 362.21 | O23: MA | P23: MA | Q23: 309.83 | R23: 337.76 | S23: 343.9 | T23: 366.98 | U23: 427.78 | V23: 422.97 | W23: 409.09 | X23: 402.45 | Y23: 411.15 | Z23: 443.18 | AA23: 399.7 | AB23: 407.37 | AC23: 469.42 | AD23: 435.2 | AE23: 426.38 | AF23: 435.31
A24: 0.20833333 | B24: 388.47 | C24: 395.2 | D24: 384.18 | E24: 397.66 | F24: 461.48 | G24: 444.07 | H24: 414.45 | I24: 452.3 | J24: 423.23 | K24: 417.28 | L24: 447.98 | M24: 459.45 | N24: 366.11 | O24: MA | P24: MA | Q24: 313.66 | R24: 346.31 | S24: 352.98 | T24: 367.66 | U24: 433.77 | V24: 422.05 | W24: 409.82 | X24: 398.99 | Y24: 413.93 | Z24: 441.87 | AA24: 400.91 | AB24: 408.29 | AC24: 467.7 | AD24: 436.53 | AE24: 425.98 | AF24: 433.34
A25: 0.25 | B25: 386.93 | C25: 392.84 | D25: 391.8 | E25: 406.68 | F25: 467.8 | G25: 447.8 | H25: 414.82 | I25: 455.07 | J25: 423.8 | K25: 417.12 | L25: 446.24 | M25: 462.29 | N25: 370.53 | O25: MA | P25: MA | Q25: 316.64 | R25: 352.03 | S25: 357.55 | T25: 372.86 | U25: 446.52 | V25: 421.48 | W25: 410.3 | X25: 399.62 | Y25: 419.43 | Z25: 432.19 | AA25: 408 | AB25: 408.52 | AC25: 466.57 | AD25: 438.65 | AE25: 426.23 | AF25: 434.11
A26: 0.29166667 | B26: 388.82 | C26: 394.59 | D26: 401.97 | E26: 416.17 | F26: 466.65 | G26: 446.76 | H26: 415.53 | I26: 452.58 | J26: 424.89 | K26: 417.06 | L26: 442.09 | M26: 460.16 | N26: 366.43 | O26: MA | P26: MA | Q26: 315.79 | R26: 352.05 | S26: 361.26 | T26: 372.81 | U26: 447.89 | V26: 417.66 | W26: 407.73 | X26: 397.34 | Y26: 417.67 | Z26: 425.38 | AA26: 417.72 | AB26: 406.16 | AC26: 457.58 | AD26: 438.48 | AE26: 426.24 | AF26: 432.29
A27: 0.33333333 | B27: 389.68 | C27: 394.19 | D27: 416.32 | E27: 419.35 | F27: 462.27 | G27: 446.06 | H27: 415.77 | I27: 448.24 | J27: 425.84 | K27: 416.73 | L27: 435.36 | M27: 456.88 | N27: 359.24 | O27: MA | P27: MA | Q27: 318.17 | R27: 351.15 | S27: 362.14 | T27: 372.75 | U27: 442.5 | V27: 414.15 | W27: 406.17 | X27: 396.22 | Y27: 413.47 | Z27: 423.22 | AA27: 418.55 | AB27: 407.5 | AC27: 443.97 | AD27: 436.57 | AE27: 425.69 | AF27: 432.46
A28: 0.375 | B28: 386.8 | C28: 395.2 | D28: 421.27 | E28: 420.13 | F28: 453.46 | G28: 445.26 | H28: 415.08 | I28: 444.02 | J28: 425.79 | K28: 417.19 | L28: 429.64 | M28: 461.01 | N28: 351.13 | O28: MA | P28: MA | Q28: 319.07 | R28: 350.84 | S28: 362.8 | T28: 373.85 | U28: 436.97 | V28: 408.13 | W28: 403.99 | X28: 394.49 | Y28: 403.1 | Z28: 419.88 | AA28: 418.49 | AB28: 409.69 | AC28: 429.08 | AD28: 433.83 | AE28: 424.35 | AF28: 433.15
A29: 0.41666667 | B29: 386.12 | C29: 397.32 | D29: 421.81 | E29: 415.75 | F29: 447.57 | G29: 441.05 | H29: 413.58 | I29: 438.8 | J29: 424.47 | K29: 417.23 | L29: 426.36 | M29: 466.11 | N29: 351.74 | O29: MA | P29: VF | Q29: 322.59 | R29: 349.18 | S29: 356.21 | T29: 374.59 | U29: 432.47 | V29: 402.38 | W29: 402.7 | X29: 392.15 | Y29: 389.93 | Z29: 407.7 | AA29: 415.55 | AB29: 410.46 | AC29: 418.45 | AD29: 432.09 | AE29: 422.06 | AF29: 431.61
A30: 0.45833333 | B30: 384.99 | C30: 400.63 | D30: 416.7 | E30: 410.96 | F30: 436.08 | G30: 433.09 | H30: 411.46 | I30: 434.27 | J30: 421.85 | K30: 415.38 | L30: 421.08 | M30: 436.64 | N30: 347.25 | O30: MA | P30: MA | Q30: 320.77 | R30: 344.09 | S30: 347.98 | T30: 374.36 | U30: 422.07 | V30: 397.84 | W30: 399.31 | X30: 389.38 | Y30: 381.94 | Z30: 396.18 | AA30: 413.07 | AB30: 410.36 | AC30: 407.44 | AD30: 429.1 | AE30: 418.45 | AF30: 427.2
A31: 0.5 | B31: 384.21 | C31: 398.94 | D31: 410.34 | E31: 408.18 | F31: 423.91 | G31: 415.76 | H31: 406.27 | I31: 424.31 | J31: 417.29 | K31: 413.84 | L31: 414.74 | M31: 395.94 | N31: MA | O31: MA | P31: MA | Q31: 312.44 | R31: 334.81 | S31: 330.71 | T31: 373.62 | U31: 415.48 | V31: 390.94 | W31: 394.12 | X31: 384.77 | Y31: 375.94 | Z31: 387.59 | AA31: 410.31 | AB31: 408.45 | AC31: 402.47 | AD31: 424.96 | AE31: 414.26 | AF31: 422.8
A32: 0.54166667 | B32: 381.29 | C32: 394.91 | D32: 400.17 | E32: 401.64 | F32: 395.2 | G32: 393.36 | H32: 398.76 | I32: 415.94 | J32: 410.32 | K32: 408.63 | L32: 405.85 | M32: 356.53 | N32: MA | O32: MA | P32: MA | Q32: 300.71 | R32: 318.82 | S32: 312.64 | T32: 367.06 | U32: 397.83 | V32: 383.41 | W32: 384.41 | X32: 379.08 | Y32: 363.58 | Z32: 371.7 | AA32: 402.37 | AB32: 401.1 | AC32: 395.65 | AD32: 415.68 | AE32: 407.2 | AF32: 414.99
A33: 0.58333333 | B33: 377.82 | C33: 388.02 | D33: 385.34 | E33: 386.89 | F33: 375.53 | G33: 378.08 | H33: 388.56 | I33: 405.67 | J33: 400.93 | K33: 400.84 | L33: 397.42 | M33: 316.42 | N33: MA | O33: MA | P33: MA | Q33: 291.51 | R33: 305.35 | S33: 301.06 | T33: 357.38 | U33: 377.95 | V33: 374.32 | W33: 374.9 | X33: 369.76 | Y33: 346.54 | Z33: 360.76 | AA33: 390.32 | AB33: 384.02 | AC33: 388.73 | AD33: 405.52 | AE33: 398.86 | AF33: 404.69
A34: 0.625 | B34: 374.42 | C34: 385.08 | D34: 370.83 | E34: 372.36 | F34: 366.97 | G34: 370.89 | H34: 380.41 | I34: 398.13 | J34: 392.35 | K34: 394.82 | L34: 390.22 | M34: 288.42 | N34: MA | O34: MA | P34: MA | Q34: 281.93 | R34: 296.94 | S34: 297.46 | T34: 352.96 | U34: 371.44 | V34: 369.06 | W34: 368.81 | X34: 363.2 | Y34: 338.12 | Z34: 350.2 | AA34: 378.42 | AB34: 377.54 | AC34: 382.77 | AD34: 398.02 | AE34: 391.84 | AF34: 399.12
A35: 0.66666667 | B35: 373.24 | C35: 382.51 | D35: 354.95 | E35: 364.79 | F35: 359.7 | G35: 365.91 | H35: 374.67 | I35: 394.74 | J35: 386.27 | K35: 391.74 | L35: 387.03 | M35: 265.55 | N35: MA | O35: MA | P35: ID | Q35: 276.78 | R35: 290.69 | S35: 298.48 | T35: 351.54 | U35: 368.2 | V35: 367.11 | W35: 365.63 | X35: 359.06 | Y35: 333.1 | Z35: 340.9 | AA35: 375.42 | AB35: 376.28 | AC35: 378.94 | AD35: 393.92 | AE35: 388.32 | AF35: 394.89
A36: 0.70833333 | B36: 375.9 | C36: ID | D36: 352.44 | E36: 363.04 | F36: 362.77 | G36: 365.66 | H36: 373.14 | I36: 394.35 | J36: 384.25 | K36: 392.36 | L36: 388.93 | M36: 273.28 | N36: MA | O36: MA | P36: ID | Q36: 276.15 | R36: 286.06 | S36: 304.69 | T36: 352.77 | U36: 367.93 | V36: 367.58 | W36: 364.65 | X36: 359.09 | Y36: 333.86 | Z36: 335.55 | AA36: 376.78 | AB36: 376.91 | AC36: 377.53 | AD36: 393.64 | AE36: 389.56 | AF36: 392.86
A37: 0.75 | B37: 380.76 | C37: ID | D37: 355.26 | E37: 370.19 | F37: 369.6 | G37: 370 | H37: 374.3 | I37: 396.55 | J37: 385.9 | K37: 396.55 | L37: 395.76 | M37: 281.61 | N37: MA | O37: MA | P37: ID | Q37: 277.9 | R37: 288.44 | S37: 314.23 | T37: 357.85 | U37: 370.41 | V37: 371.33 | W37: 367.84 | X37: 363.51 | Y37: 341.02 | Z37: 334.5 | AA37: 380.3 | AB37: 381.15 | AC37: 380.98 | AD37: 395.62 | AE37: 396.68 | AF37: 397.72
A38: 0.79166667 | B38: 387.56 | C38: ID | D38: 364.84 | E38: 381.59 | F38: 377.41 | G38: 377.5 | H38: 378.78 | I38: 400.09 | J38: 390.2 | K38: 404.5 | L38: 405.05 | M38: 294.14 | N38: MA | O38: MA | P38: ID | Q38: 286.01 | R38: 296.9 | S38: 326.52 | T38: 367.87 | U38: 376.59 | V38: 376.81 | W38: 375.21 | X38: 368.95 | Y38: 355.49 | Z38: 342.94 | AA38: 384.8 | AB38: 387.17 | AC38: 388.65 | AD38: 401.36 | AE38: 407.1 | AF38: 405.6
A39: 0.83333333 | B39: 392.12 | C39: ID | D39: 372.91 | E39: 394 | F39: 388.46 | G39: 387.77 | H39: 385.46 | I39: 404.83 | J39: 395.78 | K39: 411.73 | L39: 415.25 | M39: 306.01 | N39: MA | O39: MA | P39: ID | Q39: 297.33 | R39: 309.07 | S39: 339.29 | T39: 376.33 | U39: 384.16 | V39: 384.97 | W39: 384.73 | X39: 374.74 | Y39: 370.82 | Z39: 352.65 | AA39: 390.89 | AB39: 395.39 | AC39: 397.96 | AD39: 406.3 | AE39: 416.34 | AF39: 418.22
A40: 0.875 | B40: 397.01 | C40: ID | D40: 384.44 | E40: 405.9 | F40: 400.57 | G40: 397.01 | H40: 394.05 | I40: 410.72 | J40: 402.75 | K40: 421.57 | L40: 425.69 | M40: 316.51 | N40: MA | O40: MA | P40: 296.19 | Q40: 308.26 | R40: 316.8 | S40: 353.8 | T40: 388.79 | U40: 393.37 | V40: 393.49 | W40: 393.78 | X40: 381.49 | Y40: 386.94 | Z40: 364.36 | AA40: 397.74 | AB40: 405.27 | AC40: 407.4 | AD40: 412.64 | AE40: 427.31 | AF40: 433.87
A41: 0.91666667 | B41: 402.84 | C41: ID | D41: 394.09 | E41: 418.35 | F41: 412.13 | G41: 407.24 | H41: 405.51 | I41: 417.47 | J41: 412.1 | K41: 431.24 | L41: 439.75 | M41: 327.92 | N41: MA | O41: MA | P41: 297.5 | Q41: 318.24 | R41: 324.64 | S41: 365.23 | T41: 398.78 | U41: 402.26 | V41: 402.16 | W41: 401.55 | X41: 390.12 | Y41: 407.51 | Z41: 373.46 | AA41: 415.48 | AB41: 414.37 | AC41: 417.07 | AD41: 419.85 | AE41: 437.42 | AF41: 448.88
A42: 0.95833333 | B42: 405.67 | C42: 424.93 | D42: 400.47 | E42: 427.84 | F42: 420.55 | G42: 415.04 | H42: 417.75 | I42: 424.02 | J42: 419.82 | K42: 442.51 | L42: 448.68 | M42: 340.59 | N42: MA | O42: MA | P42: 302.87 | Q42: 327.57 | R42: 330.54 | S42: 373.4 | T42: 406.53 | U42: 410.77 | V42: 410.97 | W42: 408.95 | X42: 396.08 | Y42: 425.52 | Z42: 381.94 | AA42: 424.07 | AB42: 429.2 | AC42: 426.54 | AD42: 426.57 | AE42: 445.69 | AF42: 461.45
A43: Media aritmética móvil mas alta de CO en 24 h | B43: =IFERROR(MAX(B19:B42),"") -> 405.67 | C43: =IFERROR(MAX(C19:C42),"") -> 424.93 | D43: =IFERROR(MAX(D19:D42),"") -> 421.81 | E43: =IFERROR(MAX(E19:E42),"") -> 427.84 | F43: =IFERROR(MAX(F19:F42),"") -> 467.8 | G43: =IFERROR(MAX(G19:G42),"") -> 447.8 | H43: =IFERROR(MAX(H19:H42),"") -> 420.27 | I43: =IFERROR(MAX(I19:I42),"") -> 455.07 | ... N43: =IFERROR(MAX(N19:N42),"") -> 370.53 | O43: MA | P43: =IFERROR(MAX(P19:P42),"") -> 302.87 | Q43: =IFERROR(MAX(Q19:Q42),"") -> 327.57 | R43: =IFERROR(MAX(R19:R42),"") -> 352.05 | S43: =IFERROR(MAX(S19:S42),"") -> 373.4 | T43: =IFERROR(MAX(T19:T42),"") -> 406.53 | U43: =IFERROR(MAX(U19:U42),"") -> 447.89 | V43: =IFERROR(MAX(V19:V42),"") -> 424.89 | W43: =IFERROR(MAX(W19:W42),"") -> 418.08 | ... AF43: =IFERROR(MAX(AF19:AF42),"") -> 461.45
A44: ECA aire de CO m8h | B44: 10000 µg/m³ en periodo de 8 horas
A45: Nota.- Los resultados obtenidos en el periodo de diciembre se consideran datos referenciales.
A46: ID: Insuficiencia de data
A47: VF: Verificaciones
A48: MA: Mantenimiento Preventivo
A55: Firmado por: | K55: Revisado por: | V55: Aprobado por:
A56: Operador de ensayo de calidad de aire | K56: Gestor de ensayo de calidad de aire | V56: Gestor QA/QC - aire

Sheet MGT_CA-ILO-01
F2: Tabla 3.9. Concentraciones horarias de Mercurio Gaseoso Total (MGT)
B6: TÍTULO DEL ESTUDIO: | F6: ='PM10 24H'!E6 -> Evaluación ambiental de seguimiento de la calidad del aire en el CEBA Jose Pardo, distrito Ilo, provincia Ilo, departamento Moquegua, en diciembre 2025
B8: ESTACIÓN DE MONITOREO: | F8: CA-ILO-01 | Q8: CÓDIGO DE ACCIÓN:
B10: DATOS DEL EQUIPO
B12: EQUIPO: | F12: Analizador automático de Mercurio Gaseoso Total | Q12: MARCA: | V12: Mercury Instruments
B14: MODELO: | F14: UT-3000 | Q14: SERIE: | V14: 0919/2425
B16: Hora\Día | C16: 1 | D16: 2 | E16: 3 | F16: 4 | G16: 5 | H16: 6 | I16: 7 | J16: 8 | K16: 9 | L16: 10 | M16: 11 | N16: 12 | O16: 13 | P16: 14 | Q16: 15 | R16: 16 | S16: 17 | T16: 18 | U16: 19 | V16: 20 | W16: 21 | X16: 22 | Y16: 23 | Z16: 24 | AA16: 25 | AB16: 26 | AC16: 27 | AD16: 28 | AE16: 29 | AF16: 30 | AG16: 31
B17: 0 | C17: 0.291 | D17: 0.29 | E17: 0.289 | F17: 0.32 | G17: 0.33 | H17: 0.322 | I17: 0.322 | J17: 0.326 | K17: 0.318 | L17: 0.308 | M17: 0.314 | N17: 0.334 | O17: 0.332 | P17: 0.336 | Q17: 0.347 | R17: 0.343 | S17: 0.336 | T17: 0.337 | U17: 0.324 | V17: 0.342 | W17: 0.353 | X17: 0.353 | Y17: 0.349 | Z17: 0.355 | AA17: 0.378 | AB17: 0.38 | AC17: 0.391 | AD17: 0.367 | AE17: 0.38 | AF17: 0.376 | AG17: 0.312
B18: 0.041666667 | C18: 0.302 | D18: 0.286 | E18: 0.286 | F18: 0.319 | G18: 0.326 | H18: 0.326 | I18: 0.316 | J18: 0.327 | K18: 0.318 | L18: 0.31 | M18: 0.312 | N18: 0.329 | O18: 0.327 | P18: 0.327 | Q18: 0.346 | R18: 0.338 | S18: 0.331 | T18: 0.324 | U18: 0.324 | V18: 0.342 | W18: 0.348 | X18: 0.345 | Y18: 0.343 | Z18: 0.351 | AA18: 0.377 | AB18: 0.38 | AC18: 0.395 | AD18: 0.373 | AE18: 0.376 | AF18: 0.371 | AG18: 0.303
B19: 0.083333333 | C19: 0.301 | D19: 0.286 | E19: 0.289 | F19: 0.316 | G19: 0.326 | H19: 0.323 | I19: 0.315 | J19: 0.325 | K19: 0.316 | L19: 0.312 | M19: 0.312 | N19: 0.327 | O19: 0.327 | P19: 0.309 | Q19: 0.343 | R19: 0.336 | S19: 0.331 | T19: 0.32 | U19: 0.328 | V19: 0.34 | W19: 0.344 | X19: 0.348 | Y19: 0.335 | Z19: 0.346 | AA19: 0.374 | AB19: 0.374 | AC19: 0.394 | AD19: 0.378 | AE19: 0.373 | AF19: 0.366 | AG19: 0.297
B20: 0.125 | C20: 0.302 | D20: 0.28 | E20: 0.282 | F20: 0.314 | G20: 0.324 | H20: 0.324 | I20: 0.317 | J20: 0.323 | K20: 0.315 | L20: 0.301 | M20: 0.317 | N20: 0.323 | O20: 0.326 | P20: 0.297 | Q20: 0.338 | R20: 0.335 | S20: 0.326 | T20: 0.316 | U20: 0.326 | V20: 0.339 | W20: 0.343 | X20: 0.352 | Y20: 0.327 | Z20: 0.344 | AA20: 0.373 | AB20: 0.377 | AC20: 0.388 | AD20: 0.378 | AE20: 0.37 | AF20: 0.36 | AG20: 0.294
B21: 0.16666667 | C21: 0.304 | D21: 0.27 | E21: 0.28 | F21: 0.314 | G21: 0.323 | H21: 0.322 | I21: 0.315 | J21: 0.321 | K21: 0.311 | L21: 0.3 | M21: 0.321 | N21: 0.324 | O21: 0.325 | P21: 0.292 | Q21: 0.334 | R21: 0.335 | S21: 0.309 | T21: 0.312 | U21: 0.323 | V21: 0.337 | W21: 0.343 | X21: 0.354 | Y21: 0.318 | Z21: 0.341 | AA21: 0.375 | AB21: 0.377 | AC21: 0.38 | AD21: 0.377 | AE21: 0.362 | AF21: 0.359 | AG21: 0.293
B22: 0.20833333 | C22: 0.304 | D22: 0.266 | E22: 0.276 | F22: 0.313 | G22: 0.324 | H22: 0.32 | I22: 0.315 | J22: 0.322 | K22: 0.312 | L22: 0.3 | M22: 0.318 | N22: 0.322 | O22: 0.326 | P22: 0.296 | Q22: 0.333 | R22: 0.332 | S22: 0.294 | T22: 0.313 | U22: 0.319 | V22: 0.335 | W22: 0.336 | X22: 0.354 | Y22: 0.323 | Z22: 0.34 | AA22: 0.378 | AB22: 0.376 | AC22: 0.377 | AD22: 0.376 | AE22: 0.361 | AF22: 0.36 | AG22: 0.29
B23: 0.25 | C23: 0.319 | D23: 0.28 | E23: 0.284 | F23: 0.325 | G23: 0.332 | H23: 0.325 | I23: 0.325 | J23: 0.334 | K23: 0.316 | L23: 0.316 | M23: 0.332 | N23: 0.328 | O23: 0.335 | P23: 0.313 | Q23: 0.346 | R23: 0.338 | S23: 0.301 | T23: 0.317 | U23: 0.322 | V23: 0.343 | W23: 0.336 | X23: 0.359 | Y23: 0.342 | Z23: 0.358 | AA23: 0.379 | AB23: 0.378 | AC23: 0.389 | AD23: 0.38 | AE23: 0.362 | AF23: 0.358 | AG23: 0.304
B24: 0.29166667 | C24: 0.351 | D24: 0.342 | E24: 0.342 | F24: 0.348 | G24: 0.343 | H24: 0.338 | I24: 0.349 | J24: 0.357 | K24: 0.327 | L24: 0.351 | M24: 0.354 | N24: 0.344 | O24: 0.35 | P24: 0.373 | Q24: 0.375 | R24: 0.351 | S24: 0.35 | T24: 0.339 | U24: 0.351 | V24: 0.364 | W24: 0.371 | X24: 0.386 | Y24: 0.375 | Z24: 0.404 | AA24: 0.392 | AB24: 0.399 | AC24: 0.415 | AD24: 0.398 | AE24: 0.386 | AF24: 0.391 | AG24: 0.343
B25: 0.33333333 | C25: 0.397 | D25: 0.401 | E25: 0.413 | F25: 0.416 | G25: 0.364 | H25: 0.36 | I25: 0.395 | J25: 0.409 | K25: 0.342 | L25: 0.405 | M25: 0.406 | N25: 0.38 | O25: 0.376 | P25: 0.411 | Q25: 0.422 | R25: 0.368 | S25: 0.389 | T25: 0.38 | U25: 0.431 | V25: 0.41 | W25: 0.422 | X25: 0.445 | Y25: 0.428 | Z25: 0.456 | AA25: 0.431 | AB25: 0.423 | AC25: 0.441 | AD25: 0.429 | AE25: 0.44 | AF25: 0.456 | AG25: 0.401
B26: 0.375 | C26: 0.459 | D26: 0.471 | E26: 0.471 | F26: 0.469 | G26: 0.404 | H26: 0.373 | I26: 0.461 | J26: 0.475 | K26: 0.36 | L26: 0.481 | M26: 0.469 | N26: 0.432 | O26: 0.407 | P26: 0.444 | Q26: 0.473 | R26: 0.403 | S26: 0.476 | T26: 0.433 | U26: 0.509 | V26: 0.49 | W26: 0.468 | X26: 0.518 | Y26: 0.5 | Z26: 0.489 | AA26: 0.482 | AB26: 0.454 | AC26: 0.467 | AD26: 0.474 | AE26: 0.497 | AF26: 0.497 | AG26: 0.456
B27: 0.41666667 | C27: 0.495 | D27: 0.534 | E27: 0.499 | F27: 0.512 | G27: 0.456 | H27: 0.404 | I27: 0.508 | J27: 0.513 | K27: 0.392 | L27: 0.558 | M27: 0.529 | N27: 0.451 | O27: 0.47 | P27: 0.497 | Q27: 0.522 | R27: 0.465 | S27: 0.52 | T27: 0.497 | U27: 0.553 | V27: 0.638 | W27: 0.496 | X27: 0.554 | Y27: 0.555 | Z27: 0.489 | AA27: 0.492 | AB27: 0.502 | AC27: 0.487 | AD27: 0.528 | AE27: 0.53 | AF27: 0.532 | AG27: 0.506
B28: 0.45833333 | C28: 0.537 | D28: 0.53 | E28: 0.517 | F28: 0.536 | G28: 0.452 | H28: 0.426 | I28: 0.516 | J28: 0.528 | K28: 0.414 | L28: 0.582 | M28: 0.557 | N28: 0.479 | O28: 0.615 | P28: 0.525 | Q28: 0.544 | R28: 0.527 | S28: 0.52 | T28: 0.548 | U28: 0.54 | V28: 0.702 | W28: 0.533 | X28: 0.568 | Y28: 0.577 | Z28: 0.498 | AA28: 0.542 | AB28: 0.555 | AC28: 0.514 | AD28: 0.566 | AE28: 0.55 | AF28: 0.549 | AG28: 0.537
... B31: 0.58333333 | C31: 0.569 | D31: 0.577 | E31: 0.569 | F31: 0.574 | G31: 0.405 | H31: 0.401 | I31: 0.496 | J31: 0.598 | K31: 0.43 | L31: 0.615 | M31: 0.602 | N31: 0.52 | O31: 0.492 | P31: 0.605 | Q31: 0.584 | R31: 0.583 | S31: 0.58 | T31: 0.565 | U31: 0.499 | V31: 0.571 | W31: 0.556 | X31: 0.603 | Y31: 0.677 | Z31: 0.514 | AA31: 0.459 | AB31: 0.496 | AC31: 0.602 | AD31: 0.571 | AE31: 0.619 | AF31: 0.605 | AG31: 0.595
B32: 0.625 | C32: 0.556 | D32: 0.582 | E32: 0.576 | F32: 0.51 | G32: 0.386 | H32: 0.45 | I32: 0.451 | J32: 0.534 | K32: 0.431 | L32: 0.583 | M32: 0.605 | N32: 0.51 | O32: 0.459 | P32: 0.602 | Q32: 0.573 | R32: 0.59 | S32: 0.579 | T32: 0.515 | U32: 0.445 | V32: 0.51 | W32: 0.538 | X32: 0.621 | Y32: 0.66 | Z32: 0.53 | AA32: 0.448 | AB32: 0.472 | AC32: ID | AD32: 0.506 | AE32: 0.628 | AF32: 0.597 | AG32: 0.598
B33: 0.66666667 | C33: 0.545 | D33: 0.57 | E33: 0.556 | F33: 0.454 | G33: 0.374 | H33: 0.429 | I33: 0.421 | J33: 0.444 | K33: 0.415 | L33: 0.561 | M33: 0.57 | N33: 0.436 | O33: 0.424 | P33: 0.584 | Q33: 0.549 | R33: 0.526 | S33: 0.551 | T33: 0.447 | U33: 0.41 | V33: 0.453 | W33: 0.483 | X33: 0.564 | Y33: 0.643 | Z33: 0.518 | AA33: 0.404 | AB33: 0.456 | AC33: 0.616 | AD33: 0.465 | AE33: 0.651 | AF33: 0.587 | AG33: 0.592
B34: 0.70833333 | C34: 0.483 | D34: 0.483 | E34: 0.48 | F34: 0.42 | G34: 0.356 | H34: 0.385 | I34: 0.384 | J34: 0.394 | K34: 0.397 | L34: 0.492 | M34: 0.506 | N34: 0.39 | O34: 0.402 | P34: 0.529 | Q34: 0.51 | R34: 0.424 | S34: 0.438 | T34: 0.4 | U34: 0.388 | V34: 0.42 | W34: 0.44 | X34: 0.458 | Y34: 0.571 | Z34: 0.462 | AA34: 0.392 | AB34: 0.434 | AC34: 0.497 | AD34: 0.447 | AE34: 0.6 | AF34: 0.541 | AG34: 0.543
B35: 0.75 | C35: 0.368 | D35: 0.386 | E35: 0.377 | F35: 0.373 | G35: 0.344 | H35: 0.351 | I35: 0.36 | J35: 0.364 | K35: 0.419 | L35: 0.4 | M35: 0.411 | N35: 0.363 | O35: 0.377 | P35: 0.432 | Q35: 0.416 | R35: 0.379 | S35: 0.377 | T35: 0.371 | U35: 0.374 | V35: 0.399 | W35: 0.407 | X35: 0.401 | Y35: 0.464 | Z35: 0.419 | AA35: 0.383 | AB35: 0.414 | AC35: 0.433 | AD35: 0.414 | AE35: 0.536 | AF35: 0.454 | AG35: 0.449
B36: 0.79166667 | C36: 0.324 | D36: 0.325 | E36: 0.328 | F36: 0.349 | G36: 0.335 | H36: 0.334 | I36: 0.345 | J36: 0.341 | K36: 0.348 | L36: 0.355 | M36: 0.357 | N36: 0.349 | O36: 0.364 | P36: 0.367 | Q36: 0.358 | R36: 0.359 | S36: 0.352 | T36: 0.356 | U36: 0.365 | V36: 0.375 | W36: 0.379 | X36: 0.378 | Y36: 0.405 | Z36: 0.4 | AA36: 0.38 | AB36: 0.407 | AC36: 0.408 | AD36: 0.403 | AE36: 0.44 | AF36: 0.378 | AG36: 0.376
B37: 0.83333333 | C37: 0.322 | D37: 0.31 | E37: 0.317 | F37: 0.345 | G37: 0.332 | H37: 0.328 | I37: 0.341 | J37: 0.331 | K37: 0.333 | L37: 0.338 | M37: 0.344 | N37: 0.342 | O37: 0.351 | P37: 0.348 | Q37: 0.351 | R37: 0.35 | S37: 0.347 | T37: 0.35 | U37: 0.361 | V37: 0.36 | W37: 0.372 | X37: 0.37 | Y37: 0.39 | Z37: 0.392 | AA37: 0.381 | AB37: 0.406 | AC37: 0.396 | AD37: 0.396 | AE37: 0.402 | AF37: 0.352 | AG37: 0.358
B38: 0.875 | C38: 0.311 | D38: 0.3 | E38: 0.313 | F38: 0.34 | G38: 0.327 | H38: 0.326 | I38: 0.335 | J38: 0.322 | K38: 0.327 | L38: 0.327 | M38: 0.337 | N38: 0.336 | O38: 0.342 | P38: 0.34 | Q38: 0.351 | R38: 0.344 | S38: 0.343 | T38: 0.348 | U38: 0.353 | V38: 0.357 | W38: 0.371 | X38: 0.366 | Y38: 0.378 | Z38: 0.389 | AA38: 0.38 | AB38: 0.394 | AC38: 0.392 | AD38: 0.39 | AE38: 0.393 | AF38: 0.34 | AG38: 0.347
B39: 0.91666667 | C39: 0.302 | D39: 0.298 | E39: 0.314 | F39: 0.336 | G39: 0.326 | H39: 0.325 | I39: 0.333 | J39: 0.321 | K39: 0.323 | L39: 0.317 | M39: 0.34 | N39: 0.333 | O39: 0.337 | P39: 0.345 | Q39: 0.35 | R39: 0.339 | S39: 0.343 | T39: 0.341 | U39: 0.342 | V39: 0.36 | W39: 0.369 | X39: 0.36 | Y39: 0.37 | Z39: 0.383 | AA39: 0.377 | AB39: 0.386 | AC39: 0.387 | AD39: 0.386 | AE39: 0.389 | AF39: 0.329 | AG39: 0.336
B40: 0.95833333 | C40: 0.291 | D40: 0.292 | E40: 0.317 | F40: 0.332 | G40: 0.322 | H40: 0.323 | I40: 0.327 | J40: 0.321 | K40: 0.314 | L40: 0.312 | M40: 0.337 | N40: 0.332 | O40: 0.336 | P40: 0.346 | Q40: 0.346 | R40: 0.336 | S40: 0.34 | T40: 0.331 | U40: 0.343 | V40: 0.357 | W40: 0.36 | X40: 0.352 | Y40: 0.358 | Z40: 0.378 | AA40: 0.378 | AB40: 0.387 | AC40: 0.37 | AD40: 0.381 | AE40: 0.383 | AF40: 0.32 | AG40: 0.326
B41: Promedio de MGT en 24 h | C41: 0.397 | D41: 0.393 | E41: 0.394 | F41: 0.402 | G41: 0.362 | H41: 0.36 | I41: 0.386 | J41: 0.402 | K41: 0.358 | L41: 0.418 | M41: 0.421 | N41: 0.389 | O41: 0.396 | P41: 0.419 | Q41: 0.427 | R41: 0.41 | S41: 0.411 | T41: 0.402 | U41: 0.401 | V41: 0.437 | W41: 0.422 | X41: 0.442 | Y41: 0.456 | Z41: 0.423 | AA41: 0.416 | AB41: 0.431 | AC41: 0.447 | AD41: 0.441 | AE41: 0.466 | AF41: 0.446 | AG41: 0.416
B42: ECA aire de MGT | C42: 2000 ng/m³ en periodo de 24 horas
B44: ID: Insuficiencia de data

Sheet MET_MES
B2: Tabla 3.9. Datos Meteorológicos
A6: TÍTULO DEL ESTUDIO: | B6: ='PM10 24H'!E6 -> Evaluación ambiental de seguimiento de la calidad del aire en el CEBA Jose Pardo, distrito Ilo, provincia Ilo, departamento Moquegua, en diciembre 2025
A8: ESTACIÓN DE MONITOREO: | B8: CA-ILO-03 | D8: CÓDIGO DE ACCIÓN: | F8: ='PM10 24H'!U8 -> 011-12-2025-417
A9: FECHA Y HORA DE INICIO: | B9: ='PM10 24H'!E10 -> 45992 | D9: FECHA Y HORA FINAL: | F9: ='PM10 24H'!U10 -> 31/12/2025 23:55:00
A11: COORDENADAS (UTM WGS 84) | B11: NORTE | C11: 8047344 | D11: ESTE | E11: 253350 | F11: ALTITUD | G11: 174 | H11: ZONA: 19K
A13: DATOS DEL EQUIPO
A15: EQUIPO: | B15: Estación meteorológica | D15: MARCA: | E15: Diversas | G15: MODELO: | H15: Diversas
A17: SENSOR: | B17: Velocidad y dirección de viento | E17: CÓDIGO PATRIMONIAL: | F17: 60227804-0003
A18: SENSOR: | B18: Temperatura y humedad relativa | E18: CÓDIGO PATRIMONIAL: | F18: 60227813-0003
A19: SENSOR: | B19: Presión barométrica | E19: CÓDIGO PATRIMONIAL: | F19: 60227808-0002
A20: SENSOR: | B20: Precipitación | E20: CÓDIGO PATRIMONIAL: | F20: 60227818-0003
A21: SENSOR: | B21: Radiación solar | E21: CÓDIGO PATRIMONIAL: | F21: 60227815-0003
A23: FECHA Y HORA | B23: Presión atmosférica (hPa) | C23: Precipitación (mm) | D23: Temperatura ambiental (°C) | E23: Humedad relativa (%) | F23: Velocidad de Viento (m/s) | G23: Dirección de Viento (°) | H23: Radiación Solar (W/m²)
A24: 45992 | B24: 989.5 | C24: 0 | D24: 18 | E24: 82.7 | F24: 2.1 | G24: 185.4 | H24: 0
A25: 45992.042 | B25: 989.3 | C25: 0 | D25: 17.8 | E25: 83.9 | F25: 2.3 | G25: 192.4 | H25: 0
A26: 45992.083 | B26: 989.1 | C26: 0 | D26: 17.6 | E26: 84.5 | F26: 2.7 | G26: 181.9 | H26: 0
A27: 45992.125 | B27: 988.6 | C27: 0 | D27: 17.3 | E27: 85.8 | F27: 3.6 | G27: 169.8 | H27: 0
A28: 45992.167 | B28: 989.1 | C28: 0 | D28: 17.2 | E28: 86.5 | F28: 2.7 | G28: 166.4 | H28: 0
A29: 45992.208 | B29: 989.7 | C29: 0 | D29: 17.2 | E29: 86.9 | F29: 2.6 | G29: 168.7 | H29: 44.6
A30: 45992.25 | B30: 989.7 | C30: 0 | D30: 18.3 | E30: 83.9 | F30: 2.8 | G30: 175.9 | H30: 235.6
A31: 45992.292 | B31: 989.2 | C31: 0 | D31: 19.2 | E31: 80.4 | F31: 4.6 | G31: 175.2 | H31: 502.4
A32: 45992.333 | B32: 989 | C32: 0 | D32: 19.8 | E32: 76.6 | F32: 6.2 | G32: 181.1 | H32: 717.3
A33: 45992.375 | B33: 988.4 | C33: 0 | D33: 20.1 | E33: 75.8 | F33: 7 | G33: 194.4 | H33: 909.5
A34: 45992.417 | B34: 987.9 | C34: 0 | D34: 20.2 | E34: 76.7 | F34: 7.3 | G34: 184 | H34: 1015.2
A35: 45992.458 | B35: 987.3 | C35: 0 | D35: 20.5 | E35: 76.2 | F35: 7.4 | G35: 187.7 | H35: 1043.5
... A320: 46004.333 | B320: 987.4 | C320: 0 | D320: 20.9 | E320: 65.2 | F320: 3.7 | G320: 186.6 | H320: 700.2
A321: 46004.375 | B321: MA | C321: MA | D321: MA | E321: MA | F321: MA | G321: MA | H321: MA
A322: 46004.417 | B322: MA | C322: MA | D322: MA | E322: MA | F322: MA | G322: MA | H322: MA
A323: 46004.458 | B323: MA | C323: MA | D323: MA | E323: MA | F323: MA | G323: MA | H323: MA
A324: 46004.5 | B324: MA | C324: MA | D324: MA | E324: MA | F324: MA | G324: MA | H324: MA
A325: 46004.542 | B325: MA | C325: MA | D325: MA | E325: MA | F325: MA | G325: MA | H325: MA
A326: 46004.583 | B326: MA | C326: MA | D326: MA | E326: MA | F326: MA | G326: MA | H326: MA
A327: 46004.625 | B327: MA | C327: MA | D327: MA | E327: MA | F327: MA | G327: MA | H327: MA
A328: 46004.667 | B328: MA | C328: MA | D328: MA | E328: MA | F328: MA | G328: MA | H328: MA
A329: 46004.708 | B329: MA | C329: MA | D329: MA | E329: MA | F329: MA | G329: MA | H329: MA
A330: 46004.75 | B330: MA | C330: MA | D330: MA | E330: MA | F330: MA | G330: MA | H330: MA
A331: 46004.792 | B331: MA | C331: MA | D331: MA | E331: MA | F331: MA | G331: MA | H331: MA
A332: 46004.833 | B332: MA | C332: MA | D332: MA | E332: MA | F332: MA | G332: MA | H332: MA
... A376: 46006.667 | B376: MA | C376: MA | D376: MA | E376: MA | F376: MA | G376: MA | H376: MA
A377: 46006.708 | B377: 987.8 | C377: 0 | D377: 21.4 | E377: 63.9 | F377: 4.4 | G377: 171.2 | H377: 139
A378: 46006.75 | B378: 988.5 | C378: 0 | D378: 20.4 | E378: 68.3 | F378: 4 | G378: 170.4 | H378: 6.9
A379: 46006.792 | B379: 989 | C379: 0 | D379: 19.8 | E379: 71.3 | F379: 4.1 | G379: 176.6 | H379: 0
A380: 46006.833 | B380: 989.8 | C380: 0 | D380: 19.5 | E380: 73.9 | F380: 3.8 | G380: 163.6 | H380: 0
A381: 46006.875 | B381: 990 | C381: 0 | D381: 19.5 | E381: 74.3 | F381: 3.5 | G381: 152.9 | H381: 0
A382: 46006.917 | B382: 990 | C382: 0 | D382: 19.4 | E382: 72.3 | F382: 3.7 | G382: 139.6 | H382: 0
A383: 46006.958 | B383: 989.6 | C383: 0 | D383: 19.2 | E383: 70.6 | F383: 2.9 | G383: 131.5 | H383: 0
A384: 46007 | B384: 988.9 | C384: 0 | D384: 19.1 | E384: 69.8 | F384: 1.9 | G384: 132.8 | H384: 0
A385: 46007.042 | B385: 988.4 | C385: 0 | D385: 19 | E385: 71.9 | F385: 1.3 | G385: 169.3 | H385: 0
A386: 46007.083 | B386: 987.7 | C386: 0 | D386: 19.1 | E386: 74.5 | F386: 2.1 | G386: 168.8 | H386: 0
A387: 46007.125 | B387: 987.3 | C387: 0 | D387: 19.6 | E387: 70.8 | F387: 0.9 | G387: 131.9 | H387: 0
A388: 46007.167 | B388: 987.7 | C388: 0 | D388: 19.8 | E388: 70 | F388: 0.3 | G388: 173.5 | H388: 0
... A767: 46022.958 | B767: 989.1 | C767: 0 | D767: 21.2 | E767: 76.1 | F767: 3.2 | G767: 177.9 | H767: 0
A768: Promedio | B768: =IFERROR(AVERAGE(B24:B743),"") -> 988.10166 | C768: =IFERROR(SUM(C24:C743),"") -> 0 | D768: =IFERROR(AVERAGE(D24:D743),"") -> 20.52003 | E768: =IFERROR(AVERAGE(E24:E743),"") -> 75.468223 | F768: =IFERROR(AVERAGE(F24:F743),"") -> 3.4462349 | G768: NA | H768: =IFERROR(AVERAGE(H24:H743),"") -> 296.3628
A769: Valor Maximo | B769: =IF(B768="","",MAX(B24:B743)) -> 991.6 | C769: =IF(C768="","",MAX(C24:C743)) -> 0 | D769: =IF(D768="","",MAX(D24:D743)) -> 23.6 | E769: =IF(E768="","",MAX(E24:E743)) -> 89.2 | F769: =IF(F768="","",MAX(F24:F743)) -> 7.5 | G769: NA | H769: =IF(H768="","",MAX(H24:H743)) -> 1119.3
A770: Valor Mínimo | B770: =IF(B768="","",MIN(B24:B743)) -> 984.2 | C770: =IF(C768="","",MIN(C24:C743)) -> 0 | D770: =IF(D768="","",MIN(D24:D743)) -> 17.1 | E770: =IF(E768="","",MIN(E24:E743)) -> 57 | F770: =IF(F768="","",MIN(F24:F743)) -> 0.1 | G770: NA | H770: =IF(H768="","",MIN(H24:H743)) -> 0
A771: Nota.- Los resultados obtenidos en el periodo de diciembre se consideran datos referenciales.
A772: MA: Mantenimiento
A776: Firmado por: | C776: Revisado por: | G776: Aprobado por:
A777: Operador de ensayos de aire | C777: Gestor de ensayos de aire | G777: Gestor QA/QC - Aire

Sheet Regresion
A1: Po/Pa | B1: 2 | D1: 4 | G1: Po/Pa | H1: 4 | I1: 6 | N1: Po/Pa | O1: 6 | P1: 8
A2: 0.912 | B2: =ROUND(1.2636*A2-0.0719,3) -> 1.081 | D2: =ROUND(1.2636*A2-0.0681,3) -> 1.084 | G2: 0.912 | H2: =ROUND(1.2636*G2-0.0681,3) -> 1.084 | I2: =ROUND(1.2364*G2-0.0391,3) -> 1.088 | N2: 0.922 | O2: =1.2364*N2-0.0391 -> 1.1008608 | P2: =1.2636*N2-0.0611 -> 1.1039392
A3: 0.93 | B3: 1.103 | D3: 1.107 | G3: 0.93 | H3: 1.107 | I3: 1.111 | N3: 0.93 | O3: 1.111 | P3: 1.114
A4: 0.931 | B4: 1.105 | D4: 1.108 | G4: 0.931 | H4: 1.108 | I4: 1.112 | N4: 0.931 | O4: 1.112 | P4: 1.115
A5: 0.932 | B5: 1.106 | D5: 1.11 | G5: 0.932 | H5: 1.11 | I5: 1.113 | N5: 0.932 | O5: 1.113 | P5: 1.117
A6: 0.933 | B6: 1.107 | D6: 1.111 | G6: 0.933 | H6: 1.111 | I6: 1.114 | N6: 0.933 | O6: 1.114 | P6: 1.118
A7: 0.934 | B7: 1.108 | D7: 1.112 | G7: 0.934 | H7: 1.112 | I7: 1.116 | N7: 0.934 | O7: 1.116 | P7: 1.119
A8: 0.935 | B8: 1.11 | D8: 1.113 | G8: 0.935 | H8: 1.113 | I8: 1.117 | N8: 0.935 | O8: 1.117 | P8: 1.12
A9: 0.936 | B9: 1.111 | D9: 1.115 | G9: 0.936 | H9: 1.115 | I9: 1.118 | N9: 0.936 | O9: 1.118 | P9: 1.122
A10: 0.937 | B10: 1.112 | D10: 1.116 | G10: 0.937 | H10: 1.116 | I10: 1.119 | N10: 0.937 | O10: 1.119 | P10: 1.123
A11: 0.938 | B11: 1.113 | D11: 1.117 | G11: 0.938 | H11: 1.117 | I11: 1.121 | N11: 0.938 | O11: 1.121 | P11: 1.124
A12: 0.939 | B12: 1.115 | D12: 1.118 | G12: 0.939 | H12: 1.118 | I12: 1.122 | N12: 0.939 | O12: 1.122 | P12: 1.125
A13: 0.94 | B13: 1.116 | D13: 1.12 | G13: 0.94 | H13: 1.12 | I13: 1.123 | N13: 0.94 | O13: 1.123 | P13: 1.127

Sheet Hoja2
A1: Aluminio | B1: Aluminio (Al) | C1: 64.6
A2: Antimonio | B2: Antimonio (Sb) | C2: 0.813
A3: Arsénico | B3: Arsenico (As) | C3: 2.553
A4: Bario | B4: Bario (Ba) | C4: 5.135
A5: Berilio | B5: Berilio (Be) | C5: < 0,010
A6: Bismuto | B6: Bismuto (Bi) | C6: 0.5814
A7: Boro | B7: Boro (B) | C7: 1.96
A8: Cadmio | B8: Cadmio (Cd) | C8: 0.382
A9: Calcio | B9: Calcio (Ca) | C9: 1150
A10: Cobalto | B10: Cobalto (Co) | C10: 1.445
A11: Cobre | B11: Cobre (Cu) | C11: 32.34
A12: Cromo | B12: Cromo (Cr) | C12: < 2,082
A13: Estaño | B13: Estaño (Sn) | C13: < 0,067
A14: Estroncio | B14: Estroncio (Sr) | C14: 2.633
A15: Fósforo | B15: Fósforo (P) | C15: 215.6
A16: Hierro | B16: Hierro (Fe) | C16: 666.9
A17: Litio | B17: Litio (Li) | C17: < 0,09
A18: Magnesio | B18: Magnesio (Mg) | C18: 150.6
A19: Manganeso | B19: Manganeso (Mn) | C19: 123.5
A20: Mercurio | B20: Mercurio (Hg) | C20: < 0,021
A21: Molibdeno | B21: Molibdeno (Mo) | C21: 1.352
A22: Níquel | B22: Níquel (Ni) | C22: 2.621
A23: Plata | B23: Plata (Ag) | C23: 0.2869
A24: Plomo | B24: Plomo (Pb) | C24: 42.71
A25: Potasio | B25: Potasio (K) | C25: 50.6
A26: Selenio | B26: Selenio (Se) | C26: < 0,421
A27: Silicio | B27: Silicio (Si) | C27: 71.7
A28: Sodio | B28: Sodio (Na) | C28: < 191,7
A29: Talio | B29: Talio (Tl) | C29: < 0,008
A30: Titanio | B30: Titanio (Ti) | C30: 0.77
A31: Uranio | B31: Uranio (U) | C31: < 0,0071
A32: Vanadio | B32: Vanadio (V) | C32: < 0,071
A33: Zinc | B33: Zinc (Zn) | C33: 92.06

Sheet A.2.1. Promedio meteorologia
E1: Tabla A.2.1 Promedio de datos meteorológicos
D6: TÍTULO DEL ESTUDIO: | E6: EVALUACIÓN DE SEGUIMIENTO DE LA CALIDAD DEL AIRE EN EL ÁMBITO DE LA ZONA INDUSTRIAL DE VENTANILLA - MI PERÚ, UBICADO EN LOS DISTRITOS DE VENTANILLA Y MI PERÚ, PROVINCIA CONSTITUCIONAL DEL CALLAO, DURANTE JULIO DE 2020
D8: PUNTO DE MONITOREO: | E8: CA-VMP-6 | F8: CÓDIGO DE ACCIÓN: | G8: 0001-7-2020-411
D10: DATOS DEL EQUIPO
D12: EQUIPO: | E12: ESTACIÓN METEOROLÓGICA | F12: MARCA: | G12: DAVIS
D14: MODELO: | E14: VANTAGE PRO 2 | F14: SERIE: | G14: BB180411015
D16: DIA 1
A17: Fecha | B17: Hora | D17: Fecha y hora | E17: Presión atmosférica (mmHg) | F17: Temperatura ambiental (°C) | G17: Humedad relativa (%) | H17: Velocidad de Viento (m/s) | L17: P | M17: T | N17: HR | O17: WS
A18: 43881 | B18: 0.45833333 | K18: Mínimo | L18: =MIN(E18:E41,E46:E69,E74:E97,E102:E125,E130:E153) -> 0 | M18: =MIN(F18:F41,F46:F69,F74:F97,F102:F125,F130:F153) -> 0 | N18: =MIN(G18:G41,G46:G69,G74:G97,G102:G125,G130:G153) -> 0 | O18: =MIN(H18:H41,H46:H69,H74:H97,H102:H125,H130:H153) -> 0
A19: =A18 -> 43881 | B19: 0.5 | K19: Máximo | L19: =MAX(E18:E41,E46:E69,E74:E97,E102:E125,E130:E153) -> 0 | M19: =MAX(F18:F41,F46:F69,F74:F97,F102:F125,F130:F153) -> 0 | N19: =MAX(G18:G41,G46:G69,G74:G97,G102:G125,G130:G153) -> 0 | O19: =MAX(H18:H41,H46:H69,H74:H97,H102:H125,H130:H153) -> 0
A20: =A19 -> 43881 | B20: 0.54166667 | K20: Promedio | L20: =AVERAGE(E18:E41,E46:E69,E74:E97,E102:E125,E130:E153) -> #DIV/0! | M20: =AVERAGE(F18:F41,F46:F69,F74:F97,F102:F125,F130:F153) -> #DIV/0! | N20: =AVERAGE(G18:G41,G46:G69,G74:G97,G102:G125,G130:G153) -> #DIV/0! | O20: =AVERAGE(H18:H41,H46:H69,H74:H97,H102:H125,H130:H153) -> #DIV/0!
A21: =A20 -> 43881 | B21: 0.58333333 | K21: Desv Est | L21: =STDEV(E18:E41,E46:E69,E74:E97,E102:E125,E130:E153) -> #DIV/0! | M21: =STDEV(F18:F41,F46:F69,F74:F97,F102:F125,F130:F153) -> #DIV/0! | N21: =STDEV(G18:G41,G46:G69,G74:G97,G102:G125,G130:G153) -> #DIV/0! | O21: =STDEV(H18:H41,H46:H69,H74:H97,H102:H125,H130:H153) -> #DIV/0!
A22: =A21 -> 43881 | B22: 0.625 | K22: n | L22: =COUNT(E18:E41,E46:E69,E74:E97,E102:E125,E130:E153) -> 0 | M22: =COUNT(F18:F41,F46:F69,F74:F97,F102:F125,F130:F153) -> 0 | N22: =COUNT(G18:G41,G46:G69,G74:G97,G102:G125,G130:G153) -> 0 | O22: =COUNT(H18:H41,H46:H69,H74:H97,H102:H125,H130:H153) -> 0
A23: =A22 -> 43881 | B23: 0.66666667 | K23: SE | L23: =L21/SQRT(L22) -> #DIV/0! | M23: =M21/SQRT(M22) -> #DIV/0! | N23: =N21/SQRT(N22) -> #DIV/0! | O23: =O21/SQRT(O22) -> #DIV/0!
A24: =A23 -> 43881 | B24: 0.70833333
A25: =A24 -> 43881 | B25: 0.75
A26: =A25 -> 43881 | B26: 0.79166667
A27: =A26 -> 43881 | B27: 0.83333333
A28: =A27 -> 43881 | B28: 0.875
A29: =A28 -> 43881 | B29: 0.91666667
A30: =A29 -> 43881 | B30: 0.95833333
A31: =A30 -> 43881 | B31: 1
A32: =A31 -> 43881 | B32: 1.0416667
A33: =A32 -> 43881 | B33: 1.0833333
A34: =A33 -> 43881 | B34: 1.125
A35: =A34 -> 43881 | B35: 1.1666667
... A41: =A40 -> 43881 | B41: 1.4166667
D42: Promedio DIA 1 | E42: =AVERAGE(E18:E41) -> #DIV/0! | F42: =AVERAGE(F18:F41) -> #DIV/0! | G42: =AVERAGE(G18:G41) -> #DIV/0! | H42: =AVERAGE(H18:H41) -> #DIV/0!
D44: DIA 2
A45: Fecha | B45: Hora | D45: Fecha | E45: Presión atmosférica (mmHg) | F45: Temperatura ambiental (°C) | G45: Humedad relativa (%) | H45: Velocidad de Viento (m/s)
A46: =#REF!+4 -> #REF! | B46: 0.45833333
A47: =A46 -> #REF! | B47: 0.5
A48: =A47 -> #REF! | B48: 0.54166667
A49: =A48 -> #REF! | B49: 0.58333333
A50: =A49 -> #REF! | B50: 0.625
A51: =A50 -> #REF! | B51: 0.66666667
A52: =A51 -> #REF! | B52: 0.70833333
A53: =A52 -> #REF! | B53: 0.75
A54: =A53 -> #REF! | B54: 0.79166667
A55: =A54 -> #REF! | B55: 0.83333333
A56: =A55 -> #REF! | B56: 0.875
A57: =A56 -> #REF! | B57: 0.91666667
A58: =A57 -> #REF! | B58: 0.95833333
... A69: =A68 -> #REF! | B69: 1.4166667
D70: Promedio DIA 2 | E70: =AVERAGE(E46:E69) -> #DIV/0! | F70: =AVERAGE(F46:F69) -> #DIV/0! | G70: =AVERAGE(G46:G69) -> #DIV/0! | H70: =AVERAGE(H46:H69) -> #DIV/0!
D72: DIA 3
A73: Fecha | B73: Hora | D73: Fecha | E73: Presión atmosférica (mmHg) | F73: Temperatura ambiental (°C) | G73: Humedad relativa (%) | H73: Velocidad de Viento (m/s)
A74: =#REF!+1 -> #REF! | B74: 0.45833333
A75: =A74 -> #REF! | B75: 0.5
A76: =A75 -> #REF! | B76: 0.54166667
A77: =A76 -> #REF! | B77: 0.58333333
A78: =A77 -> #REF! | B78: 0.625
A79: =A78 -> #REF! | B79: 0.66666667
A80: =A79 -> #REF! | B80: 0.70833333
A81: =A80 -> #REF! | B81: 0.75
A82: =A81 -> #REF! | B82: 0.79166667
A83: =A82 -> #REF! | B83: 0.83333333
A84: =A83 -> #REF! | B84: 0.875
A85: =A84 -> #REF! | B85: 0.91666667
A86: =A85 -> #REF! | B86: 0.95833333
... A97: =A96 -> #REF! | B97: 1.4166667
D98: Promedio DIA 3 | E98: =AVERAGE(E74:E97) -> #DIV/0! | F98: =AVERAGE(F74:F97) -> #DIV/0! | G98: =AVERAGE(G74:G97) -> #DIV/0! | H98: =AVERAGE(H74:H97) -> #DIV/0!
D100: DIA 4
A101: Fecha | B101: Hora | D101: Fecha | E101: Presión atmosférica (mmHg) | F101: Temperatura ambiental (°C) | G101: Humedad relativa (%) | H101: Velocidad de Viento (m/s)
A102: =#REF!+1 -> #REF! | B102: 0.45833333
A103: =A102 -> #REF! | B103: 0.5
A104: =A103 -> #REF! | B104: 0.54166667
A105: =A104 -> #REF! | B105: 0.58333333
A106: =A105 -> #REF! | B106: 0.625
A107: =A106 -> #REF! | B107: 0.66666667
A108: =A107 -> #REF! | B108: 0.70833333
A109: =A108 -> #REF! | B109: 0.75
A110: =A109 -> #REF! | B110: 0.79166667
A111: =A110 -> #REF! | B111: 0.83333333
A112: =A111 -> #REF! | B112: 0.875
A113: =A112 -> #REF! | B113: 0.91666667
A114: =A113 -> #REF! | B114: 0.95833333
... A125: =A124 -> #REF! | B125: 1.4166667
D126: Promedio DIA 4 | E126: =AVERAGE(E102:E125) -> #DIV/0! | F126: =AVERAGE(F102:F125) -> #DIV/0! | G126: =AVERAGE(G102:G125) -> #DIV/0! | H126: =AVERAGE(H102:H125) -> #DIV/0!
D128: DIA 5
A129: Fecha | B129: Hora | D129: Fecha | E129: Presión atmosférica (mmHg) | F129: Temperatura ambiental (°C) | G129: Humedad relativa (%) | H129: Velocidad de Viento (m/s)
A130: =#REF!+1 -> #REF! | B130: 0.45833333
A131: =A130 -> #REF! | B131: 0.5
A132: =A131 -> #REF! | B132: 0.54166667
A133: =A132 -> #REF! | B133: 0.58333333
A134: =A133 -> #REF! | B134: 0.625
A135: =A134 -> #REF! | B135: 0.66666667
A136: =A135 -> #REF! | B136: 0.70833333
A137: =A136 -> #REF! | B137: 0.75
A138: =A137 -> #REF! | B138: 0.79166667
A139: =A138 -> #REF! | B139: 0.83333333
A140: =A139 -> #REF! | B140: 0.875
A141: =A140 -> #REF! | B141: 0.91666667
A142: =A141 -> #REF! | B142: 0.95833333
... A153: =A152 -> #REF! | B153: 1.4166667
D154: Promedio DIA 5 | E154: =AVERAGE(E130:E153) -> #DIV/0! | F154: =AVERAGE(F130:F153) -> #DIV/0! | G154: =AVERAGE(G130:G153) -> #DIV/0! | H154: =AVERAGE(H130:H153) -> #DIV/0!

Sheet A.2.2. Promedio diarios (T y P)
F2: Tabla A.2.2. Promedios diarios de temperatura y presión para el cálculo de concentración
B7: TÍTULO DEL ESTUDIO: | D7: ='A.2.1. Promedio meteorologia'!E6 -> EVALUACIÓN DE SEGUIMIENTO DE LA CALIDAD DEL AIRE EN EL ÁMBITO DE LA ZONA INDUSTRIAL DE VENTANILLA - MI PERÚ, UBICADO EN LOS DISTRITOS DE VENTANILLA Y MI PERÚ, PROVINCIA CONSTITUCIONAL DEL CALLAO, DURANTE JULIO DE 2020
B9: PUNTO DE MONITOREO: | D9: =+'A.2.1. Promedio meteorologia'!E8 -> CA-VMP-6 | F9: CÓDIGO DE ACCIÓN: | H9: =+'A.2.1. Promedio meteorologia'!G8 -> 0001-7-2020-411 | J9: DÍAS DE MONITOREO: | N9: 5
B11: MEDICIONES PROMEDIO (DATOS DÍARIOS)
B13: DÍA 1 | C13: INICIO: | F13: FINAL: | I13: PERIODO : | J13: =G13-D13 -> 0 | L13: horas | M13: =$J13*60*24 -> 0 | N13: min
B15: Datos horarios registrados: | E15: =J13 -> 0 | F15: horas
B17: Temperatura (°C): | E17: ='A.2.1. Promedio meteorologia'!F42 -> #DIV/0! | F17: Presión (mm Hg): | H17: ='A.2.1. Promedio meteorologia'!E42 -> #DIV/0!
B20: DÍA 2 | C20: INICIO: | F20: FINAL: | I20: PERIODO : | J20: =G20-D20 -> 0 | L20: horas | M20: =$J20*60*24 -> 0 | N20: min
B22: Datos horarios registrados: | E22: =J20 -> 0 | F22: horas
B24: Temperatura (°C): | E24: ='A.2.1. Promedio meteorologia'!F70 -> #DIV/0! | F24: Presión (mm Hg): | H24: ='A.2.1. Promedio meteorologia'!E70 -> #DIV/0!
B27: DÍA 3 | C27: INICIO: | F27: FINAL: | I27: PERIODO : | J27: =G27-D27 -> 0 | L27: horas | M27: =$J27*60*24 -> 0 | N27: min
B29: Datos horarios registrados: | E29: =J27 -> 0 | F29: horas
B31: Temperatura (°C): | E31: ='A.2.1. Promedio meteorologia'!F98 -> #DIV/0! | F31: Presión (mm Hg): | H31: ='A.2.1. Promedio meteorologia'!E98 -> #DIV/0!
B34: DÍA 4 | C34: INICIO: | F34: FINAL: | I34: PERIODO : | J34: =G34-D34 -> 0 | L34: horas | M34: =$J34*60*24 -> 0 | N34: min
B36: Datos horarios registrados: | E36: =J34 -> 0 | F36: horas
B38: Temperatura (°C): | E38: ='A.2.1. Promedio meteorologia'!F126 -> #DIV/0! | F38: Presión (mm Hg): | H38: ='A.2.1. Promedio meteorologia'!E126 -> #DIV/0!
B41: DÍA 5 | C41: INICIO: | F41: FINAL: | I41: PERIODO : | J41: =G41-D41 -> 0 | L41: horas | M41: =$J41*60*24 -> 0 | N41: min
B43: Datos horarios registrados: | E43: =J41 -> 0 | F43: horas
B45: Temperatura (°C): | E45: ='A.2.1. Promedio meteorologia'!F154 -> #DIV/0! | F45: Presión (mm Hg): | H45: ='A.2.1. Promedio meteorologia'!E154 -> #DIV/0!
B48: OBSERVACIONES:

Sheet A.2.3. Flujo promedio
D2: Tabla A.2.3. Flujo de muestreo promedio para muestreadores de alto volumen
B7: TÍTULO DEL ESTUDIO: | D7: =+'A.2.1. Promedio meteorologia'!E6 -> EVALUACIÓN DE SEGUIMIENTO DE LA CALIDAD DEL AIRE EN EL ÁMBITO DE LA ZONA INDUSTRIAL DE VENTANILLA - MI PERÚ, UBICADO EN LOS DISTRITOS DE VENTANILLA Y MI PERÚ, PROVINCIA CONSTITUCIONAL DEL CALLAO, DURANTE JULIO DE 2020
B9: ESTACIÓN DE MONITOREO: | D9: ='A.2.2. Promedio diarios (T y P)'!D9:D9 -> CA-VMP-6 | F9: CÓDIGO DE ACCIÓN: | H9: =+'A.2.2. Promedio diarios (T y P)'!H9 -> 0001-7-2020-411 | I9: CANTIDAD DE DÍAS | J9: =+'A.2.2. Promedio diarios (T y P)'!N9 -> 5
B11: DATOS DE LOS EQUIPOS
B13: Barómetro | D13: MARCA: | E13: - | F13: MODELO: | G13: - | H13: SERIE: | I13: -
B15: Venturi PM-10 | D15: MARCA: | F15: THERMO SCIENTIFIC
D16: MODELO: | F16: HI VOL
D17: SERIE: | F17: P9328X
B19: CÁLCULOS
B21: PM-10
B22: DÍA 1 | C22: Fecha Inicio: | E22: =+'A.2.2. Promedio diarios (T y P)'!D13 -> 0 | G22: Fecha Final: | I22: =+'A.2.2. Promedio diarios (T y P)'!G13 -> 0 | M22: ∆ Flujo: | N22: =AVERAGE(M24,M32,M40,M48,M56) -> 0.67
B24: Presión inicial: | D24: 20.2 | E24: pulg H2O | G24: Presión final: | I24: 21.4 | J24: pulg H2O | M24: =I24-D24 -> 1.2
B26: PRESIÓN ATMOSFÉRICA | F26: Ta (°C) | G26: T (°C) inferior | H26: T (°C) superior | I26: Flujo de muestreo, en m3/min (Qa)
B27: Δh (pulg H2O) | C27: Pf (mm Hg) | D27: Pa (mm Hg) | E27: Po/Pa | G27: =+H27-2 -> #DIV/0! | H27: =EVEN(F28) -> #DIV/0!
B28: =AVERAGE(D24,I24) -> 20.8 | C28: =25.4*B28/13.61 -> 38.818516 | D28: =+'A.2.2. Promedio diarios (T y P)'!H17 -> #DIV/0! | E28: =1-(C28/D28) -> #DIV/0! | F28: =+'A.2.2. Promedio diarios (T y P)'!E17 -> #DIV/0! | G28: 1.15 | H28: 1.153 | I28: =-(H28-G28)/(H27-G27)*(H27-F28)+H28 -> #DIV/0!
B30: DÍA 2 | C30: Fecha Inicio: | E30: =+'A.2.2. Promedio diarios (T y P)'!D20 -> 0 | G30: Fecha Final: | I30: =+'A.2.2. Promedio diarios (T y P)'!G20 -> 0
B32: Presión inicial: | D32: 21.3 | E32: pulg H2O | G32: Presión final: | I32: 21.6 | J32: pulg H2O | M32: =I32-D32 -> 0.3
B34: PRESIÓN ATMOSFÉRICA | F34: Ta (°C) | G34: T (°C) inferior | H34: T (°C) superior | I34: Flujo de muestreo, en m3/min (Qa)
B35: Δh (pulg H2O) | C35: Pf (mm Hg) | D35: Pa (mm Hg) | E35: Po/Pa | G35: =+H35-2 -> #DIV/0! | H35: =EVEN(F36) -> #DIV/0!
B36: =AVERAGE(D32,I32) -> 21.45 | C36: =25.4*B36/13.61 -> 40.031594 | D36: =+'A.2.2. Promedio diarios (T y P)'!H24 -> #DIV/0! | E36: =1-(C36/D36) -> #DIV/0! | F36: =+'A.2.2. Promedio diarios (T y P)'!E24 -> #DIV/0! | G36: 1.147 | H36: 1.151 | I36: =-(H36-G36)/(H35-G35)*(H35-F36)+H36 -> #DIV/0!
B38: DÍA 3 | C38: Fecha Inicio: | E38: =+'A.2.2. Promedio diarios (T y P)'!D27 -> 0 | G38: Fecha Final: | I38: =+'A.2.2. Promedio diarios (T y P)'!G27 -> 0
B40: Presión inicial: | D40: 20.9 | E40: pulg H2O | G40: Presión final: | I40: 21.5 | J40: pulg H2O | M40: =I40-D40 -> 0.6
B42: PRESIÓN ATMOSFÉRICA | F42: Ta (°C) | G42: T (°C) inferior | H42: T (°C) superior | I42: Flujo de muestreo, en m3/min (Qa)
B43: Δh (pulg H2O) | C43: Pf (mm Hg) | D43: Pa (mm Hg) | E43: Po/Pa | G43: =+H43-2 -> #DIV/0! | H43: =EVEN(F44) -> #DIV/0!
B44: =AVERAGE(D40,I40) -> 21.2 | C44: =25.4*B44/13.61 -> 39.565026 | D44: =+'A.2.2. Promedio diarios (T y P)'!H31 -> #DIV/0! | E44: =1-(C44/D44) -> #DIV/0! | F44: =+'A.2.2. Promedio diarios (T y P)'!E31 -> #DIV/0! | G44: 1.148 | H44: 1.152 | I44: =-(H44-G44)/(H43-G43)*(H43-F44)+H44 -> #DIV/0!
B46: DÍA 4 | C46: Fecha Inicio: | E46: =+'A.2.2. Promedio diarios (T y P)'!D34 -> 0 | G46: Fecha Final: | I46: =+'A.2.2. Promedio diarios (T y P)'!G34 -> 0
B48: Presión inicial: | D48: 21.7 | E48: pulg H2O | G48: Presión final: | I48: 22.25 | J48: pulg H2O | M48: =I48-D48 -> 0.55
B50: PRESIÓN ATMOSFÉRICA | F50: Ta (°C) | G50: T (°C) inferior | H50: T (°C) superior | I50: Flujo de muestreo, en m3/min (Qa)
B51: Δh (pulg H2O) | C51: Pf (mm Hg) | D51: Pa (mm Hg) | E51: Po/Pa | G51: =+H51-2 -> #DIV/0! | H51: =EVEN(F52) -> #DIV/0!
B52: =AVERAGE(D48,I48) -> 21.975 | C52: =25.4*B52/13.61 -> 41.011389 | D52: =+'A.2.2. Promedio diarios (T y P)'!H38 -> #DIV/0! | E52: =1-(C52/D52) -> #DIV/0! | F52: =+'A.2.2. Promedio diarios (T y P)'!E38 -> #DIV/0! | G52: 1.146 | H52: 1.149 | I52: =-(H52-G52)/(H51-G51)*(H51-F52)+H52 -> #DIV/0!
B54: DÍA 5 | C54: Fecha Inicio: | E54: =+'A.2.2. Promedio diarios (T y P)'!D41 -> 0 | G54: Fecha Final: | I54: =+'A.2.2. Promedio diarios (T y P)'!G41 -> 0
B56: Presión inicial: | D56: 21.6 | E56: pulg H2O | G56: Presión final: | I56: 22.3 | J56: pulg H2O | M56: =I56-D56 -> 0.7
B58: PRESIÓN ATMOSFÉRICA | F58: Ta (°C) | G58: T (°C) inferior | H58: T (°C) superior | I58: Flujo de muestreo, en m3/min (Qa)
B59: Δh (pulg H2O) | C59: Pf (mm Hg) | D59: Pa (mm Hg) | E59: Po/Pa | G59: =+H59-2 -> #DIV/0! | H59: =EVEN(F60) -> #DIV/0!
B60: =AVERAGE(D56,I56) -> 21.95 | C60: =25.4*B60/13.61 -> 40.964732 | D60: =+'A.2.2. Promedio diarios (T y P)'!H45 -> #DIV/0! | E60: =1-(C60/D60) -> #DIV/0! | F60: =+'A.2.2. Promedio diarios (T y P)'!E45 -> #DIV/0! | G60: 1.146 | H60: 1.149 | I60: =-(H60-G60)/(H59-G59)*(H59-F60)+H60 -> #DIV/0!
B62: DÍA 6 | C62: Fecha Inicio: | E62: =+'A.2.2. Promedio diarios (T y P)'!#REF! -> #REF! | G62: Fecha Final: | I62: =+'A.2.2. Promedio diarios (T y P)'!#REF! -> #REF!
B64: Presión inicial: | E64: pulg H2O | G64: Presión final: | J64: pulg H2O
B66: PRESIÓN ATMOSFÉRICA | F66: Ta (°C) | G66: T (°C) inferior | H66: T (°C) superior | I66: Flujo de muestreo, en m3/min (Qa)
B67: Δh (pulg H2O) | C67: Pf (mm Hg) | D67: Pa (mm Hg) | E67: Po/Pa | G67: =+H67-2 -> #REF! | H67: =EVEN(F68) -> #REF!
B68: =AVERAGE(D64,I64) -> #DIV/0! | C68: =25.4*B68/13.61 -> #DIV/0! | D68: =+'A.2.2. Promedio diarios (T y P)'!#REF! -> #REF! | E68: =1-(C68/D68) -> #DIV/0! | F68: =+'A.2.2. Promedio diarios (T y P)'!#REF! -> #REF! | I68: =-(H68-G68)/(H67-G67)*(H67-F68)+H68 -> #REF!
B70: DÍA 7 | C70: Fecha Inicio: | E70: =+'A.2.2. Promedio diarios (T y P)'!#REF! -> #REF! | G70: Fecha Final: | I70: =+'A.2.2. Promedio diarios (T y P)'!#REF! -> #REF!
B72: Presión inicial: | E72: pulg H2O | G72: Presión final: | J72: pulg H2O
B74: PRESIÓN ATMOSFÉRICA | F74: Ta (°C) | G74: T (°C) inferior | H74: T (°C) superior | I74: Flujo de muestreo, en m3/min (Qa)
B75: Δh (pulg H2O) | C75: Pf (mm Hg) | D75: Pa (mm Hg) | E75: Po/Pa | G75: =+H75-2 -> #REF! | H75: =EVEN(F76) -> #REF!
B76: =AVERAGE(D72,I72) -> #DIV/0! | C76: =25.4*B76/13.61 -> #DIV/0! | D76: =+'A.2.2. Promedio diarios (T y P)'!#REF! -> #REF! | E76: =1-(C76/D76) -> #DIV/0! | F76: =+'A.2.2. Promedio diarios (T y P)'!#REF! -> #REF! | I76: =-(H76-G76)/(H75-G75)*(H75-F76)+H76 -> #REF!
B78: DÍA 8 | C78: Fecha Inicio: | E78: =+'A.2.2. Promedio diarios (T y P)'!#REF! -> #REF! | G78: Fecha Final: | I78: =+'A.2.2. Promedio diarios (T y P)'!#REF! -> #REF!
B80: Presión inicial: | E80: pulg H2O | G80: Presión final: | J80: pulg H2O
B82: PRESIÓN ATMOSFÉRICA | F82: Ta (°C) | G82: T (°C) inferior | H82: T (°C) superior | I82: Flujo prom (m3/min)
B83: Δh (pulg H2O) | C83: Pf (mm Hg) | D83: Pa (mm Hg) | E83: Po/Pa | G83: =+H83-2 -> #REF! | H83: =EVEN(F84) -> #REF!
B84: =AVERAGE(D80,I80) -> #DIV/0! | C84: =25.4*B84/13.61 -> #DIV/0! | D84: =+'A.2.2. Promedio diarios (T y P)'!#REF! -> #REF! | E84: =1-(C84/D84) -> #DIV/0! | F84: =+'A.2.2. Promedio diarios (T y P)'!#REF! -> #REF! | I84: =-(H84-G84)/(H83-G83)*(H83-F84)+H84 -> #REF!
B86: DÍA 9 | C86: Fecha Inicio: | E86: =+'A.2.2. Promedio diarios (T y P)'!#REF! -> #REF! | G86: Fecha Final: | I86: =+'A.2.2. Promedio diarios (T y P)'!#REF! -> #REF!
B88: Presión inicial: | E88: pulg H2O | G88: Presión final: | J88: pulg H2O
B90: PRESIÓN ATMOSFÉRICA | F90: Ta (°C) | G90: T (°C) inferior | H90: T (°C) superior | I90: Flujo prom (m3/min)
B91: Δh (pulg H2O) | C91: Pf (mm Hg) | D91: Pa (mm Hg) | E91: Po/Pa | G91: =+H91-2 -> #REF! | H91: =EVEN(F92) -> #REF!
B92: =AVERAGE(D88,I88) -> #DIV/0! | C92: =25.4*B92/13.61 -> #DIV/0! | D92: =+'A.2.2. Promedio diarios (T y P)'!#REF! -> #REF! | E92: =1-(C92/D92) -> #DIV/0! | F92: =+'A.2.2. Promedio diarios (T y P)'!#REF! -> #REF! | I92: =-(H92-G92)/(H91-G91)*(H91-F92)+H92 -> #REF!
B94: DÍA 10 | C94: Fecha Inicio: | E94: =+'A.2.2. Promedio diarios (T y P)'!#REF! -> #REF! | G94: Fecha Final: | I94: =+'A.2.2. Promedio diarios (T y P)'!#REF! -> #REF!
B96: Presión inicial: | E96: pulg H2O | G96: Presión final: | J96: pulg H2O
B98: PRESIÓN ATMOSFÉRICA | F98: Ta (°C) | G98: T (°C) inferior | H98: T (°C) superior | I98: Flujo prom (m3/min)
B99: Δh (pulg H2O) | C99: Pf (mm Hg) | D99: Pa (mm Hg) | E99: Po/Pa | G99: =+H99-2 -> #REF! | H99: =EVEN(F100) -> #REF!
B100: =AVERAGE(D96,I96) -> #DIV/0! | C100: =25.4*B100/13.61 -> #DIV/0! | D100: =+'A.2.2. Promedio diarios (T y P)'!#REF! -> #REF! | E100: =1-(C100/D100) -> #DIV/0! | F100: =+'A.2.2. Promedio diarios (T y P)'!#REF! -> #REF! | I100: =-(H100-G100)/(H99-G99)*(H99-F100)+H100 -> #REF!
B102: DÍA 11 | C102: Fecha Inicio: | E102: =+'A.2.2. Promedio diarios (T y P)'!#REF! -> #REF! | G102: Fecha Final: | I102: =+'A.2.2. Promedio diarios (T y P)'!#REF! -> #REF!
B104: Presión inicial: | E104: pulg H2O | G104: Presión final: | J104: pulg H2O
B106: PRESIÓN ATMOSFÉRICA | F106: Ta (°C) | G106: T (°C) inferior | H106: T (°C) superior | I106: Flujo prom (m3/min)
B107: Δh (pulg H2O) | C107: Pf (mm Hg) | D107: Pa (mm Hg) | E107: Po/Pa | G107: =+H107-2 -> #REF! | H107: =EVEN(F108) -> #REF!
B108: =AVERAGE(D104,I104) -> #DIV/0! | C108: =25.4*B108/13.61 -> #DIV/0! | D108: =+'A.2.2. Promedio diarios (T y P)'!#REF! -> #REF! | E108: =1-(C108/D108) -> #DIV/0! | F108: =+'A.2.2. Promedio diarios (T y P)'!#REF! -> #REF! | I108: =-(H108-G108)/(H107-G107)*(H107-F108)+H108 -> #REF!
B110: DÍA 12 | C110: Fecha Inicio: | E110: =+'A.2.2. Promedio diarios (T y P)'!#REF! -> #REF! | G110: Fecha Final: | I110: =+'A.2.2. Promedio diarios (T y P)'!#REF! -> #REF!
B112: Presión inicial: | E112: pulg H2O | G112: Presión final: | J112: pulg H2O
B114: PRESIÓN ATMOSFÉRICA | F114: Ta (°C) | G114: T (°C) inferior | H114: T (°C) superior | I114: Flujo prom (m3/min)
B115: Δh (pulg H2O) | C115: Pf (mm Hg) | D115: Pa (mm Hg) | E115: Po/Pa | G115: =+H115-2 -> #REF! | H115: =EVEN(F116) -> #REF!
B116: =AVERAGE(D112,I112) -> #DIV/0! | C116: =25.4*B116/13.61 -> #DIV/0! | D116: =+'A.2.2. Promedio diarios (T y P)'!#REF! -> #REF! | E116: =1-(C116/D116) -> #DIV/0! | F116: =+'A.2.2. Promedio diarios (T y P)'!#REF! -> #REF! | I116: =-(H116-G116)/(H115-G115)*(H115-F116)+H116 -> #REF!
B118: DÍA 13 | C118: Fecha Inicio: | E118: =+'A.2.2. Promedio diarios (T y P)'!#REF! -> #REF! | G118: Fecha Final: | I118: =+'A.2.2. Promedio diarios (T y P)'!#REF! -> #REF!
B120: Presión inicial: | E120: pulg H2O | G120: Presión final: | J120: pulg H2O
B122: PRESIÓN ATMOSFÉRICA | F122: Ta (°C) | G122: T (°C) inferior | H122: T (°C) superior | I122: Flujo prom (m3/min)
B123: Δh (pulg H2O) | C123: Pf (mm Hg) | D123: Pa (mm Hg) | E123: Po/Pa | G123: =+H123-2 -> #REF! | H123: =EVEN(F124) -> #REF!
B124: =AVERAGE(D120,I120) -> #DIV/0! | C124: =25.4*B124/13.61 -> #DIV/0! | D124: =+'A.2.2. Promedio diarios (T y P)'!#REF! -> #REF! | E124: =1-(C124/D124) -> #DIV/0! | F124: =+'A.2.2. Promedio diarios (T y P)'!#REF! -> #REF! | I124: =-(H124-G124)/(H123-G123)*(H123-F124)+H124 -> #REF!
B126: DÍA 14 | C126: Fecha Inicio: | E126: =+'A.2.2. Promedio diarios (T y P)'!#REF! -> #REF! | G126: Fecha Final: | I126: =+'A.2.2. Promedio diarios (T y P)'!#REF! -> #REF!
B128: Presión inicial: | E128: pulg H2O | G128: Presión final: | J128: pulg H2O
B130: PRESIÓN ATMOSFÉRICA | F130: Ta (°C) | G130: T (°C) inferior | H130: T (°C) superior | I130: Flujo prom (m3/min)
B131: Δh (pulg H2O) | C131: Pf (mm Hg) | D131: Pa (mm Hg) | E131: Po/Pa | G131: =+H131-2 -> #REF! | H131: =EVEN(F132) -> #REF!
B132: =AVERAGE(D128,I128) -> #DIV/0! | C132: =25.4*B132/13.61 -> #DIV/0! | D132: =+'A.2.2. Promedio diarios (T y P)'!#REF! -> #REF! | E132: =1-(C132/D132) -> #DIV/0! | F132: =+'A.2.2. Promedio diarios (T y P)'!#REF! -> #REF! | I132: =-(H132-G132)/(H131-G131)*(H131-F132)+H132 -> #REF!
B134: DÍA 15 | C134: Fecha Inicio: | E134: =+'A.2.2. Promedio diarios (T y P)'!#REF! -> #REF! | G134: Fecha Final: | I134: =+'A.2.2. Promedio diarios (T y P)'!#REF! -> #REF!
B136: Presión inicial: | E136: pulg H2O | G136: Presión final: | J136: pulg H2O
B138: PRESIÓN ATMOSFÉRICA | F138: Ta (°C) | G138: T (°C) inferior | H138: T (°C) superior | I138: Flujo prom (m3/min)
B139: Δh (pulg H2O) | C139: Pf (mm Hg) | D139: Pa (mm Hg) | E139: Po/Pa | G139: =+H139-2 -> #REF! | H139: =EVEN(F140) -> #REF!
B140: =AVERAGE(D136,I136) -> #DIV/0! | C140: =25.4*B140/13.61 -> #DIV/0! | D140: =+'A.2.2. Promedio diarios (T y P)'!#REF! -> #REF! | E140: =1-(C140/D140) -> #DIV/0! | F140: =+'A.2.2. Promedio diarios (T y P)'!#REF! -> #REF! | I140: =-(H140-G140)/(H139-G139)*(H139-F140)+H140 -> #REF!
B142: OBSERVACIONES:
B143: "-" : No aplica.

Sheet A.2.4. Cálculo PM10 y VM
E2: Tabla A.2.4. Concentración de PM10 y el volumen muestreado de metales - alto volumen
B7: TÍTULO DEL ESTUDIO: | E7: =+'A.2.1. Promedio meteorologia'!E6 -> EVALUACIÓN DE SEGUIMIENTO DE LA CALIDAD DEL AIRE EN EL ÁMBITO DE LA ZONA INDUSTRIAL DE VENTANILLA - MI PERÚ, UBICADO EN LOS DISTRITOS DE VENTANILLA Y MI PERÚ, PROVINCIA CONSTITUCIONAL DEL CALLAO, DURANTE JULIO DE 2020
B9: ESTACIÓN DE MONITOREO: | E9: ='A.2.1. Promedio meteorologia'!E8 -> CA-VMP-6 | H9: CÓDIGO DE ACCIÓN: | J9: ='A.2.1. Promedio meteorologia'!G8 -> 0001-7-2020-411
B11: N° | C11: Parámetro | D11: N° Filtro | E11: Fecha Inicio | F11: Fecha Final | G11: Tiempo o periodo de muestreo en minutos (t) | I11: Flujo de muestreo, en m3/min (Qa) | K11: Volumen de muestreo en m3 (Va)* | L11: ΔPeso (µg) ** | M11: Concentración de partículas (µg/m3)
B12: 1 | C12: PM10 | D12: 431014 | E12: =+'A.2.2. Promedio diarios (T y P)'!D13 -> 0 | F12: =+'A.2.2. Promedio diarios (T y P)'!G13 -> 0 | G12: =+'A.2.2. Promedio diarios (T y P)'!M13 -> 0 | I12: =+'A.2.3. Flujo promedio'!I28 -> #DIV/0! | K12: =+I12*G12 -> #DIV/0! | L12: 97400 | M12: =IF(L12="","",L12/K12) -> #DIV/0!
B13: 2 | D13: 431015 | E13: =+'A.2.2. Promedio diarios (T y P)'!D20 -> 0 | F13: =+'A.2.2. Promedio diarios (T y P)'!G20 -> 0 | G13: =+'A.2.2. Promedio diarios (T y P)'!M20 -> 0 | I13: ='A.2.3. Flujo promedio'!I36:J36 -> #DIV/0! | K13: =+I13*G13 -> #DIV/0! | L13: 76000 | M13: =IF(L13="","",L13/K13) -> #DIV/0!
B14: 3 | D14: 431016 | E14: =+'A.2.2. Promedio diarios (T y P)'!D27 -> 0 | F14: =+'A.2.2. Promedio diarios (T y P)'!G27 -> 0 | G14: =+'A.2.2. Promedio diarios (T y P)'!M27 -> 0 | I14: ='A.2.3. Flujo promedio'!I44:J44 -> #DIV/0! | K14: =+I14*G14 -> #DIV/0! | L14: 92300 | M14: =IF(L14="","",L14/K14) -> #DIV/0!
B15: 4 | D15: 431017 | E15: =+'A.2.2. Promedio diarios (T y P)'!D34 -> 0 | F15: =+'A.2.2. Promedio diarios (T y P)'!G34 -> 0 | G15: =+'A.2.2. Promedio diarios (T y P)'!M34 -> 0 | I15: ='A.2.3. Flujo promedio'!I52:J52 -> #DIV/0! | K15: =+I15*G15 -> #DIV/0! | L15: 118200 | M15: =IF(L15="","",L15/K15) -> #DIV/0!
B16: 5 | D16: 431018 | E16: =+'A.2.2. Promedio diarios (T y P)'!D41 -> 0 | F16: =+'A.2.2. Promedio diarios (T y P)'!G41 -> 0 | G16: =+'A.2.2. Promedio diarios (T y P)'!M41 -> 0 | I16: ='A.2.3. Flujo promedio'!I60:J60 -> #DIV/0! | K16: =+I16*G16 -> #DIV/0! | L16: 122400 | M16: =IF(L16="","",L16/K16) -> #DIV/0!
B17: 6 | E17: =+'A.2.2. Promedio diarios (T y P)'!#REF! -> #REF! | F17: =+'A.2.2. Promedio diarios (T y P)'!#REF! -> #REF! | G17: =+'A.2.2. Promedio diarios (T y P)'!#REF! -> #REF! | I17: =+#REF! -> #REF! | K17: =+I17*G17 -> #REF! | M17: =IF(L17="","",L17/K17)
B18: 7 | E18: =+'A.2.2. Promedio diarios (T y P)'!#REF! -> #REF! | F18: =+'A.2.2. Promedio diarios (T y P)'!#REF! -> #REF! | G18: =+'A.2.2. Promedio diarios (T y P)'!#REF! -> #REF! | I18: =+#REF! -> #REF! | K18: =+I18*G18 -> #REF! | M18: =IF(L18="","",L18/K18)
B19: 8 | E19: =+'A.2.2. Promedio diarios (T y P)'!#REF! -> #REF! | F19: =+'A.2.2. Promedio diarios (T y P)'!#REF! -> #REF! | G19: =+'A.2.2. Promedio diarios (T y P)'!#REF! -> #REF! | I19: =+#REF! -> #REF! | K19: =+I19*G19 -> #REF! | M19: =IF(L19="","",L19/K19)
B20: 9 | E20: =+'A.2.2. Promedio diarios (T y P)'!#REF! -> #REF! | F20: =+'A.2.2. Promedio diarios (T y P)'!#REF! -> #REF! | G20: =+'A.2.2. Promedio diarios (T y P)'!#REF! -> #REF! | I20: =+#REF! -> #REF! | K20: =+I20*G20 -> #REF! | M20: =IF(L20="","",L20/K20)
B21: 10 | E21: =+'A.2.2. Promedio diarios (T y P)'!#REF! -> #REF! | F21: =+'A.2.2. Promedio diarios (T y P)'!G9 -> 0 | G21: =+'A.2.2. Promedio diarios (T y P)'!#REF! -> #REF! | I21: =+#REF! -> #REF! | K21: =+I21*G21 -> #REF! | M21: =IF(L21="","",L21/K21)
B22: 11 | E22: =+'A.2.2. Promedio diarios (T y P)'!#REF! -> #REF! | F22: =+'A.2.2. Promedio diarios (T y P)'!#REF! -> #REF! | G22: =+'A.2.2. Promedio diarios (T y P)'!#REF! -> #REF! | I22: =+#REF! -> #REF! | K22: =+I22*G22 -> #REF! | M22: =IF(L22="","",L22/K22)
B23: 12 | E23: =+'A.2.2. Promedio diarios (T y P)'!#REF! -> #REF! | F23: =+'A.2.2. Promedio diarios (T y P)'!#REF! -> #REF! | G23: =+'A.2.2. Promedio diarios (T y P)'!#REF! -> #REF! | I23: =+#REF! -> #REF! | K23: =+I23*G23 -> #REF! | M23: =IF(L23="","",L23/K23)
B24: 13 | E24: =+'A.2.2. Promedio diarios (T y P)'!#REF! -> #REF! | F24: =+'A.2.2. Promedio diarios (T y P)'!#REF! -> #REF! | G24: =+'A.2.2. Promedio diarios (T y P)'!#REF! -> #REF! | I24: =+#REF! -> #REF! | K24: =+I24*G24 -> #REF! | M24: =IF(L24="","",L24/K24)
B25: 14 | E25: =+'A.2.2. Promedio diarios (T y P)'!#REF! -> #REF! | F25: =+'A.2.2. Promedio diarios (T y P)'!#REF! -> #REF! | G25: =+'A.2.2. Promedio diarios (T y P)'!#REF! -> #REF! | I25: =+#REF! -> #REF! | K25: =+I25*G25 -> #REF! | M25: =IF(L25="","",L25/K25)
B26: 15 | E26: =+'A.2.2. Promedio diarios (T y P)'!#REF! -> #REF! | F26: =+'A.2.2. Promedio diarios (T y P)'!#REF! -> #REF! | G26: =+'A.2.2. Promedio diarios (T y P)'!#REF! -> #REF! | I26: =+#REF! -> #REF! | K26: =+I26*G26 -> #REF! | M26: =IF(L26="","",L26/K26)
B28: OBSERVACIONES:
B29: (*) En el caso del material particulado y las sustancias que deben analizarse en la fase de partículas (metales, iones, carbonáceas, otros), el volumen de muestreo se debe expresar en las condiciones ambientales (volumen actual) en términos de temperatura ambiental y presión atmosférica promedio, medidas durante el período de muestreo. (Sección L.1.3 Cálculo de concentraciones señalada en el Protocolo de Monitoreo de la Calidad del aire del MINAM - D.S. N° 010-2019-MINAM). (**) Fuente: Informe de Ensayo N.° 13036/2020, 13042/2020 y 14275/2020 del laboratorio ALS LS Perú S.A.C. "-" : No aplica.

Sheet A.2.5. Cálculo PM 2.5
E2: Tabla A.2.6. Concentración de PM2,5 - bajo volumen
B7: DESCRIPCIÓN: | E7: =+'A.2.1. Promedio meteorologia'!E6 -> EVALUACIÓN DE SEGUIMIENTO DE LA CALIDAD DEL AIRE EN EL ÁMBITO DE LA ZONA INDUSTRIAL DE VENTANILLA - MI PERÚ, UBICADO EN LOS DISTRITOS DE VENTANILLA Y MI PERÚ, PROVINCIA CONSTITUCIONAL DEL CALLAO, DURANTE JULIO DE 2020
B9: ESTACIÓN DE MONITOREO: | E9: =+'A.2.4. Cálculo PM10 y VM'!E9:F9 -> CA-VMP-6 | H9: CÓDIGO DE ACCIÓN: | J9: =+'A.2.3. Flujo promedio'!H9 -> 0001-7-2020-411
B11: N° | C11: Parámetro | D11: N° Filtro | E11: Fecha Inicio | F11: Fecha Final | G11: Tiempo o periodo de muestreo en minutos (t) | I11: Flujo de muestreo, en L/min (Q)* | J11: Volumen de muestreo (m3)* | L11: ΔPeso (µg) ** | M11: Concentración de partículas (µg/m3)
B12: 1 | C12: PM2,5 | D12: - | E12: - | F12: - | G12: - | I12: - | J12: - | L12: - | M12: -
B13: 2 | D13: - | E13: - | F13: - | G13: - | I13: - | J13: - | L13: - | M13: -
B14: 3 | D14: - | E14: - | F14: - | G14: - | I14: - | J14: - | L14: - | M14: -
B15: 4 | D15: - | E15: - | F15: - | G15: - | I15: - | J15: - | L15: - | M15: -
B16: 5 | D16: - | E16: - | F16: - | G16: - | I16: - | J16: - | L16: - | M16: -
B17: 6 | G17: =(F17-E17)*60*24 -> 0 | K17: 23.51 | M17: =IF(L17="","",L17/K17)
B18: 7 | G18: =(F18-E18)*60*24 -> 0 | K18: 23.51 | M18: =IF(L18="","",L18/K18)
B19: 8 | G19: =(F19-E19)*60*24 -> 0 | K19: 23.52 | M19: =IF(L19="","",L19/K19)
B20: 9 | G20: =(F20-E20)*60*24 -> 0 | M20: =IF(L20="","",L20/K20)
B21: 10 | G21: =(F21-E21)*60*24 -> 0 | M21: =IF(L21="","",L21/K21)
B22: 11 | G22: =(F22-E22)*60*24 -> 0 | M22: =IF(L22="","",L22/K22)
B23: 12 | G23: =(F23-E23)*60*24 -> 0 | M23: =IF(L23="","",L23/K23)
B24: 13 | G24: =(F24-E24)*60*24 -> 0 | M24: =IF(L24="","",L24/K24)
B25: 14 | G25: =(F25-E25)*60*24 -> 0 | M25: =IF(L25="","",L25/K25)
B26: 15 | G26: =(F26-E26)*60*24 -> 0 | M26: =IF(L26="","",L26/K26)
B28: OBSERVACIONES:
B29: (*) El flujo y volumen de muestreo para material particulado PM2,5 son registrados por el equipo muestreador de bajo volumen. "-" : No aplica.

Sheet A.2.6. Conc. de Metales PM 10
E2: Tabla A.2.5. Concentraciones de metales en PM10 a temperatura ambiente
B7: TÍTULO DEL ESTUDIO: | E7: =+'A.2.1. Promedio meteorologia'!E6 -> EVALUACIÓN DE SEGUIMIENTO DE LA CALIDAD DEL AIRE EN EL ÁMBITO DE LA ZONA INDUSTRIAL DE VENTANILLA - MI PERÚ, UBICADO EN LOS DISTRITOS DE VENTANILLA Y MI PERÚ, PROVINCIA CONSTITUCIONAL DEL CALLAO, DURANTE JULIO DE 2020
B9: ESTACIÓN DE MONITOREO: | E9: =+'A.2.1. Promedio meteorologia'!E8 -> CA-VMP-6 | G9: CÓDIGO DE ACCIÓN: | I9: ='A.2.1. Promedio meteorologia'!G8 -> 0001-7-2020-411
B11: RESULTADOS DE LABORATORIO
B12: Metal medido en PM10 | D12: Unidad | E12: Fecha
E13: ='A.2.4. Cálculo PM10 y VM'!$E12 -> 0 | F13: ='A.2.4. Cálculo PM10 y VM'!$E13 -> 0 | G13: ='A.2.4. Cálculo PM10 y VM'!$E14 -> 0 | H13: ='A.2.4. Cálculo PM10 y VM'!$E15 -> 0 | I13: ='A.2.4. Cálculo PM10 y VM'!$E16 -> 0 | J13: ='A.2.4. Cálculo PM10 y VM'!$E17 -> #REF! | K13: ='A.2.4. Cálculo PM10 y VM'!$E18 -> #REF! | L13: ='A.2.4. Cálculo PM10 y VM'!$E19 -> #REF! | M13: ='A.2.4. Cálculo PM10 y VM'!$E20 -> #REF! | N13: ='A.2.4. Cálculo PM10 y VM'!$E21 -> #REF! | O13: ='A.2.4. Cálculo PM10 y VM'!$E22 -> #REF! | P13: ='A.2.4. Cálculo PM10 y VM'!$E23 -> #REF! | Q13: ='A.2.4. Cálculo PM10 y VM'!$E24 -> #REF! | R13: ='A.2.4. Cálculo PM10 y VM'!$E25 -> #REF! | S13: ='A.2.4. Cálculo PM10 y VM'!$E26 -> #REF!
B14: Aluminio | C14: Al | D14: µg/mtra | E14: 874.6 | F14: 629.1 | G14: 652.1 | H14: 892 | I14: 847
B15: Antimonio | C15: Sb | D15: µg/mtra | E15: 7.363 | F15: 2.634 | G15: 3.459 | H15: 13.15 | I15: 15.43
B16: Arsénico | C16: As | D16: µg/mtra | E16: 6.409 | F16: 10.42 | G16: 7.33 | H16: 9.694 | I16: 10.3
B17: Bario | C17: Ba | D17: µg/mtra | E17: 31.61 | F17: 18.76 | G17: 22.94 | H17: 27.94 | I17: 35.55
B18: Berilio | C18: Be | D18: µg/mtra | E18: < 0,010 | F18: < 0,010 | G18: < 0,010 | H18: < 0,010 | I18: < 0,010
B19: Bismuto | C19: Bi | D19: µg/mtra | E19: 0.827 | F19: 0.5467 | G19: 0.4976 | H19: 0.7177 | I19: 0.9212
B20: Boro | C20: B | D20: µg/mtra | E20: 4.2 | F20: 3.37 | G20: 5.83 | H20: 5.31 | I20: 4.66
B21: Cadmio | C21: Cd | D21: µg/mtra | E21: 2.606 | F21: 0.982 | G21: 1.711 | H21: 2.4 | I21: 2.508
B22: Calcio | C22: Ca | D22: µg/mtra | E22: 3550 | F22: 3724 | G22: 3165 | H22: 3805 | I22: 4707
B23: Cobalto | C23: Co | D23: µg/mtra | E23: 1.229 | F23: 0.941 | G23: 0.832 | H23: 1.176 | I23: 1.47
B24: Cobre | C24: Cu | D24: µg/mtra | E24: 129.9 | F24: 71.47 | G24: 64.26 | H24: 105.7 | I24: 160.8
B25: Cromo | C25: Cr | D25: µg/mtra | E25: < 2,082 | F25: < 2,082 | G25: < 2,082 | H25: < 2,082 | I25: < 2,082
B26: Estaño | C26: Sn | D26: µg/mtra | E26: 5.458 | F26: 2.107 | G26: 4.044 | H26: 5.96 | I26: 8.295
B27: Estroncio | C27: Sr | D27: µg/mtra | E27: 13.96 | F27: 13.7 | G27: 12.97 | H27: 16.7 | I27: 16.22
B28: Fósforo | C28: P | D28: µg/mtra | E28: 349.2 | F28: 333.8 | G28: 438.6 | H28: 391.6 | I28: 566.1
B29: Hierro | C29: Fe | D29: µg/mtra | E29: 1570 | F29: 1060 | G29: 1115 | H29: 1572 | I29: 1600
B30: Litio | C30: Li | D30: µg/mtra | E30: 0.77 | F30: 0.47 | G30: 0.71 | H30: 0.85 | I30: 0.65
B31: Magnesio | C31: Mg | D31: µg/mtra | E31: 961 | F31: 1076 | G31: 947.7 | H31: 1270 | I31: 1268
B32: Manganeso | C32: Mn | D32: µg/mtra | E32: 39.18 | F32: 27.31 | G32: 31.31 | H32: 38.74 | I32: 41.76
B33: Mercurio | C33: Hg | D33: µg/mtra | E33: < 0,021 | F33: < 0,021 | G33: 0.171 | H33: < 0,021 | I33: 0.364
B34: Molibdeno | C34: Mo | D34: µg/mtra | E34: 3.665 | F34: 3.336 | G34: 3.094 | H34: 3.995 | I34: 4.275
B35: Níquel | C35: Ni | D35: µg/mtra | E35: 8.379 | F35: 4.468 | G35: 3.776 | H35: 4.355 | I35: 6.317
B36: Plata | C36: Ag | D36: µg/mtra | E36: 0.3351 | F36: 0.253 | G36: 0.2028 | H36: 0.251 | I36: 0.4812
B37: Plomo | C37: Pb | D37: µg/mtra | E37: 137 | F37: 26.86 | G37: 44.37 | H37: 195.6 | I37: 205.7
B38: Potasio | C38: K | D38: µg/mtra | E38: 565 | F38: 478.5 | G38: 502.6 | H38: 618.2 | I38: 594.3
B39: Selenio | C39: Se | D39: µg/mtra | E39: 4.368 | F39: 2.203 | G39: 4.095 | H39: 3.676 | I39: 4.861
B40: Silicio | C40: Si | D40: µg/mtra | E40: 1173 | F40: 978.3 | G40: 1377 | H40: 1405 | I40: 1168
B41: Sodio | C41: Na | D41: µg/mtra | E41: 3612 | F41: 5643 | G41: 4879 | H41: 5796 | I41: 5998
B42: Talio | C42: Tl | D42: µg/mtra | E42: 0.22 | F42: < 0,008 | G42: < 0,008 | H42: 0.294 | I42: 0.181
B43: Titanio | C43: Ti | D43: µg/mtra | E43: 42 | F43: 31.34 | G43: 32.62 | H43: 43 | I43: 43.02
B44: Uranio | C44: U | D44: µg/mtra | E44: < 0,0071 | F44: < 0,0071 | G44: < 0,0071 | H44: < 0,0071 | I44: 0.1751
B45: Vanadio | C45: V | D45: µg/mtra | E45: 5.569 | F45: 4.207 | G45: 3.983 | H45: 5.22 | I45: 6.395
B46: Zinc | C46: Zn | D46: µg/mtra | E46: 215.1 | F46: 107.3 | G46: 123.8 | H46: 155 | I46: 326.9
B48: <: Debajo del límite de detección
B49: Fuente: Informe de Ensayo N.° 35995/2020 del laboratorio ALS LS Perú S.A.C.
B51: CONCENTRACIÓN DE METALES
B52: Metal medido en PM10 | D52: Unidad | E52: =E12 -> Fecha
E53: ='A.2.4. Cálculo PM10 y VM'!$E12 -> 0 | F53: ='A.2.4. Cálculo PM10 y VM'!$E13 -> 0 | G53: ='A.2.4. Cálculo PM10 y VM'!$E14 -> 0 | H53: ='A.2.4. Cálculo PM10 y VM'!$E15 -> 0 | I53: ='A.2.4. Cálculo PM10 y VM'!$E16 -> 0 | J53: ='A.2.4. Cálculo PM10 y VM'!$E17 -> #REF! | K53: ='A.2.4. Cálculo PM10 y VM'!$E18 -> #REF! | L53: ='A.2.4. Cálculo PM10 y VM'!$E19 -> #REF! | M53: ='A.2.4. Cálculo PM10 y VM'!$E20 -> #REF! | N53: ='A.2.4. Cálculo PM10 y VM'!$E21 -> #REF! | O53: ='A.2.4. Cálculo PM10 y VM'!$E22 -> #REF! | P53: ='A.2.4. Cálculo PM10 y VM'!$E23 -> #REF! | Q53: ='A.2.4. Cálculo PM10 y VM'!$E24 -> #REF! | R53: ='A.2.4. Cálculo PM10 y VM'!$E25 -> #REF! | S53: ='A.2.4. Cálculo PM10 y VM'!$E26 -> #REF!
B54: Volumen de muestreo, en m3 (Va) | E54: ='A.2.4. Cálculo PM10 y VM'!K12 -> #DIV/0! | F54: ='A.2.4. Cálculo PM10 y VM'!K13 -> #DIV/0! | G54: ='A.2.4. Cálculo PM10 y VM'!K14 -> #DIV/0! | H54: ='A.2.4. Cálculo PM10 y VM'!K15 -> #DIV/0! | I54: ='A.2.4. Cálculo PM10 y VM'!K16 -> #DIV/0! | J54: ='A.2.4. Cálculo PM10 y VM'!#REF! -> #REF! | K54: ='A.2.4. Cálculo PM10 y VM'!#REF! -> #REF! | L54: ='A.2.4. Cálculo PM10 y VM'!#REF! -> #REF! | M54: ='A.2.4. Cálculo PM10 y VM'!#REF! -> #REF! | N54: ='A.2.4. Cálculo PM10 y VM'!#REF! -> #REF! | O54: ='A.2.4. Cálculo PM10 y VM'!#REF! -> #REF! | P54: ='A.2.4. Cálculo PM10 y VM'!#REF! -> #REF! | Q54: ='A.2.4. Cálculo PM10 y VM'!#REF! -> #REF! | ... S54: ='A.2.4. Cálculo PM10 y VM'!#REF! -> #REF! | V54: ECA Mensual: | W54: Promedio: | X54: Estado: | Y54: Cantidad:
B55: Aluminio | C55: Al | D55: µg/m3 | E55: =IF(ISNUMBER(FIND("<",E14)),"N.D.",PRODUCT(E14,1/E$54)) -> #DIV/0! | F55: =IF(ISNUMBER(FIND("<",F14)),"N.D.",PRODUCT(F14,1/F$54)) -> #DIV/0! | G55: =IF(ISNUMBER(FIND("<",G14)),"N.D.",PRODUCT(G14,1/G$54)) -> #DIV/0! | H55: =IF(ISNUMBER(FIND("<",H14)),"N.D.",PRODUCT(H14,1/H$54)) -> #DIV/0! | I55: =IF(ISNUMBER(FIND("<",I14)),"N.D.",PRODUCT(I14,1/I$54)) -> #DIV/0! | J55: =IF(ISNUMBER(FIND("<",J14)),"N.D.",PRODUCT(J14,1/J$54)) -> #REF! | K55: =IF(ISNUMBER(FIND("<",K14)),"N.D.",PRODUCT(K14,1/K$54)) -> #REF! | L55: =IF(ISNUMBER(FIND("<",L14)),"N.D.",PRODUCT(L14,1/L$54)) -> #REF! | ... S55: =IF(ISNUMBER(FIND("<",S14)),"N.D.",PRODUCT(S14,1/S$54)) -> #REF!
B56: Antimonio | C56: Sb | D56: µg/m3 | E56: =IF(ISNUMBER(FIND("<",E15)),"N.D.",PRODUCT(E15,1/E$54)) -> #DIV/0! | F56: =IF(ISNUMBER(FIND("<",F15)),"N.D.",PRODUCT(F15,1/F$54)) -> #DIV/0! | G56: =IF(ISNUMBER(FIND("<",G15)),"N.D.",PRODUCT(G15,1/G$54)) -> #DIV/0! | H56: =IF(ISNUMBER(FIND("<",H15)),"N.D.",PRODUCT(H15,1/H$54)) -> #DIV/0! | I56: =IF(ISNUMBER(FIND("<",I15)),"N.D.",PRODUCT(I15,1/I$54)) -> #DIV/0! | J56: =IF(ISNUMBER(FIND("<",J15)),"N.D.",PRODUCT(J15,1/J$54)) -> #REF! | K56: =IF(ISNUMBER(FIND("<",K15)),"N.D.",PRODUCT(K15,1/K$54)) -> #REF! | L56: =IF(ISNUMBER(FIND("<",L15)),"N.D.",PRODUCT(L15,1/L$54)) -> #REF! | ... S56: =IF(ISNUMBER(FIND("<",S15)),"N.D.",PRODUCT(S15,1/S$54)) -> #REF!
B57: Arsénico | C57: As | D57: µg/m3 | E57: =IF(ISNUMBER(FIND("<",E16)),"N.D.",PRODUCT(E16,1/E$54)) -> #DIV/0! | F57: =IF(ISNUMBER(FIND("<",F16)),"N.D.",PRODUCT(F16,1/F$54)) -> #DIV/0! | G57: =IF(ISNUMBER(FIND("<",G16)),"N.D.",PRODUCT(G16,1/G$54)) -> #DIV/0! | H57: =IF(ISNUMBER(FIND("<",H16)),"N.D.",PRODUCT(H16,1/H$54)) -> #DIV/0! | I57: =IF(ISNUMBER(FIND("<",I16)),"N.D.",PRODUCT(I16,1/I$54)) -> #DIV/0! | J57: =IF(ISNUMBER(FIND("<",J16)),"N.D.",PRODUCT(J16,1/J$54)) -> #REF! | K57: =IF(ISNUMBER(FIND("<",K16)),"N.D.",PRODUCT(K16,1/K$54)) -> #REF! | L57: =IF(ISNUMBER(FIND("<",L16)),"N.D.",PRODUCT(L16,1/L$54)) -> #REF! | ... S57: =IF(ISNUMBER(FIND("<",S16)),"N.D.",PRODUCT(S16,1/S$54)) -> #REF!
B58: Bario | C58: Ba | D58: µg/m3 | E58: =IF(ISNUMBER(FIND("<",E17)),"N.D.",PRODUCT(E17,1/E$54)) -> #DIV/0! | F58: =IF(ISNUMBER(FIND("<",F17)),"N.D.",PRODUCT(F17,1/F$54)) -> #DIV/0! | G58: =IF(ISNUMBER(FIND("<",G17)),"N.D.",PRODUCT(G17,1/G$54)) -> #DIV/0! | H58: =IF(ISNUMBER(FIND("<",H17)),"N.D.",PRODUCT(H17,1/H$54)) -> #DIV/0! | I58: =IF(ISNUMBER(FIND("<",I17)),"N.D.",PRODUCT(I17,1/I$54)) -> #DIV/0! | J58: =IF(ISNUMBER(FIND("<",J17)),"N.D.",PRODUCT(J17,1/J$54)) -> #REF! | K58: =IF(ISNUMBER(FIND("<",K17)),"N.D.",PRODUCT(K17,1/K$54)) -> #REF! | L58: =IF(ISNUMBER(FIND("<",L17)),"N.D.",PRODUCT(L17,1/L$54)) -> #REF! | ... S58: =IF(ISNUMBER(FIND("<",S17)),"N.D.",PRODUCT(S17,1/S$54)) -> #REF!
B59: Berilio | C59: Be | D59: µg/m3 | E59: =IF(ISNUMBER(FIND("<",E18)),"N.D.",PRODUCT(E18,1/E$54)) -> N.D. | F59: =IF(ISNUMBER(FIND("<",F18)),"N.D.",PRODUCT(F18,1/F$54)) -> N.D. | G59: =IF(ISNUMBER(FIND("<",G18)),"N.D.",PRODUCT(G18,1/G$54)) -> N.D. | H59: =IF(ISNUMBER(FIND("<",H18)),"N.D.",PRODUCT(H18,1/H$54)) -> N.D. | I59: =IF(ISNUMBER(FIND("<",I18)),"N.D.",PRODUCT(I18,1/I$54)) -> N.D. | J59: =IF(ISNUMBER(FIND("<",J18)),"N.D.",PRODUCT(J18,1/J$54)) -> #REF! | K59: =IF(ISNUMBER(FIND("<",K18)),"N.D.",PRODUCT(K18,1/K$54)) -> #REF! | L59: =IF(ISNUMBER(FIND("<",L18)),"N.D.",PRODUCT(L18,1/L$54)) -> #REF! | ... S59: =IF(ISNUMBER(FIND("<",S18)),"N.D.",PRODUCT(S18,1/S$54)) -> #REF!
B60: Bismuto | C60: Bi | D60: µg/m3 | E60: =IF(ISNUMBER(FIND("<",E19)),"N.D.",PRODUCT(E19,1/E$54)) -> #DIV/0! | F60: =IF(ISNUMBER(FIND("<",F19)),"N.D.",PRODUCT(F19,1/F$54)) -> #DIV/0! | G60: =IF(ISNUMBER(FIND("<",G19)),"N.D.",PRODUCT(G19,1/G$54)) -> #DIV/0! | H60: =IF(ISNUMBER(FIND("<",H19)),"N.D.",PRODUCT(H19,1/H$54)) -> #DIV/0! | I60: =IF(ISNUMBER(FIND("<",I19)),"N.D.",PRODUCT(I19,1/I$54)) -> #DIV/0! | J60: =IF(ISNUMBER(FIND("<",J19)),"N.D.",PRODUCT(J19,1/J$54)) -> #REF! | K60: =IF(ISNUMBER(FIND("<",K19)),"N.D.",PRODUCT(K19,1/K$54)) -> #REF! | L60: =IF(ISNUMBER(FIND("<",L19)),"N.D.",PRODUCT(L19,1/L$54)) -> #REF! | ... S60: =IF(ISNUMBER(FIND("<",S19)),"N.D.",PRODUCT(S19,1/S$54)) -> #REF!
B61: Boro | C61: B | D61: µg/m3 | E61: =IF(ISNUMBER(FIND("<",E20)),"N.D.",PRODUCT(E20,1/E$54)) -> #DIV/0! | F61: =IF(ISNUMBER(FIND("<",F20)),"N.D.",PRODUCT(F20,1/F$54)) -> #DIV/0! | G61: =IF(ISNUMBER(FIND("<",G20)),"N.D.",PRODUCT(G20,1/G$54)) -> #DIV/0! | H61: =IF(ISNUMBER(FIND("<",H20)),"N.D.",PRODUCT(H20,1/H$54)) -> #DIV/0! | I61: =IF(ISNUMBER(FIND("<",I20)),"N.D.",PRODUCT(I20,1/I$54)) -> #DIV/0! | J61: =IF(ISNUMBER(FIND("<",J20)),"N.D.",PRODUCT(J20,1/J$54)) -> #REF! | K61: =IF(ISNUMBER(FIND("<",K20)),"N.D.",PRODUCT(K20,1/K$54)) -> #REF! | L61: =IF(ISNUMBER(FIND("<",L20)),"N.D.",PRODUCT(L20,1/L$54)) -> #REF! | ... S61: =IF(ISNUMBER(FIND("<",S20)),"N.D.",PRODUCT(S20,1/S$54)) -> #REF!
B62: Cadmio | C62: Cd | D62: µg/m3 | E62: =IF(ISNUMBER(FIND("<",E21)),"N.D.",PRODUCT(E21,1/E$54)) -> #DIV/0! | F62: =IF(ISNUMBER(FIND("<",F21)),"N.D.",PRODUCT(F21,1/F$54)) -> #DIV/0! | G62: =IF(ISNUMBER(FIND("<",G21)),"N.D.",PRODUCT(G21,1/G$54)) -> #DIV/0! | H62: =IF(ISNUMBER(FIND("<",H21)),"N.D.",PRODUCT(H21,1/H$54)) -> #DIV/0! | I62: =IF(ISNUMBER(FIND("<",I21)),"N.D.",PRODUCT(I21,1/I$54)) -> #DIV/0! | J62: =IF(ISNUMBER(FIND("<",J21)),"N.D.",PRODUCT(J21,1/J$54)) -> #REF! | K62: =IF(ISNUMBER(FIND("<",K21)),"N.D.",PRODUCT(K21,1/K$54)) -> #REF! | L62: =IF(ISNUMBER(FIND("<",L21)),"N.D.",PRODUCT(L21,1/L$54)) -> #REF! | ... S62: =IF(ISNUMBER(FIND("<",S21)),"N.D.",PRODUCT(S21,1/S$54)) -> #REF! | V62: 0.05 | W62: =AVERAGE(E62:I62) -> #DIV/0! | X62: =IF(W62>V62,"Supera","No Supera") -> #DIV/0! | Y62: =COUNTIF(E62:J62,">0,05") -> 0 | Z62: =W62/V62 -> #DIV/0!
B63: Calcio | C63: Ca | D63: µg/m3 | E63: =IF(ISNUMBER(FIND("<",E22)),"N.D.",PRODUCT(E22,1/E$54)) -> #DIV/0! | F63: =IF(ISNUMBER(FIND("<",F22)),"N.D.",PRODUCT(F22,1/F$54)) -> #DIV/0! | G63: =IF(ISNUMBER(FIND("<",G22)),"N.D.",PRODUCT(G22,1/G$54)) -> #DIV/0! | H63: =IF(ISNUMBER(FIND("<",H22)),"N.D.",PRODUCT(H22,1/H$54)) -> #DIV/0! | I63: =IF(ISNUMBER(FIND("<",I22)),"N.D.",PRODUCT(I22,1/I$54)) -> #DIV/0! | J63: =IF(ISNUMBER(FIND("<",J22)),"N.D.",PRODUCT(J22,1/J$54)) -> #REF! | K63: =IF(ISNUMBER(FIND("<",K22)),"N.D.",PRODUCT(K22,1/K$54)) -> #REF! | L63: =IF(ISNUMBER(FIND("<",L22)),"N.D.",PRODUCT(L22,1/L$54)) -> #REF! | ... S63: =IF(ISNUMBER(FIND("<",S22)),"N.D.",PRODUCT(S22,1/S$54)) -> #REF!
B64: Cobalto | C64: Co | D64: µg/m3 | E64: =IF(ISNUMBER(FIND("<",E23)),"N.D.",PRODUCT(E23,1/E$54)) -> #DIV/0! | F64: =IF(ISNUMBER(FIND("<",F23)),"N.D.",PRODUCT(F23,1/F$54)) -> #DIV/0! | G64: =IF(ISNUMBER(FIND("<",G23)),"N.D.",PRODUCT(G23,1/G$54)) -> #DIV/0! | H64: =IF(ISNUMBER(FIND("<",H23)),"N.D.",PRODUCT(H23,1/H$54)) -> #DIV/0! | I64: =IF(ISNUMBER(FIND("<",I23)),"N.D.",PRODUCT(I23,1/I$54)) -> #DIV/0! | J64: =IF(ISNUMBER(FIND("<",J23)),"N.D.",PRODUCT(J23,1/J$54)) -> #REF! | K64: =IF(ISNUMBER(FIND("<",K23)),"N.D.",PRODUCT(K23,1/K$54)) -> #REF! | L64: =IF(ISNUMBER(FIND("<",L23)),"N.D.",PRODUCT(L23,1/L$54)) -> #REF! | ... S64: =IF(ISNUMBER(FIND("<",S23)),"N.D.",PRODUCT(S23,1/S$54)) -> #REF!
B65: Cobre | C65: Cu | D65: µg/m3 | E65: =IF(ISNUMBER(FIND("<",E24)),"N.D.",PRODUCT(E24,1/E$54)) -> #DIV/0! | F65: =IF(ISNUMBER(FIND("<",F24)),"N.D.",PRODUCT(F24,1/F$54)) -> #DIV/0! | G65: =IF(ISNUMBER(FIND("<",G24)),"N.D.",PRODUCT(G24,1/G$54)) -> #DIV/0! | H65: =IF(ISNUMBER(FIND("<",H24)),"N.D.",PRODUCT(H24,1/H$54)) -> #DIV/0! | I65: =IF(ISNUMBER(FIND("<",I24)),"N.D.",PRODUCT(I24,1/I$54)) -> #DIV/0! | J65: =IF(ISNUMBER(FIND("<",J24)),"N.D.",PRODUCT(J24,1/J$54)) -> #REF! | K65: =IF(ISNUMBER(FIND("<",K24)),"N.D.",PRODUCT(K24,1/K$54)) -> #REF! | L65: =IF(ISNUMBER(FIND("<",L24)),"N.D.",PRODUCT(L24,1/L$54)) -> #REF! | ... S65: =IF(ISNUMBER(FIND("<",S24)),"N.D.",PRODUCT(S24,1/S$54)) -> #REF!
B66: Cromo | C66: Cr | D66: µg/m3 | E66: =IF(ISNUMBER(FIND("<",E25)),"N.D.",PRODUCT(E25,1/E$54)) -> N.D. | F66: =IF(ISNUMBER(FIND("<",F25)),"N.D.",PRODUCT(F25,1/F$54)) -> N.D. | G66: =IF(ISNUMBER(FIND("<",G25)),"N.D.",PRODUCT(G25,1/G$54)) -> N.D. | H66: =IF(ISNUMBER(FIND("<",H25)),"N.D.",PRODUCT(H25,1/H$54)) -> N.D. | I66: =IF(ISNUMBER(FIND("<",I25)),"N.D.",PRODUCT(I25,1/I$54)) -> N.D. | J66: =IF(ISNUMBER(FIND("<",J25)),"N.D.",PRODUCT(J25,1/J$54)) -> #REF! | K66: =IF(ISNUMBER(FIND("<",K25)),"N.D.",PRODUCT(K25,1/K$54)) -> #REF! | L66: =IF(ISNUMBER(FIND("<",L25)),"N.D.",PRODUCT(L25,1/L$54)) -> #REF! | ... S66: =IF(ISNUMBER(FIND("<",S25)),"N.D.",PRODUCT(S25,1/S$54)) -> #REF!
B67: Estaño | C67: Sn | D67: µg/m3 | E67: =IF(ISNUMBER(FIND("<",E26)),"N.D.",PRODUCT(E26,1/E$54)) -> #DIV/0! | F67: =IF(ISNUMBER(FIND("<",F26)),"N.D.",PRODUCT(F26,1/F$54)) -> #DIV/0! | G67: =IF(ISNUMBER(FIND("<",G26)),"N.D.",PRODUCT(G26,1/G$54)) -> #DIV/0! | H67: =IF(ISNUMBER(FIND("<",H26)),"N.D.",PRODUCT(H26,1/H$54)) -> #DIV/0! | I67: =IF(ISNUMBER(FIND("<",I26)),"N.D.",PRODUCT(I26,1/I$54)) -> #DIV/0! | J67: =IF(ISNUMBER(FIND("<",J26)),"N.D.",PRODUCT(J26,1/J$54)) -> #REF! | K67: =IF(ISNUMBER(FIND("<",K26)),"N.D.",PRODUCT(K26,1/K$54)) -> #REF! | L67: =IF(ISNUMBER(FIND("<",L26)),"N.D.",PRODUCT(L26,1/L$54)) -> #REF! | ... S67: =IF(ISNUMBER(FIND("<",S26)),"N.D.",PRODUCT(S26,1/S$54)) -> #REF!
B68: Estroncio | C68: Sr | D68: µg/m3 | E68: =IF(ISNUMBER(FIND("<",E27)),"N.D.",PRODUCT(E27,1/E$54)) -> #DIV/0! | F68: =IF(ISNUMBER(FIND("<",F27)),"N.D.",PRODUCT(F27,1/F$54)) -> #DIV/0! | G68: =IF(ISNUMBER(FIND("<",G27)),"N.D.",PRODUCT(G27,1/G$54)) -> #DIV/0! | H68: =IF(ISNUMBER(FIND("<",H27)),"N.D.",PRODUCT(H27,1/H$54)) -> #DIV/0! | I68: =IF(ISNUMBER(FIND("<",I27)),"N.D.",PRODUCT(I27,1/I$54)) -> #DIV/0! | J68: =IF(ISNUMBER(FIND("<",J27)),"N.D.",PRODUCT(J27,1/J$54)) -> #REF! | K68: =IF(ISNUMBER(FIND("<",K27)),"N.D.",PRODUCT(K27,1/K$54)) -> #REF! | L68: =IF(ISNUMBER(FIND("<",L27)),"N.D.",PRODUCT(L27,1/L$54)) -> #REF! | ... S68: =IF(ISNUMBER(FIND("<",S27)),"N.D.",PRODUCT(S27,1/S$54)) -> #REF!
B69: Fósforo | C69: P | D69: µg/m3 | E69: =IF(ISNUMBER(FIND("<",E28)),"N.D.",PRODUCT(E28,1/E$54)) -> #DIV/0! | F69: =IF(ISNUMBER(FIND("<",F28)),"N.D.",PRODUCT(F28,1/F$54)) -> #DIV/0! | G69: =IF(ISNUMBER(FIND("<",G28)),"N.D.",PRODUCT(G28,1/G$54)) -> #DIV/0! | H69: =IF(ISNUMBER(FIND("<",H28)),"N.D.",PRODUCT(H28,1/H$54)) -> #DIV/0! | I69: =IF(ISNUMBER(FIND("<",I28)),"N.D.",PRODUCT(I28,1/I$54)) -> #DIV/0! | J69: =IF(ISNUMBER(FIND("<",J28)),"N.D.",PRODUCT(J28,1/J$54)) -> #REF! | K69: =IF(ISNUMBER(FIND("<",K28)),"N.D.",PRODUCT(K28,1/K$54)) -> #REF! | L69: =IF(ISNUMBER(FIND("<",L28)),"N.D.",PRODUCT(L28,1/L$54)) -> #REF! | ... S69: =IF(ISNUMBER(FIND("<",S28)),"N.D.",PRODUCT(S28,1/S$54)) -> #REF!
B70: Hierro | C70: Fe | D70: µg/m3 | E70: =IF(ISNUMBER(FIND("<",E29)),"N.D.",PRODUCT(E29,1/E$54)) -> #DIV/0! | F70: =IF(ISNUMBER(FIND("<",F29)),"N.D.",PRODUCT(F29,1/F$54)) -> #DIV/0! | G70: =IF(ISNUMBER(FIND("<",G29)),"N.D.",PRODUCT(G29,1/G$54)) -> #DIV/0! | H70: =IF(ISNUMBER(FIND("<",H29)),"N.D.",PRODUCT(H29,1/H$54)) -> #DIV/0! | I70: =IF(ISNUMBER(FIND("<",I29)),"N.D.",PRODUCT(I29,1/I$54)) -> #DIV/0! | J70: =IF(ISNUMBER(FIND("<",J29)),"N.D.",PRODUCT(J29,1/J$54)) -> #REF! | K70: =IF(ISNUMBER(FIND("<",K29)),"N.D.",PRODUCT(K29,1/K$54)) -> #REF! | L70: =IF(ISNUMBER(FIND("<",L29)),"N.D.",PRODUCT(L29,1/L$54)) -> #REF! | ... S70: =IF(ISNUMBER(FIND("<",S29)),"N.D.",PRODUCT(S29,1/S$54)) -> #REF!
B71: Litio | C71: Li | D71: µg/m3 | E71: =IF(ISNUMBER(FIND("<",E30)),"N.D.",PRODUCT(E30,1/E$54)) -> #DIV/0! | F71: =IF(ISNUMBER(FIND("<",F30)),"N.D.",PRODUCT(F30,1/F$54)) -> #DIV/0! | G71: =IF(ISNUMBER(FIND("<",G30)),"N.D.",PRODUCT(G30,1/G$54)) -> #DIV/0! | H71: =IF(ISNUMBER(FIND("<",H30)),"N.D.",PRODUCT(H30,1/H$54)) -> #DIV/0! | I71: =IF(ISNUMBER(FIND("<",I30)),"N.D.",PRODUCT(I30,1/I$54)) -> #DIV/0! | J71: =IF(ISNUMBER(FIND("<",J30)),"N.D.",PRODUCT(J30,1/J$54)) -> #REF! | K71: =IF(ISNUMBER(FIND("<",K30)),"N.D.",PRODUCT(K30,1/K$54)) -> #REF! | L71: =IF(ISNUMBER(FIND("<",L30)),"N.D.",PRODUCT(L30,1/L$54)) -> #REF! | ... S71: =IF(ISNUMBER(FIND("<",S30)),"N.D.",PRODUCT(S30,1/S$54)) -> #REF!
B72: Magnesio | C72: Mg | D72: µg/m3 | E72: =IF(ISNUMBER(FIND("<",E31)),"N.D.",PRODUCT(E31,1/E$54)) -> #DIV/0! | F72: =IF(ISNUMBER(FIND("<",F31)),"N.D.",PRODUCT(F31,1/F$54)) -> #DIV/0! | G72: =IF(ISNUMBER(FIND("<",G31)),"N.D.",PRODUCT(G31,1/G$54)) -> #DIV/0! | H72: =IF(ISNUMBER(FIND("<",H31)),"N.D.",PRODUCT(H31,1/H$54)) -> #DIV/0! | I72: =IF(ISNUMBER(FIND("<",I31)),"N.D.",PRODUCT(I31,1/I$54)) -> #DIV/0! | J72: =IF(ISNUMBER(FIND("<",J31)),"N.D.",PRODUCT(J31,1/J$54)) -> #REF! | K72: =IF(ISNUMBER(FIND("<",K31)),"N.D.",PRODUCT(K31,1/K$54)) -> #REF! | L72: =IF(ISNUMBER(FIND("<",L31)),"N.D.",PRODUCT(L31,1/L$54)) -> #REF! | ... S72: =IF(ISNUMBER(FIND("<",S31)),"N.D.",PRODUCT(S31,1/S$54)) -> #REF!
B73: Manganeso | C73: Mn | D73: µg/m3 | E73: =IF(ISNUMBER(FIND("<",E32)),"N.D.",PRODUCT(E32,1/E$54)) -> #DIV/0! | F73: =IF(ISNUMBER(FIND("<",F32)),"N.D.",PRODUCT(F32,1/F$54)) -> #DIV/0! | G73: =IF(ISNUMBER(FIND("<",G32)),"N.D.",PRODUCT(G32,1/G$54)) -> #DIV/0! | H73: =IF(ISNUMBER(FIND("<",H32)),"N.D.",PRODUCT(H32,1/H$54)) -> #DIV/0! | I73: =IF(ISNUMBER(FIND("<",I32)),"N.D.",PRODUCT(I32,1/I$54)) -> #DIV/0! | J73: =IF(ISNUMBER(FIND("<",J32)),"N.D.",PRODUCT(J32,1/J$54)) -> #REF! | K73: =IF(ISNUMBER(FIND("<",K32)),"N.D.",PRODUCT(K32,1/K$54)) -> #REF! | L73: =IF(ISNUMBER(FIND("<",L32)),"N.D.",PRODUCT(L32,1/L$54)) -> #REF! | ... S73: =IF(ISNUMBER(FIND("<",S32)),"N.D.",PRODUCT(S32,1/S$54)) -> #REF!
B74: Mercurio | C74: Hg | D74: µg/m3 | E74: =IF(ISNUMBER(FIND("<",E33)),"N.D.",PRODUCT(E33,1/E$54)) -> N.D. | F74: =IF(ISNUMBER(FIND("<",F33)),"N.D.",PRODUCT(F33,1/F$54)) -> N.D. | G74: =IF(ISNUMBER(FIND("<",G33)),"N.D.",PRODUCT(G33,1/G$54)) -> #DIV/0! | H74: =IF(ISNUMBER(FIND("<",H33)),"N.D.",PRODUCT(H33,1/H$54)) -> N.D. | I74: =IF(ISNUMBER(FIND("<",I33)),"N.D.",PRODUCT(I33,1/I$54)) -> #DIV/0! | J74: =IF(ISNUMBER(FIND("<",J33)),"N.D.",PRODUCT(J33,1/J$54)) -> #REF! | K74: =IF(ISNUMBER(FIND("<",K33)),"N.D.",PRODUCT(K33,1/K$54)) -> #REF! | L74: =IF(ISNUMBER(FIND("<",L33)),"N.D.",PRODUCT(L33,1/L$54)) -> #REF! | ... S74: =IF(ISNUMBER(FIND("<",S33)),"N.D.",PRODUCT(S33,1/S$54)) -> #REF!
... B77: Plata | C77: Ag | D77: µg/m3 | E77: =IF(ISNUMBER(FIND("<",E36)),"N.D.",PRODUCT(E36,1/E$54)) -> #DIV/0! | F77: =IF(ISNUMBER(FIND("<",F36)),"N.D.",PRODUCT(F36,1/F$54)) -> #DIV/0! | G77: =IF(ISNUMBER(FIND("<",G36)),"N.D.",PRODUCT(G36,1/G$54)) -> #DIV/0! | H77: =IF(ISNUMBER(FIND("<",H36)),"N.D.",PRODUCT(H36,1/H$54)) -> #DIV/0! | I77: =IF(ISNUMBER(FIND("<",I36)),"N.D.",PRODUCT(I36,1/I$54)) -> #DIV/0! | J77: =IF(ISNUMBER(FIND("<",J36)),"N.D.",PRODUCT(J36,1/J$54)) -> #REF! | K77: =IF(ISNUMBER(FIND("<",K36)),"N.D.",PRODUCT(K36,1/K$54)) -> #REF! | L77: =IF(ISNUMBER(FIND("<",L36)),"N.D.",PRODUCT(L36,1/L$54)) -> #REF! | ... S77: =IF(ISNUMBER(FIND("<",S36)),"N.D.",PRODUCT(S36,1/S$54)) -> #REF!
B78: Plomo | C78: Pb | D78: µg/m3 | E78: =IF(ISNUMBER(FIND("<",E37)),"N.D.",PRODUCT(E37,1/E$54)) -> #DIV/0! | F78: =IF(ISNUMBER(FIND("<",F37)),"N.D.",PRODUCT(F37,1/F$54)) -> #DIV/0! | G78: =IF(ISNUMBER(FIND("<",G37)),"N.D.",PRODUCT(G37,1/G$54)) -> #DIV/0! | H78: =IF(ISNUMBER(FIND("<",H37)),"N.D.",PRODUCT(H37,1/H$54)) -> #DIV/0! | I78: =IF(ISNUMBER(FIND("<",I37)),"N.D.",PRODUCT(I37,1/I$54)) -> #DIV/0! | J78: =IF(ISNUMBER(FIND("<",J37)),"N.D.",PRODUCT(J37,1/J$54)) -> #REF! | K78: =IF(ISNUMBER(FIND("<",K37)),"N.D.",PRODUCT(K37,1/K$54)) -> #REF! | L78: =IF(ISNUMBER(FIND("<",L37)),"N.D.",PRODUCT(L37,1/L$54)) -> #REF! | ... S78: =IF(ISNUMBER(FIND("<",S37)),"N.D.",PRODUCT(S37,1/S$54)) -> #REF! | V78: 1.5 | W78: =AVERAGE(E78:I78) -> #DIV/0! | X78: =IF(W78>V78,"Supera","No Supera") -> #DIV/0! | Y78: =COUNTIF(E78:J78,">1,5") -> 0 | Z78: =W78/V78 -> #DIV/0!
B79: Potasio | C79: K | D79: µg/m3 | E79: =IF(ISNUMBER(FIND("<",E38)),"N.D.",PRODUCT(E38,1/E$54)) -> #DIV/0! | F79: =IF(ISNUMBER(FIND("<",F38)),"N.D.",PRODUCT(F38,1/F$54)) -> #DIV/0! | G79: =IF(ISNUMBER(FIND("<",G38)),"N.D.",PRODUCT(G38,1/G$54)) -> #DIV/0! | H79: =IF(ISNUMBER(FIND("<",H38)),"N.D.",PRODUCT(H38,1/H$54)) -> #DIV/0! | I79: =IF(ISNUMBER(FIND("<",I38)),"N.D.",PRODUCT(I38,1/I$54)) -> #DIV/0! | J79: =IF(ISNUMBER(FIND("<",J38)),"N.D.",PRODUCT(J38,1/J$54)) -> #REF! | K79: =IF(ISNUMBER(FIND("<",K38)),"N.D.",PRODUCT(K38,1/K$54)) -> #REF! | L79: =IF(ISNUMBER(FIND("<",L38)),"N.D.",PRODUCT(L38,1/L$54)) -> #REF! | ... S79: =IF(ISNUMBER(FIND("<",S38)),"N.D.",PRODUCT(S38,1/S$54)) -> #REF!
B80: Selenio | C80: Se | D80: µg/m3 | E80: =IF(ISNUMBER(FIND("<",E39)),"N.D.",PRODUCT(E39,1/E$54)) -> #DIV/0! | F80: =IF(ISNUMBER(FIND("<",F39)),"N.D.",PRODUCT(F39,1/F$54)) -> #DIV/0! | G80: =IF(ISNUMBER(FIND("<",G39)),"N.D.",PRODUCT(G39,1/G$54)) -> #DIV/0! | H80: =IF(ISNUMBER(FIND("<",H39)),"N.D.",PRODUCT(H39,1/H$54)) -> #DIV/0! | I80: =IF(ISNUMBER(FIND("<",I39)),"N.D.",PRODUCT(I39,1/I$54)) -> #DIV/0! | J80: =IF(ISNUMBER(FIND("<",J39)),"N.D.",PRODUCT(J39,1/J$54)) -> #REF! | K80: =IF(ISNUMBER(FIND("<",K39)),"N.D.",PRODUCT(K39,1/K$54)) -> #REF! | L80: =IF(ISNUMBER(FIND("<",L39)),"N.D.",PRODUCT(L39,1/L$54)) -> #REF! | ... S80: =IF(ISNUMBER(FIND("<",S39)),"N.D.",PRODUCT(S39,1/S$54)) -> #REF!
B81: Silicio | C81: Si | D81: µg/m3 | E81: =IF(ISNUMBER(FIND("<",E40)),"N.D.",PRODUCT(E40,1/E$54)) -> #DIV/0! | F81: =IF(ISNUMBER(FIND("<",F40)),"N.D.",PRODUCT(F40,1/F$54)) -> #DIV/0! | G81: =IF(ISNUMBER(FIND("<",G40)),"N.D.",PRODUCT(G40,1/G$54)) -> #DIV/0! | H81: =IF(ISNUMBER(FIND("<",H40)),"N.D.",PRODUCT(H40,1/H$54)) -> #DIV/0! | I81: =IF(ISNUMBER(FIND("<",I40)),"N.D.",PRODUCT(I40,1/I$54)) -> #DIV/0! | J81: =IF(ISNUMBER(FIND("<",J40)),"N.D.",PRODUCT(J40,1/J$54)) -> #REF! | K81: =IF(ISNUMBER(FIND("<",K40)),"N.D.",PRODUCT(K40,1/K$54)) -> #REF! | L81: =IF(ISNUMBER(FIND("<",L40)),"N.D.",PRODUCT(L40,1/L$54)) -> #REF! | ... S81: =IF(ISNUMBER(FIND("<",S40)),"N.D.",PRODUCT(S40,1/S$54)) -> #REF!
B82: Sodio | C82: Na | D82: µg/m3 | E82: =IF(ISNUMBER(FIND("<",E41)),"N.D.",PRODUCT(E41,1/E$54)) -> #DIV/0! | F82: =IF(ISNUMBER(FIND("<",F41)),"N.D.",PRODUCT(F41,1/F$54)) -> #DIV/0! | G82: =IF(ISNUMBER(FIND("<",G41)),"N.D.",PRODUCT(G41,1/G$54)) -> #DIV/0! | H82: =IF(ISNUMBER(FIND("<",H41)),"N.D.",PRODUCT(H41,1/H$54)) -> #DIV/0! | I82: =IF(ISNUMBER(FIND("<",I41)),"N.D.",PRODUCT(I41,1/I$54)) -> #DIV/0! | J82: =IF(ISNUMBER(FIND("<",J41)),"N.D.",PRODUCT(J41,1/J$54)) -> #REF! | K82: =IF(ISNUMBER(FIND("<",K41)),"N.D.",PRODUCT(K41,1/K$54)) -> #REF! | L82: =IF(ISNUMBER(FIND("<",L41)),"N.D.",PRODUCT(L41,1/L$54)) -> #REF! | ... S82: =IF(ISNUMBER(FIND("<",S41)),"N.D.",PRODUCT(S41,1/S$54)) -> #REF!
B83: Talio | C83: Tl | D83: µg/m3 | E83: =IF(ISNUMBER(FIND("<",E42)),"N.D.",PRODUCT(E42,1/E$54)) -> #DIV/0! | F83: =IF(ISNUMBER(FIND("<",F42)),"N.D.",PRODUCT(F42,1/F$54)) -> N.D. | G83: =IF(ISNUMBER(FIND("<",G42)),"N.D.",PRODUCT(G42,1/G$54)) -> N.D. | H83: =IF(ISNUMBER(FIND("<",H42)),"N.D.",PRODUCT(H42,1/H$54)) -> #DIV/0! | I83: =IF(ISNUMBER(FIND("<",I42)),"N.D.",PRODUCT(I42,1/I$54)) -> #DIV/0! | J83: =IF(ISNUMBER(FIND("<",J42)),"N.D.",PRODUCT(J42,1/J$54)) -> #REF! | K83: =IF(ISNUMBER(FIND("<",K42)),"N.D.",PRODUCT(K42,1/K$54)) -> #REF! | L83: =IF(ISNUMBER(FIND("<",L42)),"N.D.",PRODUCT(L42,1/L$54)) -> #REF! | ... S83: =IF(ISNUMBER(FIND("<",S42)),"N.D.",PRODUCT(S42,1/S$54)) -> #REF!
B84: Titanio | C84: Ti | D84: µg/m3 | E84: =IF(ISNUMBER(FIND("<",E43)),"N.D.",PRODUCT(E43,1/E$54)) -> #DIV/0! | F84: =IF(ISNUMBER(FIND("<",F43)),"N.D.",PRODUCT(F43,1/F$54)) -> #DIV/0! | G84: =IF(ISNUMBER(FIND("<",G43)),"N.D.",PRODUCT(G43,1/G$54)) -> #DIV/0! | H84: =IF(ISNUMBER(FIND("<",H43)),"N.D.",PRODUCT(H43,1/H$54)) -> #DIV/0! | I84: =IF(ISNUMBER(FIND("<",I43)),"N.D.",PRODUCT(I43,1/I$54)) -> #DIV/0! | J84: =IF(ISNUMBER(FIND("<",J43)),"N.D.",PRODUCT(J43,1/J$54)) -> #REF! | K84: =IF(ISNUMBER(FIND("<",K43)),"N.D.",PRODUCT(K43,1/K$54)) -> #REF! | L84: =IF(ISNUMBER(FIND("<",L43)),"N.D.",PRODUCT(L43,1/L$54)) -> #REF! | ... S84: =IF(ISNUMBER(FIND("<",S43)),"N.D.",PRODUCT(S43,1/S$54)) -> #REF!
B85: Uranio | C85: U | D85: µg/m3 | E85: =IF(ISNUMBER(FIND("<",E44)),"N.D.",PRODUCT(E44,1/E$54)) -> N.D. | F85: =IF(ISNUMBER(FIND("<",F44)),"N.D.",PRODUCT(F44,1/F$54)) -> N.D. | G85: =IF(ISNUMBER(FIND("<",G44)),"N.D.",PRODUCT(G44,1/G$54)) -> N.D. | H85: =IF(ISNUMBER(FIND("<",H44)),"N.D.",PRODUCT(H44,1/H$54)) -> N.D. | I85: =IF(ISNUMBER(FIND("<",I44)),"N.D.",PRODUCT(I44,1/I$54)) -> #DIV/0!
B86: Vanadio | C86: V | D86: µg/m3 | E86: =IF(ISNUMBER(FIND("<",E45)),"N.D.",PRODUCT(E45,1/E$54)) -> #DIV/0! | F86: =IF(ISNUMBER(FIND("<",F45)),"N.D.",PRODUCT(F45,1/F$54)) -> #DIV/0! | G86: =IF(ISNUMBER(FIND("<",G45)),"N.D.",PRODUCT(G45,1/G$54)) -> #DIV/0! | H86: =IF(ISNUMBER(FIND("<",H45)),"N.D.",PRODUCT(H45,1/H$54)) -> #DIV/0! | I86: =IF(ISNUMBER(FIND("<",I45)),"N.D.",PRODUCT(I45,1/I$54)) -> #DIV/0! | J86: =IF(ISNUMBER(FIND("<",J45)),"N.D.",PRODUCT(J45,1/J$54)) -> #REF! | K86: =IF(ISNUMBER(FIND("<",K45)),"N.D.",PRODUCT(K45,1/K$54)) -> #REF! | L86: =IF(ISNUMBER(FIND("<",L45)),"N.D.",PRODUCT(L45,1/L$54)) -> #REF! | ... S86: =IF(ISNUMBER(FIND("<",S45)),"N.D.",PRODUCT(S45,1/S$54)) -> #REF!
B87: Zinc | C87: Zn | D87: µg/m3 | E87: =IF(ISNUMBER(FIND("<",E46)),"N.D.",PRODUCT(E46,1/E$54)) -> #DIV/0! | F87: =IF(ISNUMBER(FIND("<",F46)),"N.D.",PRODUCT(F46,1/F$54)) -> #DIV/0! | G87: =IF(ISNUMBER(FIND("<",G46)),"N.D.",PRODUCT(G46,1/G$54)) -> #DIV/0! | H87: =IF(ISNUMBER(FIND("<",H46)),"N.D.",PRODUCT(H46,1/H$54)) -> #DIV/0! | I87: =IF(ISNUMBER(FIND("<",I46)),"N.D.",PRODUCT(I46,1/I$54)) -> #DIV/0! | J87: =IF(ISNUMBER(FIND("<",J46)),"N.D.",PRODUCT(J46,1/J$54)) -> #REF! | K87: =IF(ISNUMBER(FIND("<",K46)),"N.D.",PRODUCT(K46,1/K$54)) -> #REF! | L87: =IF(ISNUMBER(FIND("<",L46)),"N.D.",PRODUCT(L46,1/L$54)) -> #REF! | ... S87: =IF(ISNUMBER(FIND("<",S46)),"N.D.",PRODUCT(S46,1/S$54)) -> #REF!
B89: N.D.: | C89: No detectable

Sheet A.2.7. Cálculo Vol E
E2: Tabla A.2.7. Volumen muestreado para metales en PM10 a temperatura de 10°C
B7: DESCRIPCIÓN: | E7: =+'A.2.1. Promedio meteorologia'!E6 -> EVALUACIÓN DE SEGUIMIENTO DE LA CALIDAD DEL AIRE EN EL ÁMBITO DE LA ZONA INDUSTRIAL DE VENTANILLA - MI PERÚ, UBICADO EN LOS DISTRITOS DE VENTANILLA Y MI PERÚ, PROVINCIA CONSTITUCIONAL DEL CALLAO, DURANTE JULIO DE 2020
B9: ESTACIÓN DE MONITOREO: | E9: =+'A.2.4. Cálculo PM10 y VM'!E9:F9 -> CA-VMP-6 | H9: CÓDIGO DE ACCIÓN: | J9: =+'A.2.3. Flujo promedio'!H9 -> 0001-7-2020-411
B11: N° | C11: Parámetro | D11: N° Filtro | E11: Fecha Inicio | F11: Fecha Final | G11: Periodo (minutos) | H11: Temperatura ambiental (°C) | I11: Presión ambiental (mm Hg) | J11: Po/Pa | K11: Flujo de muestreo (m3/min) | L11: Volumen muestreado real (m3) | M11: Volumen muestreado a 10°C (m3)
B12: 1 | C12: Metales en PM10 | D12: ='A.2.4. Cálculo PM10 y VM'!D12 -> 431014 | E12: ='A.2.4. Cálculo PM10 y VM'!E12 -> 0 | F12: ='A.2.4. Cálculo PM10 y VM'!F12 -> 0 | G12: =(F12-E12)*60*24 -> 0 | H12: ='A.2.1. Promedio meteorologia'!$F$42 -> #DIV/0! | I12: ='A.2.1. Promedio meteorologia'!$E$42 -> #DIV/0! | J12: ='A.2.3. Flujo promedio'!E28 -> #DIV/0! | K12: ='A.2.3. Flujo promedio'!I28 -> #DIV/0! | L12: =+K12*G12 -> #DIV/0! | M12: =((K12*(I12/760)*(283.15/(H12+273.15))*G12)) -> #DIV/0!
B13: 2 | D13: ='A.2.4. Cálculo PM10 y VM'!D13 -> 431015 | E13: ='A.2.4. Cálculo PM10 y VM'!E13 -> 0 | F13: ='A.2.4. Cálculo PM10 y VM'!F13 -> 0 | G13: =(F13-E13)*60*24 -> 0 | H13: ='A.2.1. Promedio meteorologia'!$F$70 -> #DIV/0! | I13: ='A.2.1. Promedio meteorologia'!$E$70 -> #DIV/0! | J13: ='A.2.3. Flujo promedio'!E36 -> #DIV/0! | K13: ='A.2.3. Flujo promedio'!I36 -> #DIV/0! | L13: =+K13*G13 -> #DIV/0! | M13: =((K13*(I13/760)*(283.15/(H13+273.15))*G13)) -> #DIV/0!
B14: 3 | D14: ='A.2.4. Cálculo PM10 y VM'!D14 -> 431016 | E14: ='A.2.4. Cálculo PM10 y VM'!E14 -> 0 | F14: ='A.2.4. Cálculo PM10 y VM'!F14 -> 0 | G14: =(F14-E14)*60*24 -> 0 | H14: ='A.2.1. Promedio meteorologia'!$F$98 -> #DIV/0! | I14: ='A.2.1. Promedio meteorologia'!$E$98 -> #DIV/0! | J14: ='A.2.3. Flujo promedio'!E44 -> #DIV/0! | K14: ='A.2.3. Flujo promedio'!I44 -> #DIV/0! | L14: =+K14*G14 -> #DIV/0! | M14: =((K14*(I14/760)*(283.15/(H14+273.15))*G14)) -> #DIV/0!
B15: 4 | D15: ='A.2.4. Cálculo PM10 y VM'!D15 -> 431017 | E15: ='A.2.4. Cálculo PM10 y VM'!E15 -> 0 | F15: ='A.2.4. Cálculo PM10 y VM'!F15 -> 0 | G15: =(F15-E15)*60*24 -> 0 | H15: ='A.2.1. Promedio meteorologia'!$F$126 -> #DIV/0! | I15: ='A.2.1. Promedio meteorologia'!$E$126 -> #DIV/0! | J15: ='A.2.3. Flujo promedio'!E52 -> #DIV/0! | K15: ='A.2.3. Flujo promedio'!I52 -> #DIV/0! | L15: =+K15*G15 -> #DIV/0! | M15: =((K15*(I15/760)*(283.15/(H15+273.15))*G15)) -> #DIV/0!
B16: 5 | D16: ='A.2.4. Cálculo PM10 y VM'!D16 -> 431018 | E16: ='A.2.4. Cálculo PM10 y VM'!E16 -> 0 | F16: ='A.2.4. Cálculo PM10 y VM'!F16 -> 0 | G16: =(F16-E16)*60*24 -> 0 | H16: ='A.2.1. Promedio meteorologia'!$F$154 -> #DIV/0! | I16: ='A.2.1. Promedio meteorologia'!$E$154 -> #DIV/0! | J16: ='A.2.3. Flujo promedio'!E60 -> #DIV/0! | K16: ='A.2.3. Flujo promedio'!I60 -> #DIV/0! | L16: =+K16*G16 -> #DIV/0! | M16: =((K16*(I16/760)*(283.15/(H16+273.15))*G16)) -> #DIV/0!
B17: 6 | G17: =(F17-E17)*60*24 -> 0 | K17: 23.51 | M17: =IF(L17="","",L17/K17)
B18: 7 | G18: =(F18-E18)*60*24 -> 0 | K18: 23.51 | M18: =IF(L18="","",L18/K18)
B19: 8 | G19: =(F19-E19)*60*24 -> 0 | K19: 23.52 | M19: =IF(L19="","",L19/K19)
B20: 9 | G20: =(F20-E20)*60*24 -> 0 | M20: =IF(L20="","",L20/K20)
B21: 10 | G21: =(F21-E21)*60*24 -> 0 | M21: =IF(L21="","",L21/K21)
B22: 11 | G22: =(F22-E22)*60*24 -> 0 | M22: =IF(L22="","",L22/K22)
B23: 12 | G23: =(F23-E23)*60*24 -> 0 | M23: =IF(L23="","",L23/K23)
B24: 13 | G24: =(F24-E24)*60*24 -> 0 | M24: =IF(L24="","",L24/K24)
B25: 14 | G25: =(F25-E25)*60*24 -> 0 | M25: =IF(L25="","",L25/K25)
B26: 15 | G26: =(F26-E26)*60*24 -> 0 | M26: =IF(L26="","",L26/K26)
B28: OBSERVACIONES:
B29: (1) El cálculo de volumen muestrado para metales en PM10, se realizó en base a las condiciones de temperatura 10°C (283,15 °K) y presión estándar (760 mmHg ó 1013,25 mBar), establecidas en la Norma referencial ONTARIO’S AMBIENT AIR QUALITY CRITERIA. "-" : No aplica.

Sheet A.2.8. Conc. Metales 10°C
E2: Tabla A.2.8. Concentraciones de metales en PM10 a temperatura de 10°C
B7: TÍTULO DEL ESTUDIO: | E7: =+'A.2.1. Promedio meteorologia'!E6 -> EVALUACIÓN DE SEGUIMIENTO DE LA CALIDAD DEL AIRE EN EL ÁMBITO DE LA ZONA INDUSTRIAL DE VENTANILLA - MI PERÚ, UBICADO EN LOS DISTRITOS DE VENTANILLA Y MI PERÚ, PROVINCIA CONSTITUCIONAL DEL CALLAO, DURANTE JULIO DE 2020
B9: ESTACIÓN DE MONITOREO: | E9: =+'A.2.1. Promedio meteorologia'!E8 -> CA-VMP-6 | G9: CÓDIGO DE ACCIÓN: | I9: =+'A.2.3. Flujo promedio'!H9 -> 0001-7-2020-411
B11: RESULTADOS DE LABORATORIO
B12: Metal medido en PM10 | D12: Unidad | E12: Fecha
E13: ='A.2.4. Cálculo PM10 y VM'!$E12 -> 0 | F13: ='A.2.4. Cálculo PM10 y VM'!$E13 -> 0 | G13: ='A.2.4. Cálculo PM10 y VM'!$E14 -> 0 | H13: ='A.2.4. Cálculo PM10 y VM'!$E15 -> 0 | I13: ='A.2.4. Cálculo PM10 y VM'!$E16 -> 0 | J13: ='A.2.4. Cálculo PM10 y VM'!$E17 -> #REF! | K13: ='A.2.4. Cálculo PM10 y VM'!$E18 -> #REF! | L13: ='A.2.4. Cálculo PM10 y VM'!$E19 -> #REF! | M13: ='A.2.4. Cálculo PM10 y VM'!$E20 -> #REF! | N13: ='A.2.4. Cálculo PM10 y VM'!$E21 -> #REF! | O13: ='A.2.4. Cálculo PM10 y VM'!$E22 -> #REF! | P13: ='A.2.4. Cálculo PM10 y VM'!$E23 -> #REF! | Q13: ='A.2.4. Cálculo PM10 y VM'!$E24 -> #REF! | R13: ='A.2.4. Cálculo PM10 y VM'!$E25 -> #REF! | S13: ='A.2.4. Cálculo PM10 y VM'!$E26 -> #REF!
B14: Aluminio | C14: Al | D14: µg/mtra | E14: 874.6 | F14: 629.1 | G14: 652.1 | H14: 892 | I14: 847
B15: Antimonio | C15: Sb | D15: µg/mtra | E15: 7.363 | F15: 2.634 | G15: 3.459 | H15: 13.15 | I15: 15.43
B16: Arsénico | C16: As | D16: µg/mtra | E16: 6.409 | F16: 10.42 | G16: 7.33 | H16: 9.694 | I16: 10.3
B17: Bario | C17: Ba | D17: µg/mtra | E17: 31.61 | F17: 18.76 | G17: 22.94 | H17: 27.94 | I17: 35.55
B18: Berilio | C18: Be | D18: µg/mtra | E18: < 0,010 | F18: < 0,010 | G18: < 0,010 | H18: < 0,010 | I18: < 0,010
B19: Bismuto | C19: Bi | D19: µg/mtra | E19: 0.827 | F19: 0.5467 | G19: 0.4976 | H19: 0.7177 | I19: 0.9212
B20: Boro | C20: B | D20: µg/mtra | E20: 4.2 | F20: 3.37 | G20: 5.83 | H20: 5.31 | I20: 4.66
B21: Cadmio | C21: Cd | D21: µg/mtra | E21: 2.606 | F21: 0.982 | G21: 1.711 | H21: 2.4 | I21: 2.508
B22: Calcio | C22: Ca | D22: µg/mtra | E22: 3550 | F22: 3724 | G22: 3165 | H22: 3805 | I22: 4707
B23: Cobalto | C23: Co | D23: µg/mtra | E23: 1.229 | F23: 0.941 | G23: 0.832 | H23: 1.176 | I23: 1.47
B24: Cobre | C24: Cu | D24: µg/mtra | E24: 129.9 | F24: 71.47 | G24: 64.26 | H24: 105.7 | I24: 160.8
B25: Cromo | C25: Cr | D25: µg/mtra | E25: < 2,082 | F25: < 2,082 | G25: < 2,082 | H25: < 2,082 | I25: < 2,082
B26: Estaño | C26: Sn | D26: µg/mtra | E26: 5.458 | F26: 2.107 | G26: 4.044 | H26: 5.96 | I26: 8.295
B27: Estroncio | C27: Sr | D27: µg/mtra | E27: 13.96 | F27: 13.7 | G27: 12.97 | H27: 16.7 | I27: 16.22
B28: Fósforo | C28: P | D28: µg/mtra | E28: 349.2 | F28: 333.8 | G28: 438.6 | H28: 391.6 | I28: 566.1
B29: Hierro | C29: Fe | D29: µg/mtra | E29: 1570 | F29: 1060 | G29: 1115 | H29: 1572 | I29: 1600
B30: Litio | C30: Li | D30: µg/mtra | E30: 0.77 | F30: 0.47 | G30: 0.71 | H30: 0.85 | I30: 0.65
B31: Magnesio | C31: Mg | D31: µg/mtra | E31: 961 | F31: 1076 | G31: 947.7 | H31: 1270 | I31: 1268
B32: Manganeso | C32: Mn | D32: µg/mtra | E32: 39.18 | F32: 27.31 | G32: 31.31 | H32: 38.74 | I32: 41.76
B33: Mercurio | C33: Hg | D33: µg/mtra | E33: < 0,021 | F33: < 0,021 | G33: 0.171 | H33: < 0,021 | I33: 0.364
B34: Molibdeno | C34: Mo | D34: µg/mtra | E34: 3.665 | F34: 3.336 | G34: 3.094 | H34: 3.995 | I34: 4.275
B35: Níquel | C35: Ni | D35: µg/mtra | E35: 8.379 | F35: 4.468 | G35: 3.776 | H35: 4.355 | I35: 6.317
B36: Plata | C36: Ag | D36: µg/mtra | E36: 0.3351 | F36: 0.253 | G36: 0.2028 | H36: 0.251 | I36: 0.4812
B37: Plomo | C37: Pb | D37: µg/mtra | E37: 137 | F37: 26.86 | G37: 44.37 | H37: 195.6 | I37: 205.7
B38: Potasio | C38: K | D38: µg/mtra | E38: 565 | F38: 478.5 | G38: 502.6 | H38: 618.2 | I38: 594.3
B39: Selenio | C39: Se | D39: µg/mtra | E39: 4.368 | F39: 2.203 | G39: 4.095 | H39: 3.676 | I39: 4.861
B40: Silicio | C40: Si | D40: µg/mtra | E40: 1173 | F40: 978.3 | G40: 1377 | H40: 1405 | I40: 1168
B41: Sodio | C41: Na | D41: µg/mtra | E41: 3612 | F41: 5643 | G41: 4879 | H41: 5796 | I41: 5998
B42: Talio | C42: Tl | D42: µg/mtra | E42: 0.22 | F42: < 0,008 | G42: < 0,008 | H42: 0.294 | I42: 0.181
B43: Titanio | C43: Ti | D43: µg/mtra | E43: 42 | F43: 31.34 | G43: 32.62 | H43: 43 | I43: 43.02
B44: Uranio | C44: U | D44: µg/mtra | E44: < 0,0071 | F44: < 0,0071 | G44: < 0,0071 | H44: < 0,0071 | I44: 0.1751
B45: Vanadio | C45: V | D45: µg/mtra | E45: 5.569 | F45: 4.207 | G45: 3.983 | H45: 5.22 | I45: 6.395
B46: Zinc | C46: Zn | D46: µg/mtra | E46: 215.1 | F46: 107.3 | G46: 123.8 | H46: 155 | I46: 326.9
B48: <: Debajo del límite de detección | C48: Debajo del límite de detección
B49: Fuente: Informe de Ensayo N.° 35995/2020 del laboratorio ALS LS Perú S.A.C.
B51: CONCENTRACIÓN DE METALES
B52: Metal medido en PM10 | D52: Unidad | E52: =E12 -> Fecha
E53: ='A.2.4. Cálculo PM10 y VM'!$E12 -> 0 | F53: ='A.2.4. Cálculo PM10 y VM'!$E13 -> 0 | G53: ='A.2.4. Cálculo PM10 y VM'!$E14 -> 0 | H53: ='A.2.4. Cálculo PM10 y VM'!$E15 -> 0 | I53: ='A.2.4. Cálculo PM10 y VM'!$E16 -> 0 | J53: ='A.2.4. Cálculo PM10 y VM'!$E17 -> #REF! | K53: ='A.2.4. Cálculo PM10 y VM'!$E18 -> #REF! | L53: ='A.2.4. Cálculo PM10 y VM'!$E19 -> #REF! | M53: ='A.2.4. Cálculo PM10 y VM'!$E20 -> #REF! | N53: ='A.2.4. Cálculo PM10 y VM'!$E21 -> #REF! | O53: ='A.2.4. Cálculo PM10 y VM'!$E22 -> #REF! | P53: ='A.2.4. Cálculo PM10 y VM'!$E23 -> #REF! | Q53: ='A.2.4. Cálculo PM10 y VM'!$E24 -> #REF! | R53: ='A.2.4. Cálculo PM10 y VM'!$E25 -> #REF! | S53: ='A.2.4. Cálculo PM10 y VM'!$E26 -> #REF!
B54: Volumen de muestreo, en m3 (Va) | E54: ='A.2.7. Cálculo Vol E'!M12 -> #DIV/0! | F54: ='A.2.7. Cálculo Vol E'!M13 -> #DIV/0! | G54: ='A.2.7. Cálculo Vol E'!M14 -> #DIV/0! | H54: ='A.2.7. Cálculo Vol E'!M15 -> #DIV/0! | I54: ='A.2.7. Cálculo Vol E'!M16 -> #DIV/0! | J54: ='A.2.4. Cálculo PM10 y VM'!#REF! -> #REF! | K54: ='A.2.4. Cálculo PM10 y VM'!#REF! -> #REF! | L54: ='A.2.4. Cálculo PM10 y VM'!#REF! -> #REF! | M54: ='A.2.4. Cálculo PM10 y VM'!#REF! -> #REF! | N54: ='A.2.4. Cálculo PM10 y VM'!#REF! -> #REF! | O54: ='A.2.4. Cálculo PM10 y VM'!#REF! -> #REF! | P54: ='A.2.4. Cálculo PM10 y VM'!#REF! -> #REF! | Q54: ='A.2.4. Cálculo PM10 y VM'!#REF! -> #REF! | ... S54: ='A.2.4. Cálculo PM10 y VM'!#REF! -> #REF! | V54: Maximo: | W54: Estado: | X54: Cantidad:
B55: Aluminio | C55: Al | D55: µg/m3 | E55: =IF(ISNUMBER(FIND("<",E14)),"N.D.",PRODUCT(E14,1/E$54)) -> #DIV/0! | F55: =IF(ISNUMBER(FIND("<",F14)),"N.D.",PRODUCT(F14,1/F$54)) -> #DIV/0! | G55: =IF(ISNUMBER(FIND("<",G14)),"N.D.",PRODUCT(G14,1/G$54)) -> #DIV/0! | H55: =IF(ISNUMBER(FIND("<",H14)),"N.D.",PRODUCT(H14,1/H$54)) -> #DIV/0! | I55: =IF(ISNUMBER(FIND("<",I14)),"N.D.",PRODUCT(I14,1/I$54)) -> #DIV/0! | J55: =IF(ISNUMBER(FIND("<",J14)),"N.D.",PRODUCT(J14,1/J$54)) -> #REF! | K55: =IF(ISNUMBER(FIND("<",K14)),"N.D.",PRODUCT(K14,1/K$54)) -> #REF! | L55: =IF(ISNUMBER(FIND("<",L14)),"N.D.",PRODUCT(L14,1/L$54)) -> #REF! | ... S55: =IF(ISNUMBER(FIND("<",S14)),"N.D.",PRODUCT(S14,1/S$54)) -> #REF! | U55: - | V55: =MAX(E55:I55) -> #DIV/0! | W55: =IF(V55>U55,"Supera","No Supera") -> #DIV/0!
B56: Antimonio | C56: Sb | D56: µg/m3 | E56: =IF(ISNUMBER(FIND("<",E15)),"N.D.",PRODUCT(E15,1/E$54)) -> #DIV/0! | F56: =IF(ISNUMBER(FIND("<",F15)),"N.D.",PRODUCT(F15,1/F$54)) -> #DIV/0! | G56: =IF(ISNUMBER(FIND("<",G15)),"N.D.",PRODUCT(G15,1/G$54)) -> #DIV/0! | H56: =IF(ISNUMBER(FIND("<",H15)),"N.D.",PRODUCT(H15,1/H$54)) -> #DIV/0! | I56: =IF(ISNUMBER(FIND("<",I15)),"N.D.",PRODUCT(I15,1/I$54)) -> #DIV/0! | J56: =IF(ISNUMBER(FIND("<",J15)),"N.D.",PRODUCT(J15,1/J$54)) -> #REF! | K56: =IF(ISNUMBER(FIND("<",K15)),"N.D.",PRODUCT(K15,1/K$54)) -> #REF! | L56: =IF(ISNUMBER(FIND("<",L15)),"N.D.",PRODUCT(L15,1/L$54)) -> #REF! | ... S56: =IF(ISNUMBER(FIND("<",S15)),"N.D.",PRODUCT(S15,1/S$54)) -> #REF! | U56: 25 | V56: =MAX(E56:I56) -> #DIV/0! | W56: =IF(V56>U56,"Supera","No Supera") -> #DIV/0!
B57: Arsénico | C57: As | D57: µg/m3 | E57: =IF(ISNUMBER(FIND("<",E16)),"N.D.",PRODUCT(E16,1/E$54)) -> #DIV/0! | F57: =IF(ISNUMBER(FIND("<",F16)),"N.D.",PRODUCT(F16,1/F$54)) -> #DIV/0! | G57: =IF(ISNUMBER(FIND("<",G16)),"N.D.",PRODUCT(G16,1/G$54)) -> #DIV/0! | H57: =IF(ISNUMBER(FIND("<",H16)),"N.D.",PRODUCT(H16,1/H$54)) -> #DIV/0! | I57: =IF(ISNUMBER(FIND("<",I16)),"N.D.",PRODUCT(I16,1/I$54)) -> #DIV/0! | J57: =IF(ISNUMBER(FIND("<",J16)),"N.D.",PRODUCT(J16,1/J$54)) -> #REF! | K57: =IF(ISNUMBER(FIND("<",K16)),"N.D.",PRODUCT(K16,1/K$54)) -> #REF! | L57: =IF(ISNUMBER(FIND("<",L16)),"N.D.",PRODUCT(L16,1/L$54)) -> #REF! | ... S57: =IF(ISNUMBER(FIND("<",S16)),"N.D.",PRODUCT(S16,1/S$54)) -> #REF! | U57: 0.3 | V57: =MAX(E57:I57) -> #DIV/0! | W57: =IF(V57>U57,"Supera","No Supera") -> #DIV/0!
B58: Bario | C58: Ba | D58: µg/m3 | E58: =IF(ISNUMBER(FIND("<",E17)),"N.D.",PRODUCT(E17,1/E$54)) -> #DIV/0! | F58: =IF(ISNUMBER(FIND("<",F17)),"N.D.",PRODUCT(F17,1/F$54)) -> #DIV/0! | G58: =IF(ISNUMBER(FIND("<",G17)),"N.D.",PRODUCT(G17,1/G$54)) -> #DIV/0! | H58: =IF(ISNUMBER(FIND("<",H17)),"N.D.",PRODUCT(H17,1/H$54)) -> #DIV/0! | I58: =IF(ISNUMBER(FIND("<",I17)),"N.D.",PRODUCT(I17,1/I$54)) -> #DIV/0! | J58: =IF(ISNUMBER(FIND("<",J17)),"N.D.",PRODUCT(J17,1/J$54)) -> #REF! | K58: =IF(ISNUMBER(FIND("<",K17)),"N.D.",PRODUCT(K17,1/K$54)) -> #REF! | L58: =IF(ISNUMBER(FIND("<",L17)),"N.D.",PRODUCT(L17,1/L$54)) -> #REF! | ... S58: =IF(ISNUMBER(FIND("<",S17)),"N.D.",PRODUCT(S17,1/S$54)) -> #REF! | U58: - | V58: =MAX(E58:I58) -> #DIV/0! | W58: =IF(V58>U58,"Supera","No Supera") -> #DIV/0!
B59: Berilio | C59: Be | D59: µg/m3 | E59: =IF(ISNUMBER(FIND("<",E18)),"N.D.",PRODUCT(E18,1/E$54)) -> N.D. | F59: =IF(ISNUMBER(FIND("<",F18)),"N.D.",PRODUCT(F18,1/F$54)) -> N.D. | G59: =IF(ISNUMBER(FIND("<",G18)),"N.D.",PRODUCT(G18,1/G$54)) -> N.D. | H59: =IF(ISNUMBER(FIND("<",H18)),"N.D.",PRODUCT(H18,1/H$54)) -> N.D. | I59: =IF(ISNUMBER(FIND("<",I18)),"N.D.",PRODUCT(I18,1/I$54)) -> N.D. | J59: =IF(ISNUMBER(FIND("<",J18)),"N.D.",PRODUCT(J18,1/J$54)) -> #REF! | K59: =IF(ISNUMBER(FIND("<",K18)),"N.D.",PRODUCT(K18,1/K$54)) -> #REF! | L59: =IF(ISNUMBER(FIND("<",L18)),"N.D.",PRODUCT(L18,1/L$54)) -> #REF! | ... S59: =IF(ISNUMBER(FIND("<",S18)),"N.D.",PRODUCT(S18,1/S$54)) -> #REF! | U59: 0.01 | V59: =MAX(E59:I59) -> 0 | W59: =IF(V59>U59,"Supera","No Supera") -> No Supera
B60: Bismuto | C60: Bi | D60: µg/m3 | E60: =IF(ISNUMBER(FIND("<",E19)),"N.D.",PRODUCT(E19,1/E$54)) -> #DIV/0! | F60: =IF(ISNUMBER(FIND("<",F19)),"N.D.",PRODUCT(F19,1/F$54)) -> #DIV/0! | G60: =IF(ISNUMBER(FIND("<",G19)),"N.D.",PRODUCT(G19,1/G$54)) -> #DIV/0! | H60: =IF(ISNUMBER(FIND("<",H19)),"N.D.",PRODUCT(H19,1/H$54)) -> #DIV/0! | I60: =IF(ISNUMBER(FIND("<",I19)),"N.D.",PRODUCT(I19,1/I$54)) -> #DIV/0! | J60: =IF(ISNUMBER(FIND("<",J19)),"N.D.",PRODUCT(J19,1/J$54)) -> #REF! | K60: =IF(ISNUMBER(FIND("<",K19)),"N.D.",PRODUCT(K19,1/K$54)) -> #REF! | L60: =IF(ISNUMBER(FIND("<",L19)),"N.D.",PRODUCT(L19,1/L$54)) -> #REF! | ... S60: =IF(ISNUMBER(FIND("<",S19)),"N.D.",PRODUCT(S19,1/S$54)) -> #REF! | U60: - | V60: =MAX(E60:I60) -> #DIV/0! | W60: =IF(V60>U60,"Supera","No Supera") -> #DIV/0!
B61: Boro | C61: B | D61: µg/m3 | E61: =IF(ISNUMBER(FIND("<",E20)),"N.D.",PRODUCT(E20,1/E$54)) -> #DIV/0! | F61: =IF(ISNUMBER(FIND("<",F20)),"N.D.",PRODUCT(F20,1/F$54)) -> #DIV/0! | G61: =IF(ISNUMBER(FIND("<",G20)),"N.D.",PRODUCT(G20,1/G$54)) -> #DIV/0! | H61: =IF(ISNUMBER(FIND("<",H20)),"N.D.",PRODUCT(H20,1/H$54)) -> #DIV/0! | I61: =IF(ISNUMBER(FIND("<",I20)),"N.D.",PRODUCT(I20,1/I$54)) -> #DIV/0! | J61: =IF(ISNUMBER(FIND("<",J20)),"N.D.",PRODUCT(J20,1/J$54)) -> #REF! | K61: =IF(ISNUMBER(FIND("<",K20)),"N.D.",PRODUCT(K20,1/K$54)) -> #REF! | L61: =IF(ISNUMBER(FIND("<",L20)),"N.D.",PRODUCT(L20,1/L$54)) -> #REF! | ... S61: =IF(ISNUMBER(FIND("<",S20)),"N.D.",PRODUCT(S20,1/S$54)) -> #REF! | U61: 120 | V61: =MAX(E61:I61) -> #DIV/0! | W61: =IF(V61>U61,"Supera","No Supera") -> #DIV/0!
B62: Cadmio | C62: Cd | D62: µg/m3 | E62: =IF(ISNUMBER(FIND("<",E21)),"N.D.",PRODUCT(E21,1/E$54)) -> #DIV/0! | F62: =IF(ISNUMBER(FIND("<",F21)),"N.D.",PRODUCT(F21,1/F$54)) -> #DIV/0! | G62: =IF(ISNUMBER(FIND("<",G21)),"N.D.",PRODUCT(G21,1/G$54)) -> #DIV/0! | H62: =IF(ISNUMBER(FIND("<",H21)),"N.D.",PRODUCT(H21,1/H$54)) -> #DIV/0! | I62: =IF(ISNUMBER(FIND("<",I21)),"N.D.",PRODUCT(I21,1/I$54)) -> #DIV/0! | J62: =IF(ISNUMBER(FIND("<",J21)),"N.D.",PRODUCT(J21,1/J$54)) -> #REF! | K62: =IF(ISNUMBER(FIND("<",K21)),"N.D.",PRODUCT(K21,1/K$54)) -> #REF! | L62: =IF(ISNUMBER(FIND("<",L21)),"N.D.",PRODUCT(L21,1/L$54)) -> #REF! | ... S62: =IF(ISNUMBER(FIND("<",S21)),"N.D.",PRODUCT(S21,1/S$54)) -> #REF! | U62: 0.025 | V62: =MAX(E62:I62) -> #DIV/0! | W62: =IF(V62>U62,"Supera","No Supera") -> #DIV/0! | X62: =COUNTIF(E62:I62,">0,025") -> 0 | Y62: =E62/$U$62 -> #DIV/0! | Z62: =F62/$U$62 -> #DIV/0! | AA62: =G62/$U$62 -> #DIV/0! | AB62: =H62/$U$62 -> #DIV/0! | AC62: =I62/$U$62 -> #DIV/0! | AD62: =MAX(Y62:AC62) -> #DIV/0!
B63: Calcio | C63: Ca | D63: µg/m3 | E63: =IF(ISNUMBER(FIND("<",E22)),"N.D.",PRODUCT(E22,1/E$54)) -> #DIV/0! | F63: =IF(ISNUMBER(FIND("<",F22)),"N.D.",PRODUCT(F22,1/F$54)) -> #DIV/0! | G63: =IF(ISNUMBER(FIND("<",G22)),"N.D.",PRODUCT(G22,1/G$54)) -> #DIV/0! | H63: =IF(ISNUMBER(FIND("<",H22)),"N.D.",PRODUCT(H22,1/H$54)) -> #DIV/0! | I63: =IF(ISNUMBER(FIND("<",I22)),"N.D.",PRODUCT(I22,1/I$54)) -> #DIV/0! | J63: =IF(ISNUMBER(FIND("<",J22)),"N.D.",PRODUCT(J22,1/J$54)) -> #REF! | K63: =IF(ISNUMBER(FIND("<",K22)),"N.D.",PRODUCT(K22,1/K$54)) -> #REF! | L63: =IF(ISNUMBER(FIND("<",L22)),"N.D.",PRODUCT(L22,1/L$54)) -> #REF! | ... S63: =IF(ISNUMBER(FIND("<",S22)),"N.D.",PRODUCT(S22,1/S$54)) -> #REF! | U63: - | V63: =MAX(E63:I63) -> #DIV/0! | W63: =IF(V63>U63,"Supera","No Supera") -> #DIV/0!
B64: Cobalto | C64: Co | D64: µg/m3 | E64: =IF(ISNUMBER(FIND("<",E23)),"N.D.",PRODUCT(E23,1/E$54)) -> #DIV/0! | F64: =IF(ISNUMBER(FIND("<",F23)),"N.D.",PRODUCT(F23,1/F$54)) -> #DIV/0! | G64: =IF(ISNUMBER(FIND("<",G23)),"N.D.",PRODUCT(G23,1/G$54)) -> #DIV/0! | H64: =IF(ISNUMBER(FIND("<",H23)),"N.D.",PRODUCT(H23,1/H$54)) -> #DIV/0! | I64: =IF(ISNUMBER(FIND("<",I23)),"N.D.",PRODUCT(I23,1/I$54)) -> #DIV/0! | J64: =IF(ISNUMBER(FIND("<",J23)),"N.D.",PRODUCT(J23,1/J$54)) -> #REF! | K64: =IF(ISNUMBER(FIND("<",K23)),"N.D.",PRODUCT(K23,1/K$54)) -> #REF! | L64: =IF(ISNUMBER(FIND("<",L23)),"N.D.",PRODUCT(L23,1/L$54)) -> #REF! | ... S64: =IF(ISNUMBER(FIND("<",S23)),"N.D.",PRODUCT(S23,1/S$54)) -> #REF! | U64: 0.1 | V64: =MAX(E64:I64) -> #DIV/0! | W64: =IF(V64>U64,"Supera","No Supera") -> #DIV/0!
B65: Cobre | C65: Cu | D65: µg/m3 | E65: =IF(ISNUMBER(FIND("<",E24)),"N.D.",PRODUCT(E24,1/E$54)) -> #DIV/0! | F65: =IF(ISNUMBER(FIND("<",F24)),"N.D.",PRODUCT(F24,1/F$54)) -> #DIV/0! | G65: =IF(ISNUMBER(FIND("<",G24)),"N.D.",PRODUCT(G24,1/G$54)) -> #DIV/0! | H65: =IF(ISNUMBER(FIND("<",H24)),"N.D.",PRODUCT(H24,1/H$54)) -> #DIV/0! | I65: =IF(ISNUMBER(FIND("<",I24)),"N.D.",PRODUCT(I24,1/I$54)) -> #DIV/0! | J65: =IF(ISNUMBER(FIND("<",J24)),"N.D.",PRODUCT(J24,1/J$54)) -> #REF! | K65: =IF(ISNUMBER(FIND("<",K24)),"N.D.",PRODUCT(K24,1/K$54)) -> #REF! | L65: =IF(ISNUMBER(FIND("<",L24)),"N.D.",PRODUCT(L24,1/L$54)) -> #REF! | ... S65: =IF(ISNUMBER(FIND("<",S24)),"N.D.",PRODUCT(S24,1/S$54)) -> #REF! | U65: 50 | V65: =MAX(E65:I65) -> #DIV/0! | W65: =IF(V65>U65,"Supera","No Supera") -> #DIV/0!
B66: Cromo | C66: Cr | D66: µg/m3 | E66: =IF(ISNUMBER(FIND("<",E25)),"N.D.",PRODUCT(E25,1/E$54)) -> N.D. | F66: =IF(ISNUMBER(FIND("<",F25)),"N.D.",PRODUCT(F25,1/F$54)) -> N.D. | G66: =IF(ISNUMBER(FIND("<",G25)),"N.D.",PRODUCT(G25,1/G$54)) -> N.D. | H66: =IF(ISNUMBER(FIND("<",H25)),"N.D.",PRODUCT(H25,1/H$54)) -> N.D. | I66: =IF(ISNUMBER(FIND("<",I25)),"N.D.",PRODUCT(I25,1/I$54)) -> N.D. | J66: =IF(ISNUMBER(FIND("<",J25)),"N.D.",PRODUCT(J25,1/J$54)) -> #REF! | K66: =IF(ISNUMBER(FIND("<",K25)),"N.D.",PRODUCT(K25,1/K$54)) -> #REF! | L66: =IF(ISNUMBER(FIND("<",L25)),"N.D.",PRODUCT(L25,1/L$54)) -> #REF! | ... S66: =IF(ISNUMBER(FIND("<",S25)),"N.D.",PRODUCT(S25,1/S$54)) -> #REF! | U66: 0.5 | V66: =MAX(E66:I66) -> 0 | W66: =IF(V66>U66,"Supera","No Supera") -> No Supera
B67: Estaño | C67: Sn | D67: µg/m3 | E67: =IF(ISNUMBER(FIND("<",E26)),"N.D.",PRODUCT(E26,1/E$54)) -> #DIV/0! | F67: =IF(ISNUMBER(FIND("<",F26)),"N.D.",PRODUCT(F26,1/F$54)) -> #DIV/0! | G67: =IF(ISNUMBER(FIND("<",G26)),"N.D.",PRODUCT(G26,1/G$54)) -> #DIV/0! | H67: =IF(ISNUMBER(FIND("<",H26)),"N.D.",PRODUCT(H26,1/H$54)) -> #DIV/0! | I67: =IF(ISNUMBER(FIND("<",I26)),"N.D.",PRODUCT(I26,1/I$54)) -> #DIV/0! | J67: =IF(ISNUMBER(FIND("<",J26)),"N.D.",PRODUCT(J26,1/J$54)) -> #REF! | K67: =IF(ISNUMBER(FIND("<",K26)),"N.D.",PRODUCT(K26,1/K$54)) -> #REF! | L67: =IF(ISNUMBER(FIND("<",L26)),"N.D.",PRODUCT(L26,1/L$54)) -> #REF! | ... S67: =IF(ISNUMBER(FIND("<",S26)),"N.D.",PRODUCT(S26,1/S$54)) -> #REF! | U67: 10 | V67: =MAX(E67:I67) -> #DIV/0! | W67: =IF(V67>U67,"Supera","No Supera") -> #DIV/0!
B68: Estroncio | C68: Sr | D68: µg/m3 | E68: =IF(ISNUMBER(FIND("<",E27)),"N.D.",PRODUCT(E27,1/E$54)) -> #DIV/0! | F68: =IF(ISNUMBER(FIND("<",F27)),"N.D.",PRODUCT(F27,1/F$54)) -> #DIV/0! | G68: =IF(ISNUMBER(FIND("<",G27)),"N.D.",PRODUCT(G27,1/G$54)) -> #DIV/0! | H68: =IF(ISNUMBER(FIND("<",H27)),"N.D.",PRODUCT(H27,1/H$54)) -> #DIV/0! | I68: =IF(ISNUMBER(FIND("<",I27)),"N.D.",PRODUCT(I27,1/I$54)) -> #DIV/0! | J68: =IF(ISNUMBER(FIND("<",J27)),"N.D.",PRODUCT(J27,1/J$54)) -> #REF! | K68: =IF(ISNUMBER(FIND("<",K27)),"N.D.",PRODUCT(K27,1/K$54)) -> #REF! | L68: =IF(ISNUMBER(FIND("<",L27)),"N.D.",PRODUCT(L27,1/L$54)) -> #REF! | ... S68: =IF(ISNUMBER(FIND("<",S27)),"N.D.",PRODUCT(S27,1/S$54)) -> #REF! | U68: 120 | V68: =MAX(E68:I68) -> #DIV/0! | W68: =IF(V68>U68,"Supera","No Supera") -> #DIV/0!
B69: Fósforo | C69: P | D69: µg/m3 | E69: =IF(ISNUMBER(FIND("<",E28)),"N.D.",PRODUCT(E28,1/E$54)) -> #DIV/0! | F69: =IF(ISNUMBER(FIND("<",F28)),"N.D.",PRODUCT(F28,1/F$54)) -> #DIV/0! | G69: =IF(ISNUMBER(FIND("<",G28)),"N.D.",PRODUCT(G28,1/G$54)) -> #DIV/0! | H69: =IF(ISNUMBER(FIND("<",H28)),"N.D.",PRODUCT(H28,1/H$54)) -> #DIV/0! | I69: =IF(ISNUMBER(FIND("<",I28)),"N.D.",PRODUCT(I28,1/I$54)) -> #DIV/0! | J69: =IF(ISNUMBER(FIND("<",J28)),"N.D.",PRODUCT(J28,1/J$54)) -> #REF! | K69: =IF(ISNUMBER(FIND("<",K28)),"N.D.",PRODUCT(K28,1/K$54)) -> #REF! | L69: =IF(ISNUMBER(FIND("<",L28)),"N.D.",PRODUCT(L28,1/L$54)) -> #REF! | ... S69: =IF(ISNUMBER(FIND("<",S28)),"N.D.",PRODUCT(S28,1/S$54)) -> #REF! | U69: - | V69: =MAX(E69:I69) -> #DIV/0! | W69: =IF(V69>U69,"Supera","No Supera") -> #DIV/0!
B70: Hierro | C70: Fe | D70: µg/m3 | E70: =IF(ISNUMBER(FIND("<",E29)),"N.D.",PRODUCT(E29,1/E$54)) -> #DIV/0! | F70: =IF(ISNUMBER(FIND("<",F29)),"N.D.",PRODUCT(F29,1/F$54)) -> #DIV/0! | G70: =IF(ISNUMBER(FIND("<",G29)),"N.D.",PRODUCT(G29,1/G$54)) -> #DIV/0! | H70: =IF(ISNUMBER(FIND("<",H29)),"N.D.",PRODUCT(H29,1/H$54)) -> #DIV/0! | I70: =IF(ISNUMBER(FIND("<",I29)),"N.D.",PRODUCT(I29,1/I$54)) -> #DIV/0! | J70: =IF(ISNUMBER(FIND("<",J29)),"N.D.",PRODUCT(J29,1/J$54)) -> #REF! | K70: =IF(ISNUMBER(FIND("<",K29)),"N.D.",PRODUCT(K29,1/K$54)) -> #REF! | L70: =IF(ISNUMBER(FIND("<",L29)),"N.D.",PRODUCT(L29,1/L$54)) -> #REF! | ... S70: =IF(ISNUMBER(FIND("<",S29)),"N.D.",PRODUCT(S29,1/S$54)) -> #REF! | U70: 4 | V70: =MAX(E70:I70) -> #DIV/0! | W70: =IF(V70>U70,"Supera","No Supera") -> #DIV/0! | X70: =COUNTIF(E70:I70,">4") -> 0 | Y70: =E70/$U$70 -> #DIV/0! | Z70: =F70/$U$70 -> #DIV/0! | AA70: =G70/$U$70 -> #DIV/0! | AB70: =H70/$U$70 -> #DIV/0! | AC70: =I70/$U$70 -> #DIV/0! | AD70: =MAX(Y70:AC70) -> #DIV/0!
B71: Litio | C71: Li | D71: µg/m3 | E71: =IF(ISNUMBER(FIND("<",E30)),"N.D.",PRODUCT(E30,1/E$54)) -> #DIV/0! | F71: =IF(ISNUMBER(FIND("<",F30)),"N.D.",PRODUCT(F30,1/F$54)) -> #DIV/0! | G71: =IF(ISNUMBER(FIND("<",G30)),"N.D.",PRODUCT(G30,1/G$54)) -> #DIV/0! | H71: =IF(ISNUMBER(FIND("<",H30)),"N.D.",PRODUCT(H30,1/H$54)) -> #DIV/0! | I71: =IF(ISNUMBER(FIND("<",I30)),"N.D.",PRODUCT(I30,1/I$54)) -> #DIV/0! | J71: =IF(ISNUMBER(FIND("<",J30)),"N.D.",PRODUCT(J30,1/J$54)) -> #REF! | K71: =IF(ISNUMBER(FIND("<",K30)),"N.D.",PRODUCT(K30,1/K$54)) -> #REF! | L71: =IF(ISNUMBER(FIND("<",L30)),"N.D.",PRODUCT(L30,1/L$54)) -> #REF! | ... S71: =IF(ISNUMBER(FIND("<",S30)),"N.D.",PRODUCT(S30,1/S$54)) -> #REF! | U71: - | V71: =MAX(E71:I71) -> #DIV/0! | W71: =IF(V71>U71,"Supera","No Supera") -> #DIV/0!
B72: Magnesio | C72: Mg | D72: µg/m3 | E72: =IF(ISNUMBER(FIND("<",E31)),"N.D.",PRODUCT(E31,1/E$54)) -> #DIV/0! | F72: =IF(ISNUMBER(FIND("<",F31)),"N.D.",PRODUCT(F31,1/F$54)) -> #DIV/0! | G72: =IF(ISNUMBER(FIND("<",G31)),"N.D.",PRODUCT(G31,1/G$54)) -> #DIV/0! | H72: =IF(ISNUMBER(FIND("<",H31)),"N.D.",PRODUCT(H31,1/H$54)) -> #DIV/0! | I72: =IF(ISNUMBER(FIND("<",I31)),"N.D.",PRODUCT(I31,1/I$54)) -> #DIV/0! | J72: =IF(ISNUMBER(FIND("<",J31)),"N.D.",PRODUCT(J31,1/J$54)) -> #REF! | K72: =IF(ISNUMBER(FIND("<",K31)),"N.D.",PRODUCT(K31,1/K$54)) -> #REF! | L72: =IF(ISNUMBER(FIND("<",L31)),"N.D.",PRODUCT(L31,1/L$54)) -> #REF! | ... S72: =IF(ISNUMBER(FIND("<",S31)),"N.D.",PRODUCT(S31,1/S$54)) -> #REF! | U72: - | V72: =MAX(E72:I72) -> #DIV/0! | W72: =IF(V72>U72,"Supera","No Supera") -> #DIV/0!
B73: Manganeso | C73: Mn | D73: µg/m3 | E73: =IF(ISNUMBER(FIND("<",E32)),"N.D.",PRODUCT(E32,1/E$54)) -> #DIV/0! | F73: =IF(ISNUMBER(FIND("<",F32)),"N.D.",PRODUCT(F32,1/F$54)) -> #DIV/0! | G73: =IF(ISNUMBER(FIND("<",G32)),"N.D.",PRODUCT(G32,1/G$54)) -> #DIV/0! | H73: =IF(ISNUMBER(FIND("<",H32)),"N.D.",PRODUCT(H32,1/H$54)) -> #DIV/0! | I73: =IF(ISNUMBER(FIND("<",I32)),"N.D.",PRODUCT(I32,1/I$54)) -> #DIV/0! | J73: =IF(ISNUMBER(FIND("<",J32)),"N.D.",PRODUCT(J32,1/J$54)) -> #REF! | K73: =IF(ISNUMBER(FIND("<",K32)),"N.D.",PRODUCT(K32,1/K$54)) -> #REF! | L73: =IF(ISNUMBER(FIND("<",L32)),"N.D.",PRODUCT(L32,1/L$54)) -> #REF! | ... S73: =IF(ISNUMBER(FIND("<",S32)),"N.D.",PRODUCT(S32,1/S$54)) -> #REF! | U73: 0.2 | V73: =MAX(E73:I73) -> #DIV/0! | W73: =IF(V73>U73,"Supera","No Supera") -> #DIV/0!
B74: Mercurio | C74: Hg | D74: µg/m3 | E74: =IF(ISNUMBER(FIND("<",E33)),"N.D.",PRODUCT(E33,1/E$54)) -> N.D. | F74: =IF(ISNUMBER(FIND("<",F33)),"N.D.",PRODUCT(F33,1/F$54)) -> N.D. | G74: =IF(ISNUMBER(FIND("<",G33)),"N.D.",PRODUCT(G33,1/G$54)) -> #DIV/0! | H74: =IF(ISNUMBER(FIND("<",H33)),"N.D.",PRODUCT(H33,1/H$54)) -> N.D. | I74: =IF(ISNUMBER(FIND("<",I33)),"N.D.",PRODUCT(I33,1/I$54)) -> #DIV/0! | J74: =IF(ISNUMBER(FIND("<",J33)),"N.D.",PRODUCT(J33,1/J$54)) -> #REF! | K74: =IF(ISNUMBER(FIND("<",K33)),"N.D.",PRODUCT(K33,1/K$54)) -> #REF! | L74: =IF(ISNUMBER(FIND("<",L33)),"N.D.",PRODUCT(L33,1/L$54)) -> #REF! | ... S74: =IF(ISNUMBER(FIND("<",S33)),"N.D.",PRODUCT(S33,1/S$54)) -> #REF! | U74: 2 | V74: =MAX(E74:I74) -> #DIV/0! | W74: =IF(V74>U74,"Supera","No Supera") -> #DIV/0!
B75: Molibdeno | C75: Mo | D75: µg/m3 | E75: =IF(ISNUMBER(FIND("<",E34)),"N.D.",PRODUCT(E34,1/E$54)) -> #DIV/0! | F75: =IF(ISNUMBER(FIND("<",F34)),"N.D.",PRODUCT(F34,1/F$54)) -> #DIV/0! | G75: =IF(ISNUMBER(FIND("<",G34)),"N.D.",PRODUCT(G34,1/G$54)) -> #DIV/0! | H75: =IF(ISNUMBER(FIND("<",H34)),"N.D.",PRODUCT(H34,1/H$54)) -> #DIV/0! | I75: =IF(ISNUMBER(FIND("<",I34)),"N.D.",PRODUCT(I34,1/I$54)) -> #DIV/0! | J75: =IF(ISNUMBER(FIND("<",J34)),"N.D.",PRODUCT(J34,1/J$54)) -> #REF! | K75: =IF(ISNUMBER(FIND("<",K34)),"N.D.",PRODUCT(K34,1/K$54)) -> #REF! | L75: =IF(ISNUMBER(FIND("<",L34)),"N.D.",PRODUCT(L34,1/L$54)) -> #REF! | ... S75: =IF(ISNUMBER(FIND("<",S34)),"N.D.",PRODUCT(S34,1/S$54)) -> #REF! | U75: 120 | V75: =MAX(E75:I75) -> #DIV/0! | W75: =IF(V75>U75,"Supera","No Supera") -> #DIV/0!
