Workbook

Sheet PM10 24H
E2: Tabla 3.1. Concentraciones horarias de PM₁₀
A6: TÍTULO DEL ESTUDIO: | E6: Evaluación ambiental de seguimiento de la calidad del aire en el CEBA Jose Pardo, distrito Ilo, provincia Ilo, departamento Moquegua, en diciembre 2025
A8: ESTACIÓN DE MONITOREO: | E8: CA-ILO-03 | P8: CÓDIGO DE ACCIÓN: | U8: 011-12-2025-417
A10: FECHA Y HORA DE INICIO: | E10: 45992 | P10: FECHA Y HORA FINAL: | U10: 31/12/2025 23:55:00
A12: DATOS DEL EQUIPO
A14: EQUIPO: | E14: Monitor automático de partículas | P14: CÓDIGO PATRIMONIAL | U14: 60226409-0032
A16: MARCA: | E16: GRIMM AEROSOL TECHNIK | L16: MODELO: | P16: EDM-180 | W16: SERIE: | Y16: 18A19093
A18: Hora\Día | B18: 1 | C18: 2 | D18: 3 | E18: 4 | F18: 5 | G18: 6 | H18: 7 | I18: 8 | J18: 9 | K18: 10 | L18: 11 | M18: 12 | N18: 13 | O18: 14 | P18: 15 | Q18: 16 | R18: 17 | S18: 18 | T18: 19 | U18: 20 | V18: 21 | W18: 22 | X18: 23 | Y18: 24 | Z18: 25 | AA18: 26 | AB18: 27 | AC18: 28 | AD18: 29 | AE18: 30 | AF18: 31
A19: 0 | B19: 13.81 | C19: 14.16 | D19: 16.27 | E19: 11.21 | F19: 27.98 | G19: 18.08 | H19: 12.27 | I19: 13.34 | J19: 12.88 | K19: 15.16 | L19: 32.26 | M19: 6.55 | N19: 15.11 | O19: MA | P19: MA | Q19: 13.38 | R19: 16.7 | S19: 11.67 | T19: 23.72 | U19: 21.18 | V19: 11.16 | W19: 8.13 | X19: 13.85 | Y19: 13.51 | Z19: 41.87 | AA19: 13.89 | AB19: 11.38 | AC19: 23.67 | AD19: 14.95 | AE19: 15.69 | AF19: 12.88
A20: 0.041666667 | B20: 14.18 | C20: 17.31 | D20: 15.12 | E20: 14.05 | F20: 28.71 | G20: 17.67 | H20: 19.21 | I20: 14.27 | J20: 8.72 | K20: 8.32 | L20: 22.38 | M20: 5.59 | N20: 16.1 | O20: MA | P20: MA | Q20: 17.37 | R20: 14.66 | S20: 15.39 | T20: 26.37 | U20: 18.78 | V20: 15.49 | W20: 8.59 | X20: 15.93 | Y20: 25.82 | Z20: 25.35 | AA20: 14.19 | AB20: 11.28 | AC20: 26.44 | AD20: 13.23 | AE20: 19.37 | AF20: 13.28
A21: 0.083333333 | B21: 12.54 | C21: 18.08 | D21: 18.48 | E21: 23.58 | F21: 15.33 | G21: 19.41 | H21: 14.03 | I21: 18.48 | J21: 6.63 | K21: 8.17 | L21: 8.57 | M21: 7.44 | N21: 11.96 | O21: MA | P21: MA | Q21: 14.43 | R21: 13.66 | S21: 37.23 | T21: 18.56 | U21: 19.24 | V21: 15.31 | W21: 6.71 | X21: 12.82 | Y21: 23.07 | Z21: 52.32 | AA21: 17 | AB21: 11.27 | AC21: 26.02 | AD21: 14.63 | AE21: 16.38 | AF21: 15.67
A22: 0.125 | B22: 12.01 | C22: 13.05 | D22: 23.49 | E22: 15.33 | F22: 25.99 | G22: 22.06 | H22: 13.74 | I22: 13.78 | J22: 6.47 | K22: 7.17 | L22: 6.62 | M22: 8.64 | N22: 13.03 | O22: MA | P22: MA | Q22: 17.3 | R22: 21.79 | S22: 30.96 | T22: 14.62 | U22: 23.09 | V22: 15.03 | W22: 8.71 | X22: 12.2 | Y22: 14.43 | Z22: 39.2 | AA22: 22.07 | AB22: 11.29 | AC22: 21.14 | AD22: 13.53 | AE22: 22.91 | AF22: 22.48
A23: 0.16666667 | B23: 15.78 | C23: 15.13 | D23: 25.62 | E23: 13.29 | F23: 25.98 | G23: 28.88 | H23: 18.38 | I23: 17.38 | J23: 9.18 | K23: 15.16 | L23: 8.11 | M23: 18.81 | N23: 13.74 | O23: MA | P23: MA | Q23: 30.58 | R23: 39.02 | S23: 30.01 | T23: 12.84 | U23: 14.77 | V23: 24.36 | W23: 12.03 | X23: 10.28 | Y23: 13.57 | Z23: 23.86 | AA23: 19.89 | AB23: 14.62 | AC23: 9.78 | AD23: 16.1 | AE23: 23.22 | AF23: 24.92
A24: 0.20833333 | B24: 14.58 | C24: 14.94 | D24: 28.86 | E24: 29.64 | F24: 41.7 | G24: 31.01 | H24: 35.68 | I24: 19.21 | J24: 10.75 | K24: 12.58 | L24: 21.76 | M24: 27.58 | N24: 23.41 | O24: MA | P24: MA | Q24: 43.23 | R24: 71.83 | S24: 32.42 | T24: 25.39 | U24: 41.46 | V24: 14.28 | W24: 24.33 | X24: 14.44 | Y24: 47.73 | Z24: 39.26 | AA24: 22.71 | AB24: 38.75 | AC24: 9.44 | AD24: 15.44 | AE24: 24.37 | AF24: 25.14
A25: 0.25 | B25: 16.88 | C25: 14.14 | D25: 26.48 | E25: 46.12 | F25: 50.48 | G25: 32.77 | H25: 23.78 | I25: 25.2 | J25: 9.81 | K25: 16.07 | L25: 9.78 | M25: 34.83 | N25: 27.7 | O25: MA | P25: MA | Q25: 19.78 | R25: 70.77 | S25: 43.55 | T25: 35.52 | U25: 33.22 | V25: 24.18 | W25: 28.76 | X25: 18.86 | Y25: 45.94 | Z25: 26.91 | AA25: 30.86 | AB25: 50.24 | AC25: 11.78 | AD25: 16.11 | AE25: 20.12 | AF25: 32.69
A26: 0.29166667 | B26: 28.87 | C26: 14.56 | D26: 27.71 | E26: 37.25 | F26: 27.26 | G26: 18.89 | H26: 15.23 | I26: 22.94 | J26: 12.82 | K26: 16.45 | L26: 11.33 | M26: 10.35 | N26: 16.26 | O26: MA | P26: MA | Q26: 28.51 | R26: 22.26 | S26: 27.85 | T26: 28.84 | U26: 20.54 | V26: 13.68 | W26: 16.86 | X26: 19.8 | Y26: 24.27 | Z26: 29.62 | AA26: 49.83 | AB26: 29.39 | AC26: 11.07 | AD26: 19.55 | AE26: 21.24 | AF26: 19.18
A27: 0.33333333 | B27: 57.61 | C27: 16.48 | D27: 37.01 | E27: 34.59 | F27: 26.38 | G27: 17.83 | H27: 14.41 | I27: 11.98 | J27: 14.09 | K27: 14.55 | L27: 14.85 | M27: 12.44 | N27: 11.88 | O27: MA | P27: MA | Q27: 21.74 | R27: 25.43 | S27: 24.59 | T27: 22.33 | U27: 19.04 | V27: 14.82 | W27: 14.62 | X27: 15.19 | Y27: 23 | Z27: 22.71 | AA27: 31.17 | AB27: 17.3 | AC27: 11.52 | AD27: 15.48 | AE27: 18.93 | AF27: 18.45
A28: 0.375 | B28: 28.53 | C28: 18.86 | D28: 24.38 | E28: 33.28 | F28: 16.95 | G28: 13.55 | H28: 16.8 | I28: 13.22 | J28: 13.41 | K28: 14.74 | L28: 13.11 | M28: 11.41 | N28: MA | O28: MA | P28: MA | Q28: 20.11 | R28: 17.88 | S28: 18.92 | T28: 15.79 | U28: 18.31 | V28: 23.6 | W28: 16.81 | X28: 14.29 | Y28: 16.42 | Z28: 22.48 | AA28: 27.9 | AB28: 22.33 | AC28: 12.21 | AD28: 19.38 | AE28: 14.31 | AF28: 16.5
A29: 0.41666667 | B29: 32.17 | C29: 20.49 | D29: 19.77 | E29: 13.79 | F29: 15.33 | G29: 12.63 | H29: 17.92 | I29: 13.63 | J29: 13.98 | K29: 15.66 | L29: 12.83 | M29: 9.03 | N29: MA | O29: MA | P29: MA | Q29: 27.52 | R29: 16.04 | S29: 15.34 | T29: 13.93 | U29: 24.92 | V29: 25.46 | W29: 16.4 | X29: 14.62 | Y29: 12.5 | Z29: 19.38 | AA29: 19.27 | AB29: 23.86 | AC29: 11.33 | AD29: 24.89 | AE29: 13.28 | AF29: 15.95
A30: 0.45833333 | B30: 33.67 | C30: 21.52 | D30: 15 | E30: 14.3 | F30: 14.76 | G30: 14.55 | H30: 14.55 | I30: 13.61 | J30: 12.26 | K30: 17.08 | L30: 12.8 | M30: 10.44 | N30: MA | O30: MA | P30: MA | Q30: 15.57 | R30: 11.22 | S30: 14.58 | T30: 13.02 | U30: 19.6 | V30: 29.85 | W30: 13.52 | X30: 12.38 | Y30: 11.64 | Z30: 10.97 | AA30: 17.75 | AB30: 33.18 | AC30: 12.28 | AD30: 18.67 | AE30: 16.56 | AF30: 11.28
A31: 0.5 | B31: 22.48 | C31: 15.27 | D31: 13.78 | E31: 15.43 | F31: 13.97 | G31: 13.99 | H31: 14 | I31: 13.6 | J31: 13.21 | K31: 22.08 | L31: 12.24 | M31: 12.44 | N31: MA | O31: MA | P31: MA | Q31: 14.94 | R31: 12.57 | S31: 15.88 | T31: 12.78 | U31: 16.91 | V31: 34.18 | W31: 11.35 | X31: 10.63 | Y31: 12.26 | Z31: 8.55 | AA31: 16.19 | AB31: 21.88 | AC31: 11.93 | AD31: 23.73 | AE31: 19.3 | AF31: 11.69
A32: 0.54166667 | B32: 14.52 | C32: 12.2 | D32: 13.13 | E32: 11.65 | F32: 13.21 | G32: 12.63 | H32: 11.41 | I32: 10.74 | J32: 10.57 | K32: 13.31 | L32: 12.7 | M32: 10.31 | N32: MA | O32: MA | P32: MA | Q32: 11.53 | R32: 13.81 | S32: 12.14 | T32: 10.78 | U32: 19.42 | V32: 15.35 | W32: 9.85 | X32: 8.5 | Y32: 9.63 | Z32: 8.44 | AA32: 12.57 | AB32: 14.27 | AC32: 10.11 | AD32: 12.86 | AE32: 13.67 | AF32: 9.41
A33: 0.58333333 | B33: 11.63 | C33: 12.42 | D33: 10.8 | E33: 14.7 | F33: 11.59 | G33: 9.94 | H33: 11.03 | I33: 11.53 | J33: 8.05 | K33: 12.03 | L33: 14.88 | M33: 11.47 | N33: MA | O33: MA | P33: MA | Q33: 11.22 | R33: 10.92 | S33: 11.39 | T33: 10.17 | U33: 18.92 | V33: 10.01 | W33: 9.46 | X33: 7.05 | Y33: 10.84 | Z33: 8.3 | AA33: 11.82 | AB33: 14.24 | AC33: 9.38 | AD33: 18.76 | AE33: 10.35 | AF33: 10.07
A34: 0.625 | B34: 12.02 | C34: 11.11 | D34: 11.67 | E34: 12.33 | F34: 12.03 | G34: 8.76 | H34: 9.48 | I34: 11.45 | J34: 7.27 | K34: 10.18 | L34: 10.51 | M34: 12.29 | N34: MA | O34: MA | P34: MA | Q34: 13.42 | R34: 12.16 | S34: 13.56 | T34: 10.45 | U34: 10.82 | V34: 7.73 | W34: 11.85 | X34: 9.87 | Y34: 9.26 | Z34: 8.57 | AA34: 13.03 | AB34: 12.81 | AC34: 9.15 | AD34: 11.13 | AE34: 10.07 | AF34: 9.78
A35: 0.66666667 | B35: 9.53 | C35: 12.63 | D35: 13.96 | E35: 12 | F35: 10.24 | G35: 10.51 | H35: 11.02 | I35: 11.37 | J35: 8.04 | K35: 10.31 | L35: 12.19 | M35: 10.68 | N35: MA | O35: MA | P35: 10.72 | Q35: 14.03 | R35: 13.42 | S35: 17.47 | T35: 13.22 | U35: 10.52 | V35: 7.13 | W35: 13.62 | X35: 11.07 | Y35: 11.07 | Z35: 8.65 | AA35: 12.33 | AB35: 10.07 | AC35: 9.56 | AD35: 14.53 | AE35: 12.53 | AF35: 11.88
A36: 0.70833333 | B36: 9.88 | C36: 20.73 | D36: 16.08 | E36: 13.53 | F36: 13.32 | G36: 9.84 | H36: 10.71 | I36: 8.32 | J36: 8.49 | K36: 8.79 | L36: 9.92 | M36: 9.1 | N36: MA | O36: MA | P36: 21.62 | Q36: 16.1 | R36: 13.49 | S36: 19.66 | T36: 12.57 | U36: 10.33 | V36: 8.79 | W36: 12.32 | X36: 11.5 | Y36: 10.6 | Z36: 10.97 | AA36: 12.48 | AB36: 9.72 | AC36: 10.82 | AD36: 11.9 | AE36: 14.14 | AF36: 13.09
A37: 0.75 | B37: 18.38 | C37: 27.6 | D37: 15.45 | E37: 11.04 | F37: 12.23 | G37: 9.69 | H37: 8.26 | I37: 8.7 | J37: 9.28 | K37: 8.63 | L37: 12.57 | M37: 8.58 | N37: MA | O37: MA | P37: 13.66 | Q37: 17.35 | R37: 15.81 | S37: 19.52 | T37: 12.77 | U37: 9.63 | V37: 8.03 | W37: 11.29 | X37: 12.58 | Y37: 11.43 | Z37: 12.6 | AA37: 14.85 | AB37: 9.03 | AC37: 10.54 | AD37: 10.76 | AE37: 13.12 | AF37: 15.28
A38: 0.79166667 | B38: 18.13 | C38: 23.28 | D38: 15.27 | E38: 16.28 | F38: 11.93 | G38: 13.18 | H38: 7.53 | I38: 9.48 | J38: 9 | K38: 8.48 | L38: 9.28 | M38: 8.38 | N38: MA | O38: MA | P38: 12.77 | Q38: 19.97 | R38: 18.71 | S38: 12.47 | T38: 12.88 | U38: 10.13 | V38: 7.28 | W38: 12.06 | X38: 11.5 | Y38: 16.41 | Z38: 14.06 | AA38: 17.11 | AB38: 8.93 | AC38: 15.32 | AD38: 10.48 | AE38: 16.74 | AF38: 14.72
A39: 0.83333333 | B39: 14.07 | C39: 19.83 | D39: 12.43 | E39: 17.65 | F39: 12.8 | G39: 20.01 | H39: 7.5 | I39: 12.05 | J39: 6.82 | K39: 11.09 | L39: 9.62 | M39: 8.8 | N39: MA | O39: MA | P39: 16.88 | Q39: 20.38 | R39: 26.3 | S39: 13.54 | T39: 10.44 | U39: 10.98 | V39: 6.66 | W39: 13.19 | X39: 10.69 | Y39: 13.99 | Z39: 10.61 | AA39: 12.47 | AB39: 10.81 | AC39: 13.79 | AD39: 9.52 | AE39: 13.53 | AF39: 21.94
A40: 0.875 | B40: 14.08 | C40: 11.62 | D40: 12.97 | E40: 21.76 | F40: 12.45 | G40: 14.53 | H40: 7.36 | I40: 12.1 | J40: 7.26 | K40: 10.86 | L40: 11.12 | M40: 7.07 | N40: MA | O40: MA | P40: 13.71 | Q40: 18.08 | R40: 18.27 | S40: 16.88 | T40: 26.42 | U40: 11.22 | V40: 7.03 | W40: 11.56 | X40: 10.23 | Y40: 19.43 | Z40: 12.22 | AA40: 15.34 | AB40: 12.39 | AC40: 12.46 | AD40: 10.74 | AE40: 15.82 | AF40: 20.81
A41: 0.91666667 | B41: 13.6 | C41: 11.37 | D41: 11.03 | E41: 16.88 | F41: 12.81 | G41: 10.28 | H41: 8.69 | I41: 11.53 | J41: 12.6 | K41: 8.05 | L41: 9.87 | M41: 7.72 | N41: MA | O41: MA | P41: 13.74 | Q41: 15.88 | R41: 14.19 | S41: 17.67 | T41: 17.21 | U41: 13.53 | V41: 8.21 | W41: 10.86 | X41: 14.42 | Y41: 21.24 | Z41: 11.93 | AA41: 37.12 | AB41: 9.53 | AC41: 13.24 | AD41: 13.67 | AE41: 17.58 | AF41: 18.02
A42: 0.95833333 | B42: 13.13 | C42: 13.86 | D42: 10.44 | E42: 18.42 | F42: 15.93 | G42: 12.53 | H42: 8.95 | I42: 10.72 | J42: 12.1 | K42: 19.33 | L42: 7.51 | M42: 8.07 | N42: MA | O42: MA | P42: 19.09 | Q42: 25.13 | R42: 10.78 | S42: 19.48 | T42: 19.26 | U42: 11.57 | V42: 8.22 | W42: 12.92 | X42: 11.47 | Y42: 20.24 | Z42: 11.66 | AA42: 37.2 | AB42: 28.25 | AC42: 16.14 | AD42: 12.71 | AE42: 17.18 | AF42: 26.64
A43: Promedio de PM₁₀ en 24 h | B43: 18.8 | C43: 16.3 | D43: 18.1 | E43: 19.5 | F43: 19.6 | G43: 16.4 | H43: 13.8 | I43: 13.7 | J43: 10.2 | K43: 12.7 | L43: 12.8 | M43: 11.6 | N43: ID | O43: MA | P43: ID | Q43: 19.5 | R43: 21.7 | S43: 20.5 | T43: 17.5 | U43: 17.8 | V43: 14.8 | W43: 13.2 | X43: 12.7 | Y43: 18.3 | Z43: 20 | AA43: 20.8 | AB43: 18.2 | AC43: 13.7 | AD43: 15.1 | AE43: 16.7 | AF43: 17.2
A44: ECA aire de PM₁₀ | B44: 100 µg/m³ en periodo de 24 horas
A45: Nota.- Los resultados obtenidos en el periodo de diciembre se consideran datos referenciales.
A46: ID: Insuficiencia de data
A47: MA: Mantenimiento
A54: Firmado por: | K54: Revisado por: | V54: Aprobado por:
A55: Operador de ensayo de calidad de aire | K55: Gestor de ensayo de calidad de aire | V55: Gestor QA/QC - aire

Sheet PM2.5 24H
E2: Tabla 3.2. Concentraciones horarias de PM₂,₅
A6: TÍTULO DEL ESTUDIO: | E6: ='PM10 24H'!E6 -> Evaluación ambiental de seguimiento de la calidad del aire en el CEBA Jose Pardo, distrito Ilo, provincia Ilo, departamento Moquegua, en diciembre 2025
A8: ESTACIÓN DE MONITOREO: | E8: CA-ILO-03 | P8: CÓDIGO DE ACCIÓN: | U8: ='PM10 24H'!U8 -> 011-12-2025-417
A10: FECHA Y HORA DE INICIO: | E10: ='PM10 24H'!E10 -> 45992 | P10: FECHA Y HORA FINAL: | U10: ='PM10 24H'!U10 -> 31/12/2025 23:55:00
A12: DATOS DEL EQUIPO
A14: EQUIPO: | E14: Monitor automático de partículas | P14: CÓDIGO PATRIMONIAL | U14: 60226409-0032
A16: MARCA: | E16: GRIMM AEROSOL TECHNIK | L16: MODELO: | P16: EDM-180 | W16: SERIE: | Y16: 18A19093
A18: Hora\Día | B18: 1 | C18: 2 | D18: 3 | E18: 4 | F18: 5 | G18: 6 | H18: 7 | I18: 8 | J18: 9 | K18: 10 | L18: 11 | M18: 12 | N18: 13 | O18: 14 | P18: 15 | Q18: 16 | R18: 17 | S18: 18 | T18: 19 | U18: 20 | V18: 21 | W18: 22 | X18: 23 | Y18: 24 | Z18: 25 | AA18: 26 | AB18: 27 | AC18: 28 | AD18: 29 | AE18: 30 | AF18: 31
A19: 0 | B19: 9.88 | C19: 10.57 | D19: 11.03 | E19: 8.47 | F19: 19.17 | G19: 13.29 | H19: 8.32 | I19: 7.65 | J19: 9.33 | K19: 8.98 | L19: 17.07 | M19: 4.85 | N19: 9.3 | O19: MA | P19: MA | Q19: 7.57 | R19: 10.22 | S19: 7.27 | T19: 17.17 | U19: 14.6 | V19: 8.37 | W19: 6.49 | X19: 8.99 | Y19: 9.12 | Z19: 27.09 | AA19: 9.78 | AB19: 6.51 | AC19: 16.02 | AD19: 10.89 | AE19: 11.05 | AF19: 9.51
A20: 0.041666667 | B20: 10.32 | C20: 12.4 | D20: 10.32 | E20: 10.41 | F20: 19.42 | G20: 12.67 | H20: 12.03 | I20: 9.57 | J20: 6.52 | K20: 5.6 | L20: 12.5 | M20: 4.05 | N20: 8.63 | O20: MA | P20: MA | Q20: 8.62 | R20: 8.24 | S20: 8.4 | T20: 18.27 | U20: 13.17 | V20: 10.76 | W20: 6.39 | X20: 10.7 | Y20: 17.52 | Z20: 9.11 | AA20: 9.79 | AB20: 6.97 | AC20: 17.73 | AD20: 9.65 | AE20: 13.52 | AF20: 10.22
A21: 0.083333333 | B21: 9.65 | C21: 13.03 | D21: 12.64 | E21: 16.27 | F21: 10.81 | G21: 13.38 | H21: 9.11 | I21: 12.61 | J21: 5.29 | K21: 5.68 | L21: 4.85 | M21: 4.95 | N21: 7.32 | O21: MA | P21: MA | Q21: 7.83 | R21: 7.36 | S21: 15.85 | T21: 13.28 | U21: 13.22 | V21: 11.65 | W21: 5.5 | X21: 9.1 | Y21: 16.48 | Z21: 15.97 | AA21: 11.53 | AB21: 7 | AC21: 17.59 | AD21: 10.82 | AE21: 12.06 | AF21: 10.69
A22: 0.125 | B22: 9.67 | C22: 10.11 | D22: 15.85 | E22: 10.91 | F22: 17.77 | G22: 14.88 | H22: 9.15 | I22: 9.49 | J22: 5.08 | K22: 5.18 | L22: 4.39 | M22: 5.52 | N22: 9 | O22: MA | P22: MA | Q22: 7.97 | R22: 10.38 | S22: 15.37 | T22: 10.62 | U22: 15.46 | V22: 11.81 | W22: 7.29 | X22: 8.88 | Y22: 9.23 | Z22: 11.78 | AA22: 14.82 | AB22: 7.16 | AC22: 14.2 | AD22: 10.2 | AE22: 17.63 | AF22: 13.78
A23: 0.16666667 | B23: 11.53 | C23: 11.47 | D23: 17.52 | E23: 9.22 | F23: 17.71 | G23: 19.49 | H23: 11.89 | I23: 11.72 | J23: 7.21 | K23: 8.88 | L23: 4.63 | M23: 12.53 | N23: 6.7 | O23: MA | P23: MA | Q23: 13.22 | R23: 16.66 | S23: 18.56 | T23: 9.64 | U23: 10.07 | V23: 18.94 | W23: 9.55 | X23: 7.62 | Y23: 8.57 | Z23: 8.08 | AA23: 13.32 | AB23: 7.66 | AC23: 7.19 | AD23: 11.83 | AE23: 18.51 | AF23: 15.07
A24: 0.20833333 | B24: 10.84 | C24: 11.2 | D24: 19.29 | E24: 13.38 | F24: 28.25 | G24: 20.41 | H24: 17.58 | I24: 12.03 | J24: 8.24 | K24: 7.32 | L24: 9.08 | M24: 16.69 | N24: 8.7 | O24: MA | P24: MA | Q24: 17.39 | R24: 24.37 | S24: 18.58 | T24: 17.12 | U24: 27.89 | V24: 10.65 | W24: 17.38 | X24: 8.88 | Y24: 14.7 | Z24: 14.37 | AA24: 12.99 | AB24: 14.22 | AC24: 7.01 | AD24: 11.28 | AE24: 19.89 | AF24: 14.01
A25: 0.25 | B25: 12.01 | C25: 10.44 | D25: 15 | E25: 26.62 | F25: 19.75 | G25: 15.5 | H25: 14.34 | I25: 14.24 | J25: 7.31 | K25: 8.36 | L25: 5.53 | M25: 15.46 | N25: 9.07 | O25: MA | P25: MA | Q25: 9.66 | R25: 20.6 | S25: 18 | T25: 20.22 | U25: 22.36 | V25: 16.42 | W25: 18.77 | X25: 10.07 | Y25: 17.74 | Z25: 13.81 | AA25: 12.76 | AB25: 17.5 | AC25: 7.06 | AD25: 11.97 | AE25: 14.76 | AF25: 16.43
A26: 0.29166667 | B26: 17.77 | C26: 10.02 | D26: 12.84 | E26: 22.84 | F26: 13.59 | G26: 10.67 | H26: 9 | I26: 14.23 | J26: 8.58 | K26: 8.31 | L26: 5.9 | M26: 5.72 | N26: 6.18 | O26: MA | P26: MA | Q26: 10.47 | R26: 9.22 | S26: 10.84 | T26: 14.03 | U26: 12.69 | V26: 8.94 | W26: 8.94 | X26: 9.57 | Y26: 12.12 | Z26: 17.12 | AA26: 15.88 | AB26: 12.85 | AC26: 6.97 | AD26: 13.95 | AE26: 14.42 | AF26: 11.3
A27: 0.33333333 | B27: 30.76 | C27: 9.52 | D27: 15.65 | E27: 17.35 | F27: 13.76 | G27: 10.44 | H27: 8.22 | I27: 7.06 | J27: 9.04 | K27: 7.65 | L27: 6.86 | M27: 6.44 | N27: 5.64 | O27: MA | P27: MA | Q27: 9.15 | R27: 10.31 | S27: 10.9 | T27: 10.49 | U27: 11.4 | V27: 7.95 | W27: 7.19 | X27: 8.14 | Y27: 10.03 | Z27: 12.86 | AA27: 12.76 | AB27: 9.05 | AC27: 7.05 | AD27: 9.99 | AE27: 10.74 | AF27: 11.67
A28: 0.375 | B28: 13.64 | C28: 9.57 | D28: 11.31 | E28: 15.03 | F28: 9.38 | G28: 8.37 | H28: 7.88 | I28: 7.26 | J28: 8.06 | K28: 7.82 | L28: 6.04 | M28: 5.69 | N28: MA | O28: MA | P28: MA | Q28: 8.3 | R28: 8.28 | S28: 9.6 | T28: 8.82 | U28: 9.24 | V28: 9.62 | W28: 7.32 | X28: 7.48 | Y28: 6.91 | Z28: 12.54 | AA28: 10.52 | AB28: 9.43 | AC28: 7.15 | AD28: 9.98 | AE28: 8.9 | AF28: 10.47
A29: 0.41666667 | B29: 13.68 | C29: 9.72 | D29: 9.44 | E29: 7.5 | F29: 9.28 | G29: 7.13 | H29: 8.07 | I29: 6.79 | J29: 8.09 | K29: 7.81 | L29: 5.87 | M29: 4.82 | N29: MA | O29: MA | P29: MA | Q29: 9.12 | R29: 7.53 | S29: 7.95 | T29: 7.59 | U29: 10.76 | V29: 10.06 | W29: 7.18 | X29: 7.29 | Y29: 6.08 | Z29: 8.98 | AA29: 8.18 | AB29: 9.27 | AC29: 7.21 | AD29: 11.53 | AE29: 7.83 | AF29: 8.15
A30: 0.45833333 | B30: 13.55 | C30: 10.53 | D30: 8.09 | E30: 8.36 | F30: 8.66 | G30: 6.99 | H30: 7.45 | I30: 6.76 | J30: 7.39 | K30: 7.16 | L30: 5.59 | M30: 5.65 | N30: MA | O30: MA | P30: MA | Q30: 6.08 | R30: 6 | S30: 6.68 | T30: 7.03 | U30: 9.24 | V30: 11.58 | W30: 6.28 | X30: 6.47 | Y30: 5.99 | Z30: 5.93 | AA30: 8.21 | AB30: 11.7 | AC30: 7.22 | AD30: 9.97 | AE30: 8.33 | AF30: 6.6
A31: 0.5 | B31: 10.28 | C31: 8.89 | D31: 7.77 | E31: 8.39 | F31: 8.32 | G31: 6.35 | H31: 7.16 | I31: 7.72 | J31: 7.77 | K31: 8.18 | L31: 5.61 | M31: 6.29 | N31: MA | O31: MA | P31: MA | Q31: 5.26 | R31: 6.31 | S31: 6.92 | T31: 7.08 | U31: 8.44 | V31: 12.33 | W31: 5.95 | X31: 5.76 | Y31: 6.9 | Z31: 4.94 | AA31: 7.8 | AB31: 9.04 | AC31: 7.09 | AD31: 10.85 | AE31: 8.29 | AF31: 6.67
A32: 0.54166667 | B32: 8.27 | C32: 6.77 | D32: 6.92 | E32: 6.38 | F32: 7.88 | G32: 6.08 | H32: 6.35 | I32: 6.84 | J32: 6.95 | K32: 6.13 | L32: 5.88 | M32: 5.82 | N32: MA | O32: MA | P32: MA | Q32: 4.95 | R32: 6.44 | S32: 6.16 | T32: 6.22 | U32: 8.73 | V32: 6.49 | W32: 5.69 | X32: 5.13 | Y32: 5.25 | Z32: 4.83 | AA32: 6.17 | AB32: 6.64 | AC32: 6.49 | AD32: 7.76 | AE32: 6.93 | AF32: 6.06
A33: 0.58333333 | B33: 7.38 | C33: 6.88 | D33: 6.1 | E33: 7.5 | F33: 7.82 | G33: 5.52 | H33: 5.94 | I33: 6.54 | J33: 4.81 | K33: 5.6 | L33: 7.1 | M33: 5.86 | N33: MA | O33: MA | P33: MA | Q33: 5.09 | R33: 5.85 | S33: 6.42 | T33: 5.9 | U33: 8.8 | V33: 5.42 | W33: 5.87 | X33: 4.6 | Y33: 5.61 | Z33: 4.97 | AA33: 6.49 | AB33: 6.72 | AC33: 6.39 | AD33: 9.12 | AE33: 6.77 | AF33: 6.12
A34: 0.625 | B34: 7.75 | C34: 6.94 | D34: 6.5 | E34: 7.09 | F34: 7.65 | G34: 5.56 | H34: 5.58 | I34: 6.36 | J34: 4.58 | K34: 5.52 | L34: 6.69 | M34: 5.93 | N34: MA | O34: MA | P34: MA | Q34: 6.07 | R34: 6.13 | S34: 7.55 | T34: 6.32 | U34: 6.87 | V34: 4.98 | W34: 7.16 | X34: 5.38 | Y34: 4.96 | Z34: 5.35 | AA34: 7.6 | AB34: 6.89 | AC34: 6.3 | AD34: 6.98 | AE34: 7.31 | AF34: 6.77
A35: 0.66666667 | B35: 7.06 | C35: 7.39 | D35: 7.11 | E35: 7.29 | F35: 7.24 | G35: 6.22 | H35: 6.12 | I35: 6.62 | J35: 4.88 | K35: 5.99 | L35: 7.42 | M35: 5.47 | N35: MA | O35: MA | P35: 5.57 | Q35: 6.47 | R35: 6.53 | S35: 9.42 | T35: 7.72 | U35: 6.94 | V35: 5.09 | W35: 8.1 | X35: 5.85 | Y35: 5.75 | Z35: 5.61 | AA35: 6.68 | AB35: 6.53 | AC35: 6.64 | AD35: 10.18 | AE35: 8.58 | AF35: 7.54
A36: 0.70833333 | B36: 7.37 | C36: 10.47 | D36: 7.89 | E36: 9.58 | F36: 9.01 | G36: 6.52 | H36: 6.02 | I36: 5.87 | J36: 5.41 | K36: 5.89 | L36: 6.83 | M36: 5.18 | N36: MA | O36: MA | P36: 7.33 | Q36: 7 | R36: 7.32 | S36: 11.18 | T36: 7.94 | U36: 7.2 | V36: 6.15 | W36: 8.61 | X36: 6.61 | Y36: 6.22 | Z36: 6.82 | AA36: 7.51 | AB36: 6.7 | AC36: 7.48 | AD36: 7.68 | AE36: 9.52 | AF36: 8.28
A37: 0.75 | B37: 13.96 | C37: 14.51 | D37: 7.86 | E37: 8.15 | F37: 9.18 | G37: 7.11 | H37: 5.45 | I37: 6.27 | J37: 6.01 | K37: 5.08 | L37: 8.07 | M37: 5.49 | N37: MA | O37: MA | P37: 6.78 | Q37: 7.74 | R37: 9.03 | S37: 10.56 | T37: 8.99 | U37: 7.32 | V37: 6.22 | W37: 8.44 | X37: 8.09 | Y37: 7.07 | Z37: 7.19 | AA37: 9.13 | AB37: 6.82 | AC37: 7.65 | AD37: 7.81 | AE37: 10.19 | AF37: 10.21
A38: 0.79166667 | B38: 13.43 | C38: 16.28 | D38: 8.02 | E38: 12.22 | F38: 8.71 | G38: 9.57 | H38: 5.79 | I38: 6.66 | J38: 5.13 | K38: 4.9 | L38: 6.08 | M38: 5.63 | N38: MA | O38: MA | P38: 7.38 | Q38: 8.97 | R38: 9.37 | S38: 8.62 | T38: 9.24 | U38: 8.07 | V38: 5.8 | W38: 9.41 | X38: 8.03 | Y38: 11.02 | Z38: 7.98 | AA38: 10.91 | AB38: 6.82 | AC38: 11.9 | AD38: 8.11 | AE38: 13.37 | AF38: 10.21
A39: 0.83333333 | B39: 10.06 | C39: 13.39 | D39: 7.3 | E39: 13.01 | F39: 9.46 | G39: 13.43 | H39: 5.9 | I39: 8.48 | J39: 4.39 | K39: 6.49 | L39: 6.12 | M39: 5.2 | N39: MA | O39: MA | P39: 9.16 | Q39: 9.93 | R39: 12.75 | S39: 9.71 | T39: 7.87 | U39: 8.34 | V39: 5.52 | W39: 9.62 | X39: 7.35 | Y39: 8.95 | Z39: 6.89 | AA39: 8.81 | AB39: 8.18 | AC39: 10.83 | AD39: 7.32 | AE39: 10.48 | AF39: 17.01
A40: 0.875 | B40: 10.31 | C40: 8.28 | D40: 7.26 | E40: 12.65 | F40: 9.15 | G40: 9.57 | H40: 5.08 | I40: 8.53 | J40: 4.47 | K40: 6 | L40: 6.54 | M40: 4.31 | N40: MA | O40: MA | P40: 6.78 | Q40: 10.12 | R40: 9.03 | S40: 11.73 | T40: 21.39 | U40: 8.24 | V40: 5.47 | W40: 8.6 | X40: 6.16 | Y40: 8.36 | Z40: 7.94 | AA40: 9.12 | AB40: 8.97 | AC40: 9.5 | AD40: 8.2 | AE40: 11.39 | AF40: 15.71
A41: 0.91666667 | B41: 10.28 | C41: 8.38 | D41: 7.24 | E41: 12.28 | F41: 9.12 | G41: 7.08 | H41: 5.8 | I41: 8.48 | J41: 9.15 | K41: 4.68 | L41: 6.1 | M41: 5.57 | N41: MA | O41: MA | P41: 7.98 | Q41: 8.74 | R41: 7.84 | S41: 12.45 | T41: 12.38 | U41: 9.69 | V41: 6.42 | W41: 8.14 | X41: 8.78 | Y41: 8.36 | Z41: 8.03 | AA41: 20.31 | AB41: 6.85 | AC41: 9.91 | AD41: 10.12 | AE41: 12.68 | AF41: 12.78
A42: 0.95833333 | B42: 9.99 | C42: 10.47 | D42: 7.69 | E42: 12.71 | F42: 11.59 | G42: 8.7 | H42: 6.58 | I42: 7.95 | J42: 7.85 | K42: 9.24 | L42: 5.22 | M42: 5.47 | N42: MA | O42: MA | P42: 13.64 | Q42: 16.38 | R42: 6.62 | S42: 13.56 | T42: 13.55 | U42: 8.72 | V42: 6.72 | W42: 9.09 | X42: 7.14 | Y42: 9.27 | Z42: 7.72 | AA42: 16.46 | AB42: 16.14 | AC42: 11.53 | AD42: 9.31 | AE42: 12.25 | AF42: 18.27
A43: Promedio de PM₂,₅ en 24 h | B43: 11.6 | C43: 10.3 | D43: 10.3 | E43: 11.8 | F43: 12.2 | G43: 10.2 | H43: 8.1 | I43: 8.6 | J43: 6.7 | K43: 6.8 | L43: 6.9 | M43: 6.6 | N43: ID | O43: MA | P43: ID | Q43: 8.8 | R43: 9.7 | S43: 10.9 | T43: 11.2 | U43: 11.1 | V43: 8.9 | W43: 8.5 | X43: 7.6 | Y43: 9.3 | Z43: 9.8 | AA43: 10.7 | AB43: 9 | AC43: 9.3 | AD43: 9.8 | AE43: 11.5 | AF43: 11
A44: ECA aire de PM₂,₅ | B44: 50 µg/m³ en periodo de 24 horas
A45: Nota.- Los resultados obtenidos en el periodo de diciembre se consideran datos referenciales.
A46: ID: Insuficiencia de data
A47: MA: Mantenimiento
A54: Firmado por: | K54: Revisado por: | V54: Aprobado por:
A55: Operador de ensayo de calidad de aire | K55: Gestor de ensayo de calidad de aire | V55: Gestor QA/QC - aire

Sheet SO2 24H
E2: Tabla 3.3. Concentraciones horarias de SO₂
A6: TÍTULO DEL ESTUDIO: | E6: ='PM10 24H'!E6 -> Evaluación ambiental de seguimiento de la calidad del aire en el CEBA Jose Pardo, distrito Ilo, provincia Ilo, departamento Moquegua, en diciembre 2025
A8: ESTACIÓN DE MONITOREO: | E8: CA-ILO-03 | P8: CÓDIGO DE ACCIÓN: | U8: ='PM10 24H'!U8 -> 011-12-2025-417
A10: FECHA Y HORA DE INICIO: | E10: ='PM10 24H'!E10 -> 45992 | P10: FECHA Y HORA FINAL: | U10: ='PM10 24H'!U10 -> 31/12/2025 23:55:00
A12: DATOS DEL EQUIPO
A14: EQUIPO: | E14: Analizador de dióxido de azufre | P14: CÓDIGO PATRIMONIAL | U14: 67220261-0025
A16: MARCA: | E16: ThermoScientific | L16: MODELO: | P16: 43i | W16: SERIE: | Y16: 1192914948
A18: Hora\Día | B18: 1 | C18: 2 | D18: 3 | E18: 4 | F18: 5 | G18: 6 | H18: 7 | I18: 8 | J18: 9 | K18: 10 | L18: 11 | M18: 12 | N18: 13 | O18: 14 | P18: 15 | Q18: 16 | R18: 17 | S18: 18 | T18: 19 | U18: 20 | V18: 21 | W18: 22 | X18: 23 | Y18: 24 | Z18: 25 | AA18: 26 | AB18: 27 | AC18: 28 | AD18: 29 | AE18: 30 | AF18: 31
A19: 0 | B19: 5.24 | C19: MA | D19: 7.55 | E19: 7.1 | F19: 29.42 | G19: 7.41 | H19: 7.44 | I19: 10.4 | J19: 7.44 | K19: 7.44 | L19: 94.27 | M19: 7.83 | N19: 25.44 | O19: MA | P19: MA | Q19: 6.58 | R19: 6.5 | S19: 6.58 | T19: 6.58 | U19: 6.21 | V19: 5.92 | W19: 7.47 | X19: 9.01 | Y19: 6.84 | Z19: 8.41 | AA19: 7.15 | AB19: 8.52 | AC19: 15.2 | AD19: 7.02 | AE19: 7 | AF19: 7.23
A20: 0.041666667 | B20: 5.21 | C20: MA | D20: 7.36 | E20: 7.26 | F20: 39.06 | G20: 7.47 | H20: 7.49 | I20: 20.02 | J20: 7.47 | K20: 7.57 | L20: 102.68 | M20: 7.76 | N20: 26.67 | O20: MA | P20: MA | Q20: 6.47 | R20: 6.37 | S20: 6.55 | T20: 6.65 | U20: 6.65 | V20: 7.55 | W20: 7.44 | X20: 19.52 | Y20: 61.41 | Z20: 7.05 | AA20: 7.02 | AB20: 7.57 | AC20: 20.1 | AD20: 7.2 | AE20: 7.26 | AF20: 6.97
A21: 0.083333333 | B21: 5.11 | C21: MA | D21: 7.83 | E21: 7.39 | F21: 13.86 | G21: 7.2 | H21: 7.39 | I21: 38.15 | J21: 7.44 | K21: 7.31 | L21: 10.64 | M21: 7.89 | N21: 20.49 | O21: MA | P21: MA | Q21: 6.45 | R21: 6.18 | S21: 26.23 | T21: 6.47 | U21: 7.68 | V21: 10.19 | W21: 6.76 | X21: 7.2 | Y21: 41.4 | Z21: 11.71 | AA21: 9.09 | AB21: 7.65 | AC21: 32.41 | AD21: 6.86 | AE21: 7.34 | AF21: 6.76
A22: 0.125 | B22: 5.19 | C22: MA | D22: 12.76 | E22: 7.49 | F22: 32.78 | G22: 7.57 | H22: 7.28 | I22: 18.76 | J22: 7.52 | K22: 7.49 | L22: 8.46 | M22: 7.86 | N22: 17.4 | O22: MA | P22: MA | Q22: 6.52 | R22: 6.39 | S22: 18.97 | T22: 6.39 | U22: 25.47 | V22: 9.98 | W22: 6.97 | X22: 6.73 | Y22: 19.31 | Z22: 11.4 | AA22: 42.08 | AB22: 7.36 | AC22: 28.92 | AD22: 7.07 | AE22: 10.95 | AF22: 6.86
A23: 0.16666667 | B23: 4.58 | C23: MA | D23: 11.63 | E23: 7.41 | F23: 41.11 | G23: 7.6 | H23: 7.78 | I23: 12.65 | J23: 7.34 | K23: 7.1 | L23: 8.2 | M23: 24.47 | N23: 10.72 | O23: MA | P23: MA | Q23: 16.98 | R23: 44.96 | S23: 22.17 | T23: 6.37 | U23: 8.67 | V23: 11.16 | W23: 7.1 | X23: 6.68 | Y23: 8.33 | Z23: 7.13 | AA23: 48.39 | AB23: 9.59 | AC23: 13.94 | AD23: 6.97 | AE23: 9.77 | AF23: 6.76
A24: 0.20833333 | B24: 5.21 | C24: MA | D24: 10.51 | E24: 7.49 | F24: 17.32 | G24: 7.76 | H24: 7.49 | I24: 22.19 | J24: 7.57 | K24: 7.15 | L24: 10.95 | M24: 77.74 | N24: 9.96 | O24: MA | P24: MA | Q24: 43.73 | R24: 89.11 | S24: 29.13 | T24: 17.13 | U24: 132.49 | V24: 7.36 | W24: 7.55 | X24: 6.65 | Y24: 7.39 | Z24: 50.15 | AA24: 38.44 | AB24: 10.95 | AC24: 7.76 | AD24: 8.86 | AE24: 12.16 | AF24: 7.23
A25: 0.25 | B25: 5.21 | C25: MA | D25: 9.25 | E25: 109.78 | F25: 19.36 | G25: 7.65 | H25: 7.55 | I25: 34.48 | J25: 7.47 | K25: 7.31 | L25: 8.31 | M25: 20.07 | N25: 10.98 | O25: MA | P25: MA | Q25: 8.02 | R25: 121.2 | S25: 100.08 | T25: 108.65 | U25: 87.9 | V25: 13.99 | W25: 11.95 | X25: 6.76 | Y25: 7.96 | Z25: 122.85 | AA25: 19.41 | AB25: 8.8 | AC25: 5.76 | AD25: 8.57 | AE25: 7.99 | AF25: 7.07
A26: 0.29166667 | B26: 5.58 | C26: MA | D26: 7.91 | E26: 149.63 | F26: 10.69 | G26: 7.6 | H26: 7.28 | I26: 14.02 | J26: 7.23 | K26: 7.55 | L26: 7.89 | M26: 8.8 | N26: 9.48 | O26: MA | P26: MA | Q26: 6.92 | R26: 19.83 | S26: 31.83 | T26: 32.12 | U26: 22.53 | V26: 8.93 | W26: 8.28 | X26: 6.6 | Y26: 7.18 | Z26: 155 | AA26: 14.2 | AB26: 7.94 | AC26: 6.34 | AD26: 7.55 | AE26: 14.02 | AF26: 7.34
A27: 0.33333333 | B27: 7.52 | C27: MA | D27: 9.04 | E27: 130.97 | F27: 35.4 | G27: 7.31 | H27: 7.55 | I27: 8.28 | J27: 7.94 | K27: 7.73 | L27: 7.94 | M27: 8.15 | N27: 8.46 | O27: MA | P27: MA | Q27: 6.79 | R27: 8.17 | S27: 8.7 | T27: 9.33 | U27: 8.57 | V27: 6.52 | W27: 7.07 | X27: 6.5 | Y27: 6.94 | Z27: 101.6 | AA27: 11.06 | AB27: 7.23 | AC27: 7.34 | AD27: 6.89 | AE27: 7.73 | AF27: 7.05
A28: 0.375 | B28: 5.48 | C28: MA | D28: 8.67 | E28: 45.14 | F28: 8.46 | G28: 7.28 | H28: 7.52 | I28: 7.65 | J28: 7.68 | K28: 7.62 | L28: 8.17 | M28: 8.2 | N28: 8.36 | O28: MA | P28: MA | Q28: 6.47 | R28: 7.34 | S28: 7.6 | T28: 7.34 | U28: 7.23 | V28: 6.39 | W28: 6.86 | X28: 6.58 | Y28: 7.05 | Z28: 74.62 | AA28: 8.07 | AB28: 7.15 | AC28: 7.26 | AD28: 7.1 | AE28: 7.31 | AF28: 7.05
A29: 0.41666667 | B29: 5.24 | C29: MA | D29: 7.78 | E29: 11.29 | F29: 6 | G29: 7.26 | H29: 7.47 | I29: 7.7 | J29: 7.52 | K29: 7.39 | L29: 8.12 | M29: VF | N29: MA | O29: MA | P29: MA | Q29: 6.89 | R29: 6.97 | S29: 7.2 | T29: 6.94 | U29: 7.2 | V29: 6.45 | W29: 6.6 | X29: 6.6 | Y29: 7.05 | Z29: 25.05 | AA29: 7.65 | AB29: 7.18 | AC29: 7.26 | AD29: 7 | AE29: 7.13 | AF29: 7.34
A30: 0.45833333 | B30: 5.34 | C30: MA | D30: 7.39 | E30: 7.86 | F30: 7.81 | G30: 7.34 | H30: 7.47 | I30: 7.81 | J30: 7.57 | K30: 7.6 | L30: 7.99 | M30: VF | N30: MA | O30: MA | P30: MA | Q30: 6.84 | R30: 6.86 | S30: 6.76 | T30: 6.97 | U30: 6.81 | V30: 6.84 | W30: 6.55 | X30: 6.81 | Y30: 6.86 | Z30: 8.99 | AA30: 7.44 | AB30: 7.13 | AC30: 7.23 | AD30: 7.28 | AE30: 7.02 | AF30: 7.15
A31: 0.5 | B31: 5.61 | C31: MA | D31: 7.41 | E31: 7.83 | F31: 7.6 | G31: 7.49 | H31: 7.55 | I31: 7.41 | J31: 7.36 | K31: 7.76 | L31: CT | M31: 8.44 | N31: MA | O31: MA | P31: VF | Q31: 6.65 | R31: 6.81 | S31: 6.47 | T31: 6.63 | U31: 6.26 | V31: 6.58 | W31: 6.86 | X31: 6.55 | Y31: 7.02 | Z31: 7.47 | AA31: 7.23 | AB31: 7.26 | AC31: 7.1 | AD31: 7.15 | AE31: 7.05 | AF31: 6.89
A32: 0.54166667 | B32: 5.27 | C32: MA | D32: 7.26 | E32: 7.62 | F32: 7.31 | G32: 7.47 | H32: 7.57 | I32: 7.44 | J32: 7.68 | K32: 7.7 | L32: 7.89 | M32: 8.1 | N32: MA | O32: MA | P32: MA | Q32: 6.55 | R32: 6.79 | S32: 6.94 | T32: 6.65 | U32: 6.03 | V32: 6.65 | W32: 6.65 | X32: 6.68 | Y32: 6.89 | Z32: 7.31 | AA32: 7.13 | AB32: 7.18 | AC32: 7.28 | AD32: 7.18 | AE32: 7.1 | AF32: 6.92
A33: 0.58333333 | B33: MA | C33: MA | D33: 7.18 | E33: 7.62 | F33: 7.7 | G33: 7.47 | H33: 7.49 | I33: 7.76 | J33: 7.68 | K33: 7.86 | L33: 7.89 | M33: 8.1 | N33: MA | O33: MA | P33: MA | Q33: 6.6 | R33: 6.81 | S33: 6.84 | T33: 6.68 | U33: 6.89 | V33: 6.47 | W33: 6.55 | X33: 6.52 | Y33: 6.71 | Z33: 7.76 | AA33: 7.36 | AB33: 7.1 | AC33: 7.44 | AD33: 7.34 | AE33: 6.97 | AF33: 7.02
A34: 0.625 | B34: MA | C34: MA | D34: 7.15 | E34: 7.57 | F34: 7.73 | G34: 7.49 | H34: 7.57 | I34: 7.6 | J34: 7.57 | K34: 7.86 | L34: 7.89 | M34: 8.04 | N34: MA | O34: MA | P34: MA | Q34: 6.58 | R34: 6.84 | S34: 6.79 | T34: 6.55 | U34: 6.94 | V34: 6.52 | W34: 6.65 | X34: 6.84 | Y34: 6.97 | Z34: 7.57 | AA34: 7.26 | AB34: 7.1 | AC34: 7.18 | AD34: 7.23 | AE34: 7.18 | AF34: 6.94
A35: 0.66666667 | B35: MA | C35: VF | D35: 6.97 | E35: 7.6 | F35: 7.47 | G35: 7.44 | H35: 7.62 | I35: 7.6 | J35: 7.6 | K35: 7.7 | L35: 8.23 | M35: 8.07 | N35: MA | O35: MA | P35: 6.5 | Q35: 6.37 | R35: 6.47 | S35: 7.1 | T35: 6.52 | U35: 6.71 | V35: 6.58 | W35: 6.79 | X35: 6.76 | Y35: 6.92 | Z35: 7.39 | AA35: 7.07 | AB35: 7.2 | AC35: 7.07 | AD35: 7.39 | AE35: 7.05 | AF35: 7
A36: 0.70833333 | B36: MA | C36: VF | D36: 6.68 | E36: 7.55 | F36: 7.39 | G36: 7.68 | H36: 7.65 | I36: 7.57 | J36: 7.83 | K36: 7.83 | L36: 8.02 | M36: 8.07 | N36: MA | O36: MA | P36: 6.89 | Q36: 6.52 | R36: 6.58 | S36: 7 | T36: 6.52 | U36: 6.76 | V36: 6.71 | W36: 6.89 | X36: 6.86 | Y36: 7 | Z36: 7.47 | AA36: 7.26 | AB36: 7.05 | AC36: 7.26 | AD36: 7.2 | AE36: 7.1 | AF36: 7.28
A37: 0.75 | B37: MA | C37: 7.81 | D37: 6.65 | E37: 7.39 | F37: 7.62 | G37: 7.65 | H37: 7.36 | I37: 7.6 | J37: 8.12 | K37: 7.7 | L37: 7.83 | M37: 7.68 | N37: MA | O37: MA | P37: 6.63 | Q37: 6.45 | R37: 6.63 | S37: 6.58 | T37: 6.5 | U37: 6.84 | V37: 6.94 | W37: 6.76 | X37: 7.05 | Y37: 6.94 | Z37: 7.26 | AA37: 7.18 | AB37: 7.26 | AC37: 7.13 | AD37: 7.36 | AE37: 7.1 | AF37: 7.18
A38: 0.79166667 | B38: MA | C38: 7.78 | D38: 7.18 | E38: 7.6 | F38: 7.7 | G38: 7.68 | H38: 7.52 | I38: 7.57 | J38: 7.91 | K38: 7.7 | L38: 7.83 | M38: 7.36 | N38: MA | O38: MA | P38: 6.39 | Q38: 6.5 | R38: 6.37 | S38: 6.81 | T38: 6.58 | U38: 6.73 | V38: 6.81 | W38: 6.52 | X38: 6.89 | Y38: 6.84 | Z38: 7.13 | AA38: 7.26 | AB38: 6.94 | AC38: 7.26 | AD38: 6.94 | AE38: 7.34 | AF38: 7.28
A39: 0.83333333 | B39: MA | C39: 7.76 | D39: 7.34 | E39: 7.55 | F39: 7.55 | G39: 7.78 | H39: 7.65 | I39: 7.23 | J39: 7.76 | K39: 7.94 | L39: 8.02 | M39: 8.04 | N39: MA | O39: MA | P39: 6.37 | Q39: 6.52 | R39: 6.45 | S39: 6.6 | T39: 6.6 | U39: 6.5 | V39: 6.65 | W39: 6.68 | X39: 6.86 | Y39: 6.89 | Z39: 6.94 | AA39: 7.18 | AB39: 7.05 | AC39: 7.49 | AD39: 7.23 | AE39: 7.07 | AF39: 8.02
A40: 0.875 | B40: MA | C40: 7.49 | D40: 7.52 | E40: 7.47 | F40: 7.62 | G40: 7.44 | H40: 7.52 | I40: 7.36 | J40: 7.73 | K40: 8.1 | L40: 7.83 | M40: 7.89 | N40: MA | O40: MA | P40: 6.6 | Q40: 6.37 | R40: 6.68 | S40: 6.58 | T40: 6.76 | U40: 6.34 | V40: 6.5 | W40: 6.65 | X40: 6.86 | Y40: 6.86 | Z40: 7.28 | AA40: 7.13 | AB40: 6.94 | AC40: 7.15 | AD40: 7.18 | AE40: 7.07 | AF40: 7.47
A41: 0.91666667 | B41: MA | C41: 7.76 | D41: 7.28 | E41: 7.41 | F41: 7.52 | G41: 7.39 | H41: 7.6 | I41: 7.52 | J41: 7.99 | K41: 7.73 | L41: 8.07 | M41: 7.55 | N41: MA | O41: MA | P41: 6.26 | Q41: 6.26 | R41: 6.52 | S41: 6.86 | T41: 6.52 | U41: 6.55 | V41: 7.34 | W41: 6.47 | X41: 6.86 | Y41: 6.81 | Z41: 7.2 | AA41: 104.77 | AB41: 7.15 | AC41: 7.18 | AD41: 7.07 | AE41: 7.07 | AF41: 7.23
A42: 0.95833333 | B42: MA | C42: 7.49 | D42: 7.23 | E42: 7.57 | F42: 7.65 | G42: 7.39 | H42: 7.57 | I42: 7.49 | J42: 7.68 | K42: 31.94 | L42: 8.07 | M42: 7.6 | N42: MA | O42: MA | P42: 6.52 | Q42: 6.39 | R42: 6.52 | S42: 6.81 | T42: 6.5 | U42: 6.39 | V42: 7.86 | W42: 6.52 | X42: 6.81 | Y42: 7.07 | Z42: 7.07 | AA42: 26.62 | AB42: 22.74 | AC42: 7.07 | AD42: 7.18 | AE42: 7 | AF42: 7.6
A43: Promedio de SO₂ en 24 h | B43: ID | C43: ID | D43: 8.1 | E43: 24.6 | F43: 14.7 | G43: 7.5 | H43: 7.5 | I43: 12.2 | J43: 7.6 | K43: 8.6 | L43: 16.1 | M43: 12.4 | N43: ID | O43: MA | P43: ID | Q43: 8.6 | R43: 17.1 | S43: 14.7 | T43: 12.5 | U43: 16.9 | V43: 7.6 | W43: 7.1 | X43: 7.4 | Y43: 11.3 | Z43: 28 | AA43: 17.6 | AB43: 8.3 | AC43: 10.3 | AD43: 7.3 | AE43: 7.9 | AF43: 7.2
A44: ECA aire de SO₂ | B44: 250 µg/m³ en periodo de 24 horas
A45: Nota.- Los resultados obtenidos en el periodo de diciembre se consideran datos referenciales.
A46: VF: Verificaciones
A47: ID: Insuficiencia de data
A48: MA: Mantenimiento
A54: Firmado por: | K54: Revisado por: | V54: Aprobado por:
A55: Operador de ensayo de calidad de aire | K55: Gestor de ensayo de calidad de aire | V55: Gestor QA/QC - aire

Sheet SO2 3H
E2: Tabla 3.4. Concentraciones promedio movil de 3 horas de SO₂
A6: TÍTULO DEL ESTUDIO: | E6: ='PM10 24H'!E6 -> Evaluación ambiental de seguimiento de la calidad del aire en el CEBA Jose Pardo, distrito Ilo, provincia Ilo, departamento Moquegua, en diciembre 2025
A8: ESTACIÓN DE MONITOREO: | E8: CA-ILO-03 | P8: CÓDIGO DE ACCIÓN: | U8: ='PM10 24H'!U8 -> 011-12-2025-417
A10: FECHA Y HORA DE INICIO: | E10: ='PM10 24H'!E10 -> 45992 | P10: FECHA Y HORA FINAL: | U10: ='PM10 24H'!U10 -> 31/12/2025 23:55:00
A12: DATOS DEL EQUIPO
A14: EQUIPO: | E14: Analizador de dióxido de azufre | P14: CÓDIGO PATRIMONIAL | U14: 67220261-0025
A16: MARCA: | E16: ThermoScientific | L16: MODELO: | P16: 43i | W16: SERIE: | Y16: 1192914948
A18: Hora\Día | B18: 1 | C18: 2 | D18: 3 | E18: 4 | F18: 5 | G18: 6 | H18: 7 | I18: 8 | J18: 9 | K18: 10 | L18: 11 | M18: 12 | N18: 13 | O18: 14 | P18: 15 | Q18: 16 | R18: 17 | S18: 18 | T18: 19 | U18: 20 | V18: 21 | W18: 22 | X18: 23 | Y18: 24 | Z18: 25 | AA18: 26 | AB18: 27 | AC18: 28 | AD18: 29 | AE18: 30 | AF18: 31
A19: 0 | B19: 5.36 | C19: MA | D19: 7.6 | E19: 7.2 | F19: 14.8 | G19: 7.53 | H19: 7.41 | I19: 8.52 | J19: 7.48 | K19: 7.7 | L19: 44.65 | M19: 7.99 | N19: 13.53 | O19: MA | P19: MA | Q19: 6.45 | R19: 6.38 | S19: 6.54 | T19: 6.75 | U19: 6.41 | V19: 6.29 | W19: 7.56 | X19: 7.33 | Y19: 6.84 | Z19: 7.43 | AA19: 7.14 | AB19: 46.64 | AC19: 15.03 | AD19: 7.09 | AE19: 7.08 | AF19: 7.1
A20: 0.041666667 | B20: 5.3 | C20: MA | D20: 7.47 | E20: 7.2 | F20: 25.35 | G20: 7.51 | H20: 7.44 | I20: 12.66 | J20: 7.47 | K20: 7.56 | L20: 76.3 | M20: 7.89 | N20: 19.9 | O20: MA | P20: MA | Q20: 6.52 | R20: 6.42 | S20: 6.55 | T20: 6.68 | U20: 6.45 | V20: 6.62 | W20: 7.59 | X20: 11.68 | Y20: 25.02 | Z20: 7.51 | AA20: 7.08 | AB20: 14.24 | AC20: 19.35 | AD20: 7.1 | AE20: 7.15 | AF20: 7.07
A21: 0.083333333 | B21: 5.19 | C21: MA | D21: 7.58 | E21: 7.25 | F21: 27.45 | G21: 7.36 | H21: 7.44 | I21: 22.86 | J21: 7.45 | K21: 7.44 | L21: 69.2 | M21: 7.83 | N21: 24.2 | O21: MA | P21: MA | Q21: 6.5 | R21: 6.35 | S21: 13.12 | T21: 6.57 | U21: 6.85 | V21: 7.89 | W21: 7.22 | X21: 11.91 | Y21: 36.55 | Z21: 9.06 | AA21: 7.75 | AB21: 7.91 | AC21: 22.57 | AD21: 7.03 | AE21: 7.2 | AF21: 6.99
A22: 0.125 | B22: 5.17 | C22: MA | D22: 9.32 | E22: 7.38 | F22: 28.57 | G22: 7.41 | H22: 7.39 | I22: 25.64 | J22: 7.48 | K22: 7.46 | L22: 40.59 | M22: 7.84 | N22: 21.52 | O22: MA | P22: MA | Q22: 6.48 | R22: 6.31 | S22: 17.25 | T22: 6.5 | U22: 13.27 | V22: 9.24 | W22: 7.06 | X22: 11.15 | Y22: 40.71 | Z22: 10.05 | AA22: 19.4 | AB22: 7.53 | AC22: 27.14 | AD22: 7.04 | AE22: 8.52 | AF22: 6.86
A23: 0.16666667 | B23: 4.96 | C23: MA | D23: 10.74 | E23: 7.43 | F23: 29.25 | G23: 7.46 | H23: 7.48 | I23: 23.19 | J23: 7.43 | K23: 7.3 | L23: 9.1 | M23: 13.41 | N23: 16.2 | O23: MA | P23: MA | Q23: 9.98 | R23: 19.18 | S23: 22.46 | T23: 6.41 | U23: 13.94 | V23: 10.44 | W23: 6.94 | X23: 6.87 | Y23: 23.01 | Z23: 10.08 | AA23: 33.19 | AB23: 8.2 | AC23: 25.09 | AD23: 6.97 | AE23: 9.35 | AF23: 6.79
A24: 0.20833333 | B24: 4.99 | C24: MA | D24: 11.63 | E24: 7.46 | F24: 30.4 | G24: 7.64 | H24: 7.52 | I24: 17.87 | J24: 7.48 | K24: 7.25 | L24: 9.2 | M24: 36.69 | N24: 12.69 | O24: MA | P24: MA | Q24: 22.41 | R24: 46.82 | S24: 23.42 | T24: 9.96 | U24: 55.54 | V24: 9.5 | W24: 7.21 | X24: 6.69 | Y24: 11.68 | Z24: 22.89 | AA24: 42.97 | AB24: 9.3 | AC24: 16.87 | AD24: 7.63 | AE24: 10.96 | AF24: 6.95
A25: 0.25 | B25: 5 | C25: MA | D25: 10.46 | E25: 41.56 | F25: 25.93 | G25: 7.67 | H25: 7.61 | I25: 23.11 | J25: 7.46 | K25: 7.19 | L25: 9.15 | M25: 40.76 | N25: 10.55 | O25: MA | P25: MA | Q25: 22.91 | R25: 85.09 | S25: 50.46 | T25: 44.05 | U25: 76.35 | V25: 10.84 | W25: 8.87 | X25: 6.7 | Y25: 7.89 | Z25: 60.04 | AA25: 35.41 | AB25: 9.78 | AC25: 9.15 | AD25: 8.13 | AE25: 9.97 | AF25: 7.02
A26: 0.29166667 | B26: 5.33 | C26: MA | D26: 9.22 | E26: 88.97 | F26: 15.79 | G26: 7.67 | H26: 7.44 | I26: 23.56 | J26: 7.42 | K26: 7.34 | L26: 9.05 | M26: 35.54 | N26: 10.14 | O26: MA | P26: MA | Q26: 19.56 | R26: 76.71 | S26: 53.68 | T26: 52.63 | U26: 80.97 | V26: 10.09 | W26: 9.26 | X26: 6.67 | Y26: 7.51 | Z26: 109.33 | AA26: 24.02 | AB26: 9.23 | AC26: 6.62 | AD26: 8.33 | AE26: 11.39 | AF26: 7.21
A27: 0.33333333 | B27: 6.1 | C27: MA | D27: 8.73 | E27: 130.13 | F27: 21.82 | G27: 7.52 | H27: 7.46 | I27: 18.93 | J27: 7.55 | K27: 7.53 | L27: 8.05 | M27: 12.34 | N27: 9.64 | O27: MA | P27: MA | Q27: 7.24 | R27: 49.73 | S27: 46.87 | T27: 50.03 | U27: 39.67 | V27: 9.81 | W27: 9.1 | X27: 6.62 | Y27: 7.36 | Z27: 126.48 | AA27: 14.89 | AB27: 7.99 | AC27: 6.48 | AD27: 7.67 | AE27: 9.91 | AF27: 7.15
A28: 0.375 | B28: 6.19 | C28: MA | D28: 8.54 | E28: 108.58 | F28: 18.18 | G28: 7.4 | H28: 7.45 | I28: 9.98 | J28: 7.62 | K28: 7.63 | L28: 8 | M28: 8.38 | N28: 8.77 | O28: MA | P28: MA | Q28: 6.73 | R28: 11.78 | S28: 16.04 | T28: 16.26 | U28: 12.78 | V28: 7.28 | W28: 7.4 | X28: 6.56 | Y28: 7.06 | Z28: 110.41 | AA28: 11.11 | AB28: 7.44 | AC28: 6.98 | AD28: 7.18 | AE28: 9.69 | AF28: 7.15
A29: 0.41666667 | B29: 6.08 | C29: MA | D29: 8.5 | E29: 62.47 | F29: 16.62 | G29: 7.28 | H29: 7.51 | I29: 7.88 | J29: 7.71 | K29: 7.58 | L29: 8.08 | M29: VF | N29: MA | O29: MA | P29: MA | Q29: 6.72 | R29: 7.49 | S29: 7.83 | T29: 7.87 | U29: 7.67 | V29: 6.45 | W29: 6.84 | X29: 6.56 | Y29: 7.01 | Z29: 67.09 | AA29: 8.93 | AB29: 7.19 | AC29: 7.29 | AD29: 7 | AE29: 7.39 | AF29: 7.15
A30: 0.45833333 | B30: 5.35 | C30: MA | D30: 7.95 | E30: 21.43 | F30: 7.42 | G30: 7.29 | H30: 7.49 | I30: 7.72 | J30: 7.59 | K30: 7.54 | L30: 8.09 | M30: VF | N30: MA | O30: MA | P30: MA | Q30: 6.73 | R30: 7.06 | S30: 7.19 | T30: 7.08 | U30: 7.08 | V30: 6.56 | W30: 6.67 | X30: 6.66 | Y30: 6.99 | Z30: 36.22 | AA30: 7.72 | AB30: 7.15 | AC30: 7.25 | AD30: 7.13 | AE30: 7.15 | AF30: 7.18
A31: 0.5 | B31: 5.4 | C31: MA | D31: 7.53 | E31: 8.99 | F31: 7.14 | G31: 7.36 | H31: 7.5 | I31: 7.64 | J31: 7.48 | K31: 7.58 | L31: CT | M31: ID | N31: MA | O31: MA | P31: VF | Q31: 6.79 | R31: 6.88 | S31: 6.81 | T31: 6.85 | U31: 6.76 | V31: 6.62 | W31: 6.67 | X31: 6.65 | Y31: 6.98 | Z31: 13.84 | AA31: 7.44 | AB31: 7.19 | AC31: 7.2 | AD31: 7.14 | AE31: 7.07 | AF31: 7.13
A32: 0.54166667 | B32: 5.41 | C32: MA | D32: 7.35 | E32: 7.77 | F32: 7.57 | G32: 7.43 | H32: 7.53 | I32: 7.55 | J32: 7.54 | K32: 7.69 | L32: ID | M32: ID | N32: MA | O32: MA | P32: MA | Q32: 6.68 | R32: 6.82 | S32: 6.72 | T32: 6.75 | U32: 6.37 | V32: 6.69 | W32: 6.69 | X32: 6.68 | Y32: 6.92 | Z32: 7.92 | AA32: 7.27 | AB32: 7.19 | AC32: 7.2 | AD32: 7.2 | AE32: 7.06 | AF32: 6.99
A33: 0.58333333 | B33: MA | C33: MA | D33: 7.28 | E33: 7.69 | F33: 7.54 | G33: 7.48 | H33: 7.54 | I33: 7.54 | J33: 7.57 | K33: 7.77 | L33: ID | M33: 8.21 | N33: MA | O33: MA | P33: MA | Q33: 6.6 | R33: 6.8 | S33: 6.75 | T33: 6.65 | U33: 6.39 | V33: 6.57 | W33: 6.69 | X33: 6.58 | Y33: 6.87 | Z33: 7.51 | AA33: 7.24 | AB33: 7.18 | AC33: 7.27 | AD33: 7.22 | AE33: 7.04 | AF33: 6.94
A34: 0.625 | B34: MA | C34: MA | D34: 7.2 | E34: 7.6 | F34: 7.58 | G34: 7.48 | H34: 7.54 | I34: 7.6 | J34: 7.64 | K34: 7.81 | L34: 7.89 | M34: 8.08 | N34: MA | O34: MA | P34: MA | Q34: 6.58 | R34: 6.81 | S34: 6.86 | T34: 6.63 | U34: 6.62 | V34: 6.55 | W34: 6.62 | X34: 6.68 | Y34: 6.86 | Z34: 7.55 | AA34: 7.25 | AB34: 7.13 | AC34: 7.3 | AD34: 7.25 | AE34: 7.08 | AF34: 6.96
A35: 0.66666667 | B35: MA | C35: MA | D35: 7.1 | E35: 7.6 | F35: 7.63 | G35: 7.47 | H35: 7.56 | I35: 7.65 | J35: 7.62 | K35: 7.81 | L35: 8 | M35: 8.07 | N35: MA | O35: MA | P35: ID | Q35: 6.52 | R35: 6.71 | S35: 6.91 | T35: 6.58 | U35: 6.85 | V35: 6.52 | W35: 6.66 | X35: 6.71 | Y35: 6.87 | Z35: 7.57 | AA35: 7.23 | AB35: 7.13 | AC35: 7.23 | AD35: 7.32 | AE35: 7.07 | AF35: 6.99
A36: 0.70833333 | B36: MA | C36: MA | D36: 6.93 | E36: 7.57 | F36: 7.53 | G36: 7.54 | H36: 7.61 | I36: 7.59 | J36: 7.67 | K36: 7.8 | L36: 8.05 | M36: 8.06 | N36: MA | O36: MA | P36: ID | Q36: 6.49 | R36: 6.63 | S36: 6.96 | T36: 6.53 | U36: 6.8 | V36: 6.6 | W36: 6.78 | X36: 6.82 | Y36: 6.96 | Z36: 7.48 | AA36: 7.2 | AB36: 7.12 | AC36: 7.17 | AD36: 7.27 | AE36: 7.11 | AF36: 7.07
A37: 0.75 | B37: MA | C37: ID | D37: 6.77 | E37: 7.51 | F37: 7.49 | G37: 7.59 | H37: 7.54 | I37: 7.59 | J37: 7.85 | K37: 7.74 | L37: 8.03 | M37: 7.94 | N37: MA | O37: MA | P37: 6.67 | Q37: 6.45 | R37: 6.56 | S37: 6.89 | T37: 6.51 | U37: 6.77 | V37: 6.74 | W37: 6.81 | X37: 6.89 | Y37: 6.95 | Z37: 7.37 | AA37: 7.17 | AB37: 7.17 | AC37: 7.15 | AD37: 7.32 | AE37: 7.08 | AF37: 7.15
A38: 0.79166667 | B38: MA | C38: ID | D38: 6.84 | E38: 7.51 | F38: 7.57 | G38: 7.67 | H38: 7.51 | I38: 7.58 | J38: 7.95 | K38: 7.74 | L38: 7.89 | M38: 7.7 | N38: MA | O38: MA | P38: 6.64 | Q38: 6.49 | R38: 6.53 | S38: 6.8 | T38: 6.53 | U38: 6.78 | V38: 6.82 | W38: 6.72 | X38: 6.93 | Y38: 6.93 | Z38: 7.29 | AA38: 7.23 | AB38: 7.08 | AC38: 7.22 | AD38: 7.17 | AE38: 7.18 | AF38: 7.25
A39: 0.83333333 | B39: MA | C39: 7.78 | D39: 7.06 | E39: 7.51 | F39: 7.62 | G39: 7.7 | H39: 7.51 | I39: 7.47 | J39: 7.93 | K39: 7.78 | L39: 7.89 | M39: 7.69 | N39: MA | O39: MA | P39: 6.46 | Q39: 6.49 | R39: 6.48 | S39: 6.66 | T39: 6.56 | U39: 6.69 | V39: 6.8 | W39: 6.65 | X39: 6.93 | Y39: 6.89 | Z39: 7.11 | AA39: 7.21 | AB39: 7.08 | AC39: 7.29 | AD39: 7.18 | AE39: 7.17 | AF39: 7.49
A40: 0.875 | B40: MA | C40: 7.68 | D40: 7.35 | E40: 7.54 | F40: 7.62 | G40: 7.63 | H40: 7.56 | I40: 7.39 | J40: 7.8 | K40: 7.91 | L40: 7.89 | M40: 7.76 | N40: MA | O40: MA | P40: 6.45 | Q40: 6.46 | R40: 6.5 | S40: 6.66 | T40: 6.65 | U40: 6.52 | V40: 6.65 | W40: 6.62 | X40: 6.87 | Y40: 6.86 | Z40: 7.12 | AA40: 7.19 | AB40: 6.98 | AC40: 7.3 | AD40: 7.12 | AE40: 7.16 | AF40: 7.59
A41: 0.91666667 | B41: MA | C41: 7.67 | D41: 7.38 | E41: 7.48 | F41: 7.56 | G41: 7.54 | H41: 7.59 | I41: 7.37 | J41: 7.83 | K41: 7.92 | L41: 7.97 | M41: 7.83 | N41: MA | O41: MA | P41: 6.41 | Q41: 6.38 | R41: 6.55 | S41: 6.68 | T41: 6.63 | U41: 6.46 | V41: 6.83 | W41: 6.6 | X41: 6.86 | Y41: 6.85 | Z41: 7.14 | AA41: 39.69 | AB41: 7.05 | AC41: 7.27 | AD41: 7.16 | AE41: 7.07 | AF41: 7.57
A42: 0.95833333 | B42: MA | C42: 7.58 | D42: 7.34 | E42: 7.48 | F42: 7.6 | G42: 7.41 | H42: 7.56 | I42: 7.46 | J42: 7.8 | K42: 15.92 | L42: 7.99 | M42: 7.68 | N42: MA | O42: MA | P42: 6.46 | Q42: 6.34 | R42: 6.57 | S42: 6.75 | T42: 6.59 | U42: 6.43 | V42: 7.23 | W42: 6.55 | X42: 6.84 | Y42: 6.91 | Z42: 7.18 | AA42: 46.17 | AB42: 12.28 | AC42: 7.13 | AD42: 7.14 | AE42: 7.05 | AF42: 7.43
A43: Promedio horario mas alto de SO₂ en 24 h | B43: =IFERROR(MAX(B19:B42),"") -> 6.19 | C43: =IFERROR(MAX(C19:C42),"") -> 7.78 | D43: =IFERROR(MAX(D19:D42),"") -> 11.63 | E43: =IFERROR(MAX(E19:E42),"") -> 130.13 | F43: =IFERROR(MAX(F19:F42),"") -> 30.4 | G43: =IFERROR(MAX(G19:G42),"") -> 7.7 | H43: =IFERROR(MAX(H19:H42),"") -> 7.61 | I43: =IFERROR(MAX(I19:I42),"") -> 25.64 | ... N43: =IFERROR(MAX(N19:N42),"") -> 24.2 | O43: MA | P43: =IFERROR(MAX(P19:P42),"") -> 6.67 | Q43: =IFERROR(MAX(Q19:Q42),"") -> 22.91 | R43: =IFERROR(MAX(R19:R42),"") -> 85.09 | S43: =IFERROR(MAX(S19:S42),"") -> 53.68 | T43: =IFERROR(MAX(T19:T42),"") -> 52.63 | U43: =IFERROR(MAX(U19:U42),"") -> 80.97 | V43: =IFERROR(MAX(V19:V42),"") -> 10.84 | W43: =IFERROR(MAX(W19:W42),"") -> 9.26 | ... AF43: =IFERROR(MAX(AF19:AF42),"") -> 7.59
A44: Estado de cuidado de SO₂ | B44: 500 µg/m³ en periodo de 3 horas móviles
A45: Nota.- Los resultados obtenidos en el periodo de diciembre se consideran datos referenciales.
A46: ID: Insuficiencia de data
A47: MA: Mantenimiento
A48: VF: Verificaciones
A49: CT: Coherencia Temporal
A55: Firmado por: | K55: Revisado por: | V55: Aprobado por:
...

Sheet H2S_24H
E2: Tabla 3.5. Concentraciones horarias de H₂S
A6: TÍTULO DEL ESTUDIO: | E6: ='PM10 24H'!E6 -> Evaluación ambiental de seguimiento de la calidad del aire en el CEBA Jose Pardo, distrito Ilo, provincia Ilo, departamento Moquegua, en diciembre 2025
A8: ESTACIÓN DE MONITOREO: | E8: CA-ILO-03 | P8: CÓDIGO DE ACCIÓN: | U8: ='PM10 24H'!U8 -> 011-12-2025-417
A10: FECHA Y HORA DE INICIO: | E10: ='PM10 24H'!E10 -> 45992 | P10: FECHA Y HORA FINAL: | U10: ='PM10 24H'!U10 -> 31/12/2025 23:55:00
A12: DATOS DEL EQUIPO
A14: EQUIPO: | E14: Analizador sulfuro de hidrógeno | P14: CÓDIGO PATRIMONIAL | U14: 60220363-0002
A16: MARCA: | E16: ThermoScientific | L16: MODELO: | P16: 450i | W16: SERIE: | Y16: CM19490140
A18: Hora\Día | B18: 1 | C18: 2 | D18: 3 | E18: 4 | F18: 5 | G18: 6 | H18: 7 | I18: 8 | J18: 9 | K18: 10 | L18: 11 | M18: 12 | N18: 13 | O18: 14 | P18: 15 | Q18: 16 | R18: 17 | S18: 18 | T18: 19 | U18: 20 | V18: 21 | W18: 22 | X18: 23 | Y18: 24 | Z18: 25 | AA18: 26 | AB18: 27 | AC18: 28 | AD18: 29 | AE18: 30 | AF18: 31
A19: 0 | B19: 3.17 | C19: 2.89 | D19: 3.49 | E19: 3.38 | F19: 10.05 | G19: 3.73 | H19: 3.03 | I19: 3.56 | J19: 3.47 | K19: 3.56 | L19: 4.41 | M19: 4.09 | N19: 4.18 | O19: MA | P19: MA | Q19: 3.96 | R19: 4.2 | S19: 4.23 | T19: 4.53 | U19: 4.31 | V19: 4.34 | W19: 4.16 | X19: 4.56 | Y19: 3.91 | Z19: 4.45 | AA19: 4.67 | AB19: 4.59 | AC19: 7.26 | AD19: 4.13 | AE19: 4.42 | AF19: 4.93
A20: 0.041666667 | B20: 3.7 | C20: 3.32 | D20: 3.42 | E20: 3.6 | F20: 6.03 | G20: 3.81 | H20: 2.57 | I20: 4.21 | J20: 3.1 | K20: 3.6 | L20: 3.89 | M20: 4.21 | N20: 3.95 | O20: MA | P20: MA | Q20: 4.38 | R20: 3.99 | S20: 4.46 | T20: 4.75 | U20: 4.67 | V20: 4.28 | W20: 3.98 | X20: 4.59 | Y20: 4.17 | Z20: 4.11 | AA20: 4.99 | AB20: 4.59 | AC20: 6.03 | AD20: 4.71 | AE20: 4.66 | AF20: 4.67
A21: 0.083333333 | B21: 3.29 | C21: 3.36 | D21: 10.42 | E21: 4.5 | F21: 3.78 | G21: 3.46 | H21: 2.36 | I21: 4.46 | J21: 3.32 | K21: 3.85 | L21: 3.38 | M21: 3.95 | N21: 4.06 | O21: MA | P21: MA | Q21: 4.18 | R21: 3.88 | S21: 5.06 | T21: 4.38 | U21: 4.88 | V21: 4.38 | W21: 3.68 | X21: 4.68 | Y21: 4.34 | Z21: 4.98 | AA21: 6.39 | AB21: 4.82 | AC21: 6.06 | AD21: 4.66 | AE21: 4.55 | AF21: 4.73
A22: 0.125 | B22: 3.32 | C22: 3.29 | D22: 10.62 | E22: 4.8 | F22: 4.46 | G22: 3.74 | H22: 2.91 | I22: 3.84 | J22: 3.54 | K22: 3.13 | L22: 3.07 | M22: 4.13 | N22: 4.11 | O22: MA | P22: MA | Q22: 4.57 | R22: 4.28 | S22: 4.28 | T22: 4.2 | U22: 5.84 | V22: 4.13 | W22: 3.64 | X22: 4.73 | Y22: 3.91 | Z22: 4.7 | AA22: 26.47 | AB22: 4.77 | AC22: 5.42 | AD22: 4.75 | AE22: 4.38 | AF22: 4.57
A23: 0.16666667 | B23: 3.67 | C23: 3.18 | D23: 5.1 | E23: 3.74 | F23: 4.91 | G23: 4.28 | H23: 2.95 | I23: 3.85 | J23: 3.35 | K23: 3.52 | L23: 3.54 | M23: 3.86 | N23: 4.09 | O23: MA | P23: MA | Q23: 4.67 | R23: 4.82 | S23: 4.43 | T23: 4.53 | U23: 4.24 | V23: 4.2 | W23: 3.98 | X23: 4.7 | Y23: 3.92 | Z23: 4.43 | AA23: 19.35 | AB23: 4.56 | AC23: 4.7 | AD23: 4.67 | AE23: 4.57 | AF23: 4.86
A24: 0.20833333 | B24: 3.68 | C24: 3.36 | D24: 4.45 | E24: 4.57 | F24: 4.56 | G24: 3.75 | H24: 3.17 | I24: 3.5 | J24: 3.52 | K24: 3.77 | L24: 3.66 | M24: 3.82 | N24: 4.27 | O24: MA | P24: MA | Q24: 7.02 | R24: 4.39 | S24: 4.6 | T24: 5.53 | U24: 4.84 | V24: 4 | W24: 3.86 | X24: 4.36 | Y24: 4.71 | Z24: 4.8 | AA24: 13.05 | AB24: 5.1 | AC24: 4.57 | AD24: 5.09 | AE24: 4.7 | AF24: 4.56
A25: 0.25 | B25: 3.5 | C25: 3.29 | D25: 4.95 | E25: 8.35 | F25: 3.53 | G25: 3.1 | H25: 3.2 | I25: 3.41 | J25: 3.53 | K25: 4.07 | L25: 4.5 | M25: 3.92 | N25: 3.92 | O25: MA | P25: MA | Q25: 4.14 | R25: 4.09 | S25: 4.02 | T25: 4.68 | U25: 4.13 | V25: 3.95 | W25: 3.88 | X25: 4.35 | Y25: 4.63 | Z25: 4.74 | AA25: 6.59 | AB25: 4.77 | AC25: 4.43 | AD25: 4.86 | AE25: 4.45 | AF25: 4.88
A26: 0.29166667 | B26: 3.21 | C26: 3.38 | D26: 3.86 | E26: 5.2 | F26: 3.68 | G26: 2.78 | H26: 3.03 | I26: 3.64 | J26: 3.42 | K26: 3.21 | L26: 4.59 | M26: 3.61 | N26: 3.54 | O26: MA | P26: MA | Q26: 4.14 | R26: 3.85 | S26: 4.04 | T26: 4.42 | U26: 3.22 | V26: 3.84 | W26: 3.77 | X26: 4.56 | Y26: 4.25 | Z26: 5.71 | AA26: 5.63 | AB26: 4.71 | AC26: 5.16 | AD26: 4.86 | AE26: 4.53 | AF26: 4.55
A27: 0.33333333 | B27: 3.11 | C27: 2.99 | D27: 4.59 | E27: 4.11 | F27: 3.39 | G27: 2.81 | H27: 2.97 | I27: 3.6 | J27: 3.22 | K27: 3.16 | L27: 4.34 | M27: 4.11 | N27: 3.73 | O27: MA | P27: MA | Q27: 4.1 | R27: 3.57 | S27: 4.06 | T27: 3.96 | U27: 3.25 | V27: 4 | W27: 3.74 | X27: 4.63 | Y27: 4.32 | Z27: 4.88 | AA27: 5.52 | AB27: 4.8 | AC27: 5.21 | AD27: 4.41 | AE27: 4.3 | AF27: 5.75
A28: 0.375 | B28: 2.74 | C28: 3.14 | D28: 4.03 | E28: 3.63 | F28: 3.02 | G28: 3.02 | H28: 3 | I28: 3.43 | J28: 2.91 | K28: 3.54 | L28: 4.03 | M28: 3.79 | N28: 3.56 | O28: MA | P28: MA | Q28: 3.92 | R28: 3.6 | S28: 4.02 | T28: 3.92 | U28: 3.56 | V28: 4.18 | W28: 4.36 | X28: 4.21 | Y28: 4.5 | Z28: 4.67 | AA28: 4.92 | AB28: 4.6 | AC28: 4.89 | AD28: 4.77 | AE28: 4.52 | AF28: 4.84
A29: 0.41666667 | B29: 3.1 | C29: 3.1 | D29: 3.61 | E29: 3.14 | F29: 3.27 | G29: 3.47 | H29: 3.03 | I29: 3.49 | J29: 3.2 | K29: 3.31 | L29: 4.11 | M29: 4.24 | N29: MA | O29: MA | P29: MA | Q29: 4.25 | R29: 3.34 | S29: 4.03 | T29: 4.27 | U29: 3.59 | V29: 4.16 | W29: 4.35 | X29: 4.42 | Y29: 4.42 | Z29: 4.82 | AA29: 5.06 | AB29: 4.53 | AC29: 4.25 | AD29: 4.5 | AE29: 4.35 | AF29: 4.3
A30: 0.45833333 | B30: 3.21 | C30: 3.16 | D30: 3.03 | E30: 3.29 | F30: 3.54 | G30: 3.45 | H30: 3.2 | I30: 2.89 | J30: 3.13 | K30: 3.85 | L30: 4.13 | M30: VF | N30: MA | O30: MA | P30: MA | Q30: 4.03 | R30: 3.52 | S30: 4.39 | T30: 4.28 | U30: 3.42 | V30: 3.96 | W30: 3.92 | X30: 4.35 | Y30: 4.38 | Z30: 4.7 | AA30: 4.99 | AB30: 4.78 | AC30: 5.67 | AD30: 4.32 | AE30: 4.82 | AF30: 4.52
A31: 0.5 | B31: 3.27 | C31: 3.24 | D31: 3.31 | E31: 3.14 | F31: 3.35 | G31: 3.45 | H31: 3.02 | I31: 3.49 | J31: 3.22 | K31: 4.06 | L31: 3.98 | M31: 4.11 | N31: MA | O31: MA | P31: MA | Q31: 4.03 | R31: 3.74 | S31: 4.3 | T31: 4.2 | U31: 3.81 | V31: 3.88 | W31: 3.88 | X31: 4.46 | Y31: 4.2 | Z31: 4.81 | AA31: 5.02 | AB31: 4.81 | AC31: 5.74 | AD31: 4.64 | AE31: 4.38 | AF31: 4.23
A32: 0.54166667 | B32: 2.96 | C32: 3.5 | D32: 3.29 | E32: 3.66 | F32: 3.6 | G32: 3.56 | H32: 3.24 | I32: 3.52 | J32: 3.57 | K32: 3.88 | L32: 4.2 | M32: 4.13 | N32: MA | O32: MA | P32: MA | Q32: 3.42 | R32: 3.14 | S32: 4.14 | T32: 3.67 | U32: 4.24 | V32: 4.25 | W32: 3.91 | X32: 4.46 | Y32: 4.52 | Z32: 5.39 | AA32: 4.39 | AB32: 4.78 | AC32: 5.66 | AD32: 4.57 | AE32: 4.13 | AF32: 4.5
A33: 0.58333333 | B33: 2.97 | C33: 3.78 | D33: 3.31 | E33: 3.42 | F33: 3.59 | G33: 3.42 | H33: 3.18 | I33: 3.49 | J33: 3.77 | K33: 3.88 | L33: 3.99 | M33: 3.96 | N33: MA | O33: MA | P33: MA | Q33: 3.91 | R33: 3.74 | S33: 4.27 | T33: 4.17 | U33: 4.39 | V33: 4.45 | W33: 4.21 | X33: 4.31 | Y33: 4.38 | Z33: 5.09 | AA33: 4.35 | AB33: 4.84 | AC33: 5.06 | AD33: 4.49 | AE33: 4.42 | AF33: 4.73
A34: 0.625 | B34: 3.03 | C34: 3.45 | D34: 3.34 | E34: 3.89 | F34: 3.85 | G34: 3.64 | H34: 3.21 | I34: 3.45 | J34: 4.21 | K34: 3.99 | L34: 4.16 | M34: 4.06 | N34: MA | O34: MA | P34: MA | Q34: 3.79 | R34: 3.73 | S34: 4.17 | T34: 4.17 | U34: 4.35 | V34: 4.07 | W34: 4.07 | X34: 4.3 | Y34: 4.46 | Z34: 5.24 | AA34: 4.39 | AB34: 4.82 | AC34: 4.34 | AD34: 4.21 | AE34: 4.75 | AF34: 4.61
A35: 0.66666667 | B35: 3 | C35: 3.38 | D35: 3.54 | E35: 3.38 | F35: 3.79 | G35: 3.53 | H35: 3 | I35: 3.47 | J35: 4.18 | K35: 3.85 | L35: 4.2 | M35: 4.18 | N35: MA | O35: MA | P35: 5.02 | Q35: 3.82 | R35: 3.86 | S35: 4.04 | T35: 4.46 | U35: 3.98 | V35: 4.11 | W35: 4.14 | X35: 3.66 | Y35: 3.85 | Z35: 5.05 | AA35: 4.35 | AB35: 4.39 | AC35: 5.73 | AD35: 4.64 | AE35: 4.64 | AF35: 4.46
A36: 0.70833333 | B36: 3.1 | C36: 3.56 | D36: 3.6 | E36: 3.73 | F36: 3.95 | G36: 3.25 | H36: 3.32 | I36: 3.42 | J36: 3.68 | K36: 2.93 | L36: 4.28 | M36: 4.13 | N36: MA | O36: MA | P36: 4.89 | Q36: 3.57 | R36: 4.25 | S36: 4.45 | T36: 4.39 | U36: 3.92 | V36: 4.6 | W36: 4.2 | X36: 4.02 | Y36: 4.2 | Z36: 4.77 | AA36: 4.77 | AB36: 4.45 | AC36: 4.88 | AD36: 4.67 | AE36: 4.56 | AF36: 5.56
A37: 0.75 | B37: 3.14 | C37: 3.7 | D37: 3.24 | E37: 3.59 | F37: 3.22 | G37: 3.11 | H37: 3.45 | I37: 3.22 | J37: 4.23 | K37: 3.36 | L37: 4.2 | M37: 4.04 | N37: MA | O37: MA | P37: 4.64 | Q37: 3.71 | R37: 3.73 | S37: 4.81 | T37: 4.28 | U37: 4.1 | V37: 4.45 | W37: 4.23 | X37: 4.5 | Y37: 4.18 | Z37: 4.53 | AA37: 4.81 | AB37: 5.09 | AC37: 4.95 | AD37: 4.7 | AE37: 4.61 | AF37: 5.21
A38: 0.79166667 | B38: 3.2 | C38: 4.03 | D38: 3.75 | E38: 3.24 | F38: 3.45 | G38: 3.64 | H38: 3.56 | I38: 3.27 | J38: 4.36 | K38: 3.63 | L38: 4.16 | M38: 3.81 | N38: MA | O38: MA | P38: 4.42 | Q38: 3.85 | R38: 4.02 | S38: 4.77 | T38: 4.39 | U38: 4.21 | V38: 4.09 | W38: 4.64 | X38: 4.09 | Y38: 4.27 | Z38: 4.92 | AA38: 4.64 | AB38: 5.91 | AC38: 5.18 | AD38: 5.12 | AE38: 4.99 | AF38: 4.27
A39: 0.83333333 | B39: 2.96 | C39: 3.98 | D39: 3.18 | E39: 3.84 | F39: 3.52 | G39: 4.03 | H39: 3.16 | I39: 3.16 | J39: 3.78 | K39: 3.85 | L39: 4.27 | M39: 3.67 | N39: MA | O39: MA | P39: 4.25 | Q39: 3.52 | R39: 3.85 | S39: 4.75 | T39: 4.43 | U39: 4.09 | V39: 3.95 | W39: 4.46 | X39: 4.32 | Y39: 4.5 | Z39: 4.31 | AA39: 4.27 | AB39: 5.59 | AC39: 4.74 | AD39: 4.68 | AE39: 4.74 | AF39: 4.73
A40: 0.875 | B40: 3.03 | C40: 3.68 | D40: 3.61 | E40: 3.45 | F40: 3.75 | G40: 3.7 | H40: 3.6 | I40: 3.79 | J40: 3.29 | K40: 3.75 | L40: 4.27 | M40: 3.91 | N40: MA | O40: MA | P40: 4.25 | Q40: 3.57 | R40: 4.25 | S40: 4.38 | T40: 4.17 | U40: 4.28 | V40: 4.14 | W40: 4.38 | X40: 4.28 | Y40: 4.49 | Z40: 4.03 | AA40: 4.59 | AB40: 4.71 | AC40: 4.88 | AD40: 4.55 | AE40: 4.78 | AF40: 4.78
A41: 0.91666667 | B41: 3.29 | C41: 3.84 | D41: 3.52 | E41: 3.34 | F41: 3.81 | G41: 3.54 | H41: 2.56 | I41: 3.36 | J41: 3.42 | K41: 3.74 | L41: 4.06 | M41: 4.03 | N41: MA | O41: MA | P41: 4.03 | Q41: 4.16 | R41: 4.23 | S41: 4.66 | T41: 4.27 | U41: 4.14 | V41: 4.24 | W41: 4.06 | X41: 4.02 | Y41: 4.35 | Z41: 4.67 | AA41: 10.24 | AB41: 4.73 | AC41: 4.92 | AD41: 4.84 | AE41: 4.81 | AF41: 4.66
A42: 0.95833333 | B42: 3.31 | C42: 3.78 | D42: 3.47 | E42: 3.67 | F42: 3.98 | G42: 3.18 | H42: 3.7 | I42: 2.99 | J42: 3.77 | K42: 4.25 | L42: 4.23 | M42: 4.02 | N42: MA | O42: MA | P42: 3.96 | Q42: 4.34 | R42: 3.45 | S42: 4.81 | T42: 4.52 | U42: 4.41 | V42: 4.04 | W42: 4.7 | X42: 3.81 | Y42: 4.45 | Z42: 4.42 | AA42: 6.21 | AB42: 6.81 | AC42: 4.66 | AD42: 4.66 | AE42: 5.05 | AF42: 4.93
A43: Promedio de H₂S en 24 h | B43: 3.2 | C43: 3.4 | D43: 4.3 | E43: 3.9 | F43: 4.1 | G43: 3.5 | H43: 3.1 | I43: 3.5 | J43: 3.5 | K43: 3.7 | L43: 4.1 | M43: 4 | N43: ID | O43: MA | P43: ID | Q43: 4.1 | R43: 3.9 | S43: 4.4 | T43: 4.4 | U43: 4.2 | V43: 4.2 | W43: 4.1 | X43: 4.3 | Y43: 4.3 | Z43: 4.8 | AA43: 7.1 | AB43: 4.9 | AC43: 5.2 | AD43: 4.6 | AE43: 4.6 | AF43: 4.7
A44: ECA aire de H₂S | B44: 150 µg/m³ en periodo de 24 horas
A45: Nota.- Los resultados obtenidos en el periodo de diciembre se consideran datos referenciales.
A46: MA: Mantenimiento
A47: VF: Verificaciones
A48: ID: Insuficiencia de data
A55: Firmado por: | K55: Revisado por: | V55: Aprobado por:
A56: Operador de ensayo de calidad de aire | K56: Gestor de ensayo de calidad de aire | V56: Gestor QA/QC - aire

Sheet NO2 1H
E2: Tabla 3.6. Concentraciones horarias de NO₂
A6: TÍTULO DEL ESTUDIO: | E6: ='PM10 24H'!E6 -> Evaluación ambiental de seguimiento de la calidad del aire en el CEBA Jose Pardo, distrito Ilo, provincia Ilo, departamento Moquegua, en diciembre 2025
A8: ESTACIÓN DE MONITOREO: | E8: CA-ILO-03 | P8: CÓDIGO DE ACCIÓN: | U8: ='PM10 24H'!U8 -> 011-12-2025-417
A10: FECHA Y HORA DE INICIO: | E10: ='PM10 24H'!E10 -> 45992 | P10: FECHA Y HORA FINAL: | U10: ='PM10 24H'!U10 -> 31/12/2025 23:55:00
A12: DATOS DEL EQUIPO
A14: EQUIPO: | E14: Analizador dióxido de nitrógeno | P14: CÓDIGO PATRIMONIAL | U14: 67220261-0026
A16: MARCA: | E16: THERMO SCIENTIFIC | L16: MODELO: | P16: 42i | W16: SERIE: | Y16: 1192914961
A18: Hora\Día | B18: 1 | C18: 2 | D18: 3 | E18: 4 | F18: 5 | G18: 6 | H18: 7 | I18: 8 | J18: 9 | K18: 10 | L18: 11 | M18: 12 | N18: 13 | O18: 14 | P18: 15 | Q18: 16 | R18: 17 | S18: 18 | T18: 19 | U18: 20 | V18: 21 | W18: 22 | X18: 23 | Y18: 24 | Z18: 25 | AA18: 26 | AB18: 27 | AC18: 28 | AD18: 29 | AE18: 30 | AF18: 31
A19: 0 | B19: 5.3 | C19: 4.83 | D19: 5.45 | E19: 6.26 | F19: 13.35 | G19: 4.96 | H19: 4.61 | I19: 6.03 | J19: 4.23 | K19: 4.62 | L19: 12.67 | M19: 5.15 | N19: 8.69 | O19: MA | P19: MA | Q19: 4.7 | R19: 5.88 | S19: 5.41 | T19: 5.87 | U19: 6.94 | V19: 5.26 | W19: 4.85 | X19: 4.4 | Y19: 7.05 | Z19: 10.23 | AA19: 4.94 | AB19: 4.89 | AC19: 11.81 | AD19: 4.72 | AE19: 5.15 | AF19: 4.66
A20: 0.041666667 | B20: 5.4 | C20: 4.51 | D20: 4.59 | E20: 5.34 | F20: 12.2 | G20: 4.78 | H20: 4.38 | I20: 7.52 | J20: 3.78 | K20: 4 | L20: 10.38 | M20: 4.17 | N20: 8.05 | O20: MA | P20: MA | Q20: 5.25 | R20: 5.32 | S20: 4.91 | T20: 4.59 | U20: 6.66 | V20: 7.26 | W20: 4.34 | X20: 4.62 | Y20: 9.02 | Z20: 8.5 | AA20: 4.87 | AB20: 4.15 | AC20: 13.84 | AD20: 5.3 | AE20: 5.26 | AF20: 4.78
A21: 0.083333333 | B21: 4.66 | C21: 5.17 | D21: 9.89 | E21: 5.13 | F21: 7.18 | G21: 5.13 | H21: 4.25 | I21: 8.23 | J21: 3.65 | K21: 3.95 | L21: 5.77 | M21: 4.85 | N21: 7.09 | O21: MA | P21: MA | Q21: 4.72 | R21: 5 | S21: 10.62 | T21: 4.7 | U21: 7.82 | V21: 6.6 | W21: 3.67 | X21: 3.78 | Y21: 8.69 | Z21: 13.86 | AA21: 6.54 | AB21: 4.25 | AC21: 10.17 | AD21: 5.21 | AE21: 3.97 | AF21: 4.08
A22: 0.125 | B22: 4.36 | C22: 4.06 | D22: 12.03 | E22: 5.28 | F22: 11.83 | G22: 6.81 | H22: 4.29 | I22: 8.8 | J22: 3.68 | K22: 3.89 | L22: 6.17 | M22: 5.3 | N22: 8.5 | O22: MA | P22: MA | Q22: 5.32 | R22: 5.92 | S22: 9.4 | T22: 4.15 | U22: 10.55 | V22: 5.23 | W22: 3.7 | X22: 3.61 | Y22: 5.81 | Z22: 9.27 | AA22: 10.9 | AB22: 4.17 | AC22: 9.44 | AD22: 4.61 | AE22: 4.27 | AF22: 4.55
A23: 0.16666667 | B23: 5.09 | C23: 4.47 | D23: 15.57 | E23: 4.94 | F23: 11.92 | G23: 11.24 | H23: 4.55 | I23: 10.19 | J23: 4.12 | K23: 4.29 | L23: 6.13 | M23: 8.22 | N23: 8.33 | O23: MA | P23: MA | Q23: 7.76 | R23: 11.58 | S23: 13.59 | T23: 4.08 | U23: 6.19 | V23: 5.43 | W23: 4.38 | X23: 4.76 | Y23: 5.7 | Z23: 8.42 | AA23: 7.41 | AB23: 5.02 | AC23: 5.19 | AD23: 5.11 | AE23: 4.31 | AF23: 4.61
A24: 0.20833333 | B24: 8.01 | C24: 5.7 | D24: 14.66 | E24: 9.21 | F24: 19.23 | G24: 16.84 | H24: 5.43 | I24: 8.59 | J24: 5.6 | K24: 6.24 | L24: 8.69 | M24: 13.39 | N24: 11.58 | O24: MA | P24: MA | Q24: 10.45 | R24: 15.4 | S24: 14.29 | T24: 9.93 | U24: 16.88 | V24: 5.34 | W24: 7.69 | X24: 5.51 | Y24: 9.59 | Z24: 11.66 | AA24: 9.78 | AB24: 8.35 | AC24: 5.56 | AD24: 7.8 | AE24: 5.32 | AF24: 6.15
