Workbook

Sheet PM10_CA-ILO-03
F2: Tabla 3.20. Concentraciones horarias de PM₁₀
B6: TÍTULO DEL ESTUDIO: | F6: Evaluación de seguimiento de la calidad del aire en el CEBA Jose Pardo, distrito Ilo, provincia Ilo, departamento Moquegua, en setiembre 2022
B8: ESTACIÓN DE MONITOREO: | F8: CA-ILO-03 | Q8: CÓDIGO DE ACCIÓN:
B10: DATOS DEL EQUIPO
B12: EQUIPO: | F12: Monitor automático de partículas | Q12: MARCA: | V12: GRIMM AEROSOL TECHNIK
B14: MODELO: | F14: EDM180 | Q14: SERIE: | V14: 18A19093
B16: Hora\Día | C16: 1 | D16: 2 | E16: 3 | F16: 4 | G16: 5 | H16: 6 | I16: 7 | J16: 8 | K16: 9 | L16: 10 | M16: 11 | N16: 12 | O16: 13 | P16: 14 | Q16: 15 | R16: 16 | S16: 17 | T16: 18 | U16: 19 | V16: 20 | W16: 21 | X16: 22 | Y16: 23 | Z16: 24 | AA16: 25 | AB16: 26 | AC16: 27 | AD16: 28 | AE16: 29 | AF16: 30 | AG16: 31
B17: 0 | C17: 12.15 | D17: 11.35 | E17: 13.74 | F17: 14.03 | G17: 17.48 | H17: 15.54 | I17: 11.83 | J17: 11.89 | K17: 8.46 | L17: 16.28 | M17: 14.23 | N17: 8.18 | O17: 4.24 | P17: 17.36 | Q17: 18.22 | R17: 16.75 | S17: 16.8 | T17: 15.22 | U17: 20.18 | V17: 14.67 | W17: 3.87 | X17: 17.25 | Y17: 9.26 | Z17: 8.97 | AA17: 13.21 | AB17: 21 | AC17: 12.76 | AD17: 13.49 | AE17: 9.72 | AF17: 10.89
B18: 0.041666667 | C18: 9.1 | D18: 10.18 | E18: 15.28 | F18: 12.78 | G18: 15.88 | H18: 18.35 | I18: 11.27 | J18: 8.47 | K18: 6.65 | L18: 12.31 | M18: 10.47 | N18: 9.21 | O18: 4.49 | P18: 13.45 | Q18: 18.82 | R18: 14.32 | S18: 19.57 | T18: 17.03 | U18: 22.73 | V18: 6.53 | W18: 4.11 | X18: 15.2 | Y18: 10.43 | Z18: 8.58 | AA18: 12.87 | AB18: 20.06 | AC18: 12.47 | AD18: 20.05 | AE18: 10.54 | AF18: 10.5
B19: 0.083333333 | C19: 8.15 | D19: 10.08 | E19: 14.74 | F19: 12.37 | G19: 15.78 | H19: 23.49 | I19: 14.09 | J19: 8.26 | K19: 7.26 | L19: 11.73 | M19: 10.75 | N19: 13.3 | O19: 4.64 | P19: 13.28 | Q19: 19.27 | R19: 14.36 | S19: 16.8 | T19: 18.16 | U19: 17.9 | V19: 13.34 | W19: 3.61 | X19: 36.69 | Y19: 9.46 | Z19: 10.88 | AA19: 12.18 | AB19: 20.04 | AC19: 12 | AD19: 34.71 | AE19: 8.55 | AF19: 11.23
B20: 0.125 | C20: 10.95 | D20: 9.88 | E20: 13.19 | F20: 11.64 | G20: 17.99 | H20: 16.98 | I20: 14.81 | J20: 10.46 | K20: 9.97 | L20: 13.03 | M20: 10.08 | N20: 11.25 | O20: 4 | P20: 19.63 | Q20: 18.6 | R20: 14.68 | S20: 18.57 | T20: 15.54 | U20: 25.38 | V20: 10.83 | W20: 3.52 | X20: 34.92 | Y20: 8.53 | Z20: 6.71 | AA20: 8.5 | AB20: 21.13 | AC20: 15.61 | AD20: 8.87 | AE20: 9.09 | AF20: 11.36
B21: 0.16666667 | C21: 12.54 | D21: 10.88 | E21: 13.5 | F21: 12.99 | G21: 19.56 | H21: 16.61 | I21: 13.07 | J21: 10.5 | K21: 10.25 | L21: 19.13 | M21: 10.75 | N21: 12.18 | O21: 4.72 | P21: 13.76 | Q21: 21.88 | R21: 16.61 | S21: 25.77 | T21: 15.44 | U21: 36.73 | V21: 6.5 | W21: 3.28 | X21: 22.08 | Y21: 21.05 | Z21: 7.11 | AA21: 8.16 | AB21: 20.83 | AC21: 19.97 | AD21: 10.64 | AE21: 10.08 | AF21: 12.3
B22: 0.20833333 | C22: 6.58 | D22: 12.04 | E22: 13.9 | F22: 19.39 | G22: 19.47 | H22: 18.02 | I22: 13.55 | J22: 12.38 | K22: 6.89 | L22: 15.97 | M22: 9.86 | N22: 11.58 | O22: 4.71 | P22: 11.65 | Q22: 23.76 | R22: 17.62 | S22: 28.03 | T22: 16.02 | U22: 29.11 | V22: 8.23 | W22: 3.68 | X22: 19.44 | Y22: 29.13 | Z22: 9.79 | AA22: 7.27 | AB22: 18.17 | AC22: 17.61 | AD22: 10.03 | AE22: 6.76 | AF22: 13.35
B23: 0.25 | C23: 5.72 | D23: 12.36 | E23: 17.12 | F23: 21.29 | G23: 21.42 | H23: 14.22 | I23: 14.38 | J23: 13.83 | K23: 6.79 | L23: 22.7 | M23: 11.43 | N23: 12.93 | O23: 4.9 | P23: 10.78 | Q23: 24.8 | R23: 18.15 | S23: 18.63 | T23: 20.02 | U23: 16.23 | V23: 8.82 | W23: 3.39 | X23: 17.86 | Y23: 26.55 | Z23: 6.82 | AA23: 6.17 | AB23: 17.91 | AC23: 22 | AD23: 18.69 | AE23: 6.3 | AF23: 16.1
B24: 0.29166667 | C24: 8.41 | D24: 16.25 | E24: 17.05 | F24: 17.49 | G24: 22.71 | H24: 13.03 | I24: 14.57 | J24: 12.93 | K24: 7.03 | L24: 20.23 | M24: 17.92 | N24: 17.26 | O24: 6.22 | P24: 12.07 | Q24: 21.68 | R24: 19.27 | S24: 15.65 | T24: 14.57 | U24: 17.59 | V24: 10.53 | W24: 3.62 | X24: 24.55 | Y24: 12.23 | Z24: 8.18 | AA24: 14.78 | AB24: 19.89 | AC24: 25.95 | AD24: 17.46 | AE24: 7.26 | AF24: 16.47
B25: 0.33333333 | C25: 10.19 | D25: 19.68 | E25: 20.71 | F25: 22.71 | G25: 24.37 | H25: 13.55 | I25: 17.91 | J25: 16.72 | K25: 8.58 | L25: 16.48 | M25: 11.43 | N25: 16.32 | O25: 11.71 | P25: 17.42 | Q25: 25.22 | R25: 27.94 | S25: 15.61 | T25: 14.11 | U25: 16.63 | V25: 7.62 | W25: 4.27 | X25: 33.51 | Y25: 13.76 | Z25: 11.57 | AA25: ID | AB25: 18.17 | AC25: 30.32 | AD25: 17.68 | AE25: 15.24 | AF25: 25.27
B26: 0.375 | C26: 15.17 | D26: 16.98 | E26: 28 | F26: 25.66 | G26: 40.32 | H26: 20.08 | I26: 14.28 | J26: 15.61 | K26: 11.18 | L26: 24.17 | M26: 13.1 | N26: 11.32 | O26: 8.26 | P26: 20.89 | Q26: 28.05 | R26: 23.72 | S26: 21.12 | T26: 14.32 | U26: 21.21 | V26: 8.32 | W26: 4.7 | X26: 34.17 | Y26: 10.17 | Z26: 11.68 | AA26: IE | AB26: 15.43 | AC26: 28.02 | AD26: 14.97 | AE26: 12.86 | AF26: 21.28
B27: 0.41666667 | C27: 18.88 | D27: 16.83 | E27: 22.11 | F27: 22.98 | G27: 46.73 | H27: 14.79 | I27: 15.14 | J27: 15.92 | K27: 11.03 | L27: 27.41 | M27: 13.33 | N27: 13.04 | O27: 8.41 | P27: 17.73 | Q27: 32.7 | R27: 25.24 | S27: 27.76 | T27: 12.11 | U27: 24.81 | V27: 7.89 | W27: 5.6 | X27: 17.53 | Y27: 14.3 | Z27: 9.33 | AA27: IE | AB27: 13.28 | AC27: 20.8 | AD27: 15.79 | AE27: 16.53 | AF27: 25.05
B28: 0.45833333 | C28: 19.83 | D28: 23.37 | E28: 19.42 | F28: 18.25 | G28: 32.63 | H28: 13.32 | I28: 14.89 | J28: 14.26 | K28: 14.72 | L28: 20.35 | M28: 10.38 | N28: 13.38 | O28: 7.28 | P28: 17.44 | Q28: 26.44 | R28: 25.66 | S28: 24.05 | T28: 16.3 | U28: 19.74 | V28: 6.49 | W28: 5.53 | X28: 20.22 | Y28: 14.66 | Z28: 11.06 | AA28: IE | AB28: 15.99 | AC28: 21.53 | AD28: 17.17 | AE28: 12.22 | AF28: 24.23
B29: 0.5 | C29: 21.34 | D29: 25.02 | E29: 18.76 | F29: 13.98 | G29: 23.73 | H29: 14.52 | I29: 16.18 | J29: 16.87 | K29: 14.07 | L29: 19.41 | M29: 11.1 | N29: 13.61 | O29: 6.89 | P29: 17.02 | Q29: 24.4 | R29: 21.14 | S29: 21.26 | T29: 17.85 | U29: 14.26 | V29: 6.12 | W29: 5.82 | X29: 13.03 | Y29: 11.47 | Z29: 9.04 | AA29: 9.45 | AB29: 16.47 | AC29: 19.77 | AD29: 16.98 | AE29: 13.45 | AF29: 20.02
B30: 0.54166667 | C30: 18.15 | D30: 19.93 | E30: 17.08 | F30: 14.08 | G30: 21.86 | H30: 10.33 | I30: 16.43 | J30: 12.14 | K30: 15.63 | L30: 18.32 | M30: 12.04 | N30: 12.89 | O30: 8 | P30: 14.04 | Q30: 23.64 | R30: 18.05 | S30: 18.16 | T30: 15.15 | U30: 17.27 | V30: 6.55 | W30: 6.84 | X30: 12.35 | Y30: 10.11 | Z30: 9.15 | AA30: 12.92 | AB30: 13.3 | AC30: 18.07 | AD30: 20.05 | AE30: 13.62 | AF30: 20.29
B31: 0.58333333 | C31: 17.41 | D31: 17.87 | E31: 15.84 | F31: 13.58 | G31: 18.38 | H31: 10.97 | I31: 16.88 | J31: 12.36 | K31: 19.52 | L31: 19.02 | M31: 13.98 | N31: 13.55 | O31: 8.67 | P31: 14.95 | Q31: 22.68 | R31: 18.39 | S31: 16.44 | T31: 11.77 | U31: 16.74 | V31: 5.58 | W31: 7.11 | X31: 16.13 | Y31: 12.93 | Z31: 10.18 | AA31: 12.28 | AB31: 13.46 | AC31: 14.16 | AD31: 16.19 | AE31: 12.43 | AF31: 18.48
B32: 0.625 | C32: 16.02 | D32: 16.79 | E32: 15.72 | F32: 13.57 | G32: 21.1 | H32: 10.58 | I32: 15.36 | J32: 12.03 | K32: 24.69 | L32: 15.61 | M32: 11.11 | N32: 12.83 | O32: 7.36 | P32: 15.17 | Q32: 24.52 | R32: 16.69 | S32: 14.51 | T32: 11.96 | U32: 16.04 | V32: 5.75 | W32: 8.57 | X32: 23.82 | Y32: 17.13 | Z32: 9.77 | AA32: 13.2 | AB32: 16.61 | AC32: 13.58 | AD32: 14.33 | AE32: 15.54 | AF32: 18.75
B33: 0.66666667 | C33: 13.25 | D33: 17.4 | E33: 17.21 | F33: 14.49 | G33: 20.31 | H33: 12.53 | I33: 14.05 | J33: 12.17 | K33: 21.56 | L33: 15.28 | M33: 10.68 | N33: 16.17 | O33: 9.89 | P33: 19.16 | Q33: 23.77 | R33: 16.73 | S33: 12.68 | T33: 11.38 | U33: 15.36 | V33: 6.61 | W33: 8.53 | X33: 16.26 | Y33: 15 | Z33: 8.72 | AA33: 12.2 | AB33: 17.81 | AC33: 17.74 | AD33: 12.2 | AE33: 12.97 | AF33: 18.26
B34: 0.70833333 | C34: 16.11 | D34: 16.91 | E34: 18.77 | F34: 16.26 | G34: 20.28 | H34: 12.3 | I34: 12.14 | J34: 12.47 | K34: 16.98 | L34: 19.2 | M34: 11.38 | N34: 14.72 | O34: 11.97 | P34: 17.09 | Q34: 21.29 | R34: 19.86 | S34: 14.08 | T34: 13.32 | U34: 15.12 | V34: 5.4 | W34: 10.76 | X34: 23.15 | Y34: 15.2 | Z34: 9.38 | AA34: 12.9 | AB34: 19.82 | AC34: 19.65 | AD34: 12.31 | AE34: 11.64 | AF34: ID
B35: 0.75 | C35: 14.33 | D35: 18.29 | E35: 19.63 | F35: 17.51 | G35: 22.15 | H35: 14.79 | I35: 15.42 | J35: 14.46 | K35: 16.27 | L35: 20.12 | M35: 10.57 | N35: 16.27 | O35: 18.56 | P35: 18.83 | Q35: 20.61 | R35: 18.9 | S35: 15.65 | T35: 14.83 | U35: 15.29 | V35: 6.34 | W35: 10.97 | X35: 12.77 | Y35: 15.54 | Z35: 13.83 | AA35: 16.18 | AB35: 21.92 | AC35: 18.72 | AD35: 13.71 | AE35: 14.03 | AF35: 16.95
B36: 0.79166667 | C36: 17.38 | D36: 18.01 | E36: 20.48 | F36: 18.64 | G36: 19.27 | H36: 15.01 | I36: 21.46 | J36: 12.58 | K36: 18.37 | L36: 14.2 | M36: 12.09 | N36: 12.99 | O36: 21.68 | P36: 18.46 | Q36: 18.32 | R36: 20.12 | S36: 14.12 | T36: 12.34 | U36: 11.24 | V36: 6.38 | W36: 13.1 | X36: 16.32 | Y36: 15.12 | Z36: 14.3 | AA36: 12.98 | AB36: 22.71 | AC36: 14.58 | AD36: 12.38 | AE36: 13.72 | AF36: 15.79
B37: 0.83333333 | C37: 13.04 | D37: 18.16 | E37: 18.04 | F37: 17.29 | G37: 18.8 | H37: 14.53 | I37: 14.5 | J37: 12.22 | K37: 15.48 | L37: 10.85 | M37: 12.94 | N37: 9.58 | O37: 22.27 | P37: 19.6 | Q37: 17.39 | R37: 21.79 | S37: 14.9 | T37: 16.62 | U37: 9.68 | V37: 9.38 | W37: 16.02 | X37: 13.75 | Y37: 13.16 | Z37: 9.91 | AA37: 13.6 | AB37: 19.66 | AC37: 12.47 | AD37: 14.92 | AE37: 10.63 | AF37: 14.82
B38: 0.875 | C38: 10.44 | D38: 14.51 | E38: 17.5 | F38: 17.95 | G38: 19.49 | H38: 13.29 | I38: 13.96 | J38: 11.54 | K38: 17.62 | L38: 14.69 | M38: 12.4 | N38: 7.72 | O38: 33.89 | P38: 18.04 | Q38: 16.45 | R38: 18.59 | S38: 15.43 | T38: 17.19 | U38: 9.59 | V38: 5.33 | W38: 22.11 | X38: 11.84 | Y38: 14.4 | Z38: 9.65 | AA38: 17.93 | AB38: 20.02 | AC38: 13.34 | AD38: 12.27 | AE38: 9.6 | AF38: 15.35
B39: 0.91666667 | C39: 15.53 | D39: 15.33 | E39: 18.45 | F39: 18.58 | G39: 15.56 | H39: 13.63 | I39: 14.57 | J39: 9.85 | K39: 18.27 | L39: 12.52 | M39: 9.77 | N39: 6.92 | O39: 15.13 | P39: 20.02 | Q39: 16.76 | R39: 19.2 | S39: 15.94 | T39: 16.37 | U39: 6.92 | V39: 4.73 | W39: 23.26 | X39: 11.1 | Y39: 11.13 | Z39: 15.54 | AA39: 19.77 | AB39: 19.88 | AC39: 14.54 | AD39: 13.15 | AE39: 10.14 | AF39: 15.33
B40: 0.95833333 | C40: 11.22 | D40: 14.62 | E40: 15.32 | F40: 19.39 | G40: 17.03 | H40: 12.51 | I40: 12.24 | J40: 9.9 | K40: 14.03 | L40: 13.7 | M40: 11.41 | N40: 4.51 | O40: 19.96 | P40: 20.35 | Q40: 17.68 | R40: 19.83 | S40: 15.43 | T40: 17.13 | U40: 5.32 | V40: 3.77 | W40: 18.14 | X40: 13.05 | Y40: 10.27 | Z40: 9.92 | AA40: 18.8 | AB40: 14.98 | AC40: 13.04 | AD40: 11.71 | AE40: 9.88 | AF40: 15.98
B41: Promedio de PM₁₀ en 24 h | C41: 13.4 | D41: 15.9 | E41: 17.6 | F41: 17 | G41: 22.2 | H41: 14.7 | I41: 14.7 | J41: 12.5 | K41: 13.4 | L41: 17.2 | M41: 11.8 | N41: 12.2 | O41: 10.7 | P41: 16.6 | Q41: 22 | R41: 19.3 | S41: 18.2 | T41: 15.2 | U41: 17.5 | V41: 7.6 | W41: 8.4 | X41: 19.9 | Y41: 14.2 | Z41: 10 | AA41: 12.8 | AB41: 18.3 | AC41: 17.9 | AD41: 15.4 | AE41: 11.4 | AF41: 16.9
B42: ECA aire de PM₁₀ | C42: 100 µg/m³ en periodo de 24 horas
B43: ID: Insuficiencia de datos
B44: IE: Interrupción eléctrica

Sheet PM2.5_CA-ILO-03
F2: Tabla 3.21. Concentraciones horarias de PM₂,₅
B6: TÍTULO DEL ESTUDIO: | F6: ='PM10_CA-ILO-03'!F6 -> Evaluación de seguimiento de la calidad del aire en el CEBA Jose Pardo, distrito Ilo, provincia Ilo, departamento Moquegua, en setiembre 2022
B8: ESTACIÓN DE MONITOREO: | F8: CA-ILO-03 | Q8: CÓDIGO DE ACCIÓN:
B10: DATOS DEL EQUIPO
B12: EQUIPO: | F12: Monitor automático de partículas | Q12: MARCA: | V12: GRIMM AEROSOL TECHNIK
B14: MODELO: | F14: EDM180 | Q14: SERIE: | V14: 18A19093
B16: Hora\Día | C16: 1 | D16: 2 | E16: 3 | F16: 4 | G16: 5 | H16: 6 | I16: 7 | J16: 8 | K16: 9 | L16: 10 | M16: 11 | N16: 12 | O16: 13 | P16: 14 | Q16: 15 | R16: 16 | S16: 17 | T16: 18 | U16: 19 | V16: 20 | W16: 21 | X16: 22 | Y16: 23 | Z16: 24 | AA16: 25 | AB16: 26 | AC16: 27 | AD16: 28 | AE16: 29 | AF16: 30 | AG16: 31
B17: 0 | C17: 9.38 | D17: 9.03 | E17: 10.78 | F17: 10.71 | G17: 12.97 | H17: 11.58 | I17: 8.79 | J17: 8.86 | K17: 7.28 | L17: 12.31 | M17: 11.43 | N17: 6.9 | O17: 4.09 | P17: 14.03 | Q17: 12.91 | R17: 11.52 | S17: 12.19 | T17: 11.73 | U17: 15.38 | V17: 10.46 | W17: 3.65 | X17: 12.28 | Y17: 7.58 | Z17: 6.93 | AA17: 10.11 | AB17: 15.33 | AC17: 9.74 | AD17: 10.47 | AE17: 7.68 | AF17: 8.33
B18: 0.041666667 | C18: 7.62 | D18: 8.2 | E18: 11.37 | F18: 9.77 | G18: 12.21 | H18: 13.9 | I18: 8.47 | J18: 6.65 | K18: 6.09 | L18: 9.61 | M18: 8.22 | N18: 7.52 | O18: 4.22 | P18: 10 | Q18: 13.42 | R18: 10.22 | S18: 13.56 | T18: 13.03 | U18: 16.5 | V18: 5.83 | W18: 3.9 | X18: 10.91 | Y18: 8.26 | Z18: 7.11 | AA18: 9.43 | AB18: 14.55 | AC18: 9.38 | AD18: 15.76 | AE18: 8.44 | AF18: 8.31
B19: 0.083333333 | C19: 7.08 | D19: 8.21 | E19: 11.19 | F19: 9.21 | G19: 11.59 | H19: 18.15 | I19: 9.79 | J19: 6.12 | K19: 6.7 | L19: 9.34 | M19: 8.13 | N19: 9.72 | O19: 4.4 | P19: 9.61 | Q19: 13.38 | R19: 10.11 | S19: 11.94 | T19: 13.14 | U19: 13.4 | V19: 10.84 | W19: 3.49 | X19: 25.44 | Y19: 7.53 | Z19: 8.68 | AA19: 8.89 | AB19: 14.23 | AC19: 8.83 | AD19: 27.4 | AE19: 7.27 | AF19: 8.94
B20: 0.125 | C20: 8.82 | D20: 8.24 | E20: 10.53 | F20: 9.09 | G20: 12.72 | H20: 13.81 | I20: 10.62 | J20: 7.38 | K20: 8.91 | L20: 9.99 | M20: 7.84 | N20: 8.36 | O20: 3.78 | P20: 13.82 | Q20: 13.04 | R20: 10.38 | S20: 13.15 | T20: 11.36 | U20: 17.49 | V20: 9.01 | W20: 3.4 | X20: 24.68 | Y20: 6.64 | Z20: 5.77 | AA20: 6.86 | AB20: 14.88 | AC20: 10.74 | AD20: 7.58 | AE20: 7.52 | AF20: 8.96
B21: 0.16666667 | C21: 9.51 | D21: 8.49 | E21: 10.65 | F21: 10.05 | G21: 13.43 | H21: 12.72 | I21: 10.22 | J21: 8.05 | K21: 8.81 | L21: 13.63 | M21: 8.23 | N21: 8.67 | O21: 4.45 | P21: 9.87 | Q21: 15.16 | R21: 11.68 | S21: 19.71 | T21: 11.38 | U21: 25.36 | V21: 6 | W21: 3.17 | X21: 14.97 | Y21: 14.97 | Z21: 5.72 | AA21: 6.82 | AB21: 14.9 | AC21: 13.48 | AD21: 8.52 | AE21: 8.38 | AF21: 9.11
B22: 0.20833333 | C22: 5.27 | D22: 8.82 | E22: 10.84 | F22: 13.9 | G22: 13.43 | H22: 13.57 | I22: 10.41 | J22: 9.08 | K22: 6.12 | L22: 11.65 | M22: 7.57 | N22: 8.64 | O22: 4.4 | P22: 8.46 | Q22: 16.3 | R22: 12.22 | S22: 21.38 | T22: 11.51 | U22: 19.98 | V22: 7.38 | W22: 3.54 | X22: 13.25 | Y22: 20.94 | Z22: 8.09 | AA22: 6.31 | AB22: 13.03 | AC22: 12.06 | AD22: 7.6 | AE22: 5.51 | AF22: 9.63
B23: 0.25 | C23: 4.51 | D23: 8.79 | E23: 12.23 | F23: 14.62 | G23: 14.45 | H23: 11.47 | I23: 10.28 | J23: 9.63 | K23: 5.88 | L23: 15.49 | M23: 8.53 | N23: 9.36 | O23: 4.32 | P23: 7.82 | Q23: 16.63 | R23: 12.57 | S23: 13.07 | T23: 13.74 | U23: 11.18 | V23: 7.48 | W23: 3.25 | X23: 12.46 | Y23: 19.87 | Z23: 5.62 | AA23: 5.08 | AB23: 12.56 | AC23: 13.63 | AD23: 8.46 | AE23: 4.97 | AF23: 11.12
B24: 0.29166667 | C24: 4.4 | D24: 8.68 | E24: 11.96 | F24: 12.28 | G24: 15.36 | H24: 10.7 | I24: 9.43 | J24: 8.96 | K24: 5.98 | L24: 14.24 | M24: 12.66 | N24: 12.02 | O24: 5.09 | P24: 8.54 | Q24: 14.62 | R24: 11.69 | S24: 10.84 | T24: 10.52 | U24: 12.35 | V24: 8.93 | W24: 3.36 | X24: 17.09 | Y24: 8.41 | Z24: 6.55 | AA24: 10.21 | AB24: 12.47 | AC24: 12.86 | AD24: 7.47 | AE24: 5.13 | AF24: 10.47
B25: 0.33333333 | C25: 4.93 | D25: 9.47 | E25: 12.45 | F25: 16.02 | G25: 16.68 | H25: 10.17 | I25: 9.09 | J25: 12.42 | K25: 6.58 | L25: 11.31 | M25: 7.78 | N25: 10.97 | O25: 8.78 | P25: 9.9 | Q25: 13.48 | R25: 13.38 | S25: 10.82 | T25: 10.32 | U25: 12.04 | V25: 6.32 | W25: 3.67 | X25: 23.69 | Y25: 9.66 | Z25: 8.11 | AA25: ID | AB25: 10.55 | AC25: 11.77 | AD25: 8.43 | AE25: 6.65 | AF25: 12.42
B26: 0.375 | C26: 6.74 | D26: 9.24 | E26: 13.38 | F26: 18.19 | G26: 24.11 | H26: 14.12 | I26: 8.76 | J26: 10.29 | K26: 7.14 | L26: 13.22 | M26: 8.38 | N26: 7.74 | O26: 4.96 | P26: 9.66 | Q26: 13.84 | R26: 12.88 | S26: 12.6 | T26: 8.92 | U26: 13.83 | V26: 6.5 | W26: 3.98 | X26: 25.79 | Y26: 7.02 | Z26: 6.8 | AA26: IE | AB26: 9.29 | AC26: 12.3 | AD26: 7.88 | AE26: 6.22 | AF26: 11.81
B27: 0.41666667 | C27: 7.96 | D27: 11.05 | E27: 12.47 | F27: 14.4 | G27: 31.68 | H27: 9.96 | I27: 9.67 | J27: 8.55 | K27: 5.94 | L27: 14.07 | M27: 7.97 | N27: 8.62 | O27: 5.07 | P27: 9.04 | Q27: 15.31 | R27: 13.27 | S27: 13.47 | T27: 7.28 | U27: 14.41 | V27: 6.13 | W27: 4.68 | X27: 8.86 | Y27: 7.39 | Z27: 5.87 | AA27: IE | AB27: 8.64 | AC27: 11.34 | AD27: 8.34 | AE27: 6.47 | AF27: 11.71
B28: 0.45833333 | C28: 9.49 | D28: 12.1 | E28: 11.3 | F28: 11.82 | G28: 19.59 | H28: 10.23 | I28: 9.47 | J28: 9.19 | K28: 6.86 | L28: 13.73 | M28: 6.38 | N28: 6.93 | O28: 5.3 | P28: 8.83 | Q28: 14.43 | R28: 12.34 | S28: 12.52 | T28: 8.71 | U28: 11.56 | V28: 5.08 | W28: 4.5 | X28: 11.48 | Y28: 7.45 | Z28: 6.92 | AA28: IE | AB28: 9.48 | AC28: 10.48 | AD28: 8.22 | AE28: 5.97 | AF28: 11.47
B29: 0.5 | C29: 10.1 | D29: 12.02 | E29: 11.34 | F29: 10.23 | G29: 13.6 | H29: 10.03 | I29: 10.27 | J29: 9.22 | K29: 8.13 | L29: 12.53 | M29: 6.99 | N29: 6.42 | O29: 5.35 | P29: 8.76 | Q29: 12.97 | R29: 10.88 | S29: 11.78 | T29: 9.62 | U29: 9.78 | V29: 4.71 | W29: 4.65 | X29: 7.42 | Y29: 6.92 | Z29: 6.53 | AA29: 5.97 | AB29: 9.88 | AC29: 10.02 | AD29: 8.37 | AE29: 6.2 | AF29: 10.24
B30: 0.54166667 | C30: 9.49 | D30: 11.02 | E30: 10.94 | F30: 10.14 | G30: 13.47 | H30: 7.68 | I30: 9.38 | J30: 7.89 | K30: 9.36 | L30: 12.28 | M30: 7.92 | N30: 5.68 | O30: 6.11 | P30: 8.12 | Q30: 12.21 | R30: 9.78 | S30: 11.29 | T30: 8.54 | U30: 11.27 | V30: 5.1 | W30: 4.99 | X30: 6.6 | Y30: 6.79 | Z30: 6.54 | AA30: 7.39 | AB30: 8.74 | AC30: 9.26 | AD30: 11.03 | AE30: 6.14 | AF30: 10.31
B31: 0.58333333 | C31: 9.62 | D31: 10.72 | E31: 10.81 | F31: 10.1 | G31: 13.16 | H31: 7.89 | I31: 9.18 | J31: 9 | K31: 10.6 | L31: 12.28 | M31: 9.62 | N31: 7.33 | O31: 6.49 | P31: 8.88 | Q31: 11.74 | R31: 9.51 | S31: 11.22 | T31: 8.12 | U31: 12.13 | V31: 4.92 | W31: 4.62 | X31: 6.93 | Y31: 8.31 | Z31: 7.07 | AA31: 7.45 | AB31: 8.79 | AC31: 8.41 | AD31: 8.13 | AE31: 5.88 | AF31: 9.67
B32: 0.625 | C32: 8.82 | D32: 10.92 | E32: 11.16 | F32: 10.07 | G32: 14.57 | H32: 8.03 | I32: 8.81 | J32: 8.57 | K32: 11.03 | L32: 11.08 | M32: 9.07 | N32: 9.14 | O32: 5.74 | P32: 9.4 | Q32: 11.59 | R32: 9.12 | S32: 10.42 | T32: 10.27 | U32: 11.48 | V32: 5.32 | W32: 5.61 | X32: 12.43 | Y32: 8.64 | Z32: 7.12 | AA32: 8.66 | AB32: 9.77 | AC32: 8.98 | AD32: 7.78 | AE32: 7.73 | AF32: 10.01
B33: 0.66666667 | C33: 8.29 | D33: 11.24 | E33: 12.47 | F33: 11.43 | G33: 13.96 | H33: 9.5 | I33: 9.42 | J33: 8.65 | K33: 10.54 | L33: 11.35 | M33: 8.4 | N33: 11.36 | O33: 6.96 | P33: 11.12 | Q33: 11.36 | R33: 9.16 | S33: 9.32 | T33: 9.05 | U33: 11.08 | V33: 6.04 | W33: 5.89 | X33: 10.08 | Y33: 9.4 | Z33: 6.47 | AA33: 9.32 | AB33: 10.28 | AC33: 11.05 | AD33: 7.28 | AE33: 6.38 | AF33: 10.53
B34: 0.70833333 | C34: 10.38 | D34: 12.61 | E34: 13.34 | F34: 12.41 | G34: 13.94 | H34: 9.38 | I34: 8.66 | J34: 9.18 | K34: 9.34 | L34: 15.07 | M34: 8.41 | N34: 11.32 | O34: 9.32 | P34: 11.2 | Q34: 11.24 | R34: 10.87 | S34: 10.22 | T34: 10.07 | U34: 10.84 | V34: 5.12 | W34: 7.59 | X34: 15.6 | Y34: 10.27 | Z34: 6.81 | AA34: 10.25 | AB34: 11.2 | AC34: 10.82 | AD34: 8.06 | AE34: 6.85 | AF34: ID
B35: 0.75 | C35: 9.77 | D35: 14.59 | E35: 15.13 | F35: 13.02 | G35: 15.88 | H35: 11.46 | I35: 11.66 | J35: 10.85 | K35: 10.14 | L35: 16.94 | M35: 8.16 | N35: 12.88 | O35: 14.09 | P35: 11.93 | Q35: 14.12 | R35: 12.89 | S35: 11.47 | T35: 11.57 | U35: 10.93 | V35: 6.17 | W35: 8.36 | X35: 8.87 | Y35: 10.73 | Z35: 10.26 | AA35: 13.28 | AB35: 11.91 | AC35: 10.53 | AD35: 8.65 | AE35: 9.62 | AF35: 11.85
B36: 0.79166667 | C36: 12.92 | D36: 13.83 | E36: 15.38 | F36: 14.03 | G36: 14.05 | H36: 12.16 | I36: 16.42 | J36: 9.55 | K36: 13.92 | L36: 11.21 | M36: 9.35 | N36: 11.6 | O36: 15.64 | P36: 12.65 | Q36: 12.43 | R36: 14.75 | S36: 10.43 | T36: 9.86 | U36: 8.75 | V36: 6.09 | W36: 9.59 | X36: 11.44 | Y36: 10.99 | Z36: 10.99 | AA36: 10.61 | AB36: 13.34 | AC36: 10.12 | AD36: 8.88 | AE36: 8.58 | AF36: 11.23
B37: 0.83333333 | C37: 10.53 | D37: 14.64 | E37: 13.22 | F37: 13.06 | G37: 13.39 | H37: 11.39 | I37: 10.47 | J37: 9.37 | K37: 11.21 | L37: 8.92 | M37: 9.75 | N37: 8.78 | O37: 15.58 | P37: 13.73 | Q37: 11.73 | R37: 15.38 | S37: 10.9 | T37: 12.8 | U37: 7.46 | V37: 9.07 | W37: 11.47 | X37: 9.82 | Y37: 9.34 | Z37: 7.43 | AA37: 11.07 | AB37: 12.15 | AC37: 9.12 | AD37: 10.95 | AE37: 7.01 | AF37: 10.64
B38: 0.875 | C38: 8.23 | D38: 11.91 | E38: 12.61 | F38: 13.38 | G38: 14.27 | H38: 10.14 | I38: 9.62 | J38: 9.63 | K38: 12.45 | L38: 11.12 | M38: 9.68 | N38: 7.05 | O38: 24.06 | P38: 12.53 | Q38: 11.14 | R38: 12.84 | S38: 11.33 | T38: 12.72 | U38: 7.58 | V38: 5.09 | W38: 16.92 | X38: 8.34 | Y38: 9.93 | Z38: 7.18 | AA38: 14.78 | AB38: 13.75 | AC38: 9.81 | AD38: 8.23 | AE38: 6.88 | AF38: 11
B39: 0.91666667 | C39: 12.23 | D39: 12.57 | E39: 13.84 | F39: 13.4 | G39: 12.01 | H39: 9.95 | I39: 10.06 | J39: 8.47 | K39: 13.01 | L39: 10.07 | M39: 7.67 | N39: 6.42 | O39: 11.23 | P39: 13.97 | Q39: 11.8 | R39: 13.16 | S39: 11.52 | T39: 12.64 | U39: 5.75 | V39: 4.47 | W39: 17.06 | X39: 8.2 | Y39: 7.99 | Z39: 12.71 | AA39: 15.16 | AB39: 14.15 | AC39: 10.95 | AD39: 8.45 | AE39: 8.03 | AF39: 10.94
B40: 0.95833333 | C40: 8.8 | D40: 11.7 | E40: 11.69 | F40: 13.72 | G40: 12.59 | H40: 8.98 | I40: 8.78 | J40: 8.74 | K40: 11.22 | L40: 10.72 | M40: 9.72 | N40: 4.3 | O40: 14.53 | P40: 14.22 | Q40: 12.6 | R40: 13.89 | S40: 10.86 | T40: 12.88 | U40: 4.49 | V40: 3.62 | W40: 13.64 | X40: 10.98 | Y40: 7.97 | Z40: 7.23 | AA40: 14.32 | AB40: 10.93 | AC40: 9.93 | AD40: 8.41 | AE40: 7.65 | AF40: 11.48
B41: Promedio de PM₂,₅ en 24 h | C41: 8.5 | D41: 10.8 | E41: 12.1 | F41: 12.3 | G41: 15.1 | H41: 11.1 | I41: 9.9 | J41: 8.9 | K41: 8.9 | L41: 12.2 | M41: 8.7 | N41: 8.7 | O41: 8.1 | P41: 10.7 | Q41: 13.2 | R41: 11.9 | S41: 12.3 | T41: 10.8 | U41: 12.3 | V41: 6.5 | W41: 6.5 | X41: 13.2 | Y41: 9.7 | Z41: 7.4 | AA41: 9.6 | AB41: 11.9 | AC41: 10.7 | AD41: 9.6 | AE41: 7 | AF41: 10.4 | AG41: =AVERAGE(AG17:AG40) -> #DIV/0!
B42: ECA aire de PM₂,₅ | C42: 50 µg/m³ en periodo de 24 horas
B43: ID: Insuficiencia de datos
B44: IE: Interrupción eléctrica

Sheet SO2_CA-ILO-03
F2: Tabla 3.22. Concentraciones horarias de SO₂
B6: TÍTULO DEL ESTUDIO: | F6: ='PM10_CA-ILO-03'!F6 -> Evaluación de seguimiento de la calidad del aire en el CEBA Jose Pardo, distrito Ilo, provincia Ilo, departamento Moquegua, en setiembre 2022
B8: ESTACIÓN DE MONITOREO: | F8: CA-ILO-03 | Q8: CÓDIGO DE ACCIÓN:
B10: DATOS DEL EQUIPO
B12: EQUIPO: | F12: Analizador de dióxido de azufre | Q12: MARCA: | V12: THERMO SCIENTIFIC
B14: MODELO: | F14: 43i | Q14: SERIE: | V14: 1192914948
B16: Hora\Día | C16: 1 | D16: 2 | E16: 3 | F16: 4 | G16: 5 | H16: 6 | I16: 7 | J16: 8 | K16: 9 | L16: 10 | M16: 11 | N16: 12 | O16: 13 | P16: 14 | Q16: 15 | R16: 16 | S16: 17 | T16: 18 | U16: 19 | V16: 20 | W16: 21 | X16: 22 | Y16: 23 | Z16: 24 | AA16: 25 | AB16: 26 | AC16: 27 | AD16: 28 | AE16: 29 | AF16: 30 | AG16: 31
B17: 0 | C17: 5.42 | D17: 5.58 | E17: 5.45 | F17: 5.45 | G17: 5.61 | H17: 5.58 | I17: 5.53 | J17: 5.66 | K17: 5.69 | L17: 5.79 | M17: 5.84 | N17: 5.71 | O17: 5.66 | P17: 5.97 | Q17: 5.95 | R17: 5.79 | S17: 6 | T17: 6.13 | U17: 6 | V17: 5.92 | W17: 6.1 | X17: 6.05 | Y17: 6.21 | Z17: 6.16 | AA17: 6.37 | AB17: 6.08 | AC17: 6.18 | AD17: 6.03 | AE17: 6.13 | AF17: 6.05 | AG17: 5.45
B18: 0.041666667 | C18: 5.48 | D18: 5.58 | E18: 5.48 | F18: 5.5 | G18: 5.48 | H18: 5.63 | I18: 5.5 | J18: 5.74 | K18: 5.69 | L18: 5.95 | M18: 5.71 | N18: 5.69 | O18: 5.74 | P18: 6 | Q18: 5.9 | R18: 5.9 | S18: 5.97 | T18: 5.9 | U18: 5.97 | V18: 6.03 | W18: 6.08 | X18: 6.13 | Y18: 6.13 | Z18: 6.16 | AA18: 6.24 | AB18: 6.08 | AC18: 6 | AD18: 6.03 | AE18: 6.03 | AF18: 6.1 | AG18: 5.32
B19: 0.083333333 | C19: 5.53 | D19: 5.37 | E19: 5.55 | F19: 5.5 | G19: 5.45 | H19: 5.55 | I19: 5.55 | J19: 5.71 | K19: 5.74 | L19: 6.05 | M19: 5.71 | N19: 5.71 | O19: 5.66 | P19: 5.74 | Q19: 5.92 | R19: 5.82 | S19: 6.03 | T19: 5.82 | U19: 5.92 | V19: 6.03 | W19: 6.08 | X19: 6.37 | Y19: 6.05 | Z19: 6.21 | AA19: 6.21 | AB19: 6.08 | AC19: 6.03 | AD19: 7.36 | AE19: 6.24 | AF19: 5.92 | AG19: 5.4
B20: 0.125 | C20: 5.71 | D20: 5.55 | E20: 5.42 | F20: 5.42 | G20: 5.45 | H20: 5.63 | I20: 5.55 | J20: 5.79 | K20: 5.69 | L20: 5.84 | M20: 5.74 | N20: 5.63 | O20: 5.53 | P20: 5.82 | Q20: 5.74 | R20: 5.92 | S20: 6.16 | T20: 5.97 | U20: 5.95 | V20: 6.13 | W20: 6.18 | X20: 6.92 | Y20: 6.08 | Z20: 6.24 | AA20: 6.26 | AB20: 6.16 | AC20: 5.9 | AD20: 6.47 | AE20: 6.21 | AF20: 6.03 | AG20: 5.4
B21: 0.16666667 | C21: 5.53 | D21: 5.61 | E21: 5.45 | F21: 5.5 | G21: 5.5 | H21: 5.63 | I21: 5.63 | J21: 5.58 | K21: 5.69 | L21: 5.79 | M21: 5.76 | N21: 5.97 | O21: 5.58 | P21: 5.82 | Q21: 5.74 | R21: 5.95 | S21: 6.24 | T21: 5.76 | U21: 10.77 | V21: 6 | W21: 6.1 | X21: 6.34 | Y21: 7.49 | Z21: 6.24 | AA21: 6.18 | AB21: 6.08 | AC21: 5.82 | AD21: 6.16 | AE21: 6.08 | AF21: 6.16 | AG21: 5.45
B22: 0.20833333 | C22: 5.61 | D22: 5.42 | E22: 5.58 | F22: 5.61 | G22: 5.55 | H22: 5.63 | I22: 5.63 | J22: 5.61 | K22: 5.66 | L22: 5.82 | M22: 5.74 | N22: 5.74 | O22: 5.58 | P22: 5.71 | Q22: 5.79 | R22: 5.92 | S22: 7.2 | T22: 5.92 | U22: 10.11 | V22: 6.1 | W22: 6.03 | X22: 6.13 | Y22: 11.61 | Z22: 6.21 | AA22: 6.16 | AB22: 6.08 | AC22: 5.87 | AD22: 6.26 | AE22: 6.03 | AF22: 6.21 | AG22: 5.61
B23: 0.25 | C23: 5.53 | D23: 5.61 | E23: 5.58 | F23: 5.5 | G23: 5.5 | H23: 5.58 | I23: 5.55 | J23: 5.55 | K23: 5.74 | L23: 5.87 | M23: 5.84 | N23: 5.79 | O23: 5.61 | P23: 5.92 | Q23: 5.9 | R23: 5.97 | S23: 6.94 | T23: 5.95 | U23: 6.97 | V23: 6.08 | W23: 6.1 | X23: 6.42 | Y23: 46.27 | Z23: 6.26 | AA23: 6.26 | AB23: 6.03 | AC23: 6.18 | AD23: 6.18 | AE23: 6.08 | AF23: 6.26 | AG23: 5.9
B24: 0.29166667 | C24: 5.76 | D24: 5.58 | E24: 5.48 | F24: 5.4 | G24: 5.55 | H24: 5.61 | I24: 5.74 | J24: 5.69 | K24: 5.69 | L24: 5.71 | M24: 5.79 | N24: 5.87 | O24: 5.66 | P24: 6.03 | Q24: 6.03 | R24: 5.97 | S24: 6.31 | T24: 6 | U24: 6.42 | V24: 6.05 | W24: 6.21 | X24: 7.18 | Y24: 10.77 | Z24: 6.29 | AA24: 6.52 | AB24: 6 | AC24: 6.21 | AD24: 6.29 | AE24: 6.16 | AF24: 6.21 | AG24: 7.99
B25: 0.33333333 | C25: 5.55 | D25: 5.53 | E25: 5.58 | F25: 5.63 | G25: 5.63 | H25: 5.53 | I25: 5.5 | J25: 5.58 | K25: 5.76 | L25: 5.79 | M25: 5.66 | N25: 5.74 | O25: 5.71 | P25: 5.92 | Q25: 6.03 | R25: 5.95 | S25: 6.08 | T25: 6.1 | U25: 6.34 | V25: 5.95 | W25: 6.26 | X25: 13.15 | Y25: 7.41 | Z25: 6.18 | AA25: ID | AB25: 5.95 | AC25: 6.26 | AD25: 6.16 | AE25: 6.03 | AF25: 6.34 | AG25: 7.89
B26: 0.375 | C26: 5.55 | D26: 5.55 | E26: 5.66 | F26: 5.71 | G26: 6.37 | H26: 5.5 | I26: 5.71 | J26: 5.74 | K26: 5.76 | L26: 5.69 | M26: 5.82 | N26: 5.69 | O26: 5.61 | P26: 5.92 | Q26: 5.84 | R26: 6.31 | S26: 6.26 | T26: 6.05 | U26: 6.1 | V26: 6.08 | W26: 5.97 | X26: 14.96 | Y26: 6.94 | Z26: 6.18 | AA26: IE | AB26: 6.08 | AC26: 6.16 | AD26: 6.05 | AE26: 6.16 | AF26: 6.37 | AG26: 6.34
B27: 0.41666667 | C27: 5.5 | D27: 5.61 | E27: 5.63 | F27: 5.66 | G27: 18.73 | H27: 5.71 | I27: 5.71 | J27: 5.63 | K27: 5.92 | L27: 5.9 | M27: 5.82 | N27: 5.71 | O27: 5.92 | P27: 5.9 | Q27: 6 | R27: 6.13 | S27: 6.29 | T27: 5.97 | U27: 6.24 | V27: 6.16 | W27: 6.18 | X27: 7.41 | Y27: 6.6 | Z27: 6.24 | AA27: IE | AB27: 6.21 | AC27: 6.21 | AD27: 6.13 | AE27: 6.08 | AF27: 6.37 | AG27: 5.97
B28: 0.45833333 | C28: 5.58 | D28: 5.69 | E28: 5.69 | F28: 5.69 | G28: 9.09 | H28: 5.82 | I28: 5.63 | J28: 5.79 | K28: 5.84 | L28: 5.84 | M28: 5.79 | N28: 5.82 | O28: 5.87 | P28: 5.87 | Q28: 6.13 | R28: 6.24 | S28: 6.55 | T28: 6.13 | U28: 6.18 | V28: 6.13 | W28: 6.05 | X28: 7.02 | Y28: 6.47 | Z28: 6.18 | AA28: IE | AB28: 6.1 | AC28: 6.13 | AD28: 6.18 | AE28: 6.16 | AF28: 6.18 | AG28: 5.79
B29: 0.5 | C29: 5.66 | D29: 5.69 | E29: 5.58 | F29: 5.48 | G29: 5.95 | H29: 5.92 | I29: 5.61 | J29: 5.66 | K29: 5.82 | L29: 5.79 | M29: 5.82 | N29: 5.95 | O29: 5.76 | P29: 6.03 | Q29: 6.08 | R29: 6.18 | S29: 6.18 | T29: 6.1 | U29: 6.24 | V29: 6.26 | W29: 6.1 | X29: 6.5 | Y29: 6.42 | Z29: 6.26 | AA29: EE | AB29: 6.1 | AC29: 6.24 | AD29: 6.26 | AE29: 6.13 | AF29: 6.24 | AG29: 5.53
B30: 0.54166667 | C30: 5.5 | D30: 5.53 | E30: 5.66 | F30: 5.58 | G30: 5.87 | H30: 5.71 | I30: 5.63 | J30: 5.74 | K30: 5.97 | L30: 5.84 | M30: 5.74 | N30: 5.74 | O30: 5.53 | P30: 5.92 | Q30: 6.13 | R30: 6.18 | S30: 6.16 | T30: 6.16 | U30: 6.18 | V30: 6.1 | W30: 6.08 | X30: 6.45 | Y30: 6.42 | Z30: 6.29 | AA30: EE | AB30: 6.08 | AC30: 6.34 | AD30: 6.21 | AE30: 6.16 | AF30: 6.13 | AG30: 5.69
B31: 0.58333333 | C31: 5.63 | D31: 5.61 | E31: 5.58 | F31: 5.71 | G31: 5.69 | H31: 5.66 | I31: 5.79 | J31: 5.79 | K31: 5.97 | L31: 5.9 | M31: 5.71 | N31: 5.82 | O31: 5.66 | P31: 6 | Q31: 6.18 | R31: 6.13 | S31: 6.26 | T31: 5.84 | U31: 6.03 | V31: 5.92 | W31: 6.08 | X31: 6.29 | Y31: 6.21 | Z31: 6.18 | AA31: EE | AB31: 6.21 | AC31: 6.05 | AD31: 6.16 | AE31: 6.1 | AF31: 6.16 | AG31: 5.58
B32: 0.625 | C32: 5.71 | D32: 5.66 | E32: 5.61 | F32: 5.61 | G32: 5.74 | H32: 5.58 | I32: 5.82 | J32: 5.79 | K32: 5.97 | L32: 5.71 | M32: 5.79 | N32: 5.74 | O32: 5.63 | P32: 5.82 | Q32: 6.18 | R32: 6.08 | S32: 6.08 | T32: 6.05 | U32: 6.05 | V32: 6.08 | W32: 6.13 | X32: 6.24 | Y32: 6.21 | Z32: 6.39 | AA32: EE | AB32: 6.18 | AC32: 6.18 | AD32: 6.31 | AE32: 6.13 | AF32: 6.26 | AG32: 5.71
B33: 0.66666667 | C33: 5.63 | D33: 5.69 | E33: 5.5 | F33: 5.55 | G33: 5.66 | H33: 5.63 | I33: 5.79 | J33: 5.71 | K33: 5.87 | L33: 5.74 | M33: 5.71 | N33: 5.76 | O33: 5.82 | P33: 6.05 | Q33: 6.34 | R33: 6.13 | S33: 6.1 | T33: 6.21 | U33: 5.97 | V33: 5.97 | W33: 6.05 | X33: 6.34 | Y33: 6.21 | Z33: 6.34 | AA33: EE | AB33: ID | AC33: 6.18 | AD33: 6.29 | AE33: 6.05 | AF33: 6.29 | AG33: 5.45
B34: 0.70833333 | C34: 5.53 | D34: 5.61 | E34: 5.63 | F34: 5.58 | G34: 5.69 | H34: 5.66 | I34: 5.61 | J34: 5.76 | K34: 5.82 | L34: 6.03 | M34: 5.82 | N34: 5.9 | O34: 5.92 | P34: 5.92 | Q34: 6.13 | R34: 6.03 | S34: 6.08 | T34: 5.87 | U34: 5.97 | V34: 6.1 | W34: 6.08 | X34: 6.42 | Y34: 6.29 | Z34: 6.29 | AA34: EE | AB34: 6.1 | AC34: 6.21 | AD34: 6.34 | AE34: 6.13 | AF34: 6.18 | AG34: 5.53
B35: 0.75 | C35: 5.55 | D35: 5.63 | E35: 5.55 | F35: 5.63 | G35: 5.55 | H35: 5.53 | I35: 5.74 | J35: 5.71 | K35: 5.9 | L35: 5.76 | M35: 5.76 | N35: 5.71 | O35: 5.87 | P35: 5.97 | Q35: 6.13 | R35: 6.03 | S35: 5.97 | T35: 5.92 | U35: 5.92 | V35: 6.08 | W35: 6.16 | X35: 6.13 | Y35: 6.26 | Z35: 6.16 | AA35: EE | AB35: 6.1 | AC35: 6.08 | AD35: 6.18 | AE35: 6.16 | AF35: 6.21 | AG35: 5.69
B36: 0.79166667 | C36: 5.55 | D36: 5.45 | E36: 5.61 | F36: 5.55 | G36: 5.42 | H36: 5.55 | I36: 5.66 | J36: 5.63 | K36: 5.84 | L36: 5.76 | M36: 5.69 | N36: 5.71 | O36: 5.82 | P36: 5.84 | Q36: 6.03 | R36: 5.87 | S36: 6.1 | T36: 6.03 | U36: 5.9 | V36: 5.76 | W36: 6.08 | X36: 6.34 | Y36: 6.18 | Z36: 6.47 | AA36: EE | AB36: 6.03 | AC36: 6.26 | AD36: 6.13 | AE36: 6.1 | AF36: 6.13 | AG36: 5.4
B37: 0.83333333 | C37: 5.5 | D37: 5.45 | E37: 5.53 | F37: 5.61 | G37: 5.63 | H37: 5.66 | I37: 5.87 | J37: 5.69 | K37: 5.74 | L37: 5.76 | M37: 5.76 | N37: 5.79 | O37: 5.74 | P37: 5.92 | Q37: 5.95 | R37: 5.79 | S37: 6.03 | T37: 6.1 | U37: 5.82 | V37: 6 | W37: 6 | X37: 6.13 | Y37: 6.05 | Z37: 6.24 | AA37: EE | AB37: 6.08 | AC37: 6.1 | AD37: 6.05 | AE37: 6.05 | AF37: 6.16 | AG37: 5.48
B38: 0.875 | C38: 5.61 | D38: 5.55 | E38: 5.58 | F38: 5.4 | G38: 5.71 | H38: 5.66 | I38: 5.66 | J38: 5.63 | K38: 5.82 | L38: 5.71 | M38: 5.66 | N38: 5.76 | O38: 5.92 | P38: 6.03 | Q38: 5.97 | R38: 5.92 | S38: 6 | T38: 5.97 | U38: 5.95 | V38: 6 | W38: 6.05 | X38: 6.1 | Y38: 6.05 | Z38: 6.1 | AA38: EE | AB38: 6.21 | AC38: 6.1 | AD38: 6.1 | AE38: 6.13 | AF38: 6.03 | AG38: 5.76
B39: 0.91666667 | C39: 5.76 | D39: 5.5 | E39: 5.53 | F39: 5.45 | G39: 5.55 | H39: 5.69 | I39: 5.63 | J39: 5.61 | K39: 5.82 | L39: 5.79 | M39: 5.71 | N39: 5.84 | O39: 5.79 | P39: 5.95 | Q39: 5.92 | R39: 6 | S39: 5.97 | T39: 6.13 | U39: 5.97 | V39: 6.13 | W39: 6.21 | X39: 6.03 | Y39: 6.16 | Z39: 6.37 | AA39: EE | AB39: 6.08 | AC39: 6 | AD39: 6.13 | AE39: 6.18 | AF39: 5.97 | AG39: 5.74
B40: 0.95833333 | C40: 5.58 | D40: 5.53 | E40: 5.45 | F40: 5.53 | G40: 5.53 | H40: 5.63 | I40: 5.74 | J40: 5.69 | K40: 5.95 | L40: 5.74 | M40: 5.58 | N40: 5.74 | O40: 5.92 | P40: 5.95 | Q40: 5.9 | R40: 5.87 | S40: 6 | T40: 6.05 | U40: 5.9 | V40: 6.08 | W40: 6.08 | X40: 6.1 | Y40: 6.18 | Z40: 6.24 | AA40: EE | AB40: 6.24 | AC40: 6.08 | AD40: 6.03 | AE40: 6.24 | AF40: 6.29 | AG40: 5.55
B41: Promedio de SO₂ en 24 h | C41: 5.6 | D41: 5.6 | E41: 5.6 | F41: 5.6 | G41: 6.3 | H41: 5.6 | I41: 5.7 | J41: 5.7 | K41: 5.8 | L41: 5.8 | M41: 5.7 | N41: 5.8 | O41: 5.7 | P41: 5.9 | Q41: 6 | R41: 6 | S41: 6.2 | T41: 6 | U41: 6.5 | V41: 6 | W41: 6.1 | X41: 7 | Y41: 8.4 | Z41: 6.2 | AA41: ID | AB41: 6.1 | AC41: 6.1 | AD41: 6.2 | AE41: 6.1 | AF41: 6.2 | AG41: 5.8
B42: ECA aire de SO₂ | C42: 250 µg/m³ en periodo de 24 horas
B44: IE: Interrupción eléctrica
B45: ID: Insuficiencia de datos
B46: EE: Evaluación del especialista

Sheet SO2_m3h_CA-ILO-03
F2: Tabla 3.23. Concentraciones horarias de CO m8h
B6: TÍTULO DEL ESTUDIO: | F6: ='PM10_CA-ILO-03'!F6 -> Evaluación de seguimiento de la calidad del aire en el CEBA Jose Pardo, distrito Ilo, provincia Ilo, departamento Moquegua, en setiembre 2022
B8: ESTACIÓN DE MONITOREO: | F8: CA-ILO-03 | Q8: CÓDIGO DE ACCIÓN:
B10: DATOS DEL EQUIPO
B12: EQUIPO: | F12: Analizador de dióxido de azufre | Q12: MARCA: | V12: THERMO SCIENTIFIC
B14: MODELO: | F14: 43i | Q14: SERIE: | V14: 1192914948
B16: Hora\Día | C16: 1 | D16: 2 | E16: 3 | F16: 4 | G16: 5 | H16: 6 | I16: 7 | J16: 8 | K16: 9 | L16: 10 | M16: 11 | N16: 12 | O16: 13 | P16: 14 | Q16: 15 | R16: 16 | S16: 17 | T16: 18 | U16: 19 | V16: 20 | W16: 21 | X16: 22 | Y16: 23 | Z16: 24 | AA16: 25 | AB16: 26 | AC16: 27 | AD16: 28 | AE16: 29 | AF16: 30 | AG16: 31
B17: 0 | C17: 5.57 | D17: 5.64 | E17: 5.49 | F17: 5.48 | G17: 5.53 | H17: 5.55 | I17: 5.62 | J17: 5.68 | K17: 5.66 | L17: 5.85 | M17: 5.79 | N17: 5.67 | O17: 5.75 | P17: 5.89 | Q17: 5.95 | R17: 5.87 | S17: 5.96 | T17: 6.03 | U17: 6.06 | V17: 5.93 | W17: 6.1 | X17: 6.11 | Y17: 6.11 | Z17: 6.17 | AA17: 6.33 | AB17: ID | AC17: 6.17 | AD17: 6.04 | AE17: 6.1 | AF17: 6.16 | AG17: 5.37
B18: 0.041666667 | C18: 5.48 | D18: 5.58 | E18: 5.49 | F18: 5.47 | G18: 5.54 | H18: 5.58 | I18: 5.55 | J18: 5.71 | K18: 5.69 | L18: 5.9 | M18: 5.76 | N18: 5.66 | O18: 5.71 | P18: 5.96 | Q18: 5.93 | R18: 5.86 | S18: 5.95 | T18: 6.01 | U18: 6.01 | V18: 5.95 | W18: 6.09 | X18: 6.09 | Y18: 6.15 | Z18: 6.17 | AA18: 6.28 | AB18: ID | AC18: 6.14 | AD18: 6.05 | AE18: 6.06 | AF18: 6.13 | AG18: 5.35
B19: 0.083333333 | C19: 5.48 | D19: 5.51 | E19: 5.49 | F19: 5.48 | G19: 5.51 | H19: 5.59 | I19: 5.53 | J19: 5.7 | K19: 5.71 | L19: 5.93 | M19: 5.75 | N19: 5.7 | O19: 5.69 | P19: 5.9 | Q19: 5.92 | R19: 5.84 | S19: 6 | T19: 5.95 | U19: 5.96 | V19: 5.99 | W19: 6.09 | X19: 6.18 | Y19: 6.13 | Z19: 6.18 | AA19: 6.27 | AB19: 6.08 | AC19: 6.07 | AD19: 6.47 | AE19: 6.13 | AF19: 6.02 | AG19: 5.39
B20: 0.125 | C20: 5.57 | D20: 5.5 | E20: 5.48 | F20: 5.47 | G20: 5.46 | H20: 5.6 | I20: 5.53 | J20: 5.75 | K20: 5.71 | L20: 5.95 | M20: 5.72 | N20: 5.68 | O20: 5.64 | P20: 5.85 | Q20: 5.85 | R20: 5.88 | S20: 6.05 | T20: 5.9 | U20: 5.95 | V20: 6.06 | W20: 6.11 | X20: 6.47 | Y20: 6.09 | Z20: 6.2 | AA20: 6.24 | AB20: 6.11 | AC20: 5.98 | AD20: 6.62 | AE20: 6.16 | AF20: 6.02 | AG20: 5.37
B21: 0.16666667 | C21: 5.59 | D21: 5.51 | E21: 5.47 | F21: 5.47 | G21: 5.47 | H21: 5.6 | I21: 5.58 | J21: 5.69 | K21: 5.71 | L21: 5.89 | M21: 5.74 | N21: 5.77 | O21: 5.59 | P21: 5.79 | Q21: 5.8 | R21: 5.9 | S21: 6.14 | T21: 5.85 | U21: 7.55 | V21: 6.05 | W21: 6.12 | X21: 6.54 | Y21: 6.54 | Z21: 6.23 | AA21: 6.22 | AB21: 6.11 | AC21: 5.92 | AD21: 6.66 | AE21: 6.18 | AF21: 6.04 | AG21: 5.42
B22: 0.20833333 | C22: 5.62 | D22: 5.53 | E22: 5.48 | F22: 5.51 | G22: 5.5 | H22: 5.63 | I22: 5.6 | J22: 5.66 | K22: 5.68 | L22: 5.82 | M22: 5.75 | N22: 5.78 | O22: 5.56 | P22: 5.78 | Q22: 5.76 | R22: 5.93 | S22: 6.53 | T22: 5.88 | U22: 8.94 | V22: 6.08 | W22: 6.1 | X22: 6.46 | Y22: 8.39 | Z22: 6.23 | AA22: 6.2 | AB22: 6.11 | AC22: 5.86 | AD22: 6.3 | AE22: 6.11 | AF22: 6.13 | AG22: 5.49
B23: 0.25 | C23: 5.56 | D23: 5.55 | E23: 5.54 | F23: 5.54 | G23: 5.52 | H23: 5.61 | I23: 5.6 | J23: 5.58 | K23: 5.7 | L23: 5.83 | M23: 5.78 | N23: 5.83 | O23: 5.59 | P23: 5.82 | Q23: 5.81 | R23: 5.95 | S23: 6.79 | T23: 5.88 | U23: 9.28 | V23: 6.06 | W23: 6.08 | X23: 6.3 | Y23: 21.79 | Z23: 6.24 | AA23: 6.2 | AB23: 6.06 | AC23: 5.96 | AD23: 6.2 | AE23: 6.06 | AF23: 6.21 | AG23: 5.65
B24: 0.29166667 | C24: 5.63 | D24: 5.54 | E24: 5.55 | F24: 5.5 | G24: 5.53 | H24: 5.61 | I24: 5.64 | J24: 5.62 | K24: 5.7 | L24: 5.8 | M24: 5.79 | N24: 5.8 | O24: 5.62 | P24: 5.89 | Q24: 5.91 | R24: 5.95 | S24: 6.82 | T24: 5.96 | U24: 7.83 | V24: 6.08 | W24: 6.11 | X24: 6.58 | Y24: 22.88 | Z24: 6.25 | AA24: 6.31 | AB24: 6.04 | AC24: 6.09 | AD24: 6.24 | AE24: 6.09 | AF24: 6.23 | AG24: 6.5
B25: 0.33333333 | C25: 5.61 | D25: 5.57 | E25: 5.55 | F25: 5.51 | G25: 5.56 | H25: 5.57 | I25: 5.6 | J25: 5.61 | K25: 5.73 | L25: 5.79 | M25: 5.76 | N25: 5.8 | O25: 5.66 | P25: 5.96 | Q25: 5.99 | R25: 5.96 | S25: 6.44 | T25: 6.02 | U25: 6.58 | V25: 6.03 | W25: 6.19 | X25: 8.92 | Y25: 21.48 | Z25: 6.24 | AA25: ID | AB25: 5.99 | AC25: 6.22 | AD25: 6.21 | AE25: 6.09 | AF25: 6.27 | AG25: 7.26
B26: 0.375 | C26: 5.62 | D26: 5.55 | E26: 5.57 | F26: 5.58 | G26: 5.85 | H26: 5.55 | I26: 5.65 | J26: 5.67 | K26: 5.74 | L26: 5.73 | M26: 5.76 | N26: 5.77 | O26: 5.66 | P26: 5.96 | Q26: 5.97 | R26: 6.08 | S26: 6.22 | T26: 6.05 | U26: 6.29 | V26: 6.03 | W26: 6.15 | X26: 11.76 | Y26: 8.37 | Z26: 6.22 | AA26: ID | AB26: 6.01 | AC26: 6.21 | AD26: 6.17 | AE26: 6.12 | AF26: 6.31 | AG26: 7.41
B27: 0.41666667 | C27: 5.53 | D27: 5.56 | E27: 5.62 | F27: 5.67 | G27: 10.24 | H27: 5.58 | I27: 5.64 | J27: 5.65 | K27: 5.81 | L27: 5.79 | M27: 5.77 | N27: 5.71 | O27: 5.75 | P27: 5.91 | Q27: 5.96 | R27: 6.13 | S27: 6.21 | T27: 6.04 | U27: 6.23 | V27: 6.06 | W27: 6.14 | X27: 11.84 | Y27: 6.98 | Z27: 6.2 | AA27: IE | AB27: 6.08 | AC27: 6.21 | AD27: 6.11 | AE27: 6.09 | AF27: 6.36 | AG27: 6.73
B28: 0.45833333 | C28: 5.54 | D28: 5.62 | E28: 5.66 | F28: 5.69 | G28: 11.4 | H28: 5.68 | I28: 5.68 | J28: 5.72 | K28: 5.84 | L28: 5.81 | M28: 5.81 | N28: 5.74 | O28: 5.8 | P28: 5.9 | Q28: 5.99 | R28: 6.23 | S28: 6.37 | T28: 6.05 | U28: 6.17 | V28: 6.12 | W28: 6.07 | X28: 9.8 | Y28: 6.67 | Z28: 6.2 | AA28: IE | AB28: 6.13 | AC28: 6.17 | AD28: 6.12 | AE28: 6.13 | AF28: 6.31 | AG28: 6.03
B29: 0.5 | C29: 5.58 | D29: 5.66 | E29: 5.63 | F29: 5.61 | G29: 11.26 | H29: 5.82 | I29: 5.65 | J29: 5.69 | K29: 5.86 | L29: 5.84 | M29: 5.81 | N29: 5.83 | O29: 5.85 | P29: 5.93 | Q29: 6.07 | R29: 6.18 | S29: 6.34 | T29: 6.07 | U29: 6.22 | V29: 6.18 | W29: 6.11 | X29: 6.98 | Y29: 6.5 | Z29: 6.23 | AA29: EE | AB29: 6.14 | AC29: 6.19 | AD29: 6.19 | AE29: 6.12 | AF29: 6.26 | AG29: 5.76
B30: 0.54166667 | C30: 5.58 | D30: 5.64 | E30: 5.64 | F30: 5.58 | G30: 6.97 | H30: 5.82 | I30: 5.62 | J30: 5.73 | K30: 5.88 | L30: 5.82 | M30: 5.78 | N30: 5.84 | O30: 5.72 | P30: 5.94 | Q30: 6.11 | R30: 6.2 | S30: 6.3 | T30: 6.13 | U30: 6.2 | V30: 6.16 | W30: 6.08 | X30: 6.66 | Y30: 6.44 | Z30: 6.24 | AA30: EE | AB30: 6.09 | AC30: 6.24 | AD30: 6.22 | AE30: 6.15 | AF30: 6.18 | AG30: 5.67
B31: 0.58333333 | C31: 5.6 | D31: 5.61 | E31: 5.61 | F31: 5.59 | G31: 5.84 | H31: 5.76 | I31: 5.68 | J31: 5.73 | K31: 5.92 | L31: 5.84 | M31: 5.76 | N31: 5.84 | O31: 5.65 | P31: 5.98 | Q31: 6.13 | R31: 6.16 | S31: 6.2 | T31: 6.03 | U31: 6.15 | V31: 6.09 | W31: 6.09 | X31: 6.41 | Y31: 6.35 | Z31: 6.24 | AA31: EE | AB31: 6.13 | AC31: 6.21 | AD31: 6.21 | AE31: 6.13 | AF31: 6.18 | AG31: 5.6
B32: 0.625 | C32: 5.61 | D32: 5.6 | E32: 5.62 | F32: 5.63 | G32: 5.77 | H32: 5.65 | I32: 5.75 | J32: 5.77 | K32: 5.97 | L32: 5.82 | M32: 5.75 | N32: 5.77 | O32: 5.61 | P32: 5.91 | Q32: 6.16 | R32: 6.13 | S32: 6.17 | T32: 6.02 | U32: 6.09 | V32: 6.03 | W32: 6.1 | X32: 6.33 | Y32: 6.28 | Z32: 6.29 | AA32: EE | AB32: 6.16 | AC32: 6.19 | AD32: 6.23 | AE32: 6.13 | AF32: 6.18 | AG32: 5.66
B33: 0.66666667 | C33: 5.66 | D33: 5.65 | E33: 5.56 | F33: 5.62 | G33: 5.7 | H33: 5.62 | I33: 5.8 | J33: 5.76 | K33: 5.94 | L33: 5.78 | M33: 5.74 | N33: 5.77 | O33: 5.7 | P33: 5.96 | Q33: 6.23 | R33: 6.11 | S33: 6.15 | T33: 6.03 | U33: 6.02 | V33: 5.99 | W33: 6.09 | X33: 6.29 | Y33: 6.21 | Z33: 6.3 | AA33: EE | AB33: ID | AC33: 6.14 | AD33: 6.25 | AE33: 6.09 | AF33: 6.24 | AG33: 5.58
B34: 0.70833333 | C34: 5.62 | D34: 5.65 | E34: 5.58 | F34: 5.58 | G34: 5.7 | H34: 5.62 | I34: 5.74 | J34: 5.75 | K34: 5.89 | L34: 5.83 | M34: 5.77 | N34: 5.8 | O34: 5.79 | P34: 5.93 | Q34: 6.22 | R34: 6.08 | S34: 6.09 | T34: 6.04 | U34: 6 | V34: 6.05 | W34: 6.09 | X34: 6.33 | Y34: 6.24 | Z34: 6.34 | AA34: EE | AB34: ID | AC34: 6.19 | AD34: 6.31 | AE34: 6.1 | AF34: 6.24 | AG34: 5.56
B35: 0.75 | C35: 5.57 | D35: 5.64 | E35: 5.56 | F35: 5.59 | G35: 5.63 | H35: 5.61 | I35: 5.71 | J35: 5.73 | K35: 5.86 | L35: 5.84 | M35: 5.76 | N35: 5.79 | O35: 5.87 | P35: 5.98 | Q35: 6.2 | R35: 6.06 | S35: 6.05 | T35: 6 | U35: 5.95 | V35: 6.05 | W35: 6.1 | X35: 6.3 | Y35: 6.25 | Z35: 6.26 | AA35: EE | AB35: ID | AC35: 6.16 | AD35: 6.27 | AE35: 6.11 | AF35: 6.23 | AG35: 5.56
B36: 0.79166667 | C36: 5.54 | D36: 5.56 | E36: 5.6 | F36: 5.59 | G36: 5.55 | H36: 5.58 | I36: 5.67 | J36: 5.7 | K36: 5.85 | L36: 5.85 | M36: 5.76 | N36: 5.77 | O36: 5.87 | P36: 5.91 | Q36: 6.1 | R36: 5.98 | S36: 6.05 | T36: 5.94 | U36: 5.93 | V36: 5.98 | W36: 6.11 | X36: 6.3 | Y36: 6.24 | Z36: 6.31 | AA36: EE | AB36: 6.08 | AC36: 6.18 | AD36: 6.22 | AE36: 6.13 | AF36: 6.17 | AG36: 5.54
B37: 0.83333333 | C37: 5.53 | D37: 5.51 | E37: 5.56 | F37: 5.6 | G37: 5.53 | H37: 5.58 | I37: 5.76 | J37: 5.68 | K37: 5.83 | L37: 5.76 | M37: 5.74 | N37: 5.74 | O37: 5.81 | P37: 5.91 | Q37: 6.04 | R37: 5.9 | S37: 6.03 | T37: 6.02 | U37: 5.88 | V37: 5.95 | W37: 6.08 | X37: 6.2 | Y37: 6.16 | Z37: 6.29 | AA37: EE | AB37: 6.07 | AC37: 6.15 | AD37: 6.12 | AE37: 6.1 | AF37: 6.17 | AG37: 5.52
B38: 0.875 | C38: 5.55 | D38: 5.48 | E38: 5.57 | F38: 5.52 | G38: 5.59 | H38: 5.62 | I38: 5.73 | J38: 5.65 | K38: 5.8 | L38: 5.74 | M38: 5.7 | N38: 5.75 | O38: 5.83 | P38: 5.93 | Q38: 5.98 | R38: 5.86 | S38: 6.04 | T38: 6.03 | U38: 5.89 | V38: 5.92 | W38: 6.04 | X38: 6.19 | Y38: 6.09 | Z38: 6.27 | AA38: EE | AB38: 6.11 | AC38: 6.15 | AD38: 6.09 | AE38: 6.09 | AF38: 6.11 | AG38: 5.55
B39: 0.91666667 | C39: 5.62 | D39: 5.5 | E39: 5.55 | F39: 5.49 | G39: 5.63 | H39: 5.67 | I39: 5.72 | J39: 5.64 | K39: 5.79 | L39: 5.75 | M39: 5.71 | N39: 5.8 | O39: 5.82 | P39: 5.97 | Q39: 5.95 | R39: 5.9 | S39: 6 | T39: 6.07 | U39: 5.91 | V39: 6.04 | W39: 6.09 | X39: 6.09 | Y39: 6.09 | Z39: 6.24 | AA39: EE | AB39: 6.12 | AC39: 6.07 | AD39: 6.09 | AE39: 6.12 | AF39: 6.05 | AG39: 5.66
B40: 0.95833333 | C40: 5.65 | D40: 5.53 | E40: 5.52 | F40: 5.46 | G40: 5.6 | H40: 5.66 | I40: 5.68 | J40: 5.64 | K40: 5.86 | L40: 5.75 | M40: 5.65 | N40: 5.78 | O40: 5.88 | P40: 5.98 | Q40: 5.93 | R40: 5.93 | S40: 5.99 | T40: 6.05 | U40: 5.94 | V40: 6.07 | W40: 6.11 | X40: 6.08 | Y40: 6.13 | Z40: 6.24 | AA40: EE | AB40: 6.18 | AC40: 6.06 | AD40: 6.09 | AE40: 6.18 | AF40: 6.1 | AG40: 5.68
B41: Estado de cuidado de SO2 | C41: 500 µg/m³ en periodo de 3 horas móviles
B42: ID: Insuficiencia de datos
B43: EE: Evaluación del especialista
B44: IE: Interrupción eléctrica

Sheet H2S_CA-ILO-03
F2: Tabla 3.24. Concentraciones horarias de H₂S
B6: TÍTULO DEL ESTUDIO: | F6: ='PM10_CA-ILO-03'!F6 -> Evaluación de seguimiento de la calidad del aire en el CEBA Jose Pardo, distrito Ilo, provincia Ilo, departamento Moquegua, en setiembre 2022
B8: ESTACIÓN DE MONITOREO: | F8: CA-ILO-03 | Q8: CÓDIGO DE ACCIÓN:
B10: DATOS DEL EQUIPO
B12: EQUIPO: | F12: Analizador sulfuro de hidrógeno | Q12: MARCA: | V12: THERMO SCIENTIFIC
B14: MODELO: | F14: 450i | Q14: SERIE: | V14: CM19490140
B16: Hora\Día | C16: 1 | D16: 2 | E16: 3 | F16: 4 | G16: 5 | H16: 6 | I16: 7 | J16: 8 | K16: 9 | L16: 10 | M16: 11 | N16: 12 | O16: 13 | P16: 14 | Q16: 15 | R16: 16 | S16: 17 | T16: 18 | U16: 19 | V16: 20 | W16: 21 | X16: 22 | Y16: 23 | Z16: 24 | AA16: 25 | AB16: 26 | AC16: 27 | AD16: 28 | AE16: 29 | AF16: 30 | AG16: 31
B17: 0 | C17: 3.59 | D17: 3.53 | E17: 3.61 | F17: 3.63 | G17: 3.6 | H17: 3.53 | I17: 3.52 | J17: 3.59 | K17: 3.88 | L17: 3.74 | M17: 3.63 | N17: 3.88 | O17: 3.5 | P17: 3.67 | Q17: 3.75 | R17: 3.93 | S17: 3.96 | T17: 4.09 | U17: 3.89 | V17: 3.84 | W17: 3.88 | X17: 3.73 | Y17: 3.75 | Z17: 3.86 | AA17: 3.98 | AB17: 3.82 | AC17: 3.78 | AD17: 3.82 | AE17: 4 | AF17: 3.91 | AG17: 3.53
B18: 0.041666667 | C18: 3.67 | D18: 3.45 | E18: 3.52 | F18: 3.46 | G18: 3.75 | H18: 3.67 | I18: 3.56 | J18: 3.59 | K18: 3.82 | L18: 3.64 | M18: 3.57 | N18: 4.14 | O18: 3.64 | P18: 3.91 | Q18: 3.86 | R18: 3.82 | S18: 3.84 | T18: 3.92 | U18: 4.03 | V18: 3.86 | W18: 4 | X18: 3.93 | Y18: 3.95 | Z18: 3.77 | AA18: 3.95 | AB18: 3.91 | AC18: 3.86 | AD18: 3.74 | AE18: 4.03 | AF18: 3.92 | AG18: 3.52
B19: 0.083333333 | C19: 3.67 | D19: 3.45 | E19: 3.46 | F19: 3.73 | G19: 3.64 | H19: 3.66 | I19: 3.53 | J19: 3.7 | K19: 3.84 | L19: 3.66 | M19: 3.68 | N19: 3.85 | O19: 3.7 | P19: 3.82 | Q19: 3.84 | R19: 3.77 | S19: 3.95 | T19: 3.84 | U19: 3.86 | V19: 3.63 | W19: 4.02 | X19: 3.82 | Y19: 3.81 | Z19: 3.85 | AA19: 3.93 | AB19: 3.86 | AC19: 3.67 | AD19: 3.93 | AE19: 3.93 | AF19: 3.84 | AG19: 3.56
B20: 0.125 | C20: 3.52 | D20: 3.67 | E20: 3.6 | F20: 3.57 | G20: 3.43 | H20: 3.74 | I20: 3.68 | J20: 3.6 | K20: 3.93 | L20: 3.71 | M20: 3.84 | N20: 4 | O20: 3.57 | P20: 3.91 | Q20: 3.85 | R20: 3.73 | S20: 3.78 | T20: 3.93 | U20: 3.71 | V20: 3.73 | W20: 4.02 | X20: 3.96 | Y20: 3.88 | Z20: 3.93 | AA20: 3.89 | AB20: 3.88 | AC20: 3.74 | AD20: 3.88 | AE20: 4.1 | AF20: 4.14 | AG20: 3.42
B21: 0.16666667 | C21: 3.73 | D21: 3.54 | E21: 3.74 | F21: 3.56 | G21: 3.59 | H21: 3.54 | I21: 4.1 | J21: 3.41 | K21: 3.75 | L21: 3.71 | M21: 3.63 | N21: 3.75 | O21: 3.66 | P21: 3.92 | Q21: 3.84 | R21: 3.77 | S21: 4.28 | T21: 3.84 | U21: 10.19 | V21: 3.91 | W21: 3.98 | X21: 3.99 | Y21: 14.22 | Z21: 3.84 | AA21: 4.06 | AB21: 3.96 | AC21: 3.91 | AD21: 3.89 | AE21: 4.04 | AF21: 3.98 | AG21: 3.46
B22: 0.20833333 | C22: 3.56 | D22: 3.57 | E22: 3.7 | F22: 3.56 | G22: 3.77 | H22: 3.59 | I22: 3.85 | J22: 3.64 | K22: 3.75 | L22: 3.67 | M22: 3.71 | N22: 3.86 | O22: 3.78 | P22: 3.86 | Q22: 3.91 | R22: 3.77 | S22: 4.24 | T22: 3.98 | U22: 4.21 | V22: 3.79 | W22: 3.89 | X22: 3.96 | Y22: 7.44 | Z22: 3.98 | AA22: 4.02 | AB22: 3.78 | AC22: 3.67 | AD22: 4.03 | AE22: 4.06 | AF22: 3.98 | AG22: 3.45
B23: 0.25 | C23: 3.63 | D23: 3.59 | E23: 3.74 | F23: 3.61 | G23: 3.74 | H23: 3.54 | I23: 3.7 | J23: 3.78 | K23: 3.73 | L23: 3.7 | M23: 3.81 | N23: 3.92 | O23: 3.63 | P23: 3.86 | Q23: 3.88 | R23: 3.84 | S23: 3.95 | T23: 3.98 | U23: 3.93 | V23: 3.86 | W23: 4 | X23: 3.89 | Y23: 5.3 | Z23: 3.75 | AA23: 4.02 | AB23: 3.85 | AC23: 4.03 | AD23: 4.03 | AE23: 4.07 | AF23: 3.96 | AG23: 3.7
B24: 0.29166667 | C24: 3.66 | D24: 3.66 | E24: 3.66 | F24: 3.35 | G24: 3.66 | H24: 3.54 | I24: 3.77 | J24: 3.63 | K24: 3.52 | L24: 3.77 | M24: 3.68 | N24: 4 | O24: 3.89 | P24: 3.95 | Q24: 3.92 | R24: 3.79 | S24: 3.82 | T24: 4.04 | U24: 3.96 | V24: 3.84 | W24: 4.03 | X24: 4.59 | Y24: 4.14 | Z24: 3.63 | AA24: 4.06 | AB24: 3.92 | AC24: 3.82 | AD24: 4.03 | AE24: 4 | AF24: 3.99 | AG24: 3.75
B25: 0.33333333 | C25: 3.5 | D25: 3.41 | E25: 3.54 | F25: 3.6 | G25: 3.77 | H25: 3.52 | I25: 3.56 | J25: 3.46 | K25: 3.66 | L25: 3.7 | M25: 3.59 | N25: 3.89 | O25: 3.7 | P25: 3.91 | Q25: 3.74 | R25: 3.71 | S25: 3.53 | T25: 3.86 | U25: 3.71 | V25: 3.93 | W25: 3.99 | X25: 4.64 | Y25: 3.96 | Z25: 3.73 | AA25: ID | AB25: 3.98 | AC25: 3.86 | AD25: 3.92 | AE25: 3.99 | AF25: 4.02 | AG25: 3.67
B26: 0.375 | C26: 3.46 | D26: 3.43 | E26: 3.61 | F26: 3.66 | G26: 4.55 | H26: 3.52 | I26: 3.52 | J26: 3.73 | K26: 3.68 | L26: 3.78 | M26: 3.73 | N26: 3.79 | O26: 3.74 | P26: 4.02 | Q26: 3.79 | R26: 3.86 | S26: 3.61 | T26: 3.95 | U26: 3.79 | V26: 3.82 | W26: 3.84 | X26: 4.3 | Y26: 3.91 | Z26: 3.74 | AA26: IE | AB26: 3.98 | AC26: 3.99 | AD26: 3.88 | AE26: 3.99 | AF26: 3.98 | AG26: 3.73
B27: 0.41666667 | C27: 3.57 | D27: 3.66 | E27: 3.61 | F27: 3.35 | G27: 4.11 | H27: 3.36 | I27: 3.43 | J27: 3.6 | K27: 3.6 | L27: 3.71 | M27: 3.71 | N27: 3.85 | O27: 3.7 | P27: 3.82 | Q27: 3.81 | R27: 3.64 | S27: 3.13 | T27: 3.93 | U27: 4.02 | V27: 4.09 | W27: 3.85 | X27: 3.96 | Y27: 3.85 | Z27: 3.74 | AA27: IE | AB27: 4.03 | AC27: 3.85 | AD27: 4.21 | AE27: 3.95 | AF27: 3.95 | AG27: 3.77
B28: 0.45833333 | C28: 3.5 | D28: 3.71 | E28: 3.53 | F28: 3.59 | G28: 3.68 | H28: 3.64 | I28: 3.47 | J28: 3.6 | K28: 3.63 | L28: 3.67 | M28: 3.67 | N28: 3.91 | O28: 3.73 | P28: 3.78 | Q28: 3.95 | R28: 3.75 | S28: 3.57 | T28: 3.92 | U28: 3.96 | V28: 3.89 | W28: 3.78 | X28: 3.92 | Y28: 3.77 | Z28: 3.71 | AA28: IE | AB28: 3.98 | AC28: 3.81 | AD28: 3.96 | AE28: 4.03 | AF28: 3.93 | AG28: 3.6
B29: 0.5 | C29: 3.41 | D29: 3.7 | E29: 3.56 | F29: 3.67 | G29: 3.59 | H29: 3.66 | I29: 3.47 | J29: 3.6 | K29: 3.52 | L29: 3.57 | M29: 3.75 | N29: 3.84 | O29: 3.68 | P29: 3.78 | Q29: 3.99 | R29: 3.78 | S29: 3.89 | T29: 3.95 | U29: 3.91 | V29: 3.79 | W29: 4 | X29: 3.91 | Y29: 3.81 | Z29: 3.71 | AA29: EE | AB29: 3.82 | AC29: 3.86 | AD29: 3.96 | AE29: 3.95 | AF29: 3.92 | AG29: 3.63
B30: 0.54166667 | C30: 3.36 | D30: 3.74 | E30: 3.54 | F30: 3.6 | G30: 3.46 | H30: 3.56 | I30: 3.36 | J30: 3.77 | K30: 3.82 | L30: 3.74 | M30: 3.7 | N30: 3.75 | O30: 3.71 | P30: 3.78 | Q30: 3.85 | R30: 3.68 | S30: 3.95 | T30: 3.77 | U30: 3.75 | V30: 3.78 | W30: 3.85 | X30: 3.99 | Y30: 3.88 | Z30: 3.88 | AA30: EE | AB30: 3.86 | AC30: 3.92 | AD30: 4.03 | AE30: 3.82 | AF30: 3.89 | AG30: 3.75
B31: 0.58333333 | C31: 3.5 | D31: 3.47 | E31: 3.43 | F31: 3.57 | G31: 3.61 | H31: 3.43 | I31: 3.52 | J31: 3.6 | K31: 3.68 | L31: 3.67 | M31: 3.54 | N31: 3.75 | O31: 3.7 | P31: 3.77 | Q31: 3.92 | R31: 3.84 | S31: 3.88 | T31: 3.89 | U31: 3.86 | V31: 3.71 | W31: 3.74 | X31: 3.84 | Y31: 3.96 | Z31: 4.06 | AA31: EE | AB31: 3.78 | AC31: 3.77 | AD31: 3.91 | AE31: 4.07 | AF31: 4.04 | AG31: 3.64
B32: 0.625 | C32: 3.59 | D32: 3.52 | E32: 3.49 | F32: 3.49 | G32: 3.71 | H32: 3.54 | I32: 3.56 | J32: 3.59 | K32: 3.84 | L32: 3.68 | M32: 3.77 | N32: 3.78 | O32: 3.79 | P32: 3.75 | Q32: 3.96 | R32: 3.85 | S32: 3.86 | T32: 3.93 | U32: 3.79 | V32: 3.85 | W32: 3.96 | X32: 3.89 | Y32: 3.82 | Z32: 3.85 | AA32: EE | AB32: 3.93 | AC32: 3.68 | AD32: 3.89 | AE32: 3.96 | AF32: 3.89 | AG32: 3.46
B33: 0.66666667 | C33: 3.42 | D33: 3.54 | E33: 3.6 | F33: 3.52 | G33: 3.64 | H33: 3.5 | I33: 3.43 | J33: 3.63 | K33: 3.85 | L33: 3.67 | M33: 3.74 | N33: 3.64 | O33: 3.81 | P33: 3.74 | Q33: 3.93 | R33: 3.84 | S33: 4.04 | T33: 3.74 | U33: 3.77 | V33: 3.93 | W33: 3.99 | X33: 3.85 | Y33: 3.88 | Z33: 3.99 | AA33: EE | AB33: 3.75 | AC33: 3.68 | AD33: 4.02 | AE33: 3.96 | AF33: 4.16 | AG33: 3.5
B34: 0.70833333 | C34: 3.66 | D34: 3.59 | E34: 3.77 | F34: 3.53 | G34: 3.77 | H34: 3.47 | I34: 3.35 | J34: 3.56 | K34: 3.78 | L34: 3.74 | M34: 3.68 | N34: 3.67 | O34: 3.73 | P34: 3.92 | Q34: 3.88 | R34: 3.68 | S34: 4 | T34: 3.75 | U34: 3.85 | V34: 3.92 | W34: 3.86 | X34: 4.03 | Y34: 3.92 | Z34: 3.91 | AA34: EE | AB34: VA | AC34: 3.67 | AD34: 3.86 | AE34: 3.85 | AF34: 4.18 | AG34: 3.22
B35: 0.75 | C35: 3.59 | D35: 3.42 | E35: 3.68 | F35: 3.5 | G35: 3.67 | H35: 3.52 | I35: 3.5 | J35: 3.59 | K35: 3.78 | L35: 3.68 | M35: 3.79 | N35: 3.66 | O35: 3.77 | P35: 3.84 | Q35: 3.88 | R35: 3.78 | S35: 3.91 | T35: 3.99 | U35: 3.95 | V35: 3.81 | W35: 3.86 | X35: 3.78 | Y35: 3.92 | Z35: 3.71 | AA35: EE | AB35: 3.74 | AC35: 3.81 | AD35: 3.98 | AE35: 3.92 | AF35: 4.11 | AG35: 3.49
B36: 0.79166667 | C36: 3.46 | D36: 3.5 | E36: 3.75 | F36: 3.64 | G36: 3.64 | H36: 3.5 | I36: 3.41 | J36: 3.54 | K36: 3.85 | L36: 3.7 | M36: 3.74 | N36: 3.74 | O36: 3.89 | P36: 3.85 | Q36: 3.92 | R36: 3.84 | S36: 3.99 | T36: 3.86 | U36: 3.88 | V36: 3.98 | W36: 3.81 | X36: 3.78 | Y36: 3.78 | Z36: 3.82 | AA36: EE | AB36: 3.78 | AC36: 3.88 | AD36: 3.98 | AE36: 4.1 | AF36: 4.07 | AG36: 3.5
B37: 0.83333333 | C37: 3.56 | D37: 3.5 | E37: 3.5 | F37: 3.5 | G37: 3.57 | H37: 3.63 | I37: 3.61 | J37: 3.61 | K37: 3.86 | L37: 3.5 | M37: 3.64 | N37: 3.63 | O37: 3.81 | P37: 3.64 | Q37: 4.03 | R37: 3.78 | S37: 3.75 | T37: 3.93 | U37: 3.92 | V37: 3.79 | W37: 3.78 | X37: 3.91 | Y37: 3.64 | Z37: 3.92 | AA37: EE | AB37: 3.74 | AC37: 3.77 | AD37: 4 | AE37: 4.04 | AF37: 4.28 | AG37: 3.53
B38: 0.875 | C38: 3.52 | D38: 3.42 | E38: 3.66 | F38: 3.54 | G38: 3.6 | H38: 3.59 | I38: 3.41 | J38: 3.67 | K38: 3.78 | L38: 3.57 | M38: 3.7 | N38: 3.7 | O38: 3.86 | P38: 3.84 | Q38: 3.67 | R38: 3.95 | S38: 3.82 | T38: 3.95 | U38: 3.67 | V38: 3.96 | W38: 3.79 | X38: 3.89 | Y38: 3.79 | Z38: 3.78 | AA38: EE | AB38: 3.75 | AC38: 3.67 | AD38: 3.93 | AE38: 4.03 | AF38: 4.3 | AG38: 3.45
B39: 0.91666667 | C39: 3.56 | D39: 3.54 | E39: 3.53 | F39: 3.64 | G39: 3.63 | H39: 3.54 | I39: 3.56 | J39: 3.7 | K39: 3.82 | L39: 3.73 | M39: 3.82 | N39: 3.61 | O39: 3.84 | P39: 3.74 | Q39: 3.86 | R39: 3.71 | S39: 3.84 | T39: 3.92 | U39: 3.91 | V39: 3.82 | W39: 3.89 | X39: 3.92 | Y39: 3.89 | Z39: 3.88 | AA39: EE | AB39: 3.86 | AC39: 3.77 | AD39: 3.96 | AE39: 4.03 | AF39: 4 | AG39: 3.49
B40: 0.95833333 | C40: 3.47 | D40: 3.45 | E40: 3.64 | F40: 3.61 | G40: 3.52 | H40: 3.5 | I40: 3.43 | J40: 3.53 | K40: 3.77 | L40: 3.74 | M40: 3.92 | N40: 3.68 | O40: 3.82 | P40: 3.82 | Q40: 3.82 | R40: 3.89 | S40: 3.85 | T40: 4.02 | U40: 3.77 | V40: 3.89 | W40: 3.89 | X40: 3.78 | Y40: 3.85 | Z40: 3.78 | AA40: EE | AB40: 3.91 | AC40: 3.95 | AD40: 3.85 | AE40: 4.09 | AF40: 4.28 | AG40: 3.64
B41: Promedio de H₂S en 24 h | C41: 3.5 | D41: 3.5 | E41: 3.6 | F41: 3.6 | G41: 3.7 | H41: 3.6 | I41: 3.6 | J41: 3.6 | K41: 3.8 | L41: 3.7 | M41: 3.7 | N41: 3.8 | O41: 3.7 | P41: 3.8 | Q41: 3.9 | R41: 3.8 | S41: 3.8 | T41: 3.9 | U41: 4.1 | V41: 3.9 | W41: 3.9 | X41: 4 | Y41: 4.5 | Z41: 3.8 | AA41: ID | AB41: 3.9 | AC41: 3.8 | AD41: 3.9 | AE41: 4 | AF41: 4 | AG41: 3.6
B42: ECA aire de H₂S | C42: 150 µg/m³ en periodo de 24 horas
B43: IE: Interrupción eléctrica
B44: ID: Insuficiencia de datos
B45: EE: Evaluación del especialista

Sheet NO2_CA-ILO-03
F2: Tabla 3.25. Concentraciones horarias de NO₂
B6: TÍTULO DEL ESTUDIO: | F6: ='PM10_CA-ILO-03'!F6 -> Evaluación de seguimiento de la calidad del aire en el CEBA Jose Pardo, distrito Ilo, provincia Ilo, departamento Moquegua, en setiembre 2022
B8: ESTACIÓN DE MONITOREO: | F8: CA-ILO-03 | Q8: CÓDIGO DE ACCIÓN:
B10: DATOS DEL EQUIPO
B12: EQUIPO: | F12: Analizador dióxido de nitrógeno | Q12: MARCA: | V12: THERMO SCIENTIFIC
B14: MODELO: | F14: 42i | Q14: SERIE: | V14: 1192914961
B16: Hora\Día | C16: 1 | D16: 2 | E16: 3 | F16: 4 | G16: 5 | H16: 6 | I16: 7 | J16: 8 | K16: 9 | L16: 10 | M16: 11 | N16: 12 | O16: 13 | P16: 14 | Q16: 15 | R16: 16 | S16: 17 | T16: 18 | U16: 19 | V16: 20 | W16: 21 | X16: 22 | Y16: 23 | Z16: 24 | AA16: 25 | AB16: 26 | AC16: 27 | AD16: 28 | AE16: 29 | AF16: 30 | AG16: 31
B17: 0 | C17: 3.16 | D17: 3.87 | E17: 3.65 | F17: 3.99 | G17: 3.14 | H17: 3.68 | I17: 3.68 | J17: 3.7 | K17: 3.29 | L17: 4.19 | M17: 4.49 | N17: 3.06 | O17: 2.8 | P17: 4.57 | Q17: 3.31 | R17: 3.18 | S17: 3.68 | T17: 3.48 | U17: 3.7 | V17: 3.38 | W17: 2.74 | X17: 3.76 | Y17: 4.74 | Z17: 3.59 | AA17: 5.04 | AB17: 3.31 | AC17: 2.95 | AD17: 2.97 | AE17: 2.9 | AF17: 3.48
B18: 0.041666667 | C18: 2.71 | D18: 2.91 | E18: 3.2 | F18: 3.37 | G18: 2.8 | H18: 4.49 | I18: 3.29 | J18: 3.48 | K18: 3.01 | L18: 3.42 | M18: 3.74 | N18: 2.74 | O18: 2.67 | P18: 3.89 | Q18: 3.23 | R18: 3.05 | S18: 3.91 | T18: 3.2 | U18: 3.16 | V18: 2.84 | W18: 2.63 | X18: 3.48 | Y18: 3.53 | Z18: 3.2 | AA18: 3.84 | AB18: 3.2 | AC18: 2.76 | AD18: 2.91 | AE18: 2.59 | AF18: 2.93
B19: 0.083333333 | C19: 2.58 | D19: 2.84 | E19: 2.67 | F19: 3.18 | G19: 2.99 | H19: 6.17 | I19: 3.05 | J19: 3.2 | K19: 2.8 | L19: 3.16 | M19: 3.61 | N19: 2.76 | O19: 2.54 | P19: 2.86 | Q19: 3.16 | R19: 2.9 | S19: 3.05 | T19: 3.38 | U19: 2.93 | V19: 2.99 | W19: 2.48 | X19: 4.15 | Y19: 2.84 | Z19: 3.14 | AA19: 3.61 | AB19: 3.03 | AC19: 2.8 | AD19: 3.67 | AE19: 2.48 | AF19: 2.58
B20: 0.125 | C20: 2.71 | D20: 3.25 | E20: 2.78 | F20: 3.46 | G20: 3.01 | H20: 5.73 | I20: 3.5 | J20: 3.06 | K20: 2.9 | L20: 3.12 | M20: 3.63 | N20: 3.23 | O20: 2.52 | P20: 3.27 | Q20: 3.37 | R20: 2.99 | S20: 3.68 | T20: 3.1 | U20: 3.5 | V20: 2.86 | W20: 2.48 | X20: 3.97 | Y20: 4.06 | Z20: 3.25 | AA20: 3.31 | AB20: 3.46 | AC20: 3.44 | AD20: 2.71 | AE20: 2.59 | AF20: 3.05
B21: 0.16666667 | C21: 2.97 | D21: 3.1 | E21: 3.16 | F21: 3.52 | G21: 3.46 | H21: 4.27 | I21: 4.7 | J21: 3.31 | K21: 3.05 | L21: 3.67 | M21: 3.74 | N21: 3.38 | O21: 3.2 | P21: 3.14 | Q21: 3.14 | R21: 3.42 | S21: 4.47 | T21: 3.27 | U21: 11.34 | V21: 2.86 | W21: 2.76 | X21: 4.15 | Y21: 8.4 | Z21: 3.55 | AA21: 3.42 | AB21: 3.27 | AC21: 4.87 | AD21: 3.14 | AE21: 2.95 | AF21: 2.8
B22: 0.20833333 | C22: 3.53 | D22: 3.89 | E22: 4.08 | F22: 3.93 | G22: 5.77 | H22: 5.17 | I22: 5.77 | J22: 4.34 | K22: 3.4 | L22: 4.15 | M22: 4.38 | N22: 3.87 | O22: 5.7 | P22: 3.97 | Q22: 4.19 | R22: 4.17 | S22: 5.56 | T22: 3.67 | U22: 7.71 | V22: 3.68 | W22: 3.65 | X22: 5.19 | Y22: 15.12 | Z22: 5.47 | AA22: 3.78 | AB22: 4.4 | AC22: 5.43 | AD22: 5.32 | AE22: 3.67 | AF22: 3.44
B23: 0.25 | C23: 5.3 | D23: 5.9 | E23: 5.7 | F23: 4.83 | G23: 7.54 | H23: 7.35 | I23: 9.38 | J23: 6.56 | K23: 5.11 | L23: 6.17 | M23: 4.93 | N23: 7.28 | O23: 5.15 | P23: 6.32 | Q23: 6 | R23: 6.2 | S23: 6.47 | T23: 5.08 | U23: 6.73 | V23: 7.73 | W23: 5.85 | X23: 8.12 | Y23: 17.71 | Z23: 5.81 | AA23: 5.04 | AB23: 6.15 | AC23: 7.16 | AD23: 7.31 | AE23: 4.76 | AF23: 7.2
B24: 0.29166667 | C24: 6.54 | D24: 7.14 | E24: 6.82 | F24: 6.39 | G24: 13.86 | H24: 8.29 | I24: 7.58 | J24: 8.07 | K24: 6.34 | L24: 7.9 | M24: 5.87 | N24: 11.54 | O24: 5.73 | P24: 7.09 | Q24: 9.64 | R24: 6.96 | S24: 6.09 | T24: 5.41 | U24: 8.23 | V24: 7.44 | W24: 6.62 | X24: 13.48 | Y24: 10.34 | Z24: 7.48 | AA24: 6.49 | AB24: 8.59 | AC24: 6.84 | AD24: 6.6 | AE24: 5.96 | AF24: 5.62
B25: 0.33333333 | C25: 6.17 | D25: 6.52 | E25: 6.81 | F25: 5.87 | G25: 13.14 | H25: 7.03 | I25: 6.02 | J25: 8.46 | K25: 6.32 | L25: 7.22 | M25: 4.79 | N25: 12.46 | O25: 5.72 | P25: 9.08 | Q25: 6.66 | R25: 7.33 | S25: 8.29 | T25: 4.62 | U25: 6.94 | V25: 7.13 | W25: 6.94 | X25: 15.89 | Y25: 11.37 | Z25: 7.5 | AA25: ID | AB25: 6.96 | AC25: 8.61 | AD25: 6.66 | AE25: 6.86 | AF25: 7.18
B26: 0.375 | C26: 5 | D26: 4.68 | E26: 6.96 | F26: 4.94 | G26: 11.28 | H26: 5.68 | I26: 4.76 | J26: 6.24 | K26: 8.87 | L26: 6.28 | M26: 4.34 | N26: 8.95 | O26: 4.94 | P26: 6.97 | Q26: 7.11 | R26: 5.32 | S26: 7.67 | T26: 4.21 | U26: 7.88 | V26: 6.19 | W26: 5.11 | X26: 13.22 | Y26: 7.97 | Z26: 5.53 | AA26: EE | AB26: 4.94 | AC26: 6.71 | AD26: 4.98 | AE26: 5.04 | AF26: 5.19
B27: 0.41666667 | C27: 4.62 | D27: 4.55 | E27: 5.4 | F27: 4.53 | G27: 10.11 | H27: 6.82 | I27: 4.68 | J27: 5.64 | K27: 8.4 | L27: 5.19 | M27: 4.08 | N27: 7.24 | O27: 5.25 | P27: 5.73 | Q27: 9.91 | R27: 5.09 | S27: 5.28 | T27: 3.8 | U27: 7.65 | V27: 5.19 | W27: 4.62 | X27: 7.03 | Y27: 6.52 | Z27: 4.98 | AA27: EE | AB27: 4.42 | AC27: 5.62 | AD27: 4.55 | AE27: 5.62 | AF27: 4.72
B28: 0.45833333 | C28: 4.42 | D28: 4.46 | E28: 4.98 | F28: 4.1 | G28: 8.38 | H28: 11.69 | I28: 5.41 | J28: 6.52 | K28: 10.34 | L28: 4.89 | M28: 4.19 | N28: 4.91 | O28: 4.96 | P28: 5.85 | Q28: 8.46 | R28: 4.74 | S28: 5.94 | T28: 3.89 | U28: 6.35 | V28: 5.17 | W28: 6.11 | X28: 10.57 | Y28: 5.88 | Z28: 5.19 | AA28: EE | AB28: 4.81 | AC28: 5.17 | AD28: 4.4 | AE28: 4.14 | AF28: 6
B29: 0.5 | C29: 4.51 | D29: 4.57 | E29: 4.94 | F29: 4.1 | G29: 5.11 | H29: 9.61 | I29: 5.28 | J29: 5.79 | K29: 5.55 | L29: 4.66 | M29: 4.17 | N29: 5.41 | O29: 5.23 | P29: 5.36 | Q29: 7.69 | R29: 4.74 | S29: 5.15 | T29: 4.08 | U29: 5.11 | V29: 5.09 | W29: 5.04 | X29: 6.34 | Y29: 6.17 | Z29: 5.41 | AA29: EE | AB29: 5.13 | AC29: 4.74 | AD29: 4.7 | AE29: 4.34 | AF29: 4.27
B30: 0.54166667 | C30: 4.38 | D30: 4.68 | E30: 4.76 | F30: 3.85 | G30: 5.11 | H30: 6.17 | I30: 5.06 | J30: 5.47 | K30: 5.36 | L30: 4.81 | M30: 4 | N30: 6.45 | O30: 5.19 | P30: 5.04 | Q30: 6.9 | R30: 4.61 | S30: 4.53 | T30: 4 | U30: 6.88 | V30: 5 | W30: 5.17 | X30: 5.15 | Y30: 5.6 | Z30: 5.41 | AA30: EE | AB30: 4.87 | AC30: 5.02 | AD30: 4.91 | AE30: 4.34 | AF30: 4.59
B31: 0.58333333 | C31: 4.14 | D31: 4.89 | E31: 4.27 | F31: 3.74 | G31: 4.59 | H31: 5.02 | I31: 5.21 | J31: 7.07 | K31: 5.4 | L31: 4.51 | M31: 3.55 | N31: 6.49 | O31: 4.74 | P31: 5.13 | Q31: 8.55 | R31: 4.59 | S31: 4.78 | T31: 3.44 | U31: 7.43 | V31: 5 | W31: 6.43 | X31: 5.62 | Y31: 5.72 | Z31: 5.13 | AA31: EE | AB31: 4.62 | AC31: 4.68 | AD31: 4.32 | AE31: 4.17 | AF31: 6.67
B32: 0.625 | C32: 4.21 | D32: 7.03 | E32: 4.7 | F32: 3.53 | G32: 5.26 | H32: 5.58 | I32: 5.26 | J32: 9.31 | K32: 8.29 | L32: 4.94 | M32: 3.8 | N32: 7.75 | O32: 5.02 | P32: 5.43 | Q32: 7.41 | R32: 4.64 | S32: 4.94 | T32: 3.95 | U32: 5.98 | V32: 6.2 | W32: 6.45 | X32: 10.55 | Y32: 5.87 | Z32: 5.08 | AA32: EE | AB32: 5.04 | AC32: 4.59 | AD32: 4.14 | AE32: 4.44 | AF32: 6.6
B33: 0.66666667 | C33: 4.79 | D33: 7.84 | E33: 5.49 | F33: 3.82 | G33: 5.28 | H33: 5.9 | I33: 6.15 | J33: 7.26 | K33: 10.32 | L33: 5.49 | M33: 4.15 | N33: 8.95 | O33: 6.17 | P33: 6.37 | Q33: 7.37 | R33: 5.64 | S33: 5.28 | T33: 3.91 | U33: 7.91 | V33: 7.82 | W33: 6.39 | X33: 13.29 | Y33: 8.01 | Z33: 4.89 | AA33: EE | AB33: 6.64 | AC33: 4.94 | AD33: 4.21 | AE33: 4.62 | AF33: 7.01
B34: 0.70833333 | C34: 6.77 | D34: 11.56 | E34: 6.43 | F34: 4.66 | G34: 6.2 | H34: 6.58 | I34: 6.62 | J34: 6.86 | K34: 7.61 | L34: 8.72 | M34: 4.51 | N34: 7.71 | O34: 7.33 | P34: 5.4 | Q34: 7.29 | R34: 6.13 | S34: 6.15 | T34: 4.12 | U34: 7.82 | V34: 6.94 | W34: 6.43 | X34: 22.92 | Y34: 16.9 | Z34: 6.39 | AA34: EE | AB34: 6.5 | AC34: 6.19 | AD34: 5.32 | AE34: 5.34 | AF34: 6.22
B35: 0.75 | C35: 5.6 | D35: 6.02 | E35: 6.71 | F35: 5.02 | G35: 7.29 | H35: 8.33 | I35: 6.22 | J35: 7.54 | K35: 7.03 | L35: 7.71 | M35: 4.72 | N35: 8.2 | O35: 8.18 | P35: 6.86 | Q35: 6.35 | R35: 7.24 | S35: 6.35 | T35: 4.74 | U35: 7.39 | V35: 6.81 | W35: 7.54 | X35: 10.51 | Y35: 12.22 | Z35: 7.5 | AA35: EE | AB35: 7.11 | AC35: 6.79 | AD35: 8.59 | AE35: 6.26 | AF35: 7.22
B36: 0.79166667 | C36: 5.08 | D36: 5.36 | E36: 6.34 | F36: 5.04 | G36: 7.13 | H36: 6.13 | I36: 7.67 | J36: 6.3 | K36: 10.06 | L36: 7.52 | M36: 4.68 | N36: 6.69 | O36: 7.18 | P36: 5.7 | Q36: 7.13 | R36: 6.81 | S36: 5.45 | T36: 4.38 | U36: 6.5 | V36: 5.21 | W36: 7.56 | X36: 7.67 | Y36: 6.97 | Z36: 7.33 | AA36: EE | AB36: 6.54 | AC36: 6.6 | AD36: 5.79 | AE36: 5.98 | AF36: 7.16
... B40: 0.95833333 | C40: 4.25 | D40: 3.68 | E40: 3.76 | F40: 3.48 | G40: 4.4 | H40: 3.87 | I40: 3.8 | J40: 4.21 | K40: 4.25 | L40: 3.97 | M40: 3.59 | N40: 3.2 | O40: 3.38 | P40: 3.8 | Q40: 4.4 | R40: 4.06 | S40: 4.38 | T40: 3.89 | U40: 3.42 | V40: 3.01 | W40: 4.19 | X40: 3.95 | Y40: 4.08 | Z40: 5.25 | AA40: EE | AB40: 3.25 | AC40: 3.23 | AD40: 3.44 | AE40: 3.72 | AF40: 4.91
B41: ECA aire de NO₂ | C41: 200 µg/m³ en periodo de 1 hora
B42: ID: Insuficiencia de datos
B43: EE: Evaluación del especialista

Sheet CO_CA-ILO-03
F2: Tabla 3.26. Concentraciones horarias de CO
B6: TÍTULO DEL ESTUDIO: | F6: ='PM10_CA-ILO-03'!F6 -> Evaluación de seguimiento de la calidad del aire en el CEBA Jose Pardo, distrito Ilo, provincia Ilo, departamento Moquegua, en setiembre 2022
B8: ESTACIÓN DE MONITOREO: | F8: CA-ILO-03 | Q8: CÓDIGO DE ACCIÓN:
B10: DATOS DEL EQUIPO
B12: EQUIPO: | F12: Analizador monóxido de carbono | Q12: MARCA: | V12: THERMO SCIENTIFIC
B14: MODELO: | F14: 48i | Q14: SERIE: | V14: 1193085162
B16: Hora\Día | C16: 1 | D16: 2 | E16: 3 | F16: 4 | G16: 5 | H16: 6 | I16: 7 | J16: 8 | K16: 9 | L16: 10 | M16: 11 | N16: 12 | O16: 13 | P16: 14 | Q16: 15 | R16: 16 | S16: 17 | T16: 18 | U16: 19 | V16: 20 | W16: 21 | X16: 22 | Y16: 23 | Z16: 24 | AA16: 25 | AB16: 26 | AC16: 27 | AD16: 28 | AE16: 29 | AF16: 30 | AG16: 31
B17: 0 | C17: 272.63 | D17: 308.44 | E17: 292.1 | F17: 316.63 | G17: 305.26 | H17: 347.54 | I17: 332.23 | J17: 369.08 | K17: 359.96 | L17: 313.52 | M17: 302.55 | N17: 277.45 | O17: 259.23 | P17: 318.52 | Q17: 240.45 | R17: 260.82 | S17: 267.21 | T17: 281.05 | U17: 316.46 | V17: 273.76 | W17: 276.18 | X17: 292.1 | Y17: 331.87 | Z17: 315.19 | AA17: 333.59 | AB17: EE | AC17: 202.61 | AD17: 240.63 | AE17: 271.76 | AF17: 316.49 | AG17: 295.77
B18: 0.041666667 | C18: 270.23 | D18: 272.39 | E18: 293.86 | F18: 295.8 | G18: 300.78 | H18: 338.13 | I18: 333.21 | J18: 350.01 | K18: 350.97 | L18: 280.88 | M18: 278.21 | N18: 273.25 | O18: 248.43 | P18: 269.58 | Q18: 239.14 | R18: 265.42 | S18: 260.66 | T18: 277.3 | U18: 311.35 | V18: 276.45 | W18: 280.98 | X18: 301.38 | Y18: 317.77 | Z18: 307.42 | AA18: 330.08 | AB18: EE | AC18: 195.96 | AD18: 239.13 | AE18: 270.8 | AF18: 316.95 | AG18: 291.94
B19: 0.083333333 | C19: 266.8 | D19: 269.61 | E19: 283.24 | F19: 294.25 | G19: 301.66 | H19: 343.55 | I19: 331.22 | J19: 337.95 | K19: 340.93 | L19: 263.1 | M19: 271.95 | N19: 269.7 | O19: 247.79 | P19: 259.09 | Q19: 234.78 | R19: 258.74 | S19: 253.52 | T19: 279.19 | U19: 297.18 | V19: 274.88 | W19: 270.84 | X19: 294.79 | Y19: 296.21 | Z19: 304.4 | AA19: 323.99 | AB19: EE | AC19: 189.26 | AD19: 264.73 | AE19: 274.59 | AF19: 305.96 | AG19: 289.41
B20: 0.125 | C20: 269.58 | D20: 272.76 | E20: 281.65 | F20: 294.66 | G20: 302.39 | H20: 337.17 | I20: 332.14 | J20: 333.3 | K20: 342.64 | L20: 264.07 | M20: 272.11 | N20: 270.11 | O20: 239.65 | P20: 261.28 | Q20: 234.88 | R20: 257.29 | S20: 281.06 | T20: 277.84 | U20: 296.56 | V20: 281.6 | W20: 274.7 | X20: 296.44 | Y20: 294.8 | Z20: 309.86 | AA20: 314.31 | AB20: EE | AC20: 189.34 | AD20: 242.36 | AE20: 274.74 | AF20: 311.51 | AG20: 291.18
B21: 0.16666667 | C21: 268.24 | D21: 273.03 | E21: 279.21 | F21: 291.58 | G21: 307.21 | H21: 337.7 | I21: 337.97 | J21: 337.93 | K21: 338.93 | L21: 271.78 | M21: 267.92 | N21: 275.61 | O21: 242.78 | P21: 254.16 | Q21: 234.78 | R21: 253.13 | S21: 290.62 | T21: 279.98 | U21: 312.8 | V21: 282.2 | W21: 272.39 | X21: 288.28 | Y21: 308.46 | Z21: 304.63 | AA21: 316.3 | AB21: EE | AC21: 193.34 | AD21: 243.41 | AE21: 277.92 | AF21: 303.76 | AG21: 291.75
B22: 0.20833333 | C22: 268.44 | D22: 279.23 | E22: 280.25 | F22: 294.85 | G22: 318.25 | H22: 340.85 | I22: 355.02 | J22: 339.53 | K22: 337.61 | L22: 266.57 | M22: 272.69 | N22: 283.13 | O22: 244.12 | P22: 254.82 | Q22: 239.12 | R22: 255.27 | S22: 281.52 | T22: 282.78 | U22: 318.93 | V22: 287.82 | W22: 276.41 | X22: 295.43 | Y22: 402.62 | Z22: 313.24 | AA22: 314.87 | AB22: EE | AC22: 192.66 | AD22: 254.56 | AE22: 282.2 | AF22: 308.45 | AG22: 299.3
B23: 0.25 | C23: 280.9 | D23: 295.54 | E23: 307.71 | F23: 307.57 | G23: 333.75 | H23: 363.73 | I23: 354.48 | J23: 362.49 | K23: 347.52 | L23: 290.51 | M23: 282.26 | N23: 296.41 | O23: 253.09 | P23: 271.94 | Q23: 252.38 | R23: 268.24 | S23: 297.85 | T23: 295.19 | U23: 316.63 | V23: 301.92 | W23: 286.3 | X23: 314.1 | Y23: 400.22 | Z23: 325.31 | AA23: ID | AB23: EE | AC23: 212.81 | AD23: 268.84 | AE23: 288.24 | AF23: 323.85 | AG23: 314.69
B24: 0.29166667 | C24: 280.37 | D24: 293.55 | E24: 306.41 | F24: 309.09 | G24: 383.81 | H24: 369.18 | I24: 356.81 | J24: 363.16 | K24: 361.82 | L24: 292.77 | M24: 282.22 | N24: 318.02 | O24: 271.47 | P24: 286.61 | Q24: 287.05 | R24: 288.1 | S24: 286.97 | T24: 297.3 | U24: 332.22 | V24: 311.18 | W24: 315.84 | X24: 346.09 | Y24: 355.45 | Z24: 325.9 | AA24: EE | AB24: EE | AC24: 209.32 | AD24: 270.19 | AE24: 313.21 | AF24: 329.33 | AG24: 339.94
B25: 0.33333333 | C25: 287.18 | D25: 301.3 | E25: 303.28 | F25: 336.1 | G25: 395.4 | H25: 366.84 | I25: 356.91 | J25: 366.73 | K25: 368.25 | L25: 284.75 | M25: 280.14 | N25: 329.57 | O25: 280.58 | P25: 290.87 | Q25: 271.83 | R25: 294.2 | S25: 299.76 | T25: 291.25 | U25: 328.6 | V25: 313.92 | W25: 335.5 | X25: 372.94 | Y25: 342.19 | Z25: 335.01 | AA25: IE | AB25: EE | AC25: 205.04 | AD25: 283.61 | AE25: 304.17 | AF25: 336.83 | AG25: 331.45
B26: 0.375 | C26: 284.37 | D26: 282.87 | E26: 305.93 | F26: 341.98 | G26: 380.45 | H26: 358.74 | I26: 339.94 | J26: 354.83 | K26: 361.12 | L26: 285.32 | M26: 288.19 | N26: 310.07 | O26: 271.78 | P26: 275.26 | Q26: 272.94 | R26: 287.3 | S26: 289.4 | T26: 294.68 | U26: 323.16 | V26: 300.61 | W26: 317.43 | X26: 347.38 | Y26: 321.88 | Z26: 324.04 | AA26: IE | AB26: EE | AC26: 204.64 | AD26: 273.8 | AE26: 294.17 | AF26: 325.99 | AG26: 317.83
B27: 0.41666667 | C27: 283.7 | D27: 285.23 | E27: 305.28 | F27: 326.75 | G27: 375.93 | H27: 359.74 | I27: 346.53 | J27: 355.33 | K27: 353.9 | L27: 283 | M27: 290.69 | N27: 310.9 | O27: 274.21 | P27: 279.55 | Q27: 312.12 | R27: 298 | S27: 283.89 | T27: 291.56 | U27: 305.88 | V27: 303.99 | W27: 290.78 | X27: 319.26 | Y27: 326.15 | Z27: 325.05 | AA27: IE | AB27: EE | AC27: 201.36 | AD27: 269.73 | AE27: 291.61 | AF27: 325.96 | AG27: 313.88
B28: 0.45833333 | C28: 283.05 | D28: 287.51 | E28: 311.97 | F28: 324.58 | G28: 379.72 | H28: 399.19 | I28: 353.92 | J28: 360.27 | K28: 363.25 | L28: 295.4 | M28: 294.19 | N28: 294.56 | O28: 277.16 | P28: 270.5 | Q28: 320.09 | R28: 302.22 | S28: 323.24 | T28: 295.03 | U28: 290.75 | V28: 301.2 | W28: 290.71 | X28: 350.63 | Y28: 322.39 | Z28: 335.79 | AA28: IE | AB28: EE | AC28: 219.62 | AD28: 279.52 | AE28: 293.15 | AF28: 331.91 | AG28: 328.93
B29: 0.5 | C29: 288.89 | D29: 291.41 | E29: 316.97 | F29: 318.45 | G29: 346.31 | H29: 408.04 | I29: 355.79 | J29: 377.67 | K29: 364.06 | L29: 306.13 | M29: 308.34 | N29: 300.55 | O29: 281.81 | P29: 282.54 | Q29: 317.68 | R29: 307.48 | S29: 326.02 | T29: 298.9 | U29: 295.7 | V29: 295.37 | W29: 294.56 | X29: 319.23 | Y29: 326.27 | Z29: 337.86 | AA29: EE | AB29: EE | AC29: 215.99 | AD29: 287.98 | AE29: 293.22 | AF29: 330.19 | AG29: 327.83
B30: 0.54166667 | C30: 281.04 | D30: 291.67 | E30: 312.67 | F30: 313.85 | G30: 344.02 | H30: 369.59 | I30: 355.33 | J30: 367.67 | K30: 354.56 | L30: 307.94 | M30: 311.65 | N30: 306.85 | O30: 278.82 | P30: 273.83 | Q30: 309.63 | R30: 301.83 | S30: 323.72 | T30: 300.79 | U30: 302.33 | V30: 302.01 | W30: 292.51 | X30: 312.59 | Y30: 327.99 | Z30: 341.3 | AA30: EE | AB30: EE | AC30: 219.28 | AD30: 292.77 | AE30: 296.01 | AF30: 333.34 | AG30: 317.66
B31: 0.58333333 | C31: 290.84 | D31: 293.02 | E31: 308.35 | F31: 305.61 | G31: 340.61 | H31: 356.45 | I31: 357.78 | J31: 361.2 | K31: 349.06 | L31: 294.62 | M31: 297.14 | N31: 299.23 | O31: 270.43 | P31: 265.42 | Q31: 314.04 | R31: 309.14 | S31: 320.98 | T31: 296.53 | U31: 302.61 | V31: 299.46 | W31: 282.29 | X31: 315.58 | Y31: 322.31 | Z31: 332.09 | AA31: EE | AB31: EE | AC31: 216.49 | AD31: 291.23 | AE31: 285.79 | AF31: 332.03 | AG31: 310.36
B32: 0.625 | C32: 286.41 | D32: 292.04 | E32: 310.91 | F32: 309.79 | G32: 347.92 | H32: 356.93 | I32: 354.08 | J32: 359.93 | K32: 335.43 | L32: 297.69 | M32: 298.74 | N32: 273.1 | O32: 262.29 | P32: 262.06 | Q32: 313.77 | R32: 309.43 | S32: 312.87 | T32: 306.91 | U32: 302.04 | V32: 294.97 | W32: 283.89 | X32: 357.42 | Y32: 321.52 | Z32: 336.92 | AA32: EE | AB32: EE | AC32: 220.01 | AD32: 289.52 | AE32: 294.15 | AF32: 336 | AG32: 276.76
B33: 0.66666667 | C33: 284.92 | D33: 304.36 | E33: 319.56 | F33: 315.82 | G33: 344.38 | H33: 359.41 | I33: 365.93 | J33: 353.94 | K33: 264.09 | L33: 297.01 | M33: 296.76 | N33: 270.34 | O33: 256.17 | P33: 263.59 | Q33: 311.37 | R33: 302.51 | S33: 281.61 | T33: 305.01 | U33: 315.05 | V33: 305.57 | W33: 286.52 | X33: 379.75 | Y33: 340.5 | Z33: 322.93 | AA33: EE | AB33: ID | AC33: 237.7 | AD33: 296.55 | AE33: 300.03 | AF33: 334.32 | AG33: 278.6
B34: 0.70833333 | C34: 299.62 | D34: 311.25 | E34: 329.04 | F34: 323.79 | G34: 351.82 | H34: 361.11 | I34: 366.11 | J34: 358.82 | K34: 283.27 | L34: 353.69 | M34: 300.9 | N34: 295.57 | O34: 256.75 | P34: 268.18 | Q34: 313.36 | R34: 306.64 | S34: 290.92 | T34: 301.13 | U34: 303.46 | V34: 304.17 | W34: 296.44 | X34: 439.01 | Y34: 407.63 | Z34: 336.36 | AA34: EE | AB34: 250.42 | AC34: 245.39 | AD34: 315.48 | AE34: 306.84 | AF34: 335.52 | AG34: 286.99
B35: 0.75 | C35: 288.95 | D35: 316.32 | E35: 342.57 | F35: 336.78 | G35: 378.15 | H35: 376.31 | I35: 379.84 | J35: 365.1 | K35: 298.03 | L35: 358.52 | M35: 295.58 | N35: 307.03 | O35: 296 | P35: 275.41 | Q35: 299.71 | R35: 308.07 | S35: 295.35 | T35: 311.74 | U35: 310.88 | V35: 298.63 | W35: 309.34 | X35: 366.76 | Y35: 377.87 | Z35: 326.16 | AA35: EE | AB35: 266.02 | AC35: 246.17 | AD35: ID | AE35: 331.43 | AF35: 350.95 | AG35: 306.19
B36: 0.79166667 | C36: 316.56 | D36: 338.25 | E36: 360 | F36: 333.98 | G36: 380.35 | H36: 385.23 | I36: 408.36 | J36: 382.11 | K36: 326.93 | L36: 352.22 | M36: 322.93 | N36: 297.77 | O36: 335.13 | P36: 281.93 | Q36: 316.18 | R36: 330.13 | S36: 294.32 | T36: 335.2 | U36: 335.71 | V36: 315.5 | W36: 341.61 | X36: 340.8 | Y36: 376.15 | Z36: 331.28 | AA36: EE | AB36: 306.22 | AC36: 269.69 | AD36: 319.34 | AE36: 351.09 | AF36: 318.37 | AG36: 326.2
B37: 0.83333333 | C37: 311.66 | D37: 323.59 | E37: 342.94 | F37: 329.93 | G37: 380.91 | H37: 367.49 | I37: 378.2 | J37: 375.52 | K37: 316.01 | L37: 308.82 | M37: 322.33 | N37: 282.8 | O37: 284.85 | P37: 290.23 | Q37: 306.59 | R37: 329.35 | S37: 292.35 | T37: 329.06 | U37: 326.76 | V37: 315.31 | W37: 336.57 | X37: 321.33 | Y37: 375.98 | Z37: 324.69 | AA37: EE | AB37: 275.91 | AC37: 259.11 | AD37: 298.75 | AE37: 341.54 | AF37: 310.93 | AG37: 308.49
B38: 0.875 | C38: 294.83 | D38: 303.53 | E38: 331.81 | F38: 318.41 | G38: 424.6 | H38: 359.92 | I38: 367.79 | J38: 380.65 | K38: 295.88 | L38: 297.11 | M38: 309.43 | N38: 262.95 | O38: 294.26 | P38: 272.94 | Q38: 288.89 | R38: 305.61 | S38: 293.49 | T38: 327.3 | U38: 292.15 | V38: 304.22 | W38: 330.43 | X38: 313.94 | Y38: 363.16 | Z38: 318.77 | AA38: EE | AB38: 253.36 | AC38: 255.21 | AD38: 287.52 | AE38: 328.45 | AF38: 304.99 | AG38: 290.69
B39: 0.91666667 | C39: 330.66 | D39: 312.73 | E39: 332.8 | F39: 316.02 | G39: 396.24 | H39: 353.83 | I39: 352.38 | J39: 367.53 | K39: 296.07 | L39: 289.41 | M39: 291.35 | N39: 258.95 | O39: 266.79 | P39: 256.85 | Q39: 283.81 | R39: 307.21 | S39: 293.97 | T39: 323.81 | U39: 284.99 | V39: 290.67 | W39: 324.29 | X39: 310.38 | Y39: 342.65 | Z39: 400.59 | AA39: EE | AB39: 238.83 | AC39: 262.2 | AD39: 279.43 | AE39: 332.35 | AF39: 289.6 | AG39: 314.92
B40: 0.95833333 | C40: 307.71 | D40: 308.11 | E40: 302.21 | F40: 309.71 | G40: 338.17 | H40: 336.56 | I40: 363.16 | J40: 407.13 | K40: 344.83 | L40: 272.73 | M40: 316.26 | N40: 257.35 | O40: 281.5 | P40: 246.05 | Q40: 269.27 | R40: 284.95 | S40: 299.38 | T40: 326.02 | U40: 283.36 | V40: 283.88 | W40: 344.54 | X40: 380.12 | Y40: 329.72 | Z40: 334.73 | AA40: EE | AB40: 213.64 | AC40: 244.63 | AD40: 280.67 | AE40: 323.62 | AF40: 294.97 | AG40: 276.64
B41: ECA aire de CO | C41: 30000 µg/m³ en periodo de 1 hora
B42: ID: Insuficiencia de datos
B43: EE: Evaluación del especialista
B44: IE: Interrupción eléctrica

Sheet CO_m8h_CA-ILO-03
F2: Tabla 3.27. Concentraciones horarias de CO m8h
B6: TÍTULO DEL ESTUDIO: | F6: ='PM10_CA-ILO-03'!F6 -> Evaluación de seguimiento de la calidad del aire en el CEBA Jose Pardo, distrito Ilo, provincia Ilo, departamento Moquegua, en setiembre 2022
B8: ESTACIÓN DE MONITOREO: | F8: CA-ILO-03 | Q8: CÓDIGO DE ACCIÓN:
B10: DATOS DEL EQUIPO
B12: EQUIPO: | F12: Analizador monóxido de carbono | Q12: MARCA: | V12: THERMO SCIENTIFIC
B14: MODELO: | F14: 48i | Q14: SERIE: | V14: 1193085162
B16: Hora\Día | C16: 1 | D16: 2 | E16: 3 | F16: 4 | G16: 5 | H16: 6 | I16: 7 | J16: 8 | K16: 9 | L16: 10 | M16: 11 | N16: 12 | O16: 13 | P16: 14 | Q16: 15 | R16: 16 | S16: 17 | T16: 18 | U16: 19 | V16: 20 | W16: 21 | X16: 22 | Y16: 23 | Z16: 24 | AA16: 25 | AB16: 26 | AC16: 27 | AD16: 28 | AE16: 29 | AF16: 30 | AG16: 31
B17: 0 | C17: 297.84 | D17: 307.3 | E17: 313.23 | F17: 332.25 | G17: 321.74 | H17: 374.72 | I17: 359.09 | J17: 373.11 | K17: 374.6 | L17: 309.32 | M17: 316.88 | N17: 304.53 | O17: 277.71 | P17: 291.72 | Q17: 266.5 | R17: 292.33 | S17: 304.9 | T17: 292.6 | U17: 321.34 | V17: 301.38 | W17: 298.57 | X17: 321.92 | Y17: 350.53 | Z17: 361.04 | AA17: 338.27 | AB17: EE | AC17: 250.88 | AD17: 252.88 | AE17: 293.28 | AF17: 328.98 | AG17: 311.56
B18: 0.041666667 | C18: 295.75 | D18: 303.9 | E18: 311.06 | F18: 328.1 | G18: 318.86 | H18: 373.01 | I18: 355.6 | J18: 371.1 | K18: 373.62 | L18: 309.02 | M18: 307.45 | N18: 301.07 | O18: 271.81 | P18: 293.33 | Q18: 262.88 | R18: 286.34 | S18: 299.15 | T18: 290.9 | U18: 322.62 | V18: 298.01 | W18: 295.67 | X18: 322.53 | Y18: 335.37 | Z18: 348.52 | AA18: 337.49 | AB18: EE | AC18: 244.07 | AD18: 252.1 | AE18: 286.9 | AF18: 330.24 | AG18: 308.18
B19: 0.083333333 | C19: 290.83 | D19: 301.48 | E19: 306.93 | F19: 322.06 | G19: 314.47 | H19: 368.69 | I19: 349.96 | J19: 365.87 | K19: 370.6 | L19: 304.65 | M19: 296.62 | N19: 297.84 | O19: 264.41 | P19: 288.72 | Q19: 257.8 | R19: 281.22 | S19: 292.33 | T19: 288.88 | U19: 320.8 | V19: 293.51 | W19: 292.2 | X19: 320.71 | Y19: 326.55 | Z19: 339.33 | AA19: 337.22 | AB19: EE | AC19: 234.47 | AD19: 254.42 | AE19: 285.36 | AF19: 327.06 | AG19: 303.4
B20: 0.125 | C20: 283.75 | D20: 296.01 | E20: 299.85 | F20: 313.89 | G20: 310.52 | H20: 363.29 | I20: 343.32 | J20: 356.48 | K20: 365.67 | L20: 296.8 | M20: 286.61 | N20: 291.24 | O20: 257.14 | P20: 279.48 | Q20: 251.92 | R20: 273.85 | S20: 286.2 | T20: 286.82 | U20: 315.97 | V20: 286.74 | W20: 287.1 | X20: 315.07 | Y20: 320.8 | Z20: 331.05 | AA20: 335.09 | AB20: EE | AC20: 219.86 | AD20: 251 | AE20: 279.78 | AF20: 322.11 | AG20: 300.26
B21: 0.16666667 | C21: 278.72 | D21: 291.18 | E21: 294.3 | F21: 307.47 | G21: 307.68 | H21: 357.89 | I21: 339.64 | J21: 351.45 | K21: 361.09 | L21: 291.27 | M21: 281.5 | N21: 285.4 | O21: 252.14 | P21: 275.65 | Q21: 244.98 | R21: 267.17 | S21: 281.36 | T21: 285.28 | U21: 313.94 | V21: 281.17 | W21: 281.73 | X21: 309.03 | Y21: 319.19 | Z21: 322.13 | AA21: 334.04 | AB21: EE | AC21: 209.54 | AD21: 249.04 | AE21: 277.18 | AF21: 317.39 | AG21: 297.56
B22: 0.20833333 | C22: 275.94 | D22: 289.23 | E22: 291.39 | F22: 302.85 | G22: 307.66 | H22: 347.42 | I22: 339.02 | J22: 347.92 | K22: 355.71 | L22: 287.6 | M22: 278.45 | N22: 282.11 | O22: 249.79 | P22: 270.72 | Q22: 240.76 | R22: 262.97 | S22: 278.34 | T22: 283.94 | U22: 312.89 | V22: 280.63 | W22: 278.26 | X22: 304.66 | Y22: 330.28 | Z22: 315.89 | AA22: 333.56 | AB22: EE | AC22: 201.96 | AD22: 248.96 | AE22: 276.51 | AF22: 314.89 | AG22: 296.74
B23: 0.25 | C23: 271.68 | D23: 284.84 | E23: 290.77 | F23: 299.69 | G23: 309.88 | H23: 343.36 | I23: 339.1 | J23: 349.18 | K23: 353.21 | L23: 286.91 | M23: 277.55 | N23: 282.74 | O23: 249.05 | P23: 271.36 | Q23: 240.2 | R23: 261.02 | S23: 277.17 | T23: 284.09 | U23: 311.99 | V23: 282.75 | W23: 277.71 | X23: 303.38 | Y23: 341.51 | Z23: 313.72 | AA23: 323.98 | AB23: EE | AC23: 198.7 | AD23: 249.79 | AE23: 277.62 | AF23: 313.82 | AG23: 296.55
B24: 0.29166667 | C24: 272.15 | D24: 283.07 | E24: 290.55 | F24: 300.55 | G24: 319.14 | H24: 347.23 | I24: 341.64 | J24: 349.18 | K24: 347.55 | L24: 280.4 | M24: 278.74 | N24: 282.96 | O24: 250.82 | P24: 272 | Q24: 245.32 | R24: 263.38 | S24: 277.43 | T24: 283.83 | U24: 312.77 | V24: 286.23 | W24: 281.71 | X24: 303.58 | Y24: 338.42 | Z24: 313.24 | AA24: 322.19 | AB24: EE | AC24: 198.16 | AD24: 252.98 | AE24: 281.68 | AF24: 314.54 | AG24: 301.75
B25: 0.33333333 | C25: 273.97 | D25: 282.18 | E25: 291.95 | F25: 302.99 | G25: 330.41 | H25: 349.64 | I25: 344.72 | J25: 348.89 | K25: 348.58 | L25: 276.8 | M25: 275.94 | N25: 289.48 | O25: 253.49 | P25: 268.54 | Q25: 249.24 | R25: 267.55 | S25: 281.5 | T25: 285.1 | U25: 314.28 | V25: 291.25 | W25: 289.12 | X25: 313.68 | Y25: 339.72 | Z25: 315.72 | AA25: ID | AB25: EE | AC25: 198.47 | AD25: 258.35 | AE25: 285.73 | AF25: 317.08 | AG25: 306.21
B26: 0.375 | C26: 275.74 | D26: 283.49 | E26: 293.46 | F26: 308.76 | G26: 340.36 | H26: 352.22 | I26: 345.56 | J26: 349.49 | K26: 349.85 | L26: 277.36 | M26: 277.18 | N26: 294.08 | O26: 256.41 | P26: 269.25 | Q26: 253.47 | R26: 270.28 | S26: 285.09 | T26: 287.28 | U26: 315.76 | V26: 294.27 | W26: 293.68 | X26: 319.43 | Y26: 340.23 | Z26: 317.8 | AA26: ID | AB26: EE | AC26: 199.55 | AD26: 262.69 | AE26: 288.66 | AF26: 318.21 | AG26: 309.44
B27: 0.41666667 | C27: 277.85 | D27: 285.44 | E27: 296.22 | F27: 312.82 | G27: 349.65 | H27: 354.24 | I27: 347.48 | J27: 351.66 | K27: 351.47 | L27: 279.85 | M27: 279.53 | N27: 299.23 | O27: 259.71 | P27: 271.81 | Q27: 263.14 | R27: 275.19 | S27: 288.88 | T27: 288.82 | U27: 316.85 | V27: 297.9 | W27: 296.17 | X27: 322.49 | Y27: 343.97 | Z27: 320.38 | AA27: ID | AB27: EE | AC27: 201.06 | AD27: 263.31 | AE27: 290.78 | AF27: 320.71 | AG27: 312.5
B28: 0.45833333 | C28: 279.53 | D28: 287.28 | E28: 300 | F28: 316.56 | G28: 359.31 | H28: 362 | I28: 350.2 | J28: 355.03 | K28: 354.05 | L28: 283.76 | M28: 282.29 | N28: 302.28 | O28: 264.4 | P28: 272.96 | Q28: 273.79 | R28: 280.81 | S28: 294.16 | T28: 290.97 | U28: 316.12 | V28: 300.36 | W28: 298.17 | X28: 329.26 | Y28: 347.42 | Z28: 323.62 | AA28: ID | AB28: EE | AC28: 204.85 | AD28: 267.96 | AE28: 293.08 | AF28: 323.26 | AG28: 317.22
B29: 0.5 | C29: 282.11 | D29: 289.58 | E29: 304.72 | F29: 319.92 | G29: 364.2 | H29: 370.79 | I29: 352.42 | J29: 360 | K29: 357.19 | L29: 288.06 | M29: 287.34 | N29: 305.4 | O29: 269.28 | P29: 276.51 | Q29: 284.15 | R29: 287.6 | S29: 298.58 | T29: 293.34 | U29: 313.98 | V29: 302 | W29: 300.94 | X29: 333.13 | Y29: 349.65 | Z29: 327.78 | AA29: ID | AB29: EE | AC29: 207.68 | AD29: 273.53 | AE29: 295 | AF29: 326.56 | AG29: 321.73
B30: 0.54166667 | C30: 283.69 | D30: 291.14 | E30: 308.78 | F30: 322.3 | G30: 367.42 | H30: 374.38 | I30: 352.46 | J30: 363.52 | K30: 359.31 | L30: 293.23 | M30: 292.21 | N30: 308.37 | O30: 273.62 | P30: 278.89 | Q30: 292.97 | R30: 293.42 | S30: 303.86 | T30: 295.59 | U30: 311.91 | V30: 303.78 | W30: 302.95 | X30: 335.28 | Y30: 340.32 | Z30: 331.28 | AA30: EE | AB30: EE | AC30: 211.01 | AD30: 278.3 | AE30: 296.72 | AF30: 329.68 | AG30: 324.03
B31: 0.58333333 | C31: 284.93 | D31: 290.82 | E31: 308.86 | F31: 322.05 | G31: 368.28 | H31: 373.47 | I31: 352.88 | J31: 363.36 | K31: 359.5 | L31: 293.74 | M31: 294.07 | N31: 308.72 | O31: 275.78 | P31: 278.07 | Q31: 300.67 | R31: 298.53 | S31: 306.75 | T31: 295.76 | U31: 310.16 | V31: 303.47 | W31: 302.45 | X31: 335.46 | Y31: 330.58 | Z31: 332.13 | AA31: EE | AB31: EE | AC31: 211.47 | AD31: 281.1 | AE31: 296.42 | AF31: 330.7 | AG31: 323.48
B32: 0.625 | C32: 285.68 | D32: 290.63 | E32: 309.42 | F32: 322.14 | G32: 363.8 | H32: 371.94 | I32: 352.53 | J32: 362.95 | K32: 356.2 | L32: 294.36 | M32: 296.14 | N32: 303.1 | O32: 274.64 | P32: 275 | Q32: 304.01 | R32: 301.2 | S32: 309.98 | T32: 296.96 | U32: 306.38 | V32: 301.44 | W32: 298.46 | X32: 336.88 | Y32: 326.34 | Z32: 333.51 | AA32: EE | AB32: EE | AC32: 212.8 | AD32: 283.52 | AE32: 294.03 | AF32: 331.53 | AG32: 315.59
B33: 0.66666667 | C33: 285.4 | D33: 291.01 | E33: 311.46 | F33: 319.6 | G33: 357.42 | H33: 371.01 | I33: 353.66 | J33: 361.35 | K33: 343.18 | L33: 295.89 | M33: 298.21 | N33: 295.7 | O33: 271.58 | P33: 271.59 | Q33: 308.96 | R33: 302.24 | S33: 307.72 | T33: 298.68 | U33: 304.69 | V33: 300.4 | W33: 292.34 | X33: 337.73 | Y33: 326.13 | Z33: 332 | AA33: EE | AB33: EE | AC33: 216.89 | AD33: 285.14 | AE33: 293.52 | AF33: 331.22 | AG33: 308.98
B34: 0.70833333 | C34: 287.31 | D34: 294.56 | E34: 314.34 | F34: 317.33 | G34: 353.84 | H34: 371.31 | I34: 356.93 | J34: 361.85 | K34: 333.45 | L34: 304.44 | M34: 299.8 | N34: 293.89 | O34: 269.71 | P34: 270.71 | Q34: 314.01 | R34: 304.66 | S34: 307.91 | T34: 299.48 | U34: 302.23 | V34: 300.84 | W34: 289.71 | X34: 349.18 | Y34: 336.85 | Z34: 333.54 | AA34: EE | AB34: ID | AC34: 221.98 | AD34: 290.35 | AE34: 295.1 | AF34: 332.41 | AG34: 305.13
B35: 0.75 | C35: 287.96 | D35: 298.45 | E35: 319.01 | F35: 318.58 | G35: 354.12 | H35: 373.38 | I35: 361.1 | J35: 363.08 | K35: 326.47 | L35: 313.88 | M35: 300.41 | N35: 293.4 | O35: 272.43 | P35: 270.19 | Q35: 312.46 | R35: 305.92 | S35: 309.34 | T35: 302 | U35: 302.85 | V35: 300.17 | W35: 292.03 | X35: 355.12 | Y35: 343.31 | Z35: 333.68 | AA35: EE | AB35: ID | AC35: 227.58 | AD35: 293.29 | AE35: 300.08 | AF35: 335.53 | AG35: 304.16
B36: 0.79166667 | C36: 292.15 | D36: 304.79 | E36: 325.01 | F36: 319.76 | G36: 354.2 | H36: 371.63 | I36: 367.9 | J36: 365.8 | K36: 321.93 | L36: 320.98 | M36: 304 | N36: 293.8 | O36: 279.68 | P36: 271.62 | Q36: 311.97 | R36: 309.4 | S36: 305.72 | T36: 307.03 | U36: 308.47 | V36: 301.96 | W36: 298.4 | X36: 353.89 | Y36: 350.03 | Z36: 333.11 | AA36: EE | AB36: ID | AC36: 233.84 | AD36: 298.98 | AE36: 307.32 | AF36: 333.84 | AG36: 303.82
... B38: 0.875 | C38: 296.72 | D38: 310.29 | E38: 330.65 | F38: 321.76 | G38: 368.59 | H38: 365.36 | I38: 372.26 | J38: 367.16 | K38: 308.59 | L38: 319.96 | M38: 305.48 | N38: 286.1 | O38: 281.98 | P38: 272.47 | Q38: 307.99 | R38: 312.61 | S38: 297.74 | T38: 314.11 | U38: 311.08 | V38: 304.73 | W38: 308.39 | X38: 354.32 | Y38: 360.64 | Z38: 328.65 | AA38: EE | AB38: ID | AC38: 243.72 | AD38: 299.77 | AE38: 317.41 | AF38: 327.89 | AG38: 298.04
B39: 0.91666667 | C39: 301.7 | D39: 312.76 | E39: 333.7 | F39: 323.06 | G39: 375.55 | H39: 365.03 | I39: 371.59 | J39: 367.95 | K39: 301.96 | L39: 319.31 | M39: 304.75 | N39: 281.06 | O39: 281.53 | P39: 271.4 | Q39: 304.21 | R39: 312.37 | S39: 294.36 | T39: 317.52 | U39: 308.88 | V39: 303.63 | W39: 313.64 | X39: 353.67 | Y39: 363.18 | Z39: 337.21 | AA39: EE | AB39: 265.13 | AC39: 249.43 | AD39: 298.08 | AE39: 323.23 | AF39: 322.58 | AG39: 298.6
B40: 0.95833333 | C40: 304.36 | D40: 314.77 | E40: 332.62 | F40: 323.06 | G40: 374.33 | H40: 362.48 | I40: 372.72 | J40: 373.85 | K40: 303.14 | L40: 316.19 | M40: 306.94 | N40: 279.1 | O40: 283.93 | P40: 269.4 | Q40: 298.65 | R40: 309.31 | S40: 292.67 | T40: 319.91 | U40: 306.54 | V40: 302.24 | W40: 321.22 | X40: 356.51 | Y40: 364.21 | Z40: 336.94 | AA40: EE | AB40: 257.77 | AC40: 252.51 | AD40: 296.82 | AE40: 326.92 | AF40: 317.46 | AG40: 298.59
B41: ECA aire de CO-m8h | C41: 10000 µg/m³ en periodo de 8 horas
B42: ID: Insuficiencia de datos
B43: EE: Evaluación del especialista

Sheet MGT_CA-ILO-03
F2: Tabla 3.28. Concentraciones horarias de Mercurio Gaseoso Total (MGT)
B6: TÍTULO DEL ESTUDIO: | F6: ='PM10_CA-ILO-03'!F6 -> Evaluación de seguimiento de la calidad del aire en el CEBA Jose Pardo, distrito Ilo, provincia Ilo, departamento Moquegua, en setiembre 2022
B8: ESTACIÓN DE MONITOREO: | F8: CA-ILO-03 | Q8: CÓDIGO DE ACCIÓN:
B10: DATOS DEL EQUIPO
B12: EQUIPO: | F12: Analizador automático de Mercurio Gaseoso Total | Q12: MARCA: | V12: Mercury Instruments
B14: MODELO: | F14: UT-3000 | Q14: SERIE: | V14: 0919/2427
B16: Hora\Día | C16: 1 | D16: 2 | E16: 3 | F16: 4 | G16: 5 | H16: 6 | I16: 7 | J16: 8 | K16: 9 | L16: 10 | M16: 11 | N16: 12 | O16: 13 | P16: 14 | Q16: 15 | R16: 16 | S16: 17 | T16: 18 | U16: 19 | V16: 20 | W16: 21 | X16: 22 | Y16: 23 | Z16: 24 | AA16: 25 | AB16: 26 | AC16: 27 | AD16: 28 | AE16: 29 | AF16: 30 | AG16: 31
B17: 0 | C17: 0.25 | D17: 0.242 | E17: 0.242 | F17: 0.269 | G17: 0.278 | H17: 0.279 | I17: 0.273 | J17: 0.277 | K17: 0.274 | L17: 0.273 | M17: 0.261 | N17: 0.281 | O17: 0.28 | P17: 0.277 | Q17: 0.288 | R17: 0.281 | S17: 0.283 | T17: 0.289 | U17: 0.278 | V17: 0.29 | W17: 0.292 | X17: 0.288 | Y17: 0.285 | Z17: 0.286 | AA17: 0.308 | AB17: 0.314 | AC17: 0.32 | AD17: 0.305 | AE17: 0.315 | AF17: 0.311 | AG17: 0.26
B18: 0.041666667 | C18: 0.26 | D18: 0.243 | E18: 0.248 | F18: 0.272 | G18: 0.276 | H18: 0.278 | I18: 0.267 | J18: 0.28 | K18: 0.275 | L18: 0.273 | M18: 0.26 | N18: 0.277 | O18: 0.278 | P18: 0.265 | Q18: 0.286 | R18: 0.277 | S18: 0.28 | T18: 0.285 | U18: 0.277 | V18: 0.288 | W18: 0.29 | X18: 0.277 | Y18: 0.283 | Z18: 0.283 | AA18: 0.306 | AB18: 0.313 | AC18: 0.322 | AD18: 0.312 | AE18: 0.308 | AF18: 0.313 | AG18: 0.253
B19: 0.083333333 | C19: 0.262 | D19: 0.24 | E19: 0.244 | F19: 0.268 | G19: 0.277 | H19: 0.277 | I19: 0.263 | J19: 0.277 | K19: 0.272 | L19: 0.262 | M19: 0.261 | N19: 0.276 | O19: 0.277 | P19: 0.261 | Q19: 0.285 | R19: 0.276 | S19: 0.279 | T19: 0.279 | U19: 0.278 | V19: 0.284 | W19: 0.286 | X19: 0.283 | Y19: 0.278 | Z19: 0.277 | AA19: 0.306 | AB19: 0.314 | AC19: 0.32 | AD19: 0.316 | AE19: 0.309 | AF19: 0.308 | AG19: 0.25
B20: 0.125 | C20: 0.261 | D20: 0.239 | E20: 0.245 | F20: 0.274 | G20: 0.277 | H20: 0.277 | I20: 0.268 | J20: 0.276 | K20: 0.273 | L20: 0.257 | M20: 0.266 | N20: 0.273 | O20: 0.276 | P20: 0.258 | Q20: 0.283 | R20: 0.277 | S20: 0.274 | T20: 0.277 | U20: 0.277 | V20: 0.288 | W20: 0.285 | X20: 0.284 | Y20: 0.273 | Z20: 0.27 | AA20: 0.308 | AB20: 0.311 | AC20: 0.318 | AD20: 0.317 | AE20: 0.316 | AF20: 0.304 | AG20: 0.244
B21: 0.16666667 | C21: 0.265 | D21: 0.229 | E21: 0.241 | F21: 0.272 | G21: 0.281 | H21: 0.273 | I21: 0.269 | J21: 0.274 | K21: 0.269 | L21: 0.254 | M21: 0.268 | N21: 0.272 | O21: 0.278 | P21: 0.258 | Q21: 0.284 | R21: 0.279 | S21: 0.265 | T21: 0.272 | U21: 0.28 | V21: 0.281 | W21: 0.286 | X21: 0.285 | Y21: 0.262 | Z21: 0.27 | AA21: 0.307 | AB21: 0.309 | AC21: 0.314 | AD21: 0.315 | AE21: 0.305 | AF21: 0.305 | AG21: 0.244
B22: 0.20833333 | C22: 0.262 | D22: 0.224 | E22: 0.238 | F22: 0.272 | G22: 0.273 | H22: 0.276 | I22: 0.271 | J22: 0.276 | K22: 0.276 | L22: 0.257 | M22: 0.27 | N22: 0.275 | O22: 0.277 | P22: 0.255 | Q22: 0.277 | R22: 0.28 | S22: 0.257 | T22: 0.272 | U22: 0.274 | V22: 0.283 | W22: 0.279 | X22: 0.285 | Y22: 0.272 | Z22: 0.268 | AA22: 0.306 | AB22: 0.312 | AC22: 0.305 | AD22: 0.314 | AE22: 0.305 | AF22: 0.299 | AG22: 0.243
B23: 0.25 | C23: 0.275 | D23: 0.239 | E23: 0.251 | F23: 0.282 | G23: 0.278 | H23: 0.278 | I23: 0.281 | J23: 0.282 | K23: 0.275 | L23: 0.28 | M23: 0.283 | N23: 0.28 | O23: 0.29 | P23: 0.272 | Q23: 0.304 | R23: 0.283 | S23: 0.263 | T23: 0.277 | U23: 0.28 | V23: 0.294 | W23: 0.285 | X23: 0.288 | Y23: 0.284 | Z23: 0.29 | AA23: 0.312 | AB23: 0.314 | AC23: 0.317 | AD23: 0.318 | AE23: 0.311 | AF23: 0.305 | AG23: 0.266
B24: 0.29166667 | C24: 0.306 | D24: 0.308 | E24: 0.32 | F24: 0.306 | G24: 0.296 | H24: 0.288 | I24: 0.304 | J24: 0.31 | K24: 0.286 | L24: 0.326 | M24: 0.312 | N24: 0.302 | O24: 0.306 | P24: 0.329 | Q24: 0.332 | R24: 0.3 | S24: 0.305 | T24: 0.295 | U24: 0.308 | V24: 0.314 | W24: 0.325 | X24: 0.314 | Y24: 0.314 | Z24: 0.336 | AA24: 0.335 | AB24: 0.34 | AC24: 0.349 | AD24: 0.336 | AE24: 0.329 | AF24: 0.353 | AG24: 0.322
B25: 0.33333333 | C25: 0.359 | D25: 0.382 | E25: 0.395 | F25: 0.369 | G25: 0.324 | H25: 0.321 | I25: 0.355 | J25: 0.373 | K25: 0.305 | L25: 0.385 | M25: 0.38 | N25: 0.346 | O25: 0.343 | P25: 0.355 | Q25: 0.382 | R25: 0.326 | S25: 0.346 | T25: 0.34 | U25: 0.382 | V25: 0.367 | W25: 0.375 | X25: 0.393 | Y25: 0.373 | Z25: 0.405 | AA25: 0.374 | AB25: 0.375 | AC25: 0.379 | AD25: 0.375 | AE25: 0.39 | AF25: 0.432 | AG25: 0.382
B26: 0.375 | C26: 0.398 | D26: 0.459 | E26: 0.427 | F26: 0.429 | G26: 0.379 | H26: 0.33 | I26: 0.433 | J26: 0.425 | K26: 0.317 | L26: 0.437 | M26: 0.436 | N26: 0.41 | O26: 0.378 | P26: 0.382 | Q26: 0.423 | R26: 0.364 | S26: 0.429 | T26: 0.398 | U26: 0.435 | V26: 0.427 | W26: 0.417 | X26: 0.498 | Y26: 0.456 | Z26: 0.439 | AA26: 0.416 | AB26: 0.408 | AC26: 0.412 | AD26: 0.434 | AE26: 0.457 | AF26: 0.472 | AG26: 0.43
B27: 0.41666667 | C27: 0.455 | D27: 0.491 | E27: 0.451 | F27: 0.471 | G27: 0.446 | H27: 0.361 | I27: 0.47 | J27: 0.457 | K27: 0.336 | L27: 0.512 | M27: 0.489 | N27: 0.422 | O27: 0.476 | P27: 0.449 | Q27: 0.474 | R27: 0.435 | S27: 0.474 | T27: 0.449 | U27: 0.48 | V27: 0.459 | W27: 0.44 | X27: 0.55 | Y27: 0.504 | Z27: 0.42 | AA27: 0.447 | AB27: 0.45 | AC27: 0.433 | AD27: 0.512 | AE27: 0.496 | AF27: 0.518 | AG27: 0.469
B28: 0.45833333 | C28: 0.476 | D28: 0.498 | E28: 0.465 | F28: 0.497 | G28: 0.444 | H28: 0.386 | I28: 0.495 | J28: 0.477 | K28: 0.349 | L28: 0.534 | M28: 0.519 | N28: 0.446 | O28: 0.546 | P28: 0.496 | Q28: 0.498 | R28: 0.494 | S28: 0.481 | T28: 0.511 | U28: 0.496 | V28: 0.536 | W28: 0.483 | X28: 0.573 | Y28: 0.533 | Z28: 0.422 | AA28: 0.51 | AB28: 0.493 | AC28: 0.468 | AD28: 0.553 | AE28: 0.513 | AF28: 0.536 | AG28: 0.488
B29: 0.5 | C29: 0.489 | D29: 0.495 | E29: 0.48 | F29: 0.503 | G29: 0.43 | H29: 0.381 | I29: 0.502 | J29: 0.483 | K29: 0.382 | L29: 0.549 | M29: 0.518 | N29: 0.477 | O29: 0.555 | P29: 0.513 | Q29: 0.5 | R29: 0.506 | S29: 0.502 | T29: 0.539 | U29: 0.489 | V29: 0.556 | W29: 0.529 | X29: 0.562 | Y29: 0.547 | Z29: 0.422 | AA29: 0.499 | AB29: 0.496 | AC29: ID | AD29: 0.53 | AE29: 0.516 | AF29: 0.512 | AG29: 0.494
B30: 0.54166667 | C30: 0.503 | D30: 0.499 | E30: 0.497 | F30: 0.507 | G30: 0.399 | H30: 0.356 | I30: 0.511 | J30: 0.492 | K30: 0.351 | L30: 0.569 | M30: 0.522 | N30: 0.501 | O30: 0.53 | P30: 0.528 | Q30: 0.504 | R30: 0.514 | S30: 0.517 | T30: 0.558 | U30: 0.474 | V30: 0.563 | W30: 0.545 | X30: 0.598 | Y30: 0.558 | Z30: 0.444 | AA30: 0.455 | AB30: 0.458 | AC30: 0.642 | AD30: 0.545 | AE30: 0.54 | AF30: 0.525 | AG30: 0.508
B31: 0.58333333 | C31: 0.498 | D31: 0.514 | E31: 0.506 | F31: 0.534 | G31: 0.369 | H31: 0.364 | I31: 0.472 | J31: 0.499 | K31: 0.336 | L31: 0.558 | M31: 0.528 | N31: 0.473 | O31: 0.462 | P31: 0.533 | Q31: 0.503 | R31: 0.506 | S31: 0.488 | T31: 0.578 | U31: 0.428 | V31: 0.584 | W31: 0.492 | X31: 0.546 | Y31: 0.551 | Z31: 0.454 | AA31: 0.386 | AB31: 0.449 | AC31: 0.61 | AD31: 0.571 | AE31: 0.621 | AF31: 0.531 | AG31: 0.516
B32: 0.625 | C32: 0.475 | D32: 0.511 | E32: 0.489 | F32: 0.498 | G32: 0.346 | H32: 0.412 | I32: 0.415 | J32: 0.48 | K32: 0.394 | L32: 0.513 | M32: 0.512 | N32: 0.448 | O32: 0.421 | P32: 0.512 | Q32: 0.471 | R32: 0.502 | S32: 0.477 | T32: 0.488 | U32: 0.385 | V32: 0.653 | W32: 0.476 | X32: 0.554 | Y32: 0.536 | Z32: 0.466 | AA32: 0.347 | AB32: 0.412 | AC32: 0.542 | AD32: 0.493 | AE32: 0.607 | AF32: 0.518 | AG32: 0.515
B33: 0.66666667 | C33: 0.436 | D33: 0.49 | E33: 0.447 | F33: 0.433 | G33: 0.331 | H33: 0.385 | I33: 0.38 | J33: 0.398 | K33: 0.366 | L33: 0.472 | M33: 0.462 | N33: 0.375 | O33: 0.375 | P33: 0.477 | Q33: 0.435 | R33: 0.455 | S33: 0.45 | T33: 0.4 | U33: 0.347 | V33: 0.607 | W33: 0.42 | X33: 0.499 | Y33: 0.5 | Z33: 0.444 | AA33: 0.33 | AB33: 0.396 | AC33: 0.457 | AD33: 0.418 | AE33: 0.518 | AF33: 0.484 | AG33: 0.484
B34: 0.70833333 | C34: 0.378 | D34: 0.436 | E34: 0.379 | F34: 0.38 | G34: 0.31 | H34: 0.335 | I34: 0.336 | J34: 0.337 | K34: 0.319 | L34: 0.401 | M34: 0.402 | N34: 0.338 | O34: 0.346 | P34: 0.417 | Q34: 0.392 | R34: 0.381 | S34: 0.383 | T34: 0.348 | U34: 0.32 | V34: 0.473 | W34: 0.372 | X34: 0.397 | Y34: 0.451 | Z34: 0.384 | AA34: 0.329 | AB34: 0.366 | AC34: 0.401 | AD34: 0.378 | AE34: 0.448 | AF34: 0.432 | AG34: 0.428
B35: 0.75 | C35: 0.3 | D35: 0.334 | E35: 0.306 | F35: 0.322 | G35: 0.298 | H35: 0.299 | I35: 0.315 | J35: 0.307 | K35: 0.294 | L35: 0.331 | M35: 0.326 | N35: 0.308 | O35: 0.321 | P35: 0.338 | Q35: 0.321 | R35: 0.321 | S35: 0.313 | T35: 0.32 | U35: 0.309 | V35: 0.36 | W35: 0.333 | X35: 0.342 | Y35: 0.37 | Z35: 0.343 | AA35: 0.327 | AB35: 0.351 | AC35: 0.365 | AD35: 0.358 | AE35: 0.375 | AF35: 0.361 | AG35: 0.354
B36: 0.79166667 | C36: 0.266 | D36: 0.275 | E36: 0.269 | F36: 0.301 | G36: 0.291 | H36: 0.284 | I36: 0.295 | J36: 0.296 | K36: 0.286 | L36: 0.298 | M36: 0.292 | N36: 0.294 | O36: 0.306 | P36: 0.294 | Q36: 0.286 | R36: 0.296 | S36: 0.295 | T36: 0.303 | U36: 0.299 | V36: 0.324 | W36: 0.303 | X36: 0.315 | Y36: 0.329 | Z36: 0.33 | AA36: 0.322 | AB36: 0.343 | AC36: 0.345 | AD36: 0.343 | AE36: 0.339 | AF36: 0.306 | AG36: 0.304
B37: 0.83333333 | C37: 0.269 | D37: 0.254 | E37: 0.262 | F37: 0.292 | G37: 0.288 | H37: 0.279 | I37: 0.291 | J37: 0.284 | K37: 0.283 | L37: 0.279 | M37: 0.279 | N37: 0.283 | O37: 0.293 | P37: 0.274 | Q37: 0.285 | R37: 0.288 | S37: 0.29 | T37: 0.29 | U37: 0.298 | V37: 0.302 | W37: 0.299 | X37: 0.306 | Y37: 0.327 | Z37: 0.324 | AA37: 0.321 | AB37: 0.338 | AC37: 0.335 | AD37: 0.333 | AE37: 0.324 | AF37: 0.29 | AG37: 0.29
B38: 0.875 | C38: 0.266 | D38: 0.255 | E38: 0.259 | F38: 0.292 | G38: 0.288 | H38: 0.28 | I38: 0.29 | J38: 0.276 | K38: 0.278 | L38: 0.271 | M38: 0.277 | N38: 0.281 | O38: 0.281 | P38: 0.27 | Q38: 0.289 | R38: 0.287 | S38: 0.286 | T38: 0.289 | U38: 0.298 | V38: 0.3 | W38: 0.301 | X38: 0.301 | Y38: 0.31 | Z38: 0.32 | AA38: 0.316 | AB38: 0.324 | AC38: 0.331 | AD38: 0.324 | AE38: 0.32 | AF38: 0.279 | AG38: 0.282
B39: 0.91666667 | C39: 0.255 | D39: 0.252 | E39: 0.26 | F39: 0.286 | G39: 0.285 | H39: 0.273 | I39: 0.284 | J39: 0.278 | K39: 0.279 | L39: 0.268 | M39: 0.281 | N39: 0.284 | O39: 0.279 | P39: 0.28 | Q39: 0.289 | R39: 0.286 | S39: 0.287 | T39: 0.287 | U39: 0.284 | V39: 0.302 | W39: 0.298 | X39: 0.296 | Y39: 0.3 | Z39: 0.314 | AA39: 0.314 | AB39: 0.318 | AC39: 0.32 | AD39: 0.321 | AE39: 0.318 | AF39: 0.271 | AG39: 0.279
B40: 0.95833333 | C40: 0.247 | D40: 0.246 | E40: 0.268 | F40: 0.283 | G40: 0.282 | H40: 0.272 | I40: 0.28 | J40: 0.277 | K40: 0.276 | L40: 0.26 | M40: 0.282 | N40: 0.282 | O40: 0.28 | P40: 0.284 | Q40: 0.286 | R40: 0.287 | S40: 0.288 | T40: 0.282 | U40: 0.285 | V40: 0.298 | W40: 0.291 | X40: 0.283 | Y40: 0.293 | Z40: 0.309 | AA40: 0.312 | AB40: 0.319 | AC40: 0.306 | AD40: 0.317 | AE40: 0.317 | AF40: 0.261 | AG40: 0.266
B41: Promedio de MGT en 24 h | C41: 0.342 | D41: 0.348 | E41: 0.341 | F41: 0.359 | G41: 0.323 | H41: 0.314 | I41: 0.347 | J41: 0.35 | K41: 0.306 | L41: 0.367 | M41: 0.362 | N41: 0.342 | O41: 0.352 | P41: 0.357 | Q41: 0.362 | R41: 0.354 | S41: 0.355 | T41: 0.359 | U41: 0.344 | V41: 0.393 | W41: 0.363 | X41: 0.388 | Y41: 0.383 | Z41: 0.355 | AA41: 0.354 | AB41: 0.368 | AC41: 0.387 | AD41: 0.389 | AE41: 0.4 | AF41: 0.384 | AG41: 0.357
B42: ECA aire de MGT | C42: 2000 ng/m³ en periodo de 24 horas
B43: ID: Insuficiencia de datos

Sheet Met_CA-ILO-03
D2: Tabla 3.29. Datos Meteorológicos
C6: TÍTULO DEL ESTUDIO: | D6: ='PM10_CA-ILO-03'!F6 -> Evaluación de seguimiento de la calidad del aire en el CEBA Jose Pardo, distrito Ilo, provincia Ilo, departamento Moquegua, en setiembre 2022
C8: ESTACIÓN DE MONITOREO: | D8: CA-ILO-03 | F8: CÓDIGO DE ACCIÓN:
C10: DATOS DEL EQUIPO
C12: EQUIPO: | D12: Estación meteorológica | G12: MARCA: | H12: Campbell Scientific
C14: SENSOR: | D14: Velocidad y Dirección de Viento | G14: SERIE: | H14: WM174403
C15: SENSOR: | D15: Temperatura y Humedad | G15: SERIE: | H15: 1665884185
C16: SENSOR: | D16: Presión barométrica | G16: SERIE: | H16: BPA11351
C17: SENSOR: | D17: Precipitación | G17: SERIE: | H17: TB00015747
C18: SENSOR: | D18: Radiación Solar | G18: SERIE: | H18: 193240
C20: FECHA Y HORA | D20: Presión atmosférica (hPa) | E20: Precipitación (mm) | F20: Temperatura ambiental (°C) | G20: Humedad relativa (%) | H20: Velocidad de Viento (m/s) | I20: Dirección de Viento (°) | J20: Radiación Solar (W/m²)
C21: 44805 | D21: 992.5 | E21: 0 | F21: 13.9 | G21: 86.2 | H21: 1.4 | I21: 168 | J21: 0
C22: 44805.042 | D22: 992.4 | E22: 0 | F22: 13.9 | G22: 86.1 | H22: 1.4 | I22: 154.5 | J22: 0
C23: 44805.083 | D23: 992 | E23: 0 | F23: 13.9 | G23: 85.7 | H23: 1.3 | I23: 162 | J23: 0
C24: 44805.125 | D24: 991.5 | E24: 0 | F24: 13.8 | G24: 86.4 | H24: 1.4 | I24: 163.5 | J24: 0
C25: 44805.167 | D25: 991.3 | E25: 0 | F25: 13.8 | G25: 86.7 | H25: 1.6 | I25: 161.9 | J25: 0
C26: 44805.208 | D26: 991.6 | E26: 0 | F26: 13.9 | G26: 84.2 | H26: 1.6 | I26: 149.8 | J26: 0.1
C27: 44805.25 | D27: 992 | E27: 0 | F27: 14.1 | G27: 82.8 | H27: 1.8 | I27: 152.9 | J27: 18.2
C28: 44805.292 | D28: 992.4 | E28: 0 | F28: 14.6 | G28: 78.7 | H28: 1.8 | I28: 157.8 | J28: 89.3
C29: 44805.333 | D29: 992.6 | E29: 0 | F29: 15.1 | G29: 74.7 | H29: 1.8 | I29: 162.8 | J29: 189.7
C30: 44805.375 | D30: 992.6 | E30: 0 | F30: 15.7 | G30: 72.1 | H30: 1.3 | I30: 175.3 | J30: 329.8
C31: 44805.417 | D31: 992.3 | E31: 0 | F31: 16.1 | G31: 71.2 | H31: 2 | I31: 171.8 | J31: 512.3
C32: 44805.458 | D32: 991.7 | E32: 0 | F32: 16.1 | G32: 72.3 | H32: 3.1 | I32: 172.7 | J32: 536.3
... C604: 44829.292 | D604: 993.4 | E604: 0 | F604: 13.7 | G604: 87.2 | H604: 0.5 | I604: 165.3 | J604: 182.4
C605: 44829.333 | D605: ID | E605: ID | F605: ID | G605: ID | H605: ID | I605: ID | J605: ID
C606: 44829.375 | D606: IE | E606: IE | F606: IE | G606: IE | H606: IE | I606: IE | J606: IE
C607: 44829.417 | D607: IE | E607: IE | F607: IE | G607: IE | H607: IE | I607: IE | J607: IE
C608: 44829.458 | D608: IE | E608: IE | F608: IE | G608: IE | H608: IE | I608: IE | J608: IE
C609: 44829.5 | D609: 990.4 | E609: 0 | F609: 16.3 | G609: 69.3 | H609: 2.9 | I609: 173.6 | J609: 629.5
C610: 44829.542 | D610: 989.5 | E610: 0 | F610: 16.3 | G610: 68.7 | H610: 3.5 | I610: 180.3 | J610: 882.8
C611: 44829.583 | D611: 989.1 | E611: 0 | F611: 16.1 | G611: 70.9 | H611: 4.2 | I611: 178.4 | J611: 728.5
C612: 44829.625 | D612: 988.9 | E612: 0 | F612: 15.7 | G612: 74.6 | H612: 4 | I612: 176.2 | J612: 513.5
C613: 44829.667 | D613: 989.2 | E613: 0 | F613: 15.2 | G613: 73.4 | H613: 3.6 | I613: 174.5 | J613: 247.4
C614: 44829.708 | D614: 990 | E614: 0 | F614: 14.6 | G614: 75.6 | H614: 3.2 | I614: 167.2 | J614: 42.2
C615: 44829.75 | D615: 990.4 | E615: 0 | F615: 14.2 | G615: 78.3 | H615: 2.6 | I615: 159.6 | J615: 0
C616: 44829.792 | D616: 990.9 | E616: 0 | F616: 14 | G616: 79.7 | H616: 2.2 | I616: 155.9 | J616: 0
C617: 44829.833 | D617: 991 | E617: 0 | F617: 14 | G617: 80.9 | H617: 2 | I617: 157.5 | J617: 0
C618: 44829.875 | D618: 991.1 | E618: 0 | F618: 14 | G618: 80.6 | H618: 1.7 | I618: 161.8 | J618: 0
C619: 44829.917 | D619: 990.7 | E619: 0 | F619: 13.9 | G619: 82.3 | H619: 1.3 | I619: 158.8 | J619: 0
C620: 44829.958 | D620: 990.4 | E620: 0 | F620: 13.8 | G620: 83.2 | H620: 1.4 | I620: 159.6 | J620: 0
... C732: 44834.625 | D732: 987.9 | E732: 0 | F732: 15.8 | G732: 74.5 | H732: 2.7 | I732: 184 | J732: 495.8
C733: 44834.667 | D733: ID | E733: ID | F733: ID | G733: ID | H733: ID | I733: ID | J733: ID
C734: 44834.708 | D734: 989.6 | E734: 0 | F734: 14.6 | G734: 79.5 | H734: 1.9 | I734: 184.5 | J734: 37.2
C735: 44834.75 | D735: 990.4 | E735: 0 | F735: 14.2 | G735: 81.6 | H735: 1.2 | I735: 174.3 | J735: 0
C736: 44834.792 | D736: 991.1 | E736: 0 | F736: 14.1 | G736: 82.5 | H736: 1.1 | I736: 173.3 | J736: 0
C737: 44834.833 | D737: 991.5 | E737: 0 | F737: 14 | G737: 83.1 | H737: 1.2 | I737: 176.2 | J737: 0
C738: 44834.875 | D738: 991.9 | E738: 0 | F738: 13.9 | G738: 83.9 | H738: 1 | I738: 163.7 | J738: 0
C739: 44834.917 | D739: 991.8 | E739: 0 | F739: 13.7 | G739: 83.9 | H739: 0.5 | I739: 156.2 | J739: 0
C740: 44834.958 | D740: 991.7 | E740: 0 | F740: 13.4 | G740: 85 | H740: 0.4 | I740: 163.3 | J740: 0
C765: IE: Interrupción eléctrica
C766: ID: Insuficiencia de datos

Sheet Regresion
A1: Po/Pa | B1: 2 | D1: 4 | G1: Po/Pa | H1: 4 | I1: 6 | N1: Po/Pa | O1: 6 | P1: 8
A2: 0.912 | B2: =ROUND(1.2636*A2-0.0719,3) -> 1.081 | D2: =ROUND(1.2636*A2-0.0681,3) -> 1.084 | G2: 0.912 | H2: =ROUND(1.2636*G2-0.0681,3) -> 1.084 | I2: =ROUND(1.2364*G2-0.0391,3) -> 1.088 | N2: 0.922 | O2: =1.2364*N2-0.0391 -> 1.1008608 | P2: =1.2636*N2-0.0611 -> 1.1039392
A3: 0.93 | B3: 1.103 | D3: 1.107 | G3: 0.93 | H3: 1.107 | I3: 1.111 | N3: 0.93 | O3: 1.111 | P3: 1.114
A4: 0.931 | B4: 1.105 | D4: 1.108 | G4: 0.931 | H4: 1.108 | I4: 1.112 | N4: 0.931 | O4: 1.112 | P4: 1.115
A5: 0.932 | B5: 1.106 | D5: 1.11 | G5: 0.932 | H5: 1.11 | I5: 1.113 | N5: 0.932 | O5: 1.113 | P5: 1.117
A6: 0.933 | B6: 1.107 | D6: 1.111 | G6: 0.933 | H6: 1.111 | I6: 1.114 | N6: 0.933 | O6: 1.114 | P6: 1.118
A7: 0.934 | B7: 1.108 | D7: 1.112 | G7: 0.934 | H7: 1.112 | I7: 1.116 | N7: 0.934 | O7: 1.116 | P7: 1.119
A8: 0.935 | B8: 1.11 | D8: 1.113 | G8: 0.935 | H8: 1.113 | I8: 1.117 | N8: 0.935 | O8: 1.117 | P8: 1.12
A9: 0.936 | B9: 1.111 | D9: 1.115 | G9: 0.936 | H9: 1.115 | I9: 1.118 | N9: 0.936 | O9: 1.118 | P9: 1.122
A10: 0.937 | B10: 1.112 | D10: 1.116 | G10: 0.937 | H10: 1.116 | I10: 1.119 | N10: 0.937 | O10: 1.119 | P10: 1.123
A11: 0.938 | B11: 1.113 | D11: 1.117 | G11: 0.938 | H11: 1.117 | I11: 1.121 | N11: 0.938 | O11: 1.121 | P11: 1.124
A12: 0.939 | B12: 1.115 | D12: 1.118 | G12: 0.939 | H12: 1.118 | I12: 1.122 | N12: 0.939 | O12: 1.122 | P12: 1.125
A13: 0.94 | B13: 1.116 | D13: 1.12 | G13: 0.94 | H13: 1.12 | I13: 1.123 | N13: 0.94 | O13: 1.123 | P13: 1.127

Sheet Hoja2
A1: Aluminio | B1: Aluminio (Al) | C1: 64.6
A2: Antimonio | B2: Antimonio (Sb) | C2: 0.813
A3: Arsénico | B3: Arsenico (As) | C3: 2.553
A4: Bario | B4: Bario (Ba) | C4: 5.135
A5: Berilio | B5: Berilio (Be) | C5: < 0,010
A6: Bismuto | B6: Bismuto (Bi) | C6: 0.5814
A7: Boro | B7: Boro (B) | C7: 1.96
A8: Cadmio | B8: Cadmio (Cd) | C8: 0.382
A9: Calcio | B9: Calcio (Ca) | C9: 1150
A10: Cobalto | B10: Cobalto (Co) | C10: 1.445
A11: Cobre | B11: Cobre (Cu) | C11: 32.34
A12: Cromo | B12: Cromo (Cr) | C12: < 2,082
A13: Estaño | B13: Estaño (Sn) | C13: < 0,067
A14: Estroncio | B14: Estroncio (Sr) | C14: 2.633
A15: Fósforo | B15: Fósforo (P) | C15: 215.6
A16: Hierro | B16: Hierro (Fe) | C16: 666.9
A17: Litio | B17: Litio (Li) | C17: < 0,09
A18: Magnesio | B18: Magnesio (Mg) | C18: 150.6
A19: Manganeso | B19: Manganeso (Mn) | C19: 123.5
A20: Mercurio | B20: Mercurio (Hg) | C20: < 0,021
A21: Molibdeno | B21: Molibdeno (Mo) | C21: 1.352
A22: Níquel | B22: Níquel (Ni) | C22: 2.621
A23: Plata | B23: Plata (Ag) | C23: 0.2869
A24: Plomo | B24: Plomo (Pb) | C24: 42.71
A25: Potasio | B25: Potasio (K) | C25: 50.6
A26: Selenio | B26: Selenio (Se) | C26: < 0,421
A27: Silicio | B27: Silicio (Si) | C27: 71.7
A28: Sodio | B28: Sodio (Na) | C28: < 191,7
A29: Talio | B29: Talio (Tl) | C29: < 0,008
A30: Titanio | B30: Titanio (Ti) | C30: 0.77
A31: Uranio | B31: Uranio (U) | C31: < 0,0071
A32: Vanadio | B32: Vanadio (V) | C32: < 0,071
A33: Zinc | B33: Zinc (Zn) | C33: 92.06

Sheet A.2.1. Promedio meteorologia
E1: Tabla A.2.1 Promedio de datos meteorológicos
D6: TÍTULO DEL ESTUDIO: | E6: EVALUACIÓN DE SEGUIMIENTO DE LA CALIDAD DEL AIRE EN EL ÁMBITO DE LA ZONA INDUSTRIAL DE VENTANILLA - MI PERÚ, UBICADO EN LOS DISTRITOS DE VENTANILLA Y MI PERÚ, PROVINCIA CONSTITUCIONAL DEL CALLAO, DURANTE JULIO DE 2020
D8: PUNTO DE MONITOREO: | E8: CA-VMP-6 | F8: CÓDIGO DE ACCIÓN: | G8: 0001-7-2020-411
D10: DATOS DEL EQUIPO
D12: EQUIPO: | E12: ESTACIÓN METEOROLÓGICA | F12: MARCA: | G12: DAVIS
D14: MODELO: | E14: VANTAGE PRO 2 | F14: SERIE: | G14: BB180411015
D16: DIA 1
A17: Fecha | B17: Hora | D17: Fecha y hora | E17: Presión atmosférica (mmHg) | F17: Temperatura ambiental (°C) | G17: Humedad relativa (%) | H17: Velocidad de Viento (m/s) | L17: P | M17: T | N17: HR | O17: WS
A18: 43881 | B18: 0.45833333 | K18: Mínimo | L18: =MIN(E18:E41,E46:E69,E74:E97,E102:E125,E130:E153) -> 0 | M18: =MIN(F18:F41,F46:F69,F74:F97,F102:F125,F130:F153) -> 0 | N18: =MIN(G18:G41,G46:G69,G74:G97,G102:G125,G130:G153) -> 0 | O18: =MIN(H18:H41,H46:H69,H74:H97,H102:H125,H130:H153) -> 0
A19: =A18 -> 43881 | B19: 0.5 | K19: Máximo | L19: =MAX(E18:E41,E46:E69,E74:E97,E102:E125,E130:E153) -> 0 | M19: =MAX(F18:F41,F46:F69,F74:F97,F102:F125,F130:F153) -> 0 | N19: =MAX(G18:G41,G46:G69,G74:G97,G102:G125,G130:G153) -> 0 | O19: =MAX(H18:H41,H46:H69,H74:H97,H102:H125,H130:H153) -> 0
A20: =A19 -> 43881 | B20: 0.54166667 | K20: Promedio | L20: =AVERAGE(E18:E41,E46:E69,E74:E97,E102:E125,E130:E153) -> #DIV/0! | M20: =AVERAGE(F18:F41,F46:F69,F74:F97,F102:F125,F130:F153) -> #DIV/0! | N20: =AVERAGE(G18:G41,G46:G69,G74:G97,G102:G125,G130:G153) -> #DIV/0! | O20: =AVERAGE(H18:H41,H46:H69,H74:H97,H102:H125,H130:H153) -> #DIV/0!
A21: =A20 -> 43881 | B21: 0.58333333 | K21: Desv Est | L21: =STDEV(E18:E41,E46:E69,E74:E97,E102:E125,E130:E153) -> #DIV/0! | M21: =STDEV(F18:F41,F46:F69,F74:F97,F102:F125,F130:F153) -> #DIV/0! | N21: =STDEV(G18:G41,G46:G69,G74:G97,G102:G125,G130:G153) -> #DIV/0! | O21: =STDEV(H18:H41,H46:H69,H74:H97,H102:H125,H130:H153) -> #DIV/0!
A22: =A21 -> 43881 | B22: 0.625 | K22: n | L22: =COUNT(E18:E41,E46:E69,E74:E97,E102:E125,E130:E153) -> 0 | M22: =COUNT(F18:F41,F46:F69,F74:F97,F102:F125,F130:F153) -> 0 | N22: =COUNT(G18:G41,G46:G69,G74:G97,G102:G125,G130:G153) -> 0 | O22: =COUNT(H18:H41,H46:H69,H74:H97,H102:H125,H130:H153) -> 0
A23: =A22 -> 43881 | B23: 0.66666667 | K23: SE | L23: =L21/SQRT(L22) -> #DIV/0! | M23: =M21/SQRT(M22) -> #DIV/0! | N23: =N21/SQRT(N22) -> #DIV/0! | O23: =O21/SQRT(O22) -> #DIV/0!
A24: =A23 -> 43881 | B24: 0.70833333
A25: =A24 -> 43881 | B25: 0.75
A26: =A25 -> 43881 | B26: 0.79166667
A27: =A26 -> 43881 | B27: 0.83333333
A28: =A27 -> 43881 | B28: 0.875
A29: =A28 -> 43881 | B29: 0.91666667
A30: =A29 -> 43881 | B30: 0.95833333
A31: =A30 -> 43881 | B31: 1
A32: =A31 -> 43881 | B32: 1.0416667
A33: =A32 -> 43881 | B33: 1.0833333
A34: =A33 -> 43881 | B34: 1.125
A35: =A34 -> 43881 | B35: 1.1666667
... A41: =A40 -> 43881 | B41: 1.4166667
D42: Promedio DIA 1 | E42: =AVERAGE(E18:E41) -> #DIV/0! | F42: =AVERAGE(F18:F41) -> #DIV/0! | G42: =AVERAGE(G18:G41) -> #DIV/0! | H42: =AVERAGE(H18:H41) -> #DIV/0!
D44: DIA 2
A45: Fecha | B45: Hora | D45: Fecha | E45: Presión atmosférica (mmHg) | F45: Temperatura ambiental (°C) | G45: Humedad relativa (%) | H45: Velocidad de Viento (m/s)
A46: =#REF!+4 -> #REF! | B46: 0.45833333
A47: =A46 -> #REF! | B47: 0.5
A48: =A47 -> #REF! | B48: 0.54166667
A49: =A48 -> #REF! | B49: 0.58333333
A50: =A49 -> #REF! | B50: 0.625
A51: =A50 -> #REF! | B51: 0.66666667
A52: =A51 -> #REF! | B52: 0.70833333
A53: =A52 -> #REF! | B53: 0.75
A54: =A53 -> #REF! | B54: 0.79166667
A55: =A54 -> #REF! | B55: 0.83333333
A56: =A55 -> #REF! | B56: 0.875
A57: =A56 -> #REF! | B57: 0.91666667
A58: =A57 -> #REF! | B58: 0.95833333
... A69: =A68 -> #REF! | B69: 1.4166667
D70: Promedio DIA 2 | E70: =AVERAGE(E46:E69) -> #DIV/0! | F70: =AVERAGE(F46:F69) -> #DIV/0! | G70: =AVERAGE(G46:G69) -> #DIV/0! | H70: =AVERAGE(H46:H69) -> #DIV/0!
D72: DIA 3
A73: Fecha | B73: Hora | D73: Fecha | E73: Presión atmosférica (mmHg) | F73: Temperatura ambiental (°C) | G73: Humedad relativa (%) | H73: Velocidad de Viento (m/s)
A74: =#REF!+1 -> #REF! | B74: 0.45833333
A75: =A74 -> #REF! | B75: 0.5
A76: =A75 -> #REF! | B76: 0.54166667
A77: =A76 -> #REF! | B77: 0.58333333
A78: =A77 -> #REF! | B78: 0.625
A79: =A78 -> #REF! | B79: 0.66666667
A80: =A79 -> #REF! | B80: 0.70833333
A81: =A80 -> #REF! | B81: 0.75
A82: =A81 -> #REF! | B82: 0.79166667
A83: =A82 -> #REF! | B83: 0.83333333
A84: =A83 -> #REF! | B84: 0.875
A85: =A84 -> #REF! | B85: 0.91666667
A86: =A85 -> #REF! | B86: 0.95833333
... A97: =A96 -> #REF! | B97: 1.4166667
D98: Promedio DIA 3 | E98: =AVERAGE(E74:E97) -> #DIV/0! | F98: =AVERAGE(F74:F97) -> #DIV/0! | G98: =AVERAGE(G74:G97) -> #DIV/0! | H98: =AVERAGE(H74:H97) -> #DIV/0!
D100: DIA 4
A101: Fecha | B101: Hora | D101: Fecha | E101: Presión atmosférica (mmHg) | F101: Temperatura ambiental (°C) | G101: Humedad relativa (%) | H101: Velocidad de Viento (m/s)
A102: =#REF!+1 -> #REF! | B102: 0.45833333
A103: =A102 -> #REF! | B103: 0.5
A104: =A103 -> #REF! | B104: 0.54166667
A105: =A104 -> #REF! | B105: 0.58333333
A106: =A105 -> #REF! | B106: 0.625
A107: =A106 -> #REF! | B107: 0.66666667
A108: =A107 -> #REF! | B108: 0.70833333
A109: =A108 -> #REF! | B109: 0.75
A110: =A109 -> #REF! | B110: 0.79166667
A111: =A110 -> #REF! | B111: 0.83333333
A112: =A111 -> #REF! | B112: 0.875
A113: =A112 -> #REF! | B113: 0.91666667
A114: =A113 -> #REF! | B114: 0.95833333
... A125: =A124 -> #REF! | B125: 1.4166667
D126: Promedio DIA 4 | E126: =AVERAGE(E102:E125) -> #DIV/0! | F126: =AVERAGE(F102:F125) -> #DIV/0! | G126: =AVERAGE(G102:G125) -> #DIV/0! | H126: =AVERAGE(H102:H125) -> #DIV/0!
D128: DIA 5
A129: Fecha | B129: Hora | D129: Fecha | E129: Presión atmosférica (mmHg) | F129: Temperatura ambiental (°C) | G129: Humedad relativa (%) | H129: Velocidad de Viento (m/s)
A130: =#REF!+1 -> #REF! | B130: 0.45833333
A131: =A130 -> #REF! | B131: 0.5
A132: =A131 -> #REF! | B132: 0.54166667
A133: =A132 -> #REF! | B133: 0.58333333
A134: =A133 -> #REF! | B134: 0.625
A135: =A134 -> #REF! | B135: 0.66666667
A136: =A135 -> #REF! | B136: 0.70833333
A137: =A136 -> #REF! | B137: 0.75
A138: =A137 -> #REF! | B138: 0.79166667
A139: =A138 -> #REF! | B139: 0.83333333
A140: =A139 -> #REF! | B140: 0.875
A141: =A140 -> #REF! | B141: 0.91666667
A142: =A141 -> #REF! | B142: 0.95833333
... A153: =A152 -> #REF! | B153: 1.4166667
D154: Promedio DIA 5 | E154: =AVERAGE(E130:E153) -> #DIV/0! | F154: =AVERAGE(F130:F153) -> #DIV/0! | G154: =AVERAGE(G130:G153) -> #DIV/0! | H154: =AVERAGE(H130:H153) -> #DIV/0!

Sheet A.2.2. Promedio diarios (T y P)
F2: Tabla A.2.2. Promedios diarios de temperatura y presión para el cálculo de concentración
B7: TÍTULO DEL ESTUDIO: | D7: ='A.2.1. Promedio meteorologia'!E6 -> EVALUACIÓN DE SEGUIMIENTO DE LA CALIDAD DEL AIRE EN EL ÁMBITO DE LA ZONA INDUSTRIAL DE VENTANILLA - MI PERÚ, UBICADO EN LOS DISTRITOS DE VENTANILLA Y MI PERÚ, PROVINCIA CONSTITUCIONAL DEL CALLAO, DURANTE JULIO DE 2020
B9: PUNTO DE MONITOREO: | D9: =+'A.2.1. Promedio meteorologia'!E8 -> CA-VMP-6 | F9: CÓDIGO DE ACCIÓN: | H9: =+'A.2.1. Promedio meteorologia'!G8 -> 0001-7-2020-411 | J9: DÍAS DE MONITOREO: | N9: 5
B11: MEDICIONES PROMEDIO (DATOS DÍARIOS)
B13: DÍA 1 | C13: INICIO: | F13: FINAL: | I13: PERIODO : | J13: =G13-D13 -> 0 | L13: horas | M13: =$J13*60*24 -> 0 | N13: min
B15: Datos horarios registrados: | E15: =J13 -> 0 | F15: horas
B17: Temperatura (°C): | E17: ='A.2.1. Promedio meteorologia'!F42 -> #DIV/0! | F17: Presión (mm Hg): | H17: ='A.2.1. Promedio meteorologia'!E42 -> #DIV/0!
B20: DÍA 2 | C20: INICIO: | F20: FINAL: | I20: PERIODO : | J20: =G20-D20 -> 0 | L20: horas | M20: =$J20*60*24 -> 0 | N20: min
B22: Datos horarios registrados: | E22: =J20 -> 0 | F22: horas
B24: Temperatura (°C): | E24: ='A.2.1. Promedio meteorologia'!F70 -> #DIV/0! | F24: Presión (mm Hg): | H24: ='A.2.1. Promedio meteorologia'!E70 -> #DIV/0!
B27: DÍA 3 | C27: INICIO: | F27: FINAL: | I27: PERIODO : | J27: =G27-D27 -> 0 | L27: horas | M27: =$J27*60*24 -> 0 | N27: min
B29: Datos horarios registrados: | E29: =J27 -> 0 | F29: horas
B31: Temperatura (°C): | E31: ='A.2.1. Promedio meteorologia'!F98 -> #DIV/0! | F31: Presión (mm Hg): | H31: ='A.2.1. Promedio meteorologia'!E98 -> #DIV/0!
B34: DÍA 4 | C34: INICIO: | F34: FINAL: | I34: PERIODO : | J34: =G34-D34 -> 0 | L34: horas | M34: =$J34*60*24 -> 0 | N34: min
B36: Datos horarios registrados: | E36: =J34 -> 0 | F36: horas
B38: Temperatura (°C): | E38: ='A.2.1. Promedio meteorologia'!F126 -> #DIV/0! | F38: Presión (mm Hg): | H38: ='A.2.1. Promedio meteorologia'!E126 -> #DIV/0!
B41: DÍA 5 | C41: INICIO: | F41: FINAL: | I41: PERIODO : | J41: =G41-D41 -> 0 | L41: horas | M41: =$J41*60*24 -> 0 | N41: min
B43: Datos horarios registrados: | E43: =J41 -> 0 | F43: horas
B45: Temperatura (°C): | E45: ='A.2.1. Promedio meteorologia'!F154 -> #DIV/0! | F45: Presión (mm Hg): | H45: ='A.2.1. Promedio meteorologia'!E154 -> #DIV/0!
B48: OBSERVACIONES:

Sheet A.2.3. Flujo promedio
D2: Tabla A.2.3. Flujo de muestreo promedio para muestreadores de alto volumen
B7: TÍTULO DEL ESTUDIO: | D7: =+'A.2.1. Promedio meteorologia'!E6 -> EVALUACIÓN DE SEGUIMIENTO DE LA CALIDAD DEL AIRE EN EL ÁMBITO DE LA ZONA INDUSTRIAL DE VENTANILLA - MI PERÚ, UBICADO EN LOS DISTRITOS DE VENTANILLA Y MI PERÚ, PROVINCIA CONSTITUCIONAL DEL CALLAO, DURANTE JULIO DE 2020
B9: ESTACIÓN DE MONITOREO: | D9: ='A.2.2. Promedio diarios (T y P)'!D9:D9 -> CA-VMP-6 | F9: CÓDIGO DE ACCIÓN: | H9: =+'A.2.2. Promedio diarios (T y P)'!H9 -> 0001-7-2020-411 | I9: CANTIDAD DE DÍAS | J9: =+'A.2.2. Promedio diarios (T y P)'!N9 -> 5
B11: DATOS DE LOS EQUIPOS
B13: Barómetro | D13: MARCA: | E13: - | F13: MODELO: | G13: - | H13: SERIE: | I13: -
B15: Venturi PM-10 | D15: MARCA: | F15: THERMO SCIENTIFIC
D16: MODELO: | F16: HI VOL
D17: SERIE: | F17: P9328X
B19: CÁLCULOS
B21: PM-10
B22: DÍA 1 | C22: Fecha Inicio: | E22: =+'A.2.2. Promedio diarios (T y P)'!D13 -> 0 | G22: Fecha Final: | I22: =+'A.2.2. Promedio diarios (T y P)'!G13 -> 0 | M22: ∆ Flujo: | N22: =AVERAGE(M24,M32,M40,M48,M56) -> 0.67
B24: Presión inicial: | D24: 20.2 | E24: pulg H2O | G24: Presión final: | I24: 21.4 | J24: pulg H2O | M24: =I24-D24 -> 1.2
B26: PRESIÓN ATMOSFÉRICA | F26: Ta (°C) | G26: T (°C) inferior | H26: T (°C) superior | I26: Flujo de muestreo, en m3/min (Qa)
B27: Δh (pulg H2O) | C27: Pf (mm Hg) | D27: Pa (mm Hg) | E27: Po/Pa | G27: =+H27-2 -> #DIV/0! | H27: =EVEN(F28) -> #DIV/0!
B28: =AVERAGE(D24,I24) -> 20.8 | C28: =25.4*B28/13.61 -> 38.818516 | D28: =+'A.2.2. Promedio diarios (T y P)'!H17 -> #DIV/0! | E28: =1-(C28/D28) -> #DIV/0! | F28: =+'A.2.2. Promedio diarios (T y P)'!E17 -> #DIV/0! | G28: 1.15 | H28: 1.153 | I28: =-(H28-G28)/(H27-G27)*(H27-F28)+H28 -> #DIV/0!
B30: DÍA 2 | C30: Fecha Inicio: | E30: =+'A.2.2. Promedio diarios (T y P)'!D20 -> 0 | G30: Fecha Final: | I30: =+'A.2.2. Promedio diarios (T y P)'!G20 -> 0
B32: Presión inicial: | D32: 21.3 | E32: pulg H2O | G32: Presión final: | I32: 21.6 | J32: pulg H2O | M32: =I32-D32 -> 0.3
B34: PRESIÓN ATMOSFÉRICA | F34: Ta (°C) | G34: T (°C) inferior | H34: T (°C) superior | I34: Flujo de muestreo, en m3/min (Qa)
B35: Δh (pulg H2O) | C35: Pf (mm Hg) | D35: Pa (mm Hg) | E35: Po/Pa | G35: =+H35-2 -> #DIV/0! | H35: =EVEN(F36) -> #DIV/0!
B36: =AVERAGE(D32,I32) -> 21.45 | C36: =25.4*B36/13.61 -> 40.031594 | D36: =+'A.2.2. Promedio diarios (T y P)'!H24 -> #DIV/0! | E36: =1-(C36/D36) -> #DIV/0! | F36: =+'A.2.2. Promedio diarios (T y P)'!E24 -> #DIV/0! | G36: 1.147 | H36: 1.151 | I36: =-(H36-G36)/(H35-G35)*(H35-F36)+H36 -> #DIV/0!
B38: DÍA 3 | C38: Fecha Inicio: | E38: =+'A.2.2. Promedio diarios (T y P)'!D27 -> 0 | G38: Fecha Final: | I38: =+'A.2.2. Promedio diarios (T y P)'!G27 -> 0
B40: Presión inicial: | D40: 20.9 | E40: pulg H2O | G40: Presión final: | I40: 21.5 | J40: pulg H2O | M40: =I40-D40 -> 0.6
B42: PRESIÓN ATMOSFÉRICA | F42: Ta (°C) | G42: T (°C) inferior | H42: T (°C) superior | I42: Flujo de muestreo, en m3/min (Qa)
B43: Δh (pulg H2O) | C43: Pf (mm Hg) | D43: Pa (mm Hg) | E43: Po/Pa | G43: =+H43-2 -> #DIV/0! | H43: =EVEN(F44) -> #DIV/0!
B44: =AVERAGE(D40,I40) -> 21.2 | C44: =25.4*B44/13.61 -> 39.565026 | D44: =+'A.2.2. Promedio diarios (T y P)'!H31 -> #DIV/0! | E44: =1-(C44/D44) -> #DIV/0! | F44: =+'A.2.2. Promedio diarios (T y P)'!E31 -> #DIV/0! | G44: 1.148 | H44: 1.152 | I44: =-(H44-G44)/(H43-G43)*(H43-F44)+H44 -> #DIV/0!
B46: DÍA 4 | C46: Fecha Inicio: | E46: =+'A.2.2. Promedio diarios (T y P)'!D34 -> 0 | G46: Fecha Final: | I46: =+'A.2.2. Promedio diarios (T y P)'!G34 -> 0
B48: Presión inicial: | D48: 21.7 | E48: pulg H2O | G48: Presión final: | I48: 22.25 | J48: pulg H2O | M48: =I48-D48 -> 0.55
B50: PRESIÓN ATMOSFÉRICA | F50: Ta (°C) | G50: T (°C) inferior | H50: T (°C) superior | I50: Flujo de muestreo, en m3/min (Qa)
B51: Δh (pulg H2O) | C51: Pf (mm Hg) | D51: Pa (mm Hg) | E51: Po/Pa | G51: =+H51-2 -> #DIV/0! | H51: =EVEN(F52) -> #DIV/0!
B52: =AVERAGE(D48,I48) -> 21.975 | C52: =25.4*B52/13.61 -> 41.011389 | D52: =+'A.2.2. Promedio diarios (T y P)'!H38 -> #DIV/0! | E52: =1-(C52/D52) -> #DIV/0! | F52: =+'A.2.2. Promedio diarios (T y P)'!E38 -> #DIV/0! | G52: 1.146 | H52: 1.149 | I52: =-(H52-G52)/(H51-G51)*(H51-F52)+H52 -> #DIV/0!
B54: DÍA 5 | C54: Fecha Inicio: | E54: =+'A.2.2. Promedio diarios (T y P)'!D41 -> 0 | G54: Fecha Final: | I54: =+'A.2.2. Promedio diarios (T y P)'!G41 -> 0
B56: Presión inicial: | D56: 21.6 | E56: pulg H2O | G56: Presión final: | I56: 22.3 | J56: pulg H2O | M56: =I56-D56 -> 0.7
B58: PRESIÓN ATMOSFÉRICA | F58: Ta (°C) | G58: T (°C) inferior | H58: T (°C) superior | I58: Flujo de muestreo, en m3/min (Qa)
B59: Δh (pulg H2O) | C59: Pf (mm Hg) | D59: Pa (mm Hg) | E59: Po/Pa | G59: =+H59-2 -> #DIV/0! | H59: =EVEN(F60) -> #DIV/0!
B60: =AVERAGE(D56,I56) -> 21.95 | C60: =25.4*B60/13.61 -> 40.964732 | D60: =+'A.2.2. Promedio diarios (T y P)'!H45 -> #DIV/0! | E60: =1-(C60/D60) -> #DIV/0! | F60: =+'A.2.2. Promedio diarios (T y P)'!E45 -> #DIV/0! | G60: 1.146 | H60: 1.149 | I60: =-(H60-G60)/(H59-G59)*(H59-F60)+H60 -> #DIV/0!
B62: DÍA 6 | C62: Fecha Inicio: | E62: =+'A.2.2. Promedio diarios (T y P)'!#REF! -> #REF! | G62: Fecha Final: | I62: =+'A.2.2. Promedio diarios (T y P)'!#REF! -> #REF!
B64: Presión inicial: | E64: pulg H2O | G64: Presión final: | J64: pulg H2O
B66: PRESIÓN ATMOSFÉRICA | F66: Ta (°C) | G66: T (°C) inferior | H66: T (°C) superior | I66: Flujo de muestreo, en m3/min (Qa)
B67: Δh (pulg H2O) | C67: Pf (mm Hg) | D67: Pa (mm Hg) | E67: Po/Pa | G67: =+H67-2 -> #REF! | H67: =EVEN(F68) -> #REF!
B68: =AVERAGE(D64,I64) -> #DIV/0! | C68: =25.4*B68/13.61 -> #DIV/0! | D68: =+'A.2.2. Promedio diarios (T y P)'!#REF! -> #REF! | E68: =1-(C68/D68) -> #DIV/0! | F68: =+'A.2.2. Promedio diarios (T y P)'!#REF! -> #REF! | I68: =-(H68-G68)/(H67-G67)*(H67-F68)+H68 -> #REF!
B70: DÍA 7 | C70: Fecha Inicio: | E70: =+'A.2.2. Promedio diarios (T y P)'!#REF! -> #REF! | G70: Fecha Final: | I70: =+'A.2.2. Promedio diarios (T y P)'!#REF! -> #REF!
B72: Presión inicial: | E72: pulg H2O | G72: Presión final: | J72: pulg H2O
B74: PRESIÓN ATMOSFÉRICA | F74: Ta (°C) | G74: T (°C) inferior | H74: T (°C) superior | I74: Flujo de muestreo, en m3/min (Qa)
B75: Δh (pulg H2O) | C75: Pf (mm Hg) | D75: Pa (mm Hg) | E75: Po/Pa | G75: =+H75-2 -> #REF! | H75: =EVEN(F76) -> #REF!
B76: =AVERAGE(D72,I72) -> #DIV/0! | C76: =25.4*B76/13.61 -> #DIV/0! | D76: =+'A.2.2. Promedio diarios (T y P)'!#REF! -> #REF! | E76: =1-(C76/D76) -> #DIV/0! | F76: =+'A.2.2. Promedio diarios (T y P)'!#REF! -> #REF! | I76: =-(H76-G76)/(H75-G75)*(H75-F76)+H76 -> #REF!
B78: DÍA 8 | C78: Fecha Inicio: | E78: =+'A.2.2. Promedio diarios (T y P)'!#REF! -> #REF! | G78: Fecha Final: | I78: =+'A.2.2. Promedio diarios (T y P)'!#REF! -> #REF!
B80: Presión inicial: | E80: pulg H2O | G80: Presión final: | J80: pulg H2O
B82: PRESIÓN ATMOSFÉRICA | F82: Ta (°C) | G82: T (°C) inferior | H82: T (°C) superior | I82: Flujo prom (m3/min)
B83: Δh (pulg H2O) | C83: Pf (mm Hg) | D83: Pa (mm Hg) | E83: Po/Pa | G83: =+H83-2 -> #REF! | H83: =EVEN(F84) -> #REF!
B84: =AVERAGE(D80,I80) -> #DIV/0! | C84: =25.4*B84/13.61 -> #DIV/0! | D84: =+'A.2.2. Promedio diarios (T y P)'!#REF! -> #REF! | E84: =1-(C84/D84) -> #DIV/0! | F84: =+'A.2.2. Promedio diarios (T y P)'!#REF! -> #REF! | I84: =-(H84-G84)/(H83-G83)*(H83-F84)+H84 -> #REF!
B86: DÍA 9 | C86: Fecha Inicio: | E86: =+'A.2.2. Promedio diarios (T y P)'!#REF! -> #REF! | G86: Fecha Final: | I86: =+'A.2.2. Promedio diarios (T y P)'!#REF! -> #REF!
B88: Presión inicial: | E88: pulg H2O | G88: Presión final: | J88: pulg H2O
B90: PRESIÓN ATMOSFÉRICA | F90: Ta (°C) | G90: T (°C) inferior | H90: T (°C) superior | I90: Flujo prom (m3/min)
B91: Δh (pulg H2O) | C91: Pf (mm Hg) | D91: Pa (mm Hg) | E91: Po/Pa | G91: =+H91-2 -> #REF! | H91: =EVEN(F92) -> #REF!
B92: =AVERAGE(D88,I88) -> #DIV/0! | C92: =25.4*B92/13.61 -> #DIV/0! | D92: =+'A.2.2. Promedio diarios (T y P)'!#REF! -> #REF! | E92: =1-(C92/D92) -> #DIV/0! | F92: =+'A.2.2. Promedio diarios (T y P)'!#REF! -> #REF! | I92: =-(H92-G92)/(H91-G91)*(H91-F92)+H92 -> #REF!
B94: DÍA 10 | C94: Fecha Inicio: | E94: =+'A.2.2. Promedio diarios (T y P)'!#REF! -> #REF! | G94: Fecha Final: | I94: =+'A.2.2. Promedio diarios (T y P)'!#REF! -> #REF!
B96: Presión inicial: | E96: pulg H2O | G96: Presión final: | J96: pulg H2O
B98: PRESIÓN ATMOSFÉRICA | F98: Ta (°C) | G98: T (°C) inferior | H98: T (°C) superior | I98: Flujo prom (m3/min)
B99: Δh (pulg H2O) | C99: Pf (mm Hg) | D99: Pa (mm Hg) | E99: Po/Pa | G99: =+H99-2 -> #REF! | H99: =EVEN(F100) -> #REF!
B100: =AVERAGE(D96,I96) -> #DIV/0! | C100: =25.4*B100/13.61 -> #DIV/0! | D100: =+'A.2.2. Promedio diarios (T y P)'!#REF! -> #REF! | E100: =1-(C100/D100) -> #DIV/0! | F100: =+'A.2.2. Promedio diarios (T y P)'!#REF! -> #REF! | I100: =-(H100-G100)/(H99-G99)*(H99-F100)+H100 -> #REF!
B102: DÍA 11 | C102: Fecha Inicio: | E102: =+'A.2.2. Promedio diarios (T y P)'!#REF! -> #REF! | G102: Fecha Final: | I102: =+'A.2.2. Promedio diarios (T y P)'!#REF! -> #REF!
B104: Presión inicial: | E104: pulg H2O | G104: Presión final: | J104: pulg H2O
B106: PRESIÓN ATMOSFÉRICA | F106: Ta (°C) | G106: T (°C) inferior | H106: T (°C) superior | I106: Flujo prom (m3/min)
B107: Δh (pulg H2O) | C107: Pf (mm Hg) | D107: Pa (mm Hg) | E107: Po/Pa | G107: =+H107-2 -> #REF! | H107: =EVEN(F108) -> #REF!
B108: =AVERAGE(D104,I104) -> #DIV/0! | C108: =25.4*B108/13.61 -> #DIV/0! | D108: =+'A.2.2. Promedio diarios (T y P)'!#REF! -> #REF! | E108: =1-(C108/D108) -> #DIV/0! | F108: =+'A.2.2. Promedio diarios (T y P)'!#REF! -> #REF! | I108: =-(H108-G108)/(H107-G107)*(H107-F108)+H108 -> #REF!
B110: DÍA 12 | C110: Fecha Inicio: | E110: =+'A.2.2. Promedio diarios (T y P)'!#REF! -> #REF! | G110: Fecha Final: | I110: =+'A.2.2. Promedio diarios (T y P)'!#REF! -> #REF!
B112: Presión inicial: | E112: pulg H2O | G112: Presión final: | J112: pulg H2O
B114: PRESIÓN ATMOSFÉRICA | F114: Ta (°C) | G114: T (°C) inferior | H114: T (°C) superior | I114: Flujo prom (m3/min)
B115: Δh (pulg H2O) | C115: Pf (mm Hg) | D115: Pa (mm Hg) | E115: Po/Pa | G115: =+H115-2 -> #REF! | H115: =EVEN(F116) -> #REF!
B116: =AVERAGE(D112,I112) -> #DIV/0! | C116: =25.4*B116/13.61 -> #DIV/0! | D116: =+'A.2.2. Promedio diarios (T y P)'!#REF! -> #REF! | E116: =1-(C116/D116) -> #DIV/0! | F116: =+'A.2.2. Promedio diarios (T y P)'!#REF! -> #REF! | I116: =-(H116-G116)/(H115-G115)*(H115-F116)+H116 -> #REF!
B118: DÍA 13 | C118: Fecha Inicio: | E118: =+'A.2.2. Promedio diarios (T y P)'!#REF! -> #REF! | G118: Fecha Final: | I118: =+'A.2.2. Promedio diarios (T y P)'!#REF! -> #REF!
B120: Presión inicial: | E120: pulg H2O | G120: Presión final: | J120: pulg H2O
B122: PRESIÓN ATMOSFÉRICA | F122: Ta (°C) | G122: T (°C) inferior | H122: T (°C) superior | I122: Flujo prom (m3/min)
B123: Δh (pulg H2O) | C123: Pf (mm Hg) | D123: Pa (mm Hg) | E123: Po/Pa | G123: =+H123-2 -> #REF! | H123: =EVEN(F124) -> #REF!
B124: =AVERAGE(D120,I120) -> #DIV/0! | C124: =25.4*B124/13.61 -> #DIV/0! | D124: =+'A.2.2. Promedio diarios (T y P)'!#REF! -> #REF! | E124: =1-(C124/D124) -> #DIV/0! | F124: =+'A.2.2. Promedio diarios (T y P)'!#REF! -> #REF! | I124: =-(H124-G124)/(H123-G123)*(H123-F124)+H124 -> #REF!
B126: DÍA 14 | C126: Fecha Inicio: | E126: =+'A.2.2. Promedio diarios (T y P)'!#REF! -> #REF! | G126: Fecha Final: | I126: =+'A.2.2. Promedio diarios (T y P)'!#REF! -> #REF!
B128: Presión inicial: | E128: pulg H2O | G128: Presión final: | J128: pulg H2O
B130: PRESIÓN ATMOSFÉRICA | F130: Ta (°C) | G130: T (°C) inferior | H130: T (°C) superior | I130: Flujo prom (m3/min)
B131: Δh (pulg H2O) | C131: Pf (mm Hg) | D131: Pa (mm Hg) | E131: Po/Pa | G131: =+H131-2 -> #REF! | H131: =EVEN(F132) -> #REF!
B132: =AVERAGE(D128,I128) -> #DIV/0! | C132: =25.4*B132/13.61 -> #DIV/0! | D132: =+'A.2.2. Promedio diarios (T y P)'!#REF! -> #REF! | E132: =1-(C132/D132) -> #DIV/0! | F132: =+'A.2.2. Promedio diarios (T y P)'!#REF! -> #REF! | I132: =-(H132-G132)/(H131-G131)*(H131-F132)+H132 -> #REF!
B134: DÍA 15 | C134: Fecha Inicio: | E134: =+'A.2.2. Promedio diarios (T y P)'!#REF! -> #REF! | G134: Fecha Final: | I134: =+'A.2.2. Promedio diarios (T y P)'!#REF! -> #REF!
B136: Presión inicial: | E136: pulg H2O | G136: Presión final: | J136: pulg H2O
B138: PRESIÓN ATMOSFÉRICA | F138: Ta (°C) | G138: T (°C) inferior | H138: T (°C) superior | I138: Flujo prom (m3/min)
B139: Δh (pulg H2O) | C139: Pf (mm Hg) | D139: Pa (mm Hg) | E139: Po/Pa | G139: =+H139-2 -> #REF! | H139: =EVEN(F140) -> #REF!
B140: =AVERAGE(D136,I136) -> #DIV/0! | C140: =25.4*B140/13.61 -> #DIV/0! | D140: =+'A.2.2. Promedio diarios (T y P)'!#REF! -> #REF! | E140: =1-(C140/D140) -> #DIV/0! | F140: =+'A.2.2. Promedio diarios (T y P)'!#REF! -> #REF! | I140: =-(H140-G140)/(H139-G139)*(H139-F140)+H140 -> #REF!
B142: OBSERVACIONES:
B143: "-" : No aplica.

Sheet A.2.4. Cálculo PM10 y VM
E2: Tabla A.2.4. Concentración de PM10 y el volumen muestreado de metales - alto volumen
B7: TÍTULO DEL ESTUDIO: | E7: =+'A.2.1. Promedio meteorologia'!E6 -> EVALUACIÓN DE SEGUIMIENTO DE LA CALIDAD DEL AIRE EN EL ÁMBITO DE LA ZONA INDUSTRIAL DE VENTANILLA - MI PERÚ, UBICADO EN LOS DISTRITOS DE VENTANILLA Y MI PERÚ, PROVINCIA CONSTITUCIONAL DEL CALLAO, DURANTE JULIO DE 2020
B9: ESTACIÓN DE MONITOREO: | E9: ='A.2.1. Promedio meteorologia'!E8 -> CA-VMP-6 | H9: CÓDIGO DE ACCIÓN: | J9: ='A.2.1. Promedio meteorologia'!G8 -> 0001-7-2020-411
B11: N° | C11: Parámetro | D11: N° Filtro | E11: Fecha Inicio | F11: Fecha Final | G11: Tiempo o periodo de muestreo en minutos (t) | I11: Flujo de muestreo, en m3/min (Qa) | K11: Volumen de muestreo en m3 (Va)* | L11: ΔPeso (µg) ** | M11: Concentración de partículas (µg/m3)
B12: 1 | C12: PM10 | D12: 431014 | E12: =+'A.2.2. Promedio diarios (T y P)'!D13 -> 0 | F12: =+'A.2.2. Promedio diarios (T y P)'!G13 -> 0 | G12: =+'A.2.2. Promedio diarios (T y P)'!M13 -> 0 | I12: =+'A.2.3. Flujo promedio'!I28 -> #DIV/0! | K12: =+I12*G12 -> #DIV/0! | L12: 97400 | M12: =IF(L12="","",L12/K12) -> #DIV/0!
B13: 2 | D13: 431015 | E13: =+'A.2.2. Promedio diarios (T y P)'!D20 -> 0 | F13: =+'A.2.2. Promedio diarios (T y P)'!G20 -> 0 | G13: =+'A.2.2. Promedio diarios (T y P)'!M20 -> 0 | I13: ='A.2.3. Flujo promedio'!I36:J36 -> #DIV/0! | K13: =+I13*G13 -> #DIV/0! | L13: 76000 | M13: =IF(L13="","",L13/K13) -> #DIV/0!
B14: 3 | D14: 431016 | E14: =+'A.2.2. Promedio diarios (T y P)'!D27 -> 0 | F14: =+'A.2.2. Promedio diarios (T y P)'!G27 -> 0 | G14: =+'A.2.2. Promedio diarios (T y P)'!M27 -> 0 | I14: ='A.2.3. Flujo promedio'!I44:J44 -> #DIV/0! | K14: =+I14*G14 -> #DIV/0! | L14: 92300 | M14: =IF(L14="","",L14/K14) -> #DIV/0!
B15: 4 | D15: 431017 | E15: =+'A.2.2. Promedio diarios (T y P)'!D34 -> 0 | F15: =+'A.2.2. Promedio diarios (T y P)'!G34 -> 0 | G15: =+'A.2.2. Promedio diarios (T y P)'!M34 -> 0 | I15: ='A.2.3. Flujo promedio'!I52:J52 -> #DIV/0! | K15: =+I15*G15 -> #DIV/0! | L15: 118200 | M15: =IF(L15="","",L15/K15) -> #DIV/0!
B16: 5 | D16: 431018 | E16: =+'A.2.2. Promedio diarios (T y P)'!D41 -> 0 | F16: =+'A.2.2. Promedio diarios (T y P)'!G41 -> 0 | G16: =+'A.2.2. Promedio diarios (T y P)'!M41 -> 0 | I16: ='A.2.3. Flujo promedio'!I60:J60 -> #DIV/0! | K16: =+I16*G16 -> #DIV/0! | L16: 122400 | M16: =IF(L16="","",L16/K16) -> #DIV/0!
B17: 6 | E17: =+'A.2.2. Promedio diarios (T y P)'!#REF! -> #REF! | F17: =+'A.2.2. Promedio diarios (T y P)'!#REF! -> #REF! | G17: =+'A.2.2. Promedio diarios (T y P)'!#REF! -> #REF! | I17: =+#REF! -> #REF! | K17: =+I17*G17 -> #REF! | M17: =IF(L17="","",L17/K17)
B18: 7 | E18: =+'A.2.2. Promedio diarios (T y P)'!#REF! -> #REF! | F18: =+'A.2.2. Promedio diarios (T y P)'!#REF! -> #REF! | G18: =+'A.2.2. Promedio diarios (T y P)'!#REF! -> #REF! | I18: =+#REF! -> #REF! | K18: =+I18*G18 -> #REF! | M18: =IF(L18="","",L18/K18)
B19: 8 | E19: =+'A.2.2. Promedio diarios (T y P)'!#REF! -> #REF! | F19: =+'A.2.2. Promedio diarios (T y P)'!#REF! -> #REF! | G19: =+'A.2.2. Promedio diarios (T y P)'!#REF! -> #REF! | I19: =+#REF! -> #REF! | K19: =+I19*G19 -> #REF! | M19: =IF(L19="","",L19/K19)
B20: 9 | E20: =+'A.2.2. Promedio diarios (T y P)'!#REF! -> #REF! | F20: =+'A.2.2. Promedio diarios (T y P)'!#REF! -> #REF! | G20: =+'A.2.2. Promedio diarios (T y P)'!#REF! -> #REF! | I20: =+#REF! -> #REF! | K20: =+I20*G20 -> #REF! | M20: =IF(L20="","",L20/K20)
B21: 10 | E21: =+'A.2.2. Promedio diarios (T y P)'!#REF! -> #REF! | F21: =+'A.2.2. Promedio diarios (T y P)'!G9 -> 0 | G21: =+'A.2.2. Promedio diarios (T y P)'!#REF! -> #REF! | I21: =+#REF! -> #REF! | K21: =+I21*G21 -> #REF! | M21: =IF(L21="","",L21/K21)
B22: 11 | E22: =+'A.2.2. Promedio diarios (T y P)'!#REF! -> #REF! | F22: =+'A.2.2. Promedio diarios (T y P)'!#REF! -> #REF! | G22: =+'A.2.2. Promedio diarios (T y P)'!#REF! -> #REF! | I22: =+#REF! -> #REF! | K22: =+I22*G22 -> #REF! | M22: =IF(L22="","",L22/K22)
B23: 12 | E23: =+'A.2.2. Promedio diarios (T y P)'!#REF! -> #REF! | F23: =+'A.2.2. Promedio diarios (T y P)'!#REF! -> #REF! | G23: =+'A.2.2. Promedio diarios (T y P)'!#REF! -> #REF! | I23: =+#REF! -> #REF! | K23: =+I23*G23 -> #REF! | M23: =IF(L23="","",L23/K23)
B24: 13 | E24: =+'A.2.2. Promedio diarios (T y P)'!#REF! -> #REF! | F24: =+'A.2.2. Promedio diarios (T y P)'!#REF! -> #REF! | G24: =+'A.2.2. Promedio diarios (T y P)'!#REF! -> #REF! | I24: =+#REF! -> #REF! | K24: =+I24*G24 -> #REF! | M24: =IF(L24="","",L24/K24)
B25: 14 | E25: =+'A.2.2. Promedio diarios (T y P)'!#REF! -> #REF! | F25: =+'A.2.2. Promedio diarios (T y P)'!#REF! -> #REF! | G25: =+'A.2.2. Promedio diarios (T y P)'!#REF! -> #REF! | I25: =+#REF! -> #REF! | K25: =+I25*G25 -> #REF! | M25: =IF(L25="","",L25/K25)
B26: 15 | E26: =+'A.2.2. Promedio diarios (T y P)'!#REF! -> #REF! | F26: =+'A.2.2. Promedio diarios (T y P)'!#REF! -> #REF! | G26: =+'A.2.2. Promedio diarios (T y P)'!#REF! -> #REF! | I26: =+#REF! -> #REF! | K26: =+I26*G26 -> #REF! | M26: =IF(L26="","",L26/K26)
B28: OBSERVACIONES:
B29: (*) En el caso del material particulado y las sustancias que deben analizarse en la fase de partículas (metales, iones, carbonáceas, otros), el volumen de muestreo se debe expresar en las condiciones ambientales (volumen actual) en términos de temperatura ambiental y presión atmosférica promedio, medidas durante el período de muestreo. (Sección L.1.3 Cálculo de concentraciones señalada en el Protocolo de Monitoreo de la Calidad del aire del MINAM - D.S. N° 010-2019-MINAM). (**) Fuente: Informe de Ensayo N.° 13036/2020, 13042/2020 y 14275/2020 del laboratorio ALS LS Perú S.A.C. "-" : No aplica.

Sheet A.2.5. Cálculo PM 2.5
E2: Tabla A.2.6. Concentración de PM2,5 - bajo volumen
B7: DESCRIPCIÓN: | E7: =+'A.2.1. Promedio meteorologia'!E6 -> EVALUACIÓN DE SEGUIMIENTO DE LA CALIDAD DEL AIRE EN EL ÁMBITO DE LA ZONA INDUSTRIAL DE VENTANILLA - MI PERÚ, UBICADO EN LOS DISTRITOS DE VENTANILLA Y MI PERÚ, PROVINCIA CONSTITUCIONAL DEL CALLAO, DURANTE JULIO DE 2020
B9: ESTACIÓN DE MONITOREO: | E9: =+'A.2.4. Cálculo PM10 y VM'!E9:F9 -> CA-VMP-6 | H9: CÓDIGO DE ACCIÓN: | J9: =+'A.2.3. Flujo promedio'!H9 -> 0001-7-2020-411
B11: N° | C11: Parámetro | D11: N° Filtro | E11: Fecha Inicio | F11: Fecha Final | G11: Tiempo o periodo de muestreo en minutos (t) | I11: Flujo de muestreo, en L/min (Q)* | J11: Volumen de muestreo (m3)* | L11: ΔPeso (µg) ** | M11: Concentración de partículas (µg/m3)
B12: 1 | C12: PM2,5 | D12: - | E12: - | F12: - | G12: - | I12: - | J12: - | L12: - | M12: -
B13: 2 | D13: - | E13: - | F13: - | G13: - | I13: - | J13: - | L13: - | M13: -
B14: 3 | D14: - | E14: - | F14: - | G14: - | I14: - | J14: - | L14: - | M14: -
B15: 4 | D15: - | E15: - | F15: - | G15: - | I15: - | J15: - | L15: - | M15: -
B16: 5 | D16: - | E16: - | F16: - | G16: - | I16: - | J16: - | L16: - | M16: -
B17: 6 | G17: =(F17-E17)*60*24 -> 0 | K17: 23.51 | M17: =IF(L17="","",L17/K17)
B18: 7 | G18: =(F18-E18)*60*24 -> 0 | K18: 23.51 | M18: =IF(L18="","",L18/K18)
B19: 8 | G19: =(F19-E19)*60*24 -> 0 | K19: 23.52 | M19: =IF(L19="","",L19/K19)
B20: 9 | G20: =(F20-E20)*60*24 -> 0 | M20: =IF(L20="","",L20/K20)
B21: 10 | G21: =(F21-E21)*60*24 -> 0 | M21: =IF(L21="","",L21/K21)
B22: 11 | G22: =(F22-E22)*60*24 -> 0 | M22: =IF(L22="","",L22/K22)
B23: 12 | G23: =(F23-E23)*60*24 -> 0 | M23: =IF(L23="","",L23/K23)
B24: 13 | G24: =(F24-E24)*60*24 -> 0 | M24: =IF(L24="","",L24/K24)
B25: 14 | G25: =(F25-E25)*60*24 -> 0 | M25: =IF(L25="","",L25/K25)
B26: 15 | G26: =(F26-E26)*60*24 -> 0 | M26: =IF(L26="","",L26/K26)
B28: OBSERVACIONES:
B29: (*) El flujo y volumen de muestreo para material particulado PM2,5 son registrados por el equipo muestreador de bajo volumen. "-" : No aplica.

Sheet A.2.6. Conc. de Metales PM 10
E2: Tabla A.2.5. Concentraciones de metales en PM10 a temperatura ambiente
B7: TÍTULO DEL ESTUDIO: | E7: =+'A.2.1. Promedio meteorologia'!E6 -> EVALUACIÓN DE SEGUIMIENTO DE LA CALIDAD DEL AIRE EN EL ÁMBITO DE LA ZONA INDUSTRIAL DE VENTANILLA - MI PERÚ, UBICADO EN LOS DISTRITOS DE VENTANILLA Y MI PERÚ, PROVINCIA CONSTITUCIONAL DEL CALLAO, DURANTE JULIO DE 2020
B9: ESTACIÓN DE MONITOREO: | E9: =+'A.2.1. Promedio meteorologia'!E8 -> CA-VMP-6 | G9: CÓDIGO DE ACCIÓN: | I9: ='A.2.1. Promedio meteorologia'!G8 -> 0001-7-2020-411
B11: RESULTADOS DE LABORATORIO
B12: Metal medido en PM10 | D12: Unidad | E12: Fecha
E13: ='A.2.4. Cálculo PM10 y VM'!$E12 -> 0 | F13: ='A.2.4. Cálculo PM10 y VM'!$E13 -> 0 | G13: ='A.2.4. Cálculo PM10 y VM'!$E14 -> 0 | H13: ='A.2.4. Cálculo PM10 y VM'!$E15 -> 0 | I13: ='A.2.4. Cálculo PM10 y VM'!$E16 -> 0 | J13: ='A.2.4. Cálculo PM10 y VM'!$E17 -> #REF! | K13: ='A.2.4. Cálculo PM10 y VM'!$E18 -> #REF! | L13: ='A.2.4. Cálculo PM10 y VM'!$E19 -> #REF! | M13: ='A.2.4. Cálculo PM10 y VM'!$E20 -> #REF! | N13: ='A.2.4. Cálculo PM10 y VM'!$E21 -> #REF! | O13: ='A.2.4. Cálculo PM10 y VM'!$E22 -> #REF! | P13: ='A.2.4. Cálculo PM10 y VM'!$E23 -> #REF! | Q13: ='A.2.4. Cálculo PM10 y VM'!$E24 -> #REF! | R13: ='A.2.4. Cálculo PM10 y VM'!$E25 -> #REF! | S13: ='A.2.4. Cálculo PM10 y VM'!$E26 -> #REF!
B14: Aluminio | C14: Al | D14: µg/mtra | E14: 874.6 | F14: 629.1 | G14: 652.1 | H14: 892 | I14: 847
B15: Antimonio | C15: Sb | D15: µg/mtra | E15: 7.363 | F15: 2.634 | G15: 3.459 | H15: 13.15 | I15: 15.43
B16: Arsénico | C16: As | D16: µg/mtra | E16: 6.409 | F16: 10.42 | G16: 7.33 | H16: 9.694 | I16: 10.3
B17: Bario | C17: Ba | D17: µg/mtra | E17: 31.61 | F17: 18.76 | G17: 22.94 | H17: 27.94 | I17: 35.55
B18: Berilio | C18: Be | D18: µg/mtra | E18: < 0,010 | F18: < 0,010 | G18: < 0,010 | H18: < 0,010 | I18: < 0,010
B19: Bismuto | C19: Bi | D19: µg/mtra | E19: 0.827 | F19: 0.5467 | G19: 0.4976 | H19: 0.7177 | I19: 0.9212
B20: Boro | C20: B | D20: µg/mtra | E20: 4.2 | F20: 3.37 | G20: 5.83 | H20: 5.31 | I20: 4.66
B21: Cadmio | C21: Cd | D21: µg/mtra | E21: 2.606 | F21: 0.982 | G21: 1.711 | H21: 2.4 | I21: 2.508
B22: Calcio | C22: Ca | D22: µg/mtra | E22: 3550 | F22: 3724 | G22: 3165 | H22: 3805 | I22: 4707
B23: Cobalto | C23: Co | D23: µg/mtra | E23: 1.229 | F23: 0.941 | G23: 0.832 | H23: 1.176 | I23: 1.47
B24: Cobre | C24: Cu | D24: µg/mtra | E24: 129.9 | F24: 71.47 | G24: 64.26 | H24: 105.7 | I24: 160.8
B25: Cromo | C25: Cr | D25: µg/mtra | E25: < 2,082 | F25: < 2,082 | G25: < 2,082 | H25: < 2,082 | I25: < 2,082
B26: Estaño | C26: Sn | D26: µg/mtra | E26: 5.458 | F26: 2.107 | G26: 4.044 | H26: 5.96 | I26: 8.295
B27: Estroncio | C27: Sr | D27: µg/mtra | E27: 13.96 | F27: 13.7 | G27: 12.97 | H27: 16.7 | I27: 16.22
B28: Fósforo | C28: P | D28: µg/mtra | E28: 349.2 | F28: 333.8 | G28: 438.6 | H28: 391.6 | I28: 566.1
B29: Hierro | C29: Fe | D29: µg/mtra | E29: 1570 | F29: 1060 | G29: 1115 | H29: 1572 | I29: 1600
B30: Litio | C30: Li | D30: µg/mtra | E30: 0.77 | F30: 0.47 | G30: 0.71 | H30: 0.85 | I30: 0.65
B31: Magnesio | C31: Mg | D31: µg/mtra | E31: 961 | F31: 1076 | G31: 947.7 | H31: 1270 | I31: 1268
B32: Manganeso | C32: Mn | D32: µg/mtra | E32: 39.18 | F32: 27.31 | G32: 31.31 | H32: 38.74 | I32: 41.76
B33: Mercurio | C33: Hg | D33: µg/mtra | E33: < 0,021 | F33: < 0,021 | G33: 0.171 | H33: < 0,021 | I33: 0.364
B34: Molibdeno | C34: Mo | D34: µg/mtra | E34: 3.665 | F34: 3.336 | G34: 3.094 | H34: 3.995 | I34: 4.275
B35: Níquel | C35: Ni | D35: µg/mtra | E35: 8.379 | F35: 4.468 | G35: 3.776 | H35: 4.355 | I35: 6.317
B36: Plata | C36: Ag | D36: µg/mtra | E36: 0.3351 | F36: 0.253 | G36: 0.2028 | H36: 0.251 | I36: 0.4812
B37: Plomo | C37: Pb | D37: µg/mtra | E37: 137 | F37: 26.86 | G37: 44.37 | H37: 195.6 | I37: 205.7
B38: Potasio | C38: K | D38: µg/mtra | E38: 565 | F38: 478.5 | G38: 502.6 | H38: 618.2 | I38: 594.3
B39: Selenio | C39: Se | D39: µg/mtra | E39: 4.368 | F39: 2.203 | G39: 4.095 | H39: 3.676 | I39: 4.861
B40: Silicio | C40: Si | D40: µg/mtra | E40: 1173 | F40: 978.3 | G40: 1377 | H40: 1405 | I40: 1168
B41: Sodio | C41: Na | D41: µg/mtra | E41: 3612 | F41: 5643 | G41: 4879 | H41: 5796 | I41: 5998
B42: Talio | C42: Tl | D42: µg/mtra | E42: 0.22 | F42: < 0,008 | G42: < 0,008 | H42: 0.294 | I42: 0.181
B43: Titanio | C43: Ti | D43: µg/mtra | E43: 42 | F43: 31.34 | G43: 32.62 | H43: 43 | I43: 43.02
B44: Uranio | C44: U | D44: µg/mtra | E44: < 0,0071 | F44: < 0,0071 | G44: < 0,0071 | H44: < 0,0071 | I44: 0.1751
B45: Vanadio | C45: V | D45: µg/mtra | E45: 5.569 | F45: 4.207 | G45: 3.983 | H45: 5.22 | I45: 6.395
B46: Zinc | C46: Zn | D46: µg/mtra | E46: 215.1 | F46: 107.3 | G46: 123.8 | H46: 155 | I46: 326.9
B48: <: Debajo del límite de detección
B49: Fuente: Informe de Ensayo N.° 35995/2020 del laboratorio ALS LS Perú S.A.C.
B51: CONCENTRACIÓN DE METALES
B52: Metal medido en PM10 | D52: Unidad | E52: =E12 -> Fecha
E53: ='A.2.4. Cálculo PM10 y VM'!$E12 -> 0 | F53: ='A.2.4. Cálculo PM10 y VM'!$E13 -> 0 | G53: ='A.2.4. Cálculo PM10 y VM'!$E14 -> 0 | H53: ='A.2.4. Cálculo PM10 y VM'!$E15 -> 0 | I53: ='A.2.4. Cálculo PM10 y VM'!$E16 -> 0 | J53: ='A.2.4. Cálculo PM10 y VM'!$E17 -> #REF! | K53: ='A.2.4. Cálculo PM10 y VM'!$E18 -> #REF! | L53: ='A.2.4. Cálculo PM10 y VM'!$E19 -> #REF! | M53: ='A.2.4. Cálculo PM10 y VM'!$E20 -> #REF! | N53: ='A.2.4. Cálculo PM10 y VM'!$E21 -> #REF! | O53: ='A.2.4. Cálculo PM10 y VM'!$E22 -> #REF! | P53: ='A.2.4. Cálculo PM10 y VM'!$E23 -> #REF! | Q53: ='A.2.4. Cálculo PM10 y VM'!$E24 -> #REF! | R53: ='A.2.4. Cálculo PM10 y VM'!$E25 -> #REF! | S53: ='A.2.4. Cálculo PM10 y VM'!$E26 -> #REF!
B54: Volumen de muestreo, en m3 (Va) | E54: ='A.2.4. Cálculo PM10 y VM'!K12 -> #DIV/0! | F54: ='A.2.4. Cálculo PM10 y VM'!K13 -> #DIV/0! | G54: ='A.2.4. Cálculo PM10 y VM'!K14 -> #DIV/0! | H54: ='A.2.4. Cálculo PM10 y VM'!K15 -> #DIV/0! | I54: ='A.2.4. Cálculo PM10 y VM'!K16 -> #DIV/0! | J54: ='A.2.4. Cálculo PM10 y VM'!#REF! -> #REF! | K54: ='A.2.4. Cálculo PM10 y VM'!#REF! -> #REF! | L54: ='A.2.4. Cálculo PM10 y VM'!#REF! -> #REF! | M54: ='A.2.4. Cálculo PM10 y VM'!#REF! -> #REF! | N54: ='A.2.4. Cálculo PM10 y VM'!#REF! -> #REF! | O54: ='A.2.4. Cálculo PM10 y VM'!#REF! -> #REF! | P54: ='A.2.4. Cálculo PM10 y VM'!#REF! -> #REF! | Q54: ='A.2.4. Cálculo PM10 y VM'!#REF! -> #REF! | ... S54: ='A.2.4. Cálculo PM10 y VM'!#REF! -> #REF! | V54: ECA Mensual: | W54: Promedio: | X54: Estado: | Y54: Cantidad:
B55: Aluminio | C55: Al | D55: µg/m3 | E55: =IF(ISNUMBER(FIND("<",E14)),"N.D.",PRODUCT(E14,1/E$54)) -> #DIV/0! | F55: =IF(ISNUMBER(FIND("<",F14)),"N.D.",PRODUCT(F14,1/F$54)) -> #DIV/0! | G55: =IF(ISNUMBER(FIND("<",G14)),"N.D.",PRODUCT(G14,1/G$54)) -> #DIV/0! | H55: =IF(ISNUMBER(FIND("<",H14)),"N.D.",PRODUCT(H14,1/H$54)) -> #DIV/0! | I55: =IF(ISNUMBER(FIND("<",I14)),"N.D.",PRODUCT(I14,1/I$54)) -> #DIV/0! | J55: =IF(ISNUMBER(FIND("<",J14)),"N.D.",PRODUCT(J14,1/J$54)) -> #REF! | K55: =IF(ISNUMBER(FIND("<",K14)),"N.D.",PRODUCT(K14,1/K$54)) -> #REF! | L55: =IF(ISNUMBER(FIND("<",L14)),"N.D.",PRODUCT(L14,1/L$54)) -> #REF! | ... S55: =IF(ISNUMBER(FIND("<",S14)),"N.D.",PRODUCT(S14,1/S$54)) -> #REF!
B56: Antimonio | C56: Sb | D56: µg/m3 | E56: =IF(ISNUMBER(FIND("<",E15)),"N.D.",PRODUCT(E15,1/E$54)) -> #DIV/0! | F56: =IF(ISNUMBER(FIND("<",F15)),"N.D.",PRODUCT(F15,1/F$54)) -> #DIV/0! | G56: =IF(ISNUMBER(FIND("<",G15)),"N.D.",PRODUCT(G15,1/G$54)) -> #DIV/0! | H56: =IF(ISNUMBER(FIND("<",H15)),"N.D.",PRODUCT(H15,1/H$54)) -> #DIV/0! | I56: =IF(ISNUMBER(FIND("<",I15)),"N.D.",PRODUCT(I15,1/I$54)) -> #DIV/0! | J56: =IF(ISNUMBER(FIND("<",J15)),"N.D.",PRODUCT(J15,1/J$54)) -> #REF! | K56: =IF(ISNUMBER(FIND("<",K15)),"N.D.",PRODUCT(K15,1/K$54)) -> #REF! | L56: =IF(ISNUMBER(FIND("<",L15)),"N.D.",PRODUCT(L15,1/L$54)) -> #REF! | ... S56: =IF(ISNUMBER(FIND("<",S15)),"N.D.",PRODUCT(S15,1/S$54)) -> #REF!
B57: Arsénico | C57: As | D57: µg/m3 | E57: =IF(ISNUMBER(FIND("<",E16)),"N.D.",PRODUCT(E16,1/E$54)) -> #DIV/0! | F57: =IF(ISNUMBER(FIND("<",F16)),"N.D.",PRODUCT(F16,1/F$54)) -> #DIV/0! | G57: =IF(ISNUMBER(FIND("<",G16)),"N.D.",PRODUCT(G16,1/G$54)) -> #DIV/0! | H57: =IF(ISNUMBER(FIND("<",H16)),"N.D.",PRODUCT(H16,1/H$54)) -> #DIV/0! | I57: =IF(ISNUMBER(FIND("<",I16)),"N.D.",PRODUCT(I16,1/I$54)) -> #DIV/0! | J57: =IF(ISNUMBER(FIND("<",J16)),"N.D.",PRODUCT(J16,1/J$54)) -> #REF! | K57: =IF(ISNUMBER(FIND("<",K16)),"N.D.",PRODUCT(K16,1/K$54)) -> #REF! | L57: =IF(ISNUMBER(FIND("<",L16)),"N.D.",PRODUCT(L16,1/L$54)) -> #REF! | ... S57: =IF(ISNUMBER(FIND("<",S16)),"N.D.",PRODUCT(S16,1/S$54)) -> #REF!
B58: Bario | C58: Ba | D58: µg/m3 | E58: =IF(ISNUMBER(FIND("<",E17)),"N.D.",PRODUCT(E17,1/E$54)) -> #DIV/0! | F58: =IF(ISNUMBER(FIND("<",F17)),"N.D.",PRODUCT(F17,1/F$54)) -> #DIV/0! | G58: =IF(ISNUMBER(FIND("<",G17)),"N.D.",PRODUCT(G17,1/G$54)) -> #DIV/0! | H58: =IF(ISNUMBER(FIND("<",H17)),"N.D.",PRODUCT(H17,1/H$54)) -> #DIV/0! | I58: =IF(ISNUMBER(FIND("<",I17)),"N.D.",PRODUCT(I17,1/I$54)) -> #DIV/0! | J58: =IF(ISNUMBER(FIND("<",J17)),"N.D.",PRODUCT(J17,1/J$54)) -> #REF! | K58: =IF(ISNUMBER(FIND("<",K17)),"N.D.",PRODUCT(K17,1/K$54)) -> #REF! | L58: =IF(ISNUMBER(FIND("<",L17)),"N.D.",PRODUCT(L17,1/L$54)) -> #REF! | ... S58: =IF(ISNUMBER(FIND("<",S17)),"N.D.",PRODUCT(S17,1/S$54)) -> #REF!
B59: Berilio | C59: Be | D59: µg/m3 | E59: =IF(ISNUMBER(FIND("<",E18)),"N.D.",PRODUCT(E18,1/E$54)) -> N.D. | F59: =IF(ISNUMBER(FIND("<",F18)),"N.D.",PRODUCT(F18,1/F$54)) -> N.D. | G59: =IF(ISNUMBER(FIND("<",G18)),"N.D.",PRODUCT(G18,1/G$54)) -> N.D. | H59: =IF(ISNUMBER(FIND("<",H18)),"N.D.",PRODUCT(H18,1/H$54)) -> N.D. | I59: =IF(ISNUMBER(FIND("<",I18)),"N.D.",PRODUCT(I18,1/I$54)) -> N.D. | J59: =IF(ISNUMBER(FIND("<",J18)),"N.D.",PRODUCT(J18,1/J$54)) -> #REF! | K59: =IF(ISNUMBER(FIND("<",K18)),"N.D.",PRODUCT(K18,1/K$54)) -> #REF! | L59: =IF(ISNUMBER(FIND("<",L18)),"N.D.",PRODUCT(L18,1/L$54)) -> #REF! | ... S59: =IF(ISNUMBER(FIND("<",S18)),"N.D.",PRODUCT(S18,1/S$54)) -> #REF!
B60: Bismuto | C60: Bi | D60: µg/m3 | E60: =IF(ISNUMBER(FIND("<",E19)),"N.D.",PRODUCT(E19,1/E$54)) -> #DIV/0! | F60: =IF(ISNUMBER(FIND("<",F19)),"N.D.",PRODUCT(F19,1/F$54)) -> #DIV/0! | G60: =IF(ISNUMBER(FIND("<",G19)),"N.D.",PRODUCT(G19,1/G$54)) -> #DIV/0! | H60: =IF(ISNUMBER(FIND("<",H19)),"N.D.",PRODUCT(H19,1/H$54)) -> #DIV/0! | I60: =IF(ISNUMBER(FIND("<",I19)),"N.D.",PRODUCT(I19,1/I$54)) -> #DIV/0! | J60: =IF(ISNUMBER(FIND("<",J19)),"N.D.",PRODUCT(J19,1/J$54)) -> #REF! | K60: =IF(ISNUMBER(FIND("<",K19)),"N.D.",PRODUCT(K19,1/K$54)) -> #REF! | L60: =IF(ISNUMBER(FIND("<",L19)),"N.D.",PRODUCT(L19,1/L$54)) -> #REF! | ... S60: =IF(ISNUMBER(FIND("<",S19)),"N.D.",PRODUCT(S19,1/S$54)) -> #REF!
B61: Boro | C61: B | D61: µg/m3 | E61: =IF(ISNUMBER(FIND("<",E20)),"N.D.",PRODUCT(E20,1/E$54)) -> #DIV/0! | F61: =IF(ISNUMBER(FIND("<",F20)),"N.D.",PRODUCT(F20,1/F$54)) -> #DIV/0! | G61: =IF(ISNUMBER(FIND("<",G20)),"N.D.",PRODUCT(G20,1/G$54)) -> #DIV/0! | H61: =IF(ISNUMBER(FIND("<",H20)),"N.D.",PRODUCT(H20,1/H$54)) -> #DIV/0! | I61: =IF(ISNUMBER(FIND("<",I20)),"N.D.",PRODUCT(I20,1/I$54)) -> #DIV/0! | J61: =IF(ISNUMBER(FIND("<",J20)),"N.D.",PRODUCT(J20,1/J$54)) -> #REF! | K61: =IF(ISNUMBER(FIND("<",K20)),"N.D.",PRODUCT(K20,1/K$54)) -> #REF! | L61: =IF(ISNUMBER(FIND("<",L20)),"N.D.",PRODUCT(L20,1/L$54)) -> #REF! | ... S61: =IF(ISNUMBER(FIND("<",S20)),"N.D.",PRODUCT(S20,1/S$54)) -> #REF!
B62: Cadmio | C62: Cd | D62: µg/m3 | E62: =IF(ISNUMBER(FIND("<",E21)),"N.D.",PRODUCT(E21,1/E$54)) -> #DIV/0! | F62: =IF(ISNUMBER(FIND("<",F21)),"N.D.",PRODUCT(F21,1/F$54)) -> #DIV/0! | G62: =IF(ISNUMBER(FIND("<",G21)),"N.D.",PRODUCT(G21,1/G$54)) -> #DIV/0! | H62: =IF(ISNUMBER(FIND("<",H21)),"N.D.",PRODUCT(H21,1/H$54)) -> #DIV/0! | I62: =IF(ISNUMBER(FIND("<",I21)),"N.D.",PRODUCT(I21,1/I$54)) -> #DIV/0! | J62: =IF(ISNUMBER(FIND("<",J21)),"N.D.",PRODUCT(J21,1/J$54)) -> #REF! | K62: =IF(ISNUMBER(FIND("<",K21)),"N.D.",PRODUCT(K21,1/K$54)) -> #REF! | L62: =IF(ISNUMBER(FIND("<",L21)),"N.D.",PRODUCT(L21,1/L$54)) -> #REF! | ... S62: =IF(ISNUMBER(FIND("<",S21)),"N.D.",PRODUCT(S21,1/S$54)) -> #REF! | V62: 0.05 | W62: =AVERAGE(E62:I62) -> #DIV/0! | X62: =IF(W62>V62,"Supera","No Supera") -> #DIV/0! | Y62: =COUNTIF(E62:J62,">0,05") -> 0 | Z62: =W62/V62 -> #DIV/0!
B63: Calcio | C63: Ca | D63: µg/m3 | E63: =IF(ISNUMBER(FIND("<",E22)),"N.D.",PRODUCT(E22,1/E$54)) -> #DIV/0! | F63: =IF(ISNUMBER(FIND("<",F22)),"N.D.",PRODUCT(F22,1/F$54)) -> #DIV/0! | G63: =IF(ISNUMBER(FIND("<",G22)),"N.D.",PRODUCT(G22,1/G$54)) -> #DIV/0! | H63: =IF(ISNUMBER(FIND("<",H22)),"N.D.",PRODUCT(H22,1/H$54)) -> #DIV/0! | I63: =IF(ISNUMBER(FIND("<",I22)),"N.D.",PRODUCT(I22,1/I$54)) -> #DIV/0! | J63: =IF(ISNUMBER(FIND("<",J22)),"N.D.",PRODUCT(J22,1/J$54)) -> #REF! | K63: =IF(ISNUMBER(FIND("<",K22)),"N.D.",PRODUCT(K22,1/K$54)) -> #REF! | L63: =IF(ISNUMBER(FIND("<",L22)),"N.D.",PRODUCT(L22,1/L$54)) -> #REF! | ... S63: =IF(ISNUMBER(FIND("<",S22)),"N.D.",PRODUCT(S22,1/S$54)) -> #REF!
B64: Cobalto | C64: Co | D64: µg/m3 | E64: =IF(ISNUMBER(FIND("<",E23)),"N.D.",PRODUCT(E23,1/E$54)) -> #DIV/0! | F64: =IF(ISNUMBER(FIND("<",F23)),"N.D.",PRODUCT(F23,1/F$54)) -> #DIV/0! | G64: =IF(ISNUMBER(FIND("<",G23)),"N.D.",PRODUCT(G23,1/G$54)) -> #DIV/0! | H64: =IF(ISNUMBER(FIND("<",H23)),"N.D.",PRODUCT(H23,1/H$54)) -> #DIV/0! | I64: =IF(ISNUMBER(FIND("<",I23)),"N.D.",PRODUCT(I23,1/I$54)) -> #DIV/0! | J64: =IF(ISNUMBER(FIND("<",J23)),"N.D.",PRODUCT(J23,1/J$54)) -> #REF! | K64: =IF(ISNUMBER(FIND("<",K23)),"N.D.",PRODUCT(K23,1/K$54)) -> #REF! | L64: =IF(ISNUMBER(FIND("<",L23)),"N.D.",PRODUCT(L23,1/L$54)) -> #REF! | ... S64: =IF(ISNUMBER(FIND("<",S23)),"N.D.",PRODUCT(S23,1/S$54)) -> #REF!
B65: Cobre | C65: Cu | D65: µg/m3 | E65: =IF(ISNUMBER(FIND("<",E24)),"N.D.",PRODUCT(E24,1/E$54)) -> #DIV/0! | F65: =IF(ISNUMBER(FIND("<",F24)),"N.D.",PRODUCT(F24,1/F$54)) -> #DIV/0! | G65: =IF(ISNUMBER(FIND("<",G24)),"N.D.",PRODUCT(G24,1/G$54)) -> #DIV/0! | H65: =IF(ISNUMBER(FIND("<",H24)),"N.D.",PRODUCT(H24,1/H$54)) -> #DIV/0! | I65: =IF(ISNUMBER(FIND("<",I24)),"N.D.",PRODUCT(I24,1/I$54)) -> #DIV/0! | J65: =IF(ISNUMBER(FIND("<",J24)),"N.D.",PRODUCT(J24,1/J$54)) -> #REF! | K65: =IF(ISNUMBER(FIND("<",K24)),"N.D.",PRODUCT(K24,1/K$54)) -> #REF! | L65: =IF(ISNUMBER(FIND("<",L24)),"N.D.",PRODUCT(L24,1/L$54)) -> #REF! | ... S65: =IF(ISNUMBER(FIND("<",S24)),"N.D.",PRODUCT(S24,1/S$54)) -> #REF!
B66: Cromo | C66: Cr | D66: µg/m3 | E66: =IF(ISNUMBER(FIND("<",E25)),"N.D.",PRODUCT(E25,1/E$54)) -> N.D. | F66: =IF(ISNUMBER(FIND("<",F25)),"N.D.",PRODUCT(F25,1/F$54)) -> N.D. | G66: =IF(ISNUMBER(FIND("<",G25)),"N.D.",PRODUCT(G25,1/G$54)) -> N.D. | H66: =IF(ISNUMBER(FIND("<",H25)),"N.D.",PRODUCT(H25,1/H$54)) -> N.D. | I66: =IF(ISNUMBER(FIND("<",I25)),"N.D.",PRODUCT(I25,1/I$54)) -> N.D. | J66: =IF(ISNUMBER(FIND("<",J25)),"N.D.",PRODUCT(J25,1/J$54)) -> #REF! | K66: =IF(ISNUMBER(FIND("<",K25)),"N.D.",PRODUCT(K25,1/K$54)) -> #REF! | L66: =IF(ISNUMBER(FIND("<",L25)),"N.D.",PRODUCT(L25,1/L$54)) -> #REF! | ... S66: =IF(ISNUMBER(FIND("<",S25)),"N.D.",PRODUCT(S25,1/S$54)) -> #REF!
B67: Estaño | C67: Sn | D67: µg/m3 | E67: =IF(ISNUMBER(FIND("<",E26)),"N.D.",PRODUCT(E26,1/E$54)) -> #DIV/0! | F67: =IF(ISNUMBER(FIND("<",F26)),"N.D.",PRODUCT(F26,1/F$54)) -> #DIV/0! | G67: =IF(ISNUMBER(FIND("<",G26)),"N.D.",PRODUCT(G26,1/G$54)) -> #DIV/0! | H67: =IF(ISNUMBER(FIND("<",H26)),"N.D.",PRODUCT(H26,1/H$54)) -> #DIV/0! | I67: =IF(ISNUMBER(FIND("<",I26)),"N.D.",PRODUCT(I26,1/I$54)) -> #DIV/0! | J67: =IF(ISNUMBER(FIND("<",J26)),"N.D.",PRODUCT(J26,1/J$54)) -> #REF! | K67: =IF(ISNUMBER(FIND("<",K26)),"N.D.",PRODUCT(K26,1/K$54)) -> #REF! | L67: =IF(ISNUMBER(FIND("<",L26)),"N.D.",PRODUCT(L26,1/L$54)) -> #REF! | ... S67: =IF(ISNUMBER(FIND("<",S26)),"N.D.",PRODUCT(S26,1/S$54)) -> #REF!
B68: Estroncio | C68: Sr | D68: µg/m3 | E68: =IF(ISNUMBER(FIND("<",E27)),"N.D.",PRODUCT(E27,1/E$54)) -> #DIV/0! | F68: =IF(ISNUMBER(FIND("<",F27)),"N.D.",PRODUCT(F27,1/F$54)) -> #DIV/0! | G68: =IF(ISNUMBER(FIND("<",G27)),"N.D.",PRODUCT(G27,1/G$54)) -> #DIV/0! | H68: =IF(ISNUMBER(FIND("<",H27)),"N.D.",PRODUCT(H27,1/H$54)) -> #DIV/0! | I68: =IF(ISNUMBER(FIND("<",I27)),"N.D.",PRODUCT(I27,1/I$54)) -> #DIV/0! | J68: =IF(ISNUMBER(FIND("<",J27)),"N.D.",PRODUCT(J27,1/J$54)) -> #REF! | K68: =IF(ISNUMBER(FIND("<",K27)),"N.D.",PRODUCT(K27,1/K$54)) -> #REF! | L68: =IF(ISNUMBER(FIND("<",L27)),"N.D.",PRODUCT(L27,1/L$54)) -> #REF! | ... S68: =IF(ISNUMBER(FIND("<",S27)),"N.D.",PRODUCT(S27,1/S$54)) -> #REF!
B69: Fósforo | C69: P | D69: µg/m3 | E69: =IF(ISNUMBER(FIND("<",E28)),"N.D.",PRODUCT(E28,1/E$54)) -> #DIV/0! | F69: =IF(ISNUMBER(FIND("<",F28)),"N.D.",PRODUCT(F28,1/F$54)) -> #DIV/0! | G69: =IF(ISNUMBER(FIND("<",G28)),"N.D.",PRODUCT(G28,1/G$54)) -> #DIV/0! | H69: =IF(ISNUMBER(FIND("<",H28)),"N.D.",PRODUCT(H28,1/H$54)) -> #DIV/0! | I69: =IF(ISNUMBER(FIND("<",I28)),"N.D.",PRODUCT(I28,1/I$54)) -> #DIV/0! | J69: =IF(ISNUMBER(FIND("<",J28)),"N.D.",PRODUCT(J28,1/J$54)) -> #REF! | K69: =IF(ISNUMBER(FIND("<",K28)),"N.D.",PRODUCT(K28,1/K$54)) -> #REF! | L69: =IF(ISNUMBER(FIND("<",L28)),"N.D.",PRODUCT(L28,1/L$54)) -> #REF! | ... S69: =IF(ISNUMBER(FIND("<",S28)),"N.D.",PRODUCT(S28,1/S$54)) -> #REF!
B70: Hierro | C70: Fe | D70: µg/m3 | E70: =IF(ISNUMBER(FIND("<",E29)),"N.D.",PRODUCT(E29,1/E$54)) -> #DIV/0! | F70: =IF(ISNUMBER(FIND("<",F29)),"N.D.",PRODUCT(F29,1/F$54)) -> #DIV/0! | G70: =IF(ISNUMBER(FIND("<",G29)),"N.D.",PRODUCT(G29,1/G$54)) -> #DIV/0! | H70: =IF(ISNUMBER(FIND("<",H29)),"N.D.",PRODUCT(H29,1/H$54)) -> #DIV/0! | I70: =IF(ISNUMBER(FIND("<",I29)),"N.D.",PRODUCT(I29,1/I$54)) -> #DIV/0! | J70: =IF(ISNUMBER(FIND("<",J29)),"N.D.",PRODUCT(J29,1/J$54)) -> #REF! | K70: =IF(ISNUMBER(FIND("<",K29)),"N.D.",PRODUCT(K29,1/K$54)) -> #REF! | L70: =IF(ISNUMBER(FIND("<",L29)),"N.D.",PRODUCT(L29,1/L$54)) -> #REF! | ... S70: =IF(ISNUMBER(FIND("<",S29)),"N.D.",PRODUCT(S29,1/S$54)) -> #REF!
B71: Litio | C71: Li | D71: µg/m3 | E71: =IF(ISNUMBER(FIND("<",E30)),"N.D.",PRODUCT(E30,1/E$54)) -> #DIV/0! | F71: =IF(ISNUMBER(FIND("<",F30)),"N.D.",PRODUCT(F30,1/F$54)) -> #DIV/0! | G71: =IF(ISNUMBER(FIND("<",G30)),"N.D.",PRODUCT(G30,1/G$54)) -> #DIV/0! | H71: =IF(ISNUMBER(FIND("<",H30)),"N.D.",PRODUCT(H30,1/H$54)) -> #DIV/0! | I71: =IF(ISNUMBER(FIND("<",I30)),"N.D.",PRODUCT(I30,1/I$54)) -> #DIV/0! | J71: =IF(ISNUMBER(FIND("<",J30)),"N.D.",PRODUCT(J30,1/J$54)) -> #REF! | K71: =IF(ISNUMBER(FIND("<",K30)),"N.D.",PRODUCT(K30,1/K$54)) -> #REF! | L71: =IF(ISNUMBER(FIND("<",L30)),"N.D.",PRODUCT(L30,1/L$54)) -> #REF! | ... S71: =IF(ISNUMBER(FIND("<",S30)),"N.D.",PRODUCT(S30,1/S$54)) -> #REF!
B72: Magnesio | C72: Mg | D72: µg/m3 | E72: =IF(ISNUMBER(FIND("<",E31)),"N.D.",PRODUCT(E31,1/E$54)) -> #DIV/0! | F72: =IF(ISNUMBER(FIND("<",F31)),"N.D.",PRODUCT(F31,1/F$54)) -> #DIV/0! | G72: =IF(ISNUMBER(FIND("<",G31)),"N.D.",PRODUCT(G31,1/G$54)) -> #DIV/0! | H72: =IF(ISNUMBER(FIND("<",H31)),"N.D.",PRODUCT(H31,1/H$54)) -> #DIV/0! | I72: =IF(ISNUMBER(FIND("<",I31)),"N.D.",PRODUCT(I31,1/I$54)) -> #DIV/0! | J72: =IF(ISNUMBER(FIND("<",J31)),"N.D.",PRODUCT(J31,1/J$54)) -> #REF! | K72: =IF(ISNUMBER(FIND("<",K31)),"N.D.",PRODUCT(K31,1/K$54)) -> #REF! | L72: =IF(ISNUMBER(FIND("<",L31)),"N.D.",PRODUCT(L31,1/L$54)) -> #REF! | ... S72: =IF(ISNUMBER(FIND("<",S31)),"N.D.",PRODUCT(S31,1/S$54)) -> #REF!
B73: Manganeso | C73: Mn | D73: µg/m3 | E73: =IF(ISNUMBER(FIND("<",E32)),"N.D.",PRODUCT(E32,1/E$54)) -> #DIV/0! | F73: =IF(ISNUMBER(FIND("<",F32)),"N.D.",PRODUCT(F32,1/F$54)) -> #DIV/0! | G73: =IF(ISNUMBER(FIND("<",G32)),"N.D.",PRODUCT(G32,1/G$54)) -> #DIV/0! | H73: =IF(ISNUMBER(FIND("<",H32)),"N.D.",PRODUCT(H32,1/H$54)) -> #DIV/0! | I73: =IF(ISNUMBER(FIND("<",I32)),"N.D.",PRODUCT(I32,1/I$54)) -> #DIV/0! | J73: =IF(ISNUMBER(FIND("<",J32)),"N.D.",PRODUCT(J32,1/J$54)) -> #REF! | K73: =IF(ISNUMBER(FIND("<",K32)),"N.D.",PRODUCT(K32,1/K$54)) -> #REF! | L73: =IF(ISNUMBER(FIND("<",L32)),"N.D.",PRODUCT(L32,1/L$54)) -> #REF! | ... S73: =IF(ISNUMBER(FIND("<",S32)),"N.D.",PRODUCT(S32,1/S$54)) -> #REF!
B74: Mercurio | C74: Hg | D74: µg/m3 | E74: =IF(ISNUMBER(FIND("<",E33)),"N.D.",PRODUCT(E33,1/E$54)) -> N.D. | F74: =IF(ISNUMBER(FIND("<",F33)),"N.D.",PRODUCT(F33,1/F$54)) -> N.D. | G74: =IF(ISNUMBER(FIND("<",G33)),"N.D.",PRODUCT(G33,1/G$54)) -> #DIV/0! | H74: =IF(ISNUMBER(FIND("<",H33)),"N.D.",PRODUCT(H33,1/H$54)) -> N.D. | I74: =IF(ISNUMBER(FIND("<",I33)),"N.D.",PRODUCT(I33,1/I$54)) -> #DIV/0! | J74: =IF(ISNUMBER(FIND("<",J33)),"N.D.",PRODUCT(J33,1/J$54)) -> #REF! | K74: =IF(ISNUMBER(FIND("<",K33)),"N.D.",PRODUCT(K33,1/K$54)) -> #REF! | L74: =IF(ISNUMBER(FIND("<",L33)),"N.D.",PRODUCT(L33,1/L$54)) -> #REF! | ... S74: =IF(ISNUMBER(FIND("<",S33)),"N.D.",PRODUCT(S33,1/S$54)) -> #REF!
... B77: Plata | C77: Ag | D77: µg/m3 | E77: =IF(ISNUMBER(FIND("<",E36)),"N.D.",PRODUCT(E36,1/E$54)) -> #DIV/0! | F77: =IF(ISNUMBER(FIND("<",F36)),"N.D.",PRODUCT(F36,1/F$54)) -> #DIV/0! | G77: =IF(ISNUMBER(FIND("<",G36)),"N.D.",PRODUCT(G36,1/G$54)) -> #DIV/0! | H77: =IF(ISNUMBER(FIND("<",H36)),"N.D.",PRODUCT(H36,1/H$54)) -> #DIV/0! | I77: =IF(ISNUMBER(FIND("<",I36)),"N.D.",PRODUCT(I36,1/I$54)) -> #DIV/0! | J77: =IF(ISNUMBER(FIND("<",J36)),"N.D.",PRODUCT(J36,1/J$54)) -> #REF! | K77: =IF(ISNUMBER(FIND("<",K36)),"N.D.",PRODUCT(K36,1/K$54)) -> #REF! | L77: =IF(ISNUMBER(FIND("<",L36)),"N.D.",PRODUCT(L36,1/L$54)) -> #REF! | ... S77: =IF(ISNUMBER(FIND("<",S36)),"N.D.",PRODUCT(S36,1/S$54)) -> #REF!
B78: Plomo | C78: Pb | D78: µg/m3 | E78: =IF(ISNUMBER(FIND("<",E37)),"N.D.",PRODUCT(E37,1/E$54)) -> #DIV/0! | F78: =IF(ISNUMBER(FIND("<",F37)),"N.D.",PRODUCT(F37,1/F$54)) -> #DIV/0! | G78: =IF(ISNUMBER(FIND("<",G37)),"N.D.",PRODUCT(G37,1/G$54)) -> #DIV/0! | H78: =IF(ISNUMBER(FIND("<",H37)),"N.D.",PRODUCT(H37,1/H$54)) -> #DIV/0! | I78: =IF(ISNUMBER(FIND("<",I37)),"N.D.",PRODUCT(I37,1/I$54)) -> #DIV/0! | J78: =IF(ISNUMBER(FIND("<",J37)),"N.D.",PRODUCT(J37,1/J$54)) -> #REF! | K78: =IF(ISNUMBER(FIND("<",K37)),"N.D.",PRODUCT(K37,1/K$54)) -> #REF! | L78: =IF(ISNUMBER(FIND("<",L37)),"N.D.",PRODUCT(L37,1/L$54)) -> #REF! | ... S78: =IF(ISNUMBER(FIND("<",S37)),"N.D.",PRODUCT(S37,1/S$54)) -> #REF! | V78: 1.5 | W78: =AVERAGE(E78:I78) -> #DIV/0! | X78: =IF(W78>V78,"Supera","No Supera") -> #DIV/0! | Y78: =COUNTIF(E78:J78,">1,5") -> 0 | Z78: =W78/V78 -> #DIV/0!
B79: Potasio | C79: K | D79: µg/m3 | E79: =IF(ISNUMBER(FIND("<",E38)),"N.D.",PRODUCT(E38,1/E$54)) -> #DIV/0! | F79: =IF(ISNUMBER(FIND("<",F38)),"N.D.",PRODUCT(F38,1/F$54)) -> #DIV/0! | G79: =IF(ISNUMBER(FIND("<",G38)),"N.D.",PRODUCT(G38,1/G$54)) -> #DIV/0! | H79: =IF(ISNUMBER(FIND("<",H38)),"N.D.",PRODUCT(H38,1/H$54)) -> #DIV/0! | I79: =IF(ISNUMBER(FIND("<",I38)),"N.D.",PRODUCT(I38,1/I$54)) -> #DIV/0! | J79: =IF(ISNUMBER(FIND("<",J38)),"N.D.",PRODUCT(J38,1/J$54)) -> #REF! | K79: =IF(ISNUMBER(FIND("<",K38)),"N.D.",PRODUCT(K38,1/K$54)) -> #REF! | L79: =IF(ISNUMBER(FIND("<",L38)),"N.D.",PRODUCT(L38,1/L$54)) -> #REF! | ... S79: =IF(ISNUMBER(FIND("<",S38)),"N.D.",PRODUCT(S38,1/S$54)) -> #REF!
B80: Selenio | C80: Se | D80: µg/m3 | E80: =IF(ISNUMBER(FIND("<",E39)),"N.D.",PRODUCT(E39,1/E$54)) -> #DIV/0! | F80: =IF(ISNUMBER(FIND("<",F39)),"N.D.",PRODUCT(F39,1/F$54)) -> #DIV/0! | G80: =IF(ISNUMBER(FIND("<",G39)),"N.D.",PRODUCT(G39,1/G$54)) -> #DIV/0! | H80: =IF(ISNUMBER(FIND("<",H39)),"N.D.",PRODUCT(H39,1/H$54)) -> #DIV/0! | I80: =IF(ISNUMBER(FIND("<",I39)),"N.D.",PRODUCT(I39,1/I$54)) -> #DIV/0! | J80: =IF(ISNUMBER(FIND("<",J39)),"N.D.",PRODUCT(J39,1/J$54)) -> #REF! | K80: =IF(ISNUMBER(FIND("<",K39)),"N.D.",PRODUCT(K39,1/K$54)) -> #REF! | L80: =IF(ISNUMBER(FIND("<",L39)),"N.D.",PRODUCT(L39,1/L$54)) -> #REF! | ... S80: =IF(ISNUMBER(FIND("<",S39)),"N.D.",PRODUCT(S39,1/S$54)) -> #REF!
B81: Silicio | C81: Si | D81: µg/m3 | E81: =IF(ISNUMBER(FIND("<",E40)),"N.D.",PRODUCT(E40,1/E$54)) -> #DIV/0! | F81: =IF(ISNUMBER(FIND("<",F40)),"N.D.",PRODUCT(F40,1/F$54)) -> #DIV/0! | G81: =IF(ISNUMBER(FIND("<",G40)),"N.D.",PRODUCT(G40,1/G$54)) -> #DIV/0! | H81: =IF(ISNUMBER(FIND("<",H40)),"N.D.",PRODUCT(H40,1/H$54)) -> #DIV/0! | I81: =IF(ISNUMBER(FIND("<",I40)),"N.D.",PRODUCT(I40,1/I$54)) -> #DIV/0! | J81: =IF(ISNUMBER(FIND("<",J40)),"N.D.",PRODUCT(J40,1/J$54)) -> #REF! | K81: =IF(ISNUMBER(FIND("<",K40)),"N.D.",PRODUCT(K40,1/K$54)) -> #REF! | L81: =IF(ISNUMBER(FIND("<",L40)),"N.D.",PRODUCT(L40,1/L$54)) -> #REF! | ... S81: =IF(ISNUMBER(FIND("<",S40)),"N.D.",PRODUCT(S40,1/S$54)) -> #REF!
B82: Sodio | C82: Na | D82: µg/m3 | E82: =IF(ISNUMBER(FIND("<",E41)),"N.D.",PRODUCT(E41,1/E$54)) -> #DIV/0! | F82: =IF(ISNUMBER(FIND("<",F41)),"N.D.",PRODUCT(F41,1/F$54)) -> #DIV/0! | G82: =IF(ISNUMBER(FIND("<",G41)),"N.D.",PRODUCT(G41,1/G$54)) -> #DIV/0! | H82: =IF(ISNUMBER(FIND("<",H41)),"N.D.",PRODUCT(H41,1/H$54)) -> #DIV/0! | I82: =IF(ISNUMBER(FIND("<",I41)),"N.D.",PRODUCT(I41,1/I$54)) -> #DIV/0! | J82: =IF(ISNUMBER(FIND("<",J41)),"N.D.",PRODUCT(J41,1/J$54)) -> #REF! | K82: =IF(ISNUMBER(FIND("<",K41)),"N.D.",PRODUCT(K41,1/K$54)) -> #REF! | L82: =IF(ISNUMBER(FIND("<",L41)),"N.D.",PRODUCT(L41,1/L$54)) -> #REF! | ... S82: =IF(ISNUMBER(FIND("<",S41)),"N.D.",PRODUCT(S41,1/S$54)) -> #REF!
B83: Talio | C83: Tl | D83: µg/m3 | E83: =IF(ISNUMBER(FIND("<",E42)),"N.D.",PRODUCT(E42,1/E$54)) -> #DIV/0! | F83: =IF(ISNUMBER(FIND("<",F42)),"N.D.",PRODUCT(F42,1/F$54)) -> N.D. | G83: =IF(ISNUMBER(FIND("<",G42)),"N.D.",PRODUCT(G42,1/G$54)) -> N.D. | H83: =IF(ISNUMBER(FIND("<",H42)),"N.D.",PRODUCT(H42,1/H$54)) -> #DIV/0! | I83: =IF(ISNUMBER(FIND("<",I42)),"N.D.",PRODUCT(I42,1/I$54)) -> #DIV/0! | J83: =IF(ISNUMBER(FIND("<",J42)),"N.D.",PRODUCT(J42,1/J$54)) -> #REF! | K83: =IF(ISNUMBER(FIND("<",K42)),"N.D.",PRODUCT(K42,1/K$54)) -> #REF! | L83: =IF(ISNUMBER(FIND("<",L42)),"N.D.",PRODUCT(L42,1/L$54)) -> #REF! | ... S83: =IF(ISNUMBER(FIND("<",S42)),"N.D.",PRODUCT(S42,1/S$54)) -> #REF!
B84: Titanio | C84: Ti | D84: µg/m3 | E84: =IF(ISNUMBER(FIND("<",E43)),"N.D.",PRODUCT(E43,1/E$54)) -> #DIV/0! | F84: =IF(ISNUMBER(FIND("<",F43)),"N.D.",PRODUCT(F43,1/F$54)) -> #DIV/0! | G84: =IF(ISNUMBER(FIND("<",G43)),"N.D.",PRODUCT(G43,1/G$54)) -> #DIV/0! | H84: =IF(ISNUMBER(FIND("<",H43)),"N.D.",PRODUCT(H43,1/H$54)) -> #DIV/0! | I84: =IF(ISNUMBER(FIND("<",I43)),"N.D.",PRODUCT(I43,1/I$54)) -> #DIV/0! | J84: =IF(ISNUMBER(FIND("<",J43)),"N.D.",PRODUCT(J43,1/J$54)) -> #REF! | K84: =IF(ISNUMBER(FIND("<",K43)),"N.D.",PRODUCT(K43,1/K$54)) -> #REF! | L84: =IF(ISNUMBER(FIND("<",L43)),"N.D.",PRODUCT(L43,1/L$54)) -> #REF! | ... S84: =IF(ISNUMBER(FIND("<",S43)),"N.D.",PRODUCT(S43,1/S$54)) -> #REF!
B85: Uranio | C85: U | D85: µg/m3 | E85: =IF(ISNUMBER(FIND("<",E44)),"N.D.",PRODUCT(E44,1/E$54)) -> N.D. | F85: =IF(ISNUMBER(FIND("<",F44)),"N.D.",PRODUCT(F44,1/F$54)) -> N.D. | G85: =IF(ISNUMBER(FIND("<",G44)),"N.D.",PRODUCT(G44,1/G$54)) -> N.D. | H85: =IF(ISNUMBER(FIND("<",H44)),"N.D.",PRODUCT(H44,1/H$54)) -> N.D. | I85: =IF(ISNUMBER(FIND("<",I44)),"N.D.",PRODUCT(I44,1/I$54)) -> #DIV/0!
B86: Vanadio | C86: V | D86: µg/m3 | E86: =IF(ISNUMBER(FIND("<",E45)),"N.D.",PRODUCT(E45,1/E$54)) -> #DIV/0! | F86: =IF(ISNUMBER(FIND("<",F45)),"N.D.",PRODUCT(F45,1/F$54)) -> #DIV/0! | G86: =IF(ISNUMBER(FIND("<",G45)),"N.D.",PRODUCT(G45,1/G$54)) -> #DIV/0! | H86: =IF(ISNUMBER(FIND("<",H45)),"N.D.",PRODUCT(H45,1/H$54)) -> #DIV/0! | I86: =IF(ISNUMBER(FIND("<",I45)),"N.D.",PRODUCT(I45,1/I$54)) -> #DIV/0! | J86: =IF(ISNUMBER(FIND("<",J45)),"N.D.",PRODUCT(J45,1/J$54)) -> #REF! | K86: =IF(ISNUMBER(FIND("<",K45)),"N.D.",PRODUCT(K45,1/K$54)) -> #REF! | L86: =IF(ISNUMBER(FIND("<",L45)),"N.D.",PRODUCT(L45,1/L$54)) -> #REF! | ... S86: =IF(ISNUMBER(FIND("<",S45)),"N.D.",PRODUCT(S45,1/S$54)) -> #REF!
B87: Zinc | C87: Zn | D87: µg/m3 | E87: =IF(ISNUMBER(FIND("<",E46)),"N.D.",PRODUCT(E46,1/E$54)) -> #DIV/0! | F87: =IF(ISNUMBER(FIND("<",F46)),"N.D.",PRODUCT(F46,1/F$54)) -> #DIV/0! | G87: =IF(ISNUMBER(FIND("<",G46)),"N.D.",PRODUCT(G46,1/G$54)) -> #DIV/0! | H87: =IF(ISNUMBER(FIND("<",H46)),"N.D.",PRODUCT(H46,1/H$54)) -> #DIV/0! | I87: =IF(ISNUMBER(FIND("<",I46)),"N.D.",PRODUCT(I46,1/I$54)) -> #DIV/0! | J87: =IF(ISNUMBER(FIND("<",J46)),"N.D.",PRODUCT(J46,1/J$54)) -> #REF! | K87: =IF(ISNUMBER(FIND("<",K46)),"N.D.",PRODUCT(K46,1/K$54)) -> #REF! | L87: =IF(ISNUMBER(FIND("<",L46)),"N.D.",PRODUCT(L46,1/L$54)) -> #REF! | ... S87: =IF(ISNUMBER(FIND("<",S46)),"N.D.",PRODUCT(S46,1/S$54)) -> #REF!
B89: N.D.: | C89: No detectable

Sheet A.2.7. Cálculo Vol E
E2: Tabla A.2.7. Volumen muestreado para metales en PM10 a temperatura de 10°C
B7: DESCRIPCIÓN: | E7: =+'A.2.1. Promedio meteorologia'!E6 -> EVALUACIÓN DE SEGUIMIENTO DE LA CALIDAD DEL AIRE EN EL ÁMBITO DE LA ZONA INDUSTRIAL DE VENTANILLA - MI PERÚ, UBICADO EN LOS DISTRITOS DE VENTANILLA Y MI PERÚ, PROVINCIA CONSTITUCIONAL DEL CALLAO, DURANTE JULIO DE 2020
B9: ESTACIÓN DE MONITOREO: | E9: =+'A.2.4. Cálculo PM10 y VM'!E9:F9 -> CA-VMP-6 | H9: CÓDIGO DE ACCIÓN: | J9: =+'A.2.3. Flujo promedio'!H9 -> 0001-7-2020-411
B11: N° | C11: Parámetro | D11: N° Filtro | E11: Fecha Inicio | F11: Fecha Final | G11: Periodo (minutos) | H11: Temperatura ambiental (°C) | I11: Presión ambiental (mm Hg) | J11: Po/Pa | K11: Flujo de muestreo (m3/min) | L11: Volumen muestreado real (m3) | M11: Volumen muestreado a 10°C (m3)
B12: 1 | C12: Metales en PM10 | D12: ='A.2.4. Cálculo PM10 y VM'!D12 -> 431014 | E12: ='A.2.4. Cálculo PM10 y VM'!E12 -> 0 | F12: ='A.2.4. Cálculo PM10 y VM'!F12 -> 0 | G12: =(F12-E12)*60*24 -> 0 | H12: ='A.2.1. Promedio meteorologia'!$F$42 -> #DIV/0! | I12: ='A.2.1. Promedio meteorologia'!$E$42 -> #DIV/0! | J12: ='A.2.3. Flujo promedio'!E28 -> #DIV/0! | K12: ='A.2.3. Flujo promedio'!I28 -> #DIV/0! | L12: =+K12*G12 -> #DIV/0! | M12: =((K12*(I12/760)*(283.15/(H12+273.15))*G12)) -> #DIV/0!
B13: 2 | D13: ='A.2.4. Cálculo PM10 y VM'!D13 -> 431015 | E13: ='A.2.4. Cálculo PM10 y VM'!E13 -> 0 | F13: ='A.2.4. Cálculo PM10 y VM'!F13 -> 0 | G13: =(F13-E13)*60*24 -> 0 | H13: ='A.2.1. Promedio meteorologia'!$F$70 -> #DIV/0! | I13: ='A.2.1. Promedio meteorologia'!$E$70 -> #DIV/0! | J13: ='A.2.3. Flujo promedio'!E36 -> #DIV/0! | K13: ='A.2.3. Flujo promedio'!I36 -> #DIV/0! | L13: =+K13*G13 -> #DIV/0! | M13: =((K13*(I13/760)*(283.15/(H13+273.15))*G13)) -> #DIV/0!
B14: 3 | D14: ='A.2.4. Cálculo PM10 y VM'!D14 -> 431016 | E14: ='A.2.4. Cálculo PM10 y VM'!E14 -> 0 | F14: ='A.2.4. Cálculo PM10 y VM'!F14 -> 0 | G14: =(F14-E14)*60*24 -> 0 | H14: ='A.2.1. Promedio meteorologia'!$F$98 -> #DIV/0! | I14: ='A.2.1. Promedio meteorologia'!$E$98 -> #DIV/0! | J14: ='A.2.3. Flujo promedio'!E44 -> #DIV/0! | K14: ='A.2.3. Flujo promedio'!I44 -> #DIV/0! | L14: =+K14*G14 -> #DIV/0! | M14: =((K14*(I14/760)*(283.15/(H14+273.15))*G14)) -> #DIV/0!
B15: 4 | D15: ='A.2.4. Cálculo PM10 y VM'!D15 -> 431017 | E15: ='A.2.4. Cálculo PM10 y VM'!E15 -> 0 | F15: ='A.2.4. Cálculo PM10 y VM'!F15 -> 0 | G15: =(F15-E15)*60*24 -> 0 | H15: ='A.2.1. Promedio meteorologia'!$F$126 -> #DIV/0! | I15: ='A.2.1. Promedio meteorologia'!$E$126 -> #DIV/0! | J15: ='A.2.3. Flujo promedio'!E52 -> #DIV/0! | K15: ='A.2.3. Flujo promedio'!I52 -> #DIV/0! | L15: =+K15*G15 -> #DIV/0! | M15: =((K15*(I15/760)*(283.15/(H15+273.15))*G15)) -> #DIV/0!
B16: 5 | D16: ='A.2.4. Cálculo PM10 y VM'!D16 -> 431018 | E16: ='A.2.4. Cálculo PM10 y VM'!E16 -> 0 | F16: ='A.2.4. Cálculo PM10 y VM'!F16 -> 0 | G16: =(F16-E16)*60*24 -> 0 | H16: ='A.2.1. Promedio meteorologia'!$F$154 -> #DIV/0! | I16: ='A.2.1. Promedio meteorologia'!$E$154 -> #DIV/0! | J16: ='A.2.3. Flujo promedio'!E60 -> #DIV/0! | K16: ='A.2.3. Flujo promedio'!I60 -> #DIV/0! | L16: =+K16*G16 -> #DIV/0! | M16: =((K16*(I16/760)*(283.15/(H16+273.15))*G16)) -> #DIV/0!
B17: 6 | G17: =(F17-E17)*60*24 -> 0 | K17: 23.51 | M17: =IF(L17="","",L17/K17)
B18: 7 | G18: =(F18-E18)*60*24 -> 0 | K18: 23.51 | M18: =IF(L18="","",L18/K18)
B19: 8 | G19: =(F19-E19)*60*24 -> 0 | K19: 23.52 | M19: =IF(L19="","",L19/K19)
B20: 9 | G20: =(F20-E20)*60*24 -> 0 | M20: =IF(L20="","",L20/K20)
B21: 10 | G21: =(F21-E21)*60*24 -> 0 | M21: =IF(L21="","",L21/K21)
B22: 11 | G22: =(F22-E22)*60*24 -> 0 | M22: =IF(L22="","",L22/K22)
B23: 12 | G23: =(F23-E23)*60*24 -> 0 | M23: =IF(L23="","",L23/K23)
B24: 13 | G24: =(F24-E24)*60*24 -> 0 | M24: =IF(L24="","",L24/K24)
B25: 14 | G25: =(F25-E25)*60*24 -> 0 | M25: =IF(L25="","",L25/K25)
B26: 15 | G26: =(F26-E26)*60*24 -> 0 | M26: =IF(L26="","",L26/K26)
B28: OBSERVACIONES:
B29: (1) El cálculo de volumen muestrado para metales en PM10, se realizó en base a las condiciones de temperatura 10°C (283,15 °K) y presión estándar (760 mmHg ó 1013,25 mBar), establecidas en la Norma referencial ONTARIO’S AMBIENT AIR QUALITY CRITERIA. "-" : No aplica.

Sheet A.2.8. Conc. Metales 10°C
E2: Tabla A.2.8. Concentraciones de metales en PM10 a temperatura de 10°C
B7: TÍTULO DEL ESTUDIO: | E7: =+'A.2.1. Promedio meteorologia'!E6 -> EVALUACIÓN DE SEGUIMIENTO DE LA CALIDAD DEL AIRE EN EL ÁMBITO DE LA ZONA INDUSTRIAL DE VENTANILLA - MI PERÚ, UBICADO EN LOS DISTRITOS DE VENTANILLA Y MI PERÚ, PROVINCIA CONSTITUCIONAL DEL CALLAO, DURANTE JULIO DE 2020
B9: ESTACIÓN DE MONITOREO: | E9: =+'A.2.1. Promedio meteorologia'!E8 -> CA-VMP-6 | G9: CÓDIGO DE ACCIÓN: | I9: =+'A.2.3. Flujo promedio'!H9 -> 0001-7-2020-411
B11: RESULTADOS DE LABORATORIO
B12: Metal medido en PM10 | D12: Unidad | E12: Fecha
E13: ='A.2.4. Cálculo PM10 y VM'!$E12 -> 0 | F13: ='A.2.4. Cálculo PM10 y VM'!$E13 -> 0 | G13: ='A.2.4. Cálculo PM10 y VM'!$E14 -> 0 | H13: ='A.2.4. Cálculo PM10 y VM'!$E15 -> 0 | I13: ='A.2.4. Cálculo PM10 y VM'!$E16 -> 0 | J13: ='A.2.4. Cálculo PM10 y VM'!$E17 -> #REF! | K13: ='A.2.4. Cálculo PM10 y VM'!$E18 -> #REF! | L13: ='A.2.4. Cálculo PM10 y VM'!$E19 -> #REF! | M13: ='A.2.4. Cálculo PM10 y VM'!$E20 -> #REF! | N13: ='A.2.4. Cálculo PM10 y VM'!$E21 -> #REF! | O13: ='A.2.4. Cálculo PM10 y VM'!$E22 -> #REF! | P13: ='A.2.4. Cálculo PM10 y VM'!$E23 -> #REF! | Q13: ='A.2.4. Cálculo PM10 y VM'!$E24 -> #REF! | R13: ='A.2.4. Cálculo PM10 y VM'!$E25 -> #REF! | S13: ='A.2.4. Cálculo PM10 y VM'!$E26 -> #REF!
B14: Aluminio | C14: Al | D14: µg/mtra | E14: 874.6 | F14: 629.1 | G14: 652.1 | H14: 892 | I14: 847
B15: Antimonio | C15: Sb | D15: µg/mtra | E15: 7.363 | F15: 2.634 | G15: 3.459 | H15: 13.15 | I15: 15.43
B16: Arsénico | C16: As | D16: µg/mtra | E16: 6.409 | F16: 10.42 | G16: 7.33 | H16: 9.694 | I16: 10.3
B17: Bario | C17: Ba | D17: µg/mtra | E17: 31.61 | F17: 18.76 | G17: 22.94 | H17: 27.94 | I17: 35.55
B18: Berilio | C18: Be | D18: µg/mtra | E18: < 0,010 | F18: < 0,010 | G18: < 0,010 | H18: < 0,010 | I18: < 0,010
B19: Bismuto | C19: Bi | D19: µg/mtra | E19: 0.827 | F19: 0.5467 | G19: 0.4976 | H19: 0.7177 | I19: 0.9212
B20: Boro | C20: B | D20: µg/mtra | E20: 4.2 | F20: 3.37 | G20: 5.83 | H20: 5.31 | I20: 4.66
B21: Cadmio | C21: Cd | D21: µg/mtra | E21: 2.606 | F21: 0.982 | G21: 1.711 | H21: 2.4 | I21: 2.508
B22: Calcio | C22: Ca | D22: µg/mtra | E22: 3550 | F22: 3724 | G22: 3165 | H22: 3805 | I22: 4707
B23: Cobalto | C23: Co | D23: µg/mtra | E23: 1.229 | F23: 0.941 | G23: 0.832 | H23: 1.176 | I23: 1.47
B24: Cobre | C24: Cu | D24: µg/mtra | E24: 129.9 | F24: 71.47 | G24: 64.26 | H24: 105.7 | I24: 160.8
B25: Cromo | C25: Cr | D25: µg/mtra | E25: < 2,082 | F25: < 2,082 | G25: < 2,082 | H25: < 2,082 | I25: < 2,082
B26: Estaño | C26: Sn | D26: µg/mtra | E26: 5.458 | F26: 2.107 | G26: 4.044 | H26: 5.96 | I26: 8.295
B27: Estroncio | C27: Sr | D27: µg/mtra | E27: 13.96 | F27: 13.7 | G27: 12.97 | H27: 16.7 | I27: 16.22
B28: Fósforo | C28: P | D28: µg/mtra | E28: 349.2 | F28: 333.8 | G28: 438.6 | H28: 391.6 | I28: 566.1
B29: Hierro | C29: Fe | D29: µg/mtra | E29: 1570 | F29: 1060 | G29: 1115 | H29: 1572 | I29: 1600
B30: Litio | C30: Li | D30: µg/mtra | E30: 0.77 | F30: 0.47 | G30: 0.71 | H30: 0.85 | I30: 0.65
B31: Magnesio | C31: Mg | D31: µg/mtra | E31: 961 | F31: 1076 | G31: 947.7 | H31: 1270 | I31: 1268
B32: Manganeso | C32: Mn | D32: µg/mtra | E32: 39.18 | F32: 27.31 | G32: 31.31 | H32: 38.74 | I32: 41.76
B33: Mercurio | C33: Hg | D33: µg/mtra | E33: < 0,021 | F33: < 0,021 | G33: 0.171 | H33: < 0,021 | I33: 0.364
B34: Molibdeno | C34: Mo | D34: µg/mtra | E34: 3.665 | F34: 3.336 | G34: 3.094 | H34: 3.995 | I34: 4.275
B35: Níquel | C35: Ni | D35: µg/mtra | E35: 8.379 | F35: 4.468 | G35: 3.776 | H35: 4.355 | I35: 6.317
B36: Plata | C36: Ag | D36: µg/mtra | E36: 0.3351 | F36: 0.253 | G36: 0.2028 | H36: 0.251 | I36: 0.4812
B37: Plomo | C37: Pb | D37: µg/mtra | E37: 137 | F37: 26.86 | G37: 44.37 | H37: 195.6 | I37: 205.7
B38: Potasio | C38: K | D38: µg/mtra | E38: 565 | F38: 478.5 | G38: 502.6 | H38: 618.2 | I38: 594.3
B39: Selenio | C39: Se | D39: µg/mtra | E39: 4.368 | F39: 2.203 | G39: 4.095 | H39: 3.676 | I39: 4.861
B40: Silicio | C40: Si | D40: µg/mtra | E40: 1173 | F40: 978.3 | G40: 1377 | H40: 1405 | I40: 1168
B41: Sodio | C41: Na | D41: µg/mtra | E41: 3612 | F41: 5643 | G41: 4879 | H41: 5796 | I41: 5998
B42: Talio | C42: Tl | D42: µg/mtra | E42: 0.22 | F42: < 0,008 | G42: < 0,008 | H42: 0.294 | I42: 0.181
B43: Titanio | C43: Ti | D43: µg/mtra | E43: 42 | F43: 31.34 | G43: 32.62 | H43: 43 | I43: 43.02
B44: Uranio | C44: U | D44: µg/mtra | E44: < 0,0071 | F44: < 0,0071 | G44: < 0,0071 | H44: < 0,0071 | I44: 0.1751
B45: Vanadio | C45: V | D45: µg/mtra | E45: 5.569 | F45: 4.207 | G45: 3.983 | H45: 5.22 | I45: 6.395
B46: Zinc | C46: Zn | D46: µg/mtra | E46: 215.1 | F46: 107.3 | G46: 123.8 | H46: 155 | I46: 326.9
B48: <: Debajo del límite de detección | C48: Debajo del límite de detección
B49: Fuente: Informe de Ensayo N.° 35995/2020 del laboratorio ALS LS Perú S.A.C.
B51: CONCENTRACIÓN DE METALES
B52: Metal medido en PM10 | D52: Unidad | E52: =E12 -> Fecha
E53: ='A.2.4. Cálculo PM10 y VM'!$E12 -> 0 | F53: ='A.2.4. Cálculo PM10 y VM'!$E13 -> 0 | G53: ='A.2.4. Cálculo PM10 y VM'!$E14 -> 0 | H53: ='A.2.4. Cálculo PM10 y VM'!$E15 -> 0 | I53: ='A.2.4. Cálculo PM10 y VM'!$E16 -> 0 | J53: ='A.2.4. Cálculo PM10 y VM'!$E17 -> #REF! | K53: ='A.2.4. Cálculo PM10 y VM'!$E18 -> #REF! | L53: ='A.2.4. Cálculo PM10 y VM'!$E19 -> #REF! | M53: ='A.2.4. Cálculo PM10 y VM'!$E20 -> #REF! | N53: ='A.2.4. Cálculo PM10 y VM'!$E21 -> #REF! | O53: ='A.2.4. Cálculo PM10 y VM'!$E22 -> #REF! | P53: ='A.2.4. Cálculo PM10 y VM'!$E23 -> #REF! | Q53: ='A.2.4. Cálculo PM10 y VM'!$E24 -> #REF! | R53: ='A.2.4. Cálculo PM10 y VM'!$E25 -> #REF! | S53: ='A.2.4. Cálculo PM10 y VM'!$E26 -> #REF!
B54: Volumen de muestreo, en m3 (Va) | E54: ='A.2.7. Cálculo Vol E'!M12 -> #DIV/0! | F54: ='A.2.7. Cálculo Vol E'!M13 -> #DIV/0! | G54: ='A.2.7. Cálculo Vol E'!M14 -> #DIV/0! | H54: ='A.2.7. Cálculo Vol E'!M15 -> #DIV/0! | I54: ='A.2.7. Cálculo Vol E'!M16 -> #DIV/0! | J54: ='A.2.4. Cálculo PM10 y VM'!#REF! -> #REF! | K54: ='A.2.4. Cálculo PM10 y VM'!#REF! -> #REF! | L54: ='A.2.4. Cálculo PM10 y VM'!#REF! -> #REF! | M54: ='A.2.4. Cálculo PM10 y VM'!#REF! -> #REF! | N54: ='A.2.4. Cálculo PM10 y VM'!#REF! -> #REF! | O54: ='A.2.4. Cálculo PM10 y VM'!#REF! -> #REF! | P54: ='A.2.4. Cálculo PM10 y VM'!#REF! -> #REF! | Q54: ='A.2.4. Cálculo PM10 y VM'!#REF! -> #REF! | ... S54: ='A.2.4. Cálculo PM10 y VM'!#REF! -> #REF! | V54: Maximo: | W54: Estado: | X54: Cantidad:
B55: Aluminio | C55: Al | D55: µg/m3 | E55: =IF(ISNUMBER(FIND("<",E14)),"N.D.",PRODUCT(E14,1/E$54)) -> #DIV/0! | F55: =IF(ISNUMBER(FIND("<",F14)),"N.D.",PRODUCT(F14,1/F$54)) -> #DIV/0! | G55: =IF(ISNUMBER(FIND("<",G14)),"N.D.",PRODUCT(G14,1/G$54)) -> #DIV/0! | H55: =IF(ISNUMBER(FIND("<",H14)),"N.D.",PRODUCT(H14,1/H$54)) -> #DIV/0! | I55: =IF(ISNUMBER(FIND("<",I14)),"N.D.",PRODUCT(I14,1/I$54)) -> #DIV/0! | J55: =IF(ISNUMBER(FIND("<",J14)),"N.D.",PRODUCT(J14,1/J$54)) -> #REF! | K55: =IF(ISNUMBER(FIND("<",K14)),"N.D.",PRODUCT(K14,1/K$54)) -> #REF! | L55: =IF(ISNUMBER(FIND("<",L14)),"N.D.",PRODUCT(L14,1/L$54)) -> #REF! | ... S55: =IF(ISNUMBER(FIND("<",S14)),"N.D.",PRODUCT(S14,1/S$54)) -> #REF! | U55: - | V55: =MAX(E55:I55) -> #DIV/0! | W55: =IF(V55>U55,"Supera","No Supera") -> #DIV/0!
B56: Antimonio | C56: Sb | D56: µg/m3 | E56: =IF(ISNUMBER(FIND("<",E15)),"N.D.",PRODUCT(E15,1/E$54)) -> #DIV/0! | F56: =IF(ISNUMBER(FIND("<",F15)),"N.D.",PRODUCT(F15,1/F$54)) -> #DIV/0! | G56: =IF(ISNUMBER(FIND("<",G15)),"N.D.",PRODUCT(G15,1/G$54)) -> #DIV/0! | H56: =IF(ISNUMBER(FIND("<",H15)),"N.D.",PRODUCT(H15,1/H$54)) -> #DIV/0! | I56: =IF(ISNUMBER(FIND("<",I15)),"N.D.",PRODUCT(I15,1/I$54)) -> #DIV/0! | J56: =IF(ISNUMBER(FIND("<",J15)),"N.D.",PRODUCT(J15,1/J$54)) -> #REF! | K56: =IF(ISNUMBER(FIND("<",K15)),"N.D.",PRODUCT(K15,1/K$54)) -> #REF! | L56: =IF(ISNUMBER(FIND("<",L15)),"N.D.",PRODUCT(L15,1/L$54)) -> #REF! | ... S56: =IF(ISNUMBER(FIND("<",S15)),"N.D.",PRODUCT(S15,1/S$54)) -> #REF! | U56: 25 | V56: =MAX(E56:I56) -> #DIV/0! | W56: =IF(V56>U56,"Supera","No Supera") -> #DIV/0!
B57: Arsénico | C57: As | D57: µg/m3 | E57: =IF(ISNUMBER(FIND("<",E16)),"N.D.",PRODUCT(E16,1/E$54)) -> #DIV/0! | F57: =IF(ISNUMBER(FIND("<",F16)),"N.D.",PRODUCT(F16,1/F$54)) -> #DIV/0! | G57: =IF(ISNUMBER(FIND("<",G16)),"N.D.",PRODUCT(G16,1/G$54)) -> #DIV/0! | H57: =IF(ISNUMBER(FIND("<",H16)),"N.D.",PRODUCT(H16,1/H$54)) -> #DIV/0! | I57: =IF(ISNUMBER(FIND("<",I16)),"N.D.",PRODUCT(I16,1/I$54)) -> #DIV/0! | J57: =IF(ISNUMBER(FIND("<",J16)),"N.D.",PRODUCT(J16,1/J$54)) -> #REF! | K57: =IF(ISNUMBER(FIND("<",K16)),"N.D.",PRODUCT(K16,1/K$54)) -> #REF! | L57: =IF(ISNUMBER(FIND("<",L16)),"N.D.",PRODUCT(L16,1/L$54)) -> #REF! | ... S57: =IF(ISNUMBER(FIND("<",S16)),"N.D.",PRODUCT(S16,1/S$54)) -> #REF! | U57: 0.3 | V57: =MAX(E57:I57) -> #DIV/0! | W57: =IF(V57>U57,"Supera","No Supera") -> #DIV/0!
B58: Bario | C58: Ba | D58: µg/m3 | E58: =IF(ISNUMBER(FIND("<",E17)),"N.D.",PRODUCT(E17,1/E$54)) -> #DIV/0! | F58: =IF(ISNUMBER(FIND("<",F17)),"N.D.",PRODUCT(F17,1/F$54)) -> #DIV/0! | G58: =IF(ISNUMBER(FIND("<",G17)),"N.D.",PRODUCT(G17,1/G$54)) -> #DIV/0! | H58: =IF(ISNUMBER(FIND("<",H17)),"N.D.",PRODUCT(H17,1/H$54)) -> #DIV/0! | I58: =IF(ISNUMBER(FIND("<",I17)),"N.D.",PRODUCT(I17,1/I$54)) -> #DIV/0! | J58: =IF(ISNUMBER(FIND("<",J17)),"N.D.",PRODUCT(J17,1/J$54)) -> #REF! | K58: =IF(ISNUMBER(FIND("<",K17)),"N.D.",PRODUCT(K17,1/K$54)) -> #REF! | L58: =IF(ISNUMBER(FIND("<",L17)),"N.D.",PRODUCT(L17,1/L$54)) -> #REF! | ... S58: =IF(ISNUMBER(FIND("<",S17)),"N.D.",PRODUCT(S17,1/S$54)) -> #REF! | U58: - | V58: =MAX(E58:I58) -> #DIV/0! | W58: =IF(V58>U58,"Supera","No Supera") -> #DIV/0!
B59: Berilio | C59: Be | D59: µg/m3 | E59: =IF(ISNUMBER(FIND("<",E18)),"N.D.",PRODUCT(E18,1/E$54)) -> N.D. | F59: =IF(ISNUMBER(FIND("<",F18)),"N.D.",PRODUCT(F18,1/F$54)) -> N.D. | G59: =IF(ISNUMBER(FIND("<",G18)),"N.D.",PRODUCT(G18,1/G$54)) -> N.D. | H59: =IF(ISNUMBER(FIND("<",H18)),"N.D.",PRODUCT(H18,1/H$54)) -> N.D. | I59: =IF(ISNUMBER(FIND("<",I18)),"N.D.",PRODUCT(I18,1/I$54)) -> N.D. | J59: =IF(ISNUMBER(FIND("<",J18)),"N.D.",PRODUCT(J18,1/J$54)) -> #REF! | K59: =IF(ISNUMBER(FIND("<",K18)),"N.D.",PRODUCT(K18,1/K$54)) -> #REF! | L59: =IF(ISNUMBER(FIND("<",L18)),"N.D.",PRODUCT(L18,1/L$54)) -> #REF! | ... S59: =IF(ISNUMBER(FIND("<",S18)),"N.D.",PRODUCT(S18,1/S$54)) -> #REF! | U59: 0.01 | V59: =MAX(E59:I59) -> 0 | W59: =IF(V59>U59,"Supera","No Supera") -> No Supera
B60: Bismuto | C60: Bi | D60: µg/m3 | E60: =IF(ISNUMBER(FIND("<",E19)),"N.D.",PRODUCT(E19,1/E$54)) -> #DIV/0! | F60: =IF(ISNUMBER(FIND("<",F19)),"N.D.",PRODUCT(F19,1/F$54)) -> #DIV/0! | G60: =IF(ISNUMBER(FIND("<",G19)),"N.D.",PRODUCT(G19,1/G$54)) -> #DIV/0! | H60: =IF(ISNUMBER(FIND("<",H19)),"N.D.",PRODUCT(H19,1/H$54)) -> #DIV/0! | I60: =IF(ISNUMBER(FIND("<",I19)),"N.D.",PRODUCT(I19,1/I$54)) -> #DIV/0! | J60: =IF(ISNUMBER(FIND("<",J19)),"N.D.",PRODUCT(J19,1/J$54)) -> #REF! | K60: =IF(ISNUMBER(FIND("<",K19)),"N.D.",PRODUCT(K19,1/K$54)) -> #REF! | L60: =IF(ISNUMBER(FIND("<",L19)),"N.D.",PRODUCT(L19,1/L$54)) -> #REF! | ... S60: =IF(ISNUMBER(FIND("<",S19)),"N.D.",PRODUCT(S19,1/S$54)) -> #REF! | U60: - | V60: =MAX(E60:I60) -> #DIV/0! | W60: =IF(V60>U60,"Supera","No Supera") -> #DIV/0!
B61: Boro | C61: B | D61: µg/m3 | E61: =IF(ISNUMBER(FIND("<",E20)),"N.D.",PRODUCT(E20,1/E$54)) -> #DIV/0! | F61: =IF(ISNUMBER(FIND("<",F20)),"N.D.",PRODUCT(F20,1/F$54)) -> #DIV/0! | G61: =IF(ISNUMBER(FIND("<",G20)),"N.D.",PRODUCT(G20,1/G$54)) -> #DIV/0! | H61: =IF(ISNUMBER(FIND("<",H20)),"N.D.",PRODUCT(H20,1/H$54)) -> #DIV/0! | I61: =IF(ISNUMBER(FIND("<",I20)),"N.D.",PRODUCT(I20,1/I$54)) -> #DIV/0! | J61: =IF(ISNUMBER(FIND("<",J20)),"N.D.",PRODUCT(J20,1/J$54)) -> #REF! | K61: =IF(ISNUMBER(FIND("<",K20)),"N.D.",PRODUCT(K20,1/K$54)) -> #REF! | L61: =IF(ISNUMBER(FIND("<",L20)),"N.D.",PRODUCT(L20,1/L$54)) -> #REF! | ... S61: =IF(ISNUMBER(FIND("<",S20)),"N.D.",PRODUCT(S20,1/S$54)) -> #REF! | U61: 120 | V61: =MAX(E61:I61) -> #DIV/0! | W61: =IF(V61>U61,"Supera","No Supera") -> #DIV/0!
B62: Cadmio | C62: Cd | D62: µg/m3 | E62: =IF(ISNUMBER(FIND("<",E21)),"N.D.",PRODUCT(E21,1/E$54)) -> #DIV/0! | F62: =IF(ISNUMBER(FIND("<",F21)),"N.D.",PRODUCT(F21,1/F$54)) -> #DIV/0! | G62: =IF(ISNUMBER(FIND("<",G21)),"N.D.",PRODUCT(G21,1/G$54)) -> #DIV/0! | H62: =IF(ISNUMBER(FIND("<",H21)),"N.D.",PRODUCT(H21,1/H$54)) -> #DIV/0! | I62: =IF(ISNUMBER(FIND("<",I21)),"N.D.",PRODUCT(I21,1/I$54)) -> #DIV/0! | J62: =IF(ISNUMBER(FIND("<",J21)),"N.D.",PRODUCT(J21,1/J$54)) -> #REF! | K62: =IF(ISNUMBER(FIND("<",K21)),"N.D.",PRODUCT(K21,1/K$54)) -> #REF! | L62: =IF(ISNUMBER(FIND("<",L21)),"N.D.",PRODUCT(L21,1/L$54)) -> #REF! | ... S62: =IF(ISNUMBER(FIND("<",S21)),"N.D.",PRODUCT(S21,1/S$54)) -> #REF! | U62: 0.025 | V62: =MAX(E62:I62) -> #DIV/0! | W62: =IF(V62>U62,"Supera","No Supera") -> #DIV/0! | X62: =COUNTIF(E62:I62,">0,025") -> 0 | Y62: =E62/$U$62 -> #DIV/0! | Z62: =F62/$U$62 -> #DIV/0! | AA62: =G62/$U$62 -> #DIV/0! | AB62: =H62/$U$62 -> #DIV/0! | AC62: =I62/$U$62 -> #DIV/0! | AD62: =MAX(Y62:AC62) -> #DIV/0!
B63: Calcio | C63: Ca | D63: µg/m3 | E63: =IF(ISNUMBER(FIND("<",E22)),"N.D.",PRODUCT(E22,1/E$54)) -> #DIV/0! | F63: =IF(ISNUMBER(FIND("<",F22)),"N.D.",PRODUCT(F22,1/F$54)) -> #DIV/0! | G63: =IF(ISNUMBER(FIND("<",G22)),"N.D.",PRODUCT(G22,1/G$54)) -> #DIV/0! | H63: =IF(ISNUMBER(FIND("<",H22)),"N.D.",PRODUCT(H22,1/H$54)) -> #DIV/0! | I63: =IF(ISNUMBER(FIND("<",I22)),"N.D.",PRODUCT(I22,1/I$54)) -> #DIV/0! | J63: =IF(ISNUMBER(FIND("<",J22)),"N.D.",PRODUCT(J22,1/J$54)) -> #REF! | K63: =IF(ISNUMBER(FIND("<",K22)),"N.D.",PRODUCT(K22,1/K$54)) -> #REF! | L63: =IF(ISNUMBER(FIND("<",L22)),"N.D.",PRODUCT(L22,1/L$54)) -> #REF! | ... S63: =IF(ISNUMBER(FIND("<",S22)),"N.D.",PRODUCT(S22,1/S$54)) -> #REF! | U63: - | V63: =MAX(E63:I63) -> #DIV/0! | W63: =IF(V63>U63,"Supera","No Supera") -> #DIV/0!
B64: Cobalto | C64: Co | D64: µg/m3 | E64: =IF(ISNUMBER(FIND("<",E23)),"N.D.",PRODUCT(E23,1/E$54)) -> #DIV/0! | F64: =IF(ISNUMBER(FIND("<",F23)),"N.D.",PRODUCT(F23,1/F$54)) -> #DIV/0! | G64: =IF(ISNUMBER(FIND("<",G23)),"N.D.",PRODUCT(G23,1/G$54)) -> #DIV/0! | H64: =IF(ISNUMBER(FIND("<",H23)),"N.D.",PRODUCT(H23,1/H$54)) -> #DIV/0! | I64: =IF(ISNUMBER(FIND("<",I23)),"N.D.",PRODUCT(I23,1/I$54)) -> #DIV/0! | J64: =IF(ISNUMBER(FIND("<",J23)),"N.D.",PRODUCT(J23,1/J$54)) -> #REF! | K64: =IF(ISNUMBER(FIND("<",K23)),"N.D.",PRODUCT(K23,1/K$54)) -> #REF! | L64: =IF(ISNUMBER(FIND("<",L23)),"N.D.",PRODUCT(L23,1/L$54)) -> #REF! | ... S64: =IF(ISNUMBER(FIND("<",S23)),"N.D.",PRODUCT(S23,1/S$54)) -> #REF! | U64: 0.1 | V64: =MAX(E64:I64) -> #DIV/0! | W64: =IF(V64>U64,"Supera","No Supera") -> #DIV/0!
B65: Cobre | C65: Cu | D65: µg/m3 | E65: =IF(ISNUMBER(FIND("<",E24)),"N.D.",PRODUCT(E24,1/E$54)) -> #DIV/0! | F65: =IF(ISNUMBER(FIND("<",F24)),"N.D.",PRODUCT(F24,1/F$54)) -> #DIV/0! | G65: =IF(ISNUMBER(FIND("<",G24)),"N.D.",PRODUCT(G24,1/G$54)) -> #DIV/0! | H65: =IF(ISNUMBER(FIND("<",H24)),"N.D.",PRODUCT(H24,1/H$54)) -> #DIV/0! | I65: =IF(ISNUMBER(FIND("<",I24)),"N.D.",PRODUCT(I24,1/I$54)) -> #DIV/0! | J65: =IF(ISNUMBER(FIND("<",J24)),"N.D.",PRODUCT(J24,1/J$54)) -> #REF! | K65: =IF(ISNUMBER(FIND("<",K24)),"N.D.",PRODUCT(K24,1/K$54)) -> #REF! | L65: =IF(ISNUMBER(FIND("<",L24)),"N.D.",PRODUCT(L24,1/L$54)) -> #REF! | ... S65: =IF(ISNUMBER(FIND("<",S24)),"N.D.",PRODUCT(S24,1/S$54)) -> #REF! | U65: 50 | V65: =MAX(E65:I65) -> #DIV/0! | W65: =IF(V65>U65,"Supera","No Supera") -> #DIV/0!
B66: Cromo | C66: Cr | D66: µg/m3 | E66: =IF(ISNUMBER(FIND("<",E25)),"N.D.",PRODUCT(E25,1/E$54)) -> N.D. | F66: =IF(ISNUMBER(FIND("<",F25)),"N.D.",PRODUCT(F25,1/F$54)) -> N.D. | G66: =IF(ISNUMBER(FIND("<",G25)),"N.D.",PRODUCT(G25,1/G$54)) -> N.D. | H66: =IF(ISNUMBER(FIND("<",H25)),"N.D.",PRODUCT(H25,1/H$54)) -> N.D. | I66: =IF(ISNUMBER(FIND("<",I25)),"N.D.",PRODUCT(I25,1/I$54)) -> N.D. | J66: =IF(ISNUMBER(FIND("<",J25)),"N.D.",PRODUCT(J25,1/J$54)) -> #REF! | K66: =IF(ISNUMBER(FIND("<",K25)),"N.D.",PRODUCT(K25,1/K$54)) -> #REF! | L66: =IF(ISNUMBER(FIND("<",L25)),"N.D.",PRODUCT(L25,1/L$54)) -> #REF! | ... S66: =IF(ISNUMBER(FIND("<",S25)),"N.D.",PRODUCT(S25,1/S$54)) -> #REF! | U66: 0.5 | V66: =MAX(E66:I66) -> 0 | W66: =IF(V66>U66,"Supera","No Supera") -> No Supera
B67: Estaño | C67: Sn | D67: µg/m3 | E67: =IF(ISNUMBER(FIND("<",E26)),"N.D.",PRODUCT(E26,1/E$54)) -> #DIV/0! | F67: =IF(ISNUMBER(FIND("<",F26)),"N.D.",PRODUCT(F26,1/F$54)) -> #DIV/0! | G67: =IF(ISNUMBER(FIND("<",G26)),"N.D.",PRODUCT(G26,1/G$54)) -> #DIV/0! | H67: =IF(ISNUMBER(FIND("<",H26)),"N.D.",PRODUCT(H26,1/H$54)) -> #DIV/0! | I67: =IF(ISNUMBER(FIND("<",I26)),"N.D.",PRODUCT(I26,1/I$54)) -> #DIV/0! | J67: =IF(ISNUMBER(FIND("<",J26)),"N.D.",PRODUCT(J26,1/J$54)) -> #REF! | K67: =IF(ISNUMBER(FIND("<",K26)),"N.D.",PRODUCT(K26,1/K$54)) -> #REF! | L67: =IF(ISNUMBER(FIND("<",L26)),"N.D.",PRODUCT(L26,1/L$54)) -> #REF! | ... S67: =IF(ISNUMBER(FIND("<",S26)),"N.D.",PRODUCT(S26,1/S$54)) -> #REF! | U67: 10 | V67: =MAX(E67:I67) -> #DIV/0! | W67: =IF(V67>U67,"Supera","No Supera") -> #DIV/0!
B68: Estroncio | C68: Sr | D68: µg/m3 | E68: =IF(ISNUMBER(FIND("<",E27)),"N.D.",PRODUCT(E27,1/E$54)) -> #DIV/0! | F68: =IF(ISNUMBER(FIND("<",F27)),"N.D.",PRODUCT(F27,1/F$54)) -> #DIV/0! | G68: =IF(ISNUMBER(FIND("<",G27)),"N.D.",PRODUCT(G27,1/G$54)) -> #DIV/0! | H68: =IF(ISNUMBER(FIND("<",H27)),"N.D.",PRODUCT(H27,1/H$54)) -> #DIV/0! | I68: =IF(ISNUMBER(FIND("<",I27)),"N.D.",PRODUCT(I27,1/I$54)) -> #DIV/0! | J68: =IF(ISNUMBER(FIND("<",J27)),"N.D.",PRODUCT(J27,1/J$54)) -> #REF! | K68: =IF(ISNUMBER(FIND("<",K27)),"N.D.",PRODUCT(K27,1/K$54)) -> #REF! | L68: =IF(ISNUMBER(FIND("<",L27)),"N.D.",PRODUCT(L27,1/L$54)) -> #REF! | ... S68: =IF(ISNUMBER(FIND("<",S27)),"N.D.",PRODUCT(S27,1/S$54)) -> #REF! | U68: 120 | V68: =MAX(E68:I68) -> #DIV/0! | W68: =IF(V68>U68,"Supera","No Supera") -> #DIV/0!
B69: Fósforo | C69: P | D69: µg/m3 | E69: =IF(ISNUMBER(FIND("<",E28)),"N.D.",PRODUCT(E28,1/E$54)) -> #DIV/0! | F69: =IF(ISNUMBER(FIND("<",F28)),"N.D.",PRODUCT(F28,1/F$54)) -> #DIV/0! | G69: =IF(ISNUMBER(FIND("<",G28)),"N.D.",PRODUCT(G28,1/G$54)) -> #DIV/0! | H69: =IF(ISNUMBER(FIND("<",H28)),"N.D.",PRODUCT(H28,1/H$54)) -> #DIV/0! | I69: =IF(ISNUMBER(FIND("<",I28)),"N.D.",PRODUCT(I28,1/I$54)) -> #DIV/0! | J69: =IF(ISNUMBER(FIND("<",J28)),"N.D.",PRODUCT(J28,1/J$54)) -> #REF! | K69: =IF(ISNUMBER(FIND("<",K28)),"N.D.",PRODUCT(K28,1/K$54)) -> #REF! | L69: =IF(ISNUMBER(FIND("<",L28)),"N.D.",PRODUCT(L28,1/L$54)) -> #REF! | ... S69: =IF(ISNUMBER(FIND("<",S28)),"N.D.",PRODUCT(S28,1/S$54)) -> #REF! | U69: - | V69: =MAX(E69:I69) -> #DIV/0! | W69: =IF(V69>U69,"Supera","No Supera") -> #DIV/0!
B70: Hierro | C70: Fe | D70: µg/m3 | E70: =IF(ISNUMBER(FIND("<",E29)),"N.D.",PRODUCT(E29,1/E$54)) -> #DIV/0! | F70: =IF(ISNUMBER(FIND("<",F29)),"N.D.",PRODUCT(F29,1/F$54)) -> #DIV/0! | G70: =IF(ISNUMBER(FIND("<",G29)),"N.D.",PRODUCT(G29,1/G$54)) -> #DIV/0! | H70: =IF(ISNUMBER(FIND("<",H29)),"N.D.",PRODUCT(H29,1/H$54)) -> #DIV/0! | I70: =IF(ISNUMBER(FIND("<",I29)),"N.D.",PRODUCT(I29,1/I$54)) -> #DIV/0! | J70: =IF(ISNUMBER(FIND("<",J29)),"N.D.",PRODUCT(J29,1/J$54)) -> #REF! | K70: =IF(ISNUMBER(FIND("<",K29)),"N.D.",PRODUCT(K29,1/K$54)) -> #REF! | L70: =IF(ISNUMBER(FIND("<",L29)),"N.D.",PRODUCT(L29,1/L$54)) -> #REF! | ... S70: =IF(ISNUMBER(FIND("<",S29)),"N.D.",PRODUCT(S29,1/S$54)) -> #REF! | U70: 4 | V70: =MAX(E70:I70) -> #DIV/0! | W70: =IF(V70>U70,"Supera","No Supera") -> #DIV/0! | X70: =COUNTIF(E70:I70,">4") -> 0 | Y70: =E70/$U$70 -> #DIV/0! | Z70: =F70/$U$70 -> #DIV/0! | AA70: =G70/$U$70 -> #DIV/0! | AB70: =H70/$U$70 -> #DIV/0! | AC70: =I70/$U$70 -> #DIV/0! | AD70: =MAX(Y70:AC70) -> #DIV/0!
B71: Litio | C71: Li | D71: µg/m3 | E71: =IF(ISNUMBER(FIND("<",E30)),"N.D.",PRODUCT(E30,1/E$54)) -> #DIV/0! | F71: =IF(ISNUMBER(FIND("<",F30)),"N.D.",PRODUCT(F30,1/F$54)) -> #DIV/0! | G71: =IF(ISNUMBER(FIND("<",G30)),"N.D.",PRODUCT(G30,1/G$54)) -> #DIV/0! | H71: =IF(ISNUMBER(FIND("<",H30)),"N.D.",PRODUCT(H30,1/H$54)) -> #DIV/0! | I71: =IF(ISNUMBER(FIND("<",I30)),"N.D.",PRODUCT(I30,1/I$54)) -> #DIV/0! | J71: =IF(ISNUMBER(FIND("<",J30)),"N.D.",PRODUCT(J30,1/J$54)) -> #REF! | K71: =IF(ISNUMBER(FIND("<",K30)),"N.D.",PRODUCT(K30,1/K$54)) -> #REF! | L71: =IF(ISNUMBER(FIND("<",L30)),"N.D.",PRODUCT(L30,1/L$54)) -> #REF! | ... S71: =IF(ISNUMBER(FIND("<",S30)),"N.D.",PRODUCT(S30,1/S$54)) -> #REF! | U71: - | V71: =MAX(E71:I71) -> #DIV/0! | W71: =IF(V71>U71,"Supera","No Supera") -> #DIV/0!
B72: Magnesio | C72: Mg | D72: µg/m3 | E72: =IF(ISNUMBER(FIND("<",E31)),"N.D.",PRODUCT(E31,1/E$54)) -> #DIV/0! | F72: =IF(ISNUMBER(FIND("<",F31)),"N.D.",PRODUCT(F31,1/F$54)) -> #DIV/0! | G72: =IF(ISNUMBER(FIND("<",G31)),"N.D.",PRODUCT(G31,1/G$54)) -> #DIV/0! | H72: =IF(ISNUMBER(FIND("<",H31)),"N.D.",PRODUCT(H31,1/H$54)) -> #DIV/0! | I72: =IF(ISNUMBER(FIND("<",I31)),"N.D.",PRODUCT(I31,1/I$54)) -> #DIV/0! | J72: =IF(ISNUMBER(FIND("<",J31)),"N.D.",PRODUCT(J31,1/J$54)) -> #REF! | K72: =IF(ISNUMBER(FIND("<",K31)),"N.D.",PRODUCT(K31,1/K$54)) -> #REF! | L72: =IF(ISNUMBER(FIND("<",L31)),"N.D.",PRODUCT(L31,1/L$54)) -> #REF! | ... S72: =IF(ISNUMBER(FIND("<",S31)),"N.D.",PRODUCT(S31,1/S$54)) -> #REF! | U72: - | V72: =MAX(E72:I72) -> #DIV/0! | W72: =IF(V72>U72,"Supera","No Supera") -> #DIV/0!
B73: Manganeso | C73: Mn | D73: µg/m3 | E73: =IF(ISNUMBER(FIND("<",E32)),"N.D.",PRODUCT(E32,1/E$54)) -> #DIV/0! | F73: =IF(ISNUMBER(FIND("<",F32)),"N.D.",PRODUCT(F32,1/F$54)) -> #DIV/0! | G73: =IF(ISNUMBER(FIND("<",G32)),"N.D.",PRODUCT(G32,1/G$54)) -> #DIV/0! | H73: =IF(ISNUMBER(FIND("<",H32)),"N.D.",PRODUCT(H32,1/H$54)) -> #DIV/0! | I73: =IF(ISNUMBER(FIND("<",I32)),"N.D.",PRODUCT(I32,1/I$54)) -> #DIV/0! | J73: =IF(ISNUMBER(FIND("<",J32)),"N.D.",PRODUCT(J32,1/J$54)) -> #REF! | K73: =IF(ISNUMBER(FIND("<",K32)),"N.D.",PRODUCT(K32,1/K$54)) -> #REF! | L73: =IF(ISNUMBER(FIND("<",L32)),"N.D.",PRODUCT(L32,1/L$54)) -> #REF! | ... S73: =IF(ISNUMBER(FIND("<",S32)),"N.D.",PRODUCT(S32,1/S$54)) -> #REF! | U73: 0.2 | V73: =MAX(E73:I73) -> #DIV/0! | W73: =IF(V73>U73,"Supera","No Supera") -> #DIV/0!
B74: Mercurio | C74: Hg | D74: µg/m3 | E74: =IF(ISNUMBER(FIND("<",E33)),"N.D.",PRODUCT(E33,1/E$54)) -> N.D. | F74: =IF(ISNUMBER(FIND("<",F33)),"N.D.",PRODUCT(F33,1/F$54)) -> N.D. | G74: =IF(ISNUMBER(FIND("<",G33)),"N.D.",PRODUCT(G33,1/G$54)) -> #DIV/0! | H74: =IF(ISNUMBER(FIND("<",H33)),"N.D.",PRODUCT(H33,1/H$54)) -> N.D. | I74: =IF(ISNUMBER(FIND("<",I33)),"N.D.",PRODUCT(I33,1/I$54)) -> #DIV/0! | J74: =IF(ISNUMBER(FIND("<",J33)),"N.D.",PRODUCT(J33,1/J$54)) -> #REF! | K74: =IF(ISNUMBER(FIND("<",K33)),"N.D.",PRODUCT(K33,1/K$54)) -> #REF! | L74: =IF(ISNUMBER(FIND("<",L33)),"N.D.",PRODUCT(L33,1/L$54)) -> #REF! | ... S74: =IF(ISNUMBER(FIND("<",S33)),"N.D.",PRODUCT(S33,1/S$54)) -> #REF! | U74: 2 | V74: =MAX(E74:I74) -> #DIV/0! | W74: =IF(V74>U74,"Supera","No Supera") -> #DIV/0!
B75: Molibdeno | C75: Mo | D75: µg/m3 | E75: =IF(ISNUMBER(FIND("<",E34)),"N.D.",PRODUCT(E34,1/E$54)) -> #DIV/0! | F75: =IF(ISNUMBER(FIND("<",F34)),"N.D.",PRODUCT(F34,1/F$54)) -> #DIV/0! | G75: =IF(ISNUMBER(FIND("<",G34)),"N.D.",PRODUCT(G34,1/G$54)) -> #DIV/0! | H75: =IF(ISNUMBER(FIND("<",H34)),"N.D.",PRODUCT(H34,1/H$54)) -> #DIV/0! | I75: =IF(ISNUMBER(FIND("<",I34)),"N.D.",PRODUCT(I34,1/I$54)) -> #DIV/0! | J75: =IF(ISNUMBER(FIND("<",J34)),"N.D.",PRODUCT(J34,1/J$54)) -> #REF! | K75: =IF(ISNUMBER(FIND("<",K34)),"N.D.",PRODUCT(K34,1/K$54)) -> #REF! | L75: =IF(ISNUMBER(FIND("<",L34)),"N.D.",PRODUCT(L34,1/L$54)) -> #REF! | ... S75: =IF(ISNUMBER(FIND("<",S34)),"N.D.",PRODUCT(S34,1/S$54)) -> #REF! | U75: 120 | V75: =MAX(E75:I75) -> #DIV/0! | W75: =IF(V75>U75,"Supera","No Supera") -> #DIV/0!
B76: Níquel | C76: Ni | D76: µg/m3 | E76: =IF(ISNUMBER(FIND("<",E35)),"N.D.",PRODUCT(E35,1/E$54)) -> #DIV/0! | F76: =IF(ISNUMBER(FIND("<",F35)),"N.D.",PRODUCT(F35,1/F$54)) -> #DIV/0! | G76: =IF(ISNUMBER(FIND("<",G35)),"N.D.",PRODUCT(G35,1/G$54)) -> #DIV/0! | H76: =IF(ISNUMBER(FIND("<",H35)),"N.D.",PRODUCT(H35,1/H$54)) -> #DIV/0! | I76: =IF(ISNUMBER(FIND("<",I35)),"N.D.",PRODUCT(I35,1/I$54)) -> #DIV/0! | J76: =IF(ISNUMBER(FIND("<",J35)),"N.D.",PRODUCT(J35,1/J$54)) -> #REF! | K76: =IF(ISNUMBER(FIND("<",K35)),"N.D.",PRODUCT(K35,1/K$54)) -> #REF! | L76: =IF(ISNUMBER(FIND("<",L35)),"N.D.",PRODUCT(L35,1/L$54)) -> #REF! | ... S76: =IF(ISNUMBER(FIND("<",S35)),"N.D.",PRODUCT(S35,1/S$54)) -> #REF! | U76: 0.1 | V76: =MAX(E76:I76) -> #DIV/0! | W76: =IF(V76>U76,"Supera","No Supera") -> #DIV/0!
B77: Plata | C77: Ag | D77: µg/m3 | E77: =IF(ISNUMBER(FIND("<",E36)),"N.D.",PRODUCT(E36,1/E$54)) -> #DIV/0! | F77: =IF(ISNUMBER(FIND("<",F36)),"N.D.",PRODUCT(F36,1/F$54)) -> #DIV/0! | G77: =IF(ISNUMBER(FIND("<",G36)),"N.D.",PRODUCT(G36,1/G$54)) -> #DIV/0! | H77: =IF(ISNUMBER(FIND("<",H36)),"N.D.",PRODUCT(H36,1/H$54)) -> #DIV/0! | I77: =IF(ISNUMBER(FIND("<",I36)),"N.D.",PRODUCT(I36,1/I$54)) -> #DIV/0! | J77: =IF(ISNUMBER(FIND("<",J36)),"N.D.",PRODUCT(J36,1/J$54)) -> #REF! | K77: =IF(ISNUMBER(FIND("<",K36)),"N.D.",PRODUCT(K36,1/K$54)) -> #REF! | L77: =IF(ISNUMBER(FIND("<",L36)),"N.D.",PRODUCT(L36,1/L$54)) -> #REF! | ... S77: =IF(ISNUMBER(FIND("<",S36)),"N.D.",PRODUCT(S36,1/S$54)) -> #REF! | U77: 1 | V77: =MAX(E77:I77) -> #DIV/0! | W77: =IF(V77>U77,"Supera","No Supera") -> #DIV/0!
B78: Plomo | C78: Pb | D78: µg/m3 | E78: =IF(ISNUMBER(FIND("<",E37)),"N.D.",PRODUCT(E37,1/E$54)) -> #DIV/0! | F78: =IF(ISNUMBER(FIND("<",F37)),"N.D.",PRODUCT(F37,1/F$54)) -> #DIV/0! | G78: =IF(ISNUMBER(FIND("<",G37)),"N.D.",PRODUCT(G37,1/G$54)) -> #DIV/0! | H78: =IF(ISNUMBER(FIND("<",H37)),"N.D.",PRODUCT(H37,1/H$54)) -> #DIV/0! | I78: =IF(ISNUMBER(FIND("<",I37)),"N.D.",PRODUCT(I37,1/I$54)) -> #DIV/0! | J78: =IF(ISNUMBER(FIND("<",J37)),"N.D.",PRODUCT(J37,1/J$54)) -> #REF! | K78: =IF(ISNUMBER(FIND("<",K37)),"N.D.",PRODUCT(K37,1/K$54)) -> #REF! | L78: =IF(ISNUMBER(FIND("<",L37)),"N.D.",PRODUCT(L37,1/L$54)) -> #REF! | ... S78: =IF(ISNUMBER(FIND("<",S37)),"N.D.",PRODUCT(S37,1/S$54)) -> #REF! | U78: 0.5 | V78: =MAX(E78:I78) -> #DIV/0! | W78: =IF(V78>U78,"Supera","No Supera") -> #DIV/0! | X78: =COUNTIF(E78:I78,">0,5") -> 0 | Y78: =E78/$U$78 -> #DIV/0! | Z78: =F78/$U$78 -> #DIV/0! | AA78: =G78/$U$78 -> #DIV/0! | AB78: =H78/$U$78 -> #DIV/0! | AC78: =I78/$U$78 -> #DIV/0! | AD78: =MAX(Y78:AC78) -> #DIV/0!
B79: Potasio | C79: K | D79: µg/m3 | E79: =IF(ISNUMBER(FIND("<",E38)),"N.D.",PRODUCT(E38,1/E$54)) -> #DIV/0! | F79: =IF(ISNUMBER(FIND("<",F38)),"N.D.",PRODUCT(F38,1/F$54)) -> #DIV/0! | G79: =IF(ISNUMBER(FIND("<",G38)),"N.D.",PRODUCT(G38,1/G$54)) -> #DIV/0! | H79: =IF(ISNUMBER(FIND("<",H38)),"N.D.",PRODUCT(H38,1/H$54)) -> #DIV/0! | I79: =IF(ISNUMBER(FIND("<",I38)),"N.D.",PRODUCT(I38,1/I$54)) -> #DIV/0! | J79: =IF(ISNUMBER(FIND("<",J38)),"N.D.",PRODUCT(J38,1/J$54)) -> #REF! | K79: =IF(ISNUMBER(FIND("<",K38)),"N.D.",PRODUCT(K38,1/K$54)) -> #REF! | L79: =IF(ISNUMBER(FIND("<",L38)),"N.D.",PRODUCT(L38,1/L$54)) -> #REF! | ... S79: =IF(ISNUMBER(FIND("<",S38)),"N.D.",PRODUCT(S38,1/S$54)) -> #REF! | U79: - | V79: =MAX(E79:I79) -> #DIV/0! | W79: =IF(V79>U79,"Supera","No Supera") -> #DIV/0!
B80: Selenio | C80: Se | D80: µg/m3 | E80: =IF(ISNUMBER(FIND("<",E39)),"N.D.",PRODUCT(E39,1/E$54)) -> #DIV/0! | F80: =IF(ISNUMBER(FIND("<",F39)),"N.D.",PRODUCT(F39,1/F$54)) -> #DIV/0! | G80: =IF(ISNUMBER(FIND("<",G39)),"N.D.",PRODUCT(G39,1/G$54)) -> #DIV/0! | H80: =IF(ISNUMBER(FIND("<",H39)),"N.D.",PRODUCT(H39,1/H$54)) -> #DIV/0! | I80: =IF(ISNUMBER(FIND("<",I39)),"N.D.",PRODUCT(I39,1/I$54)) -> #DIV/0! | J80: =IF(ISNUMBER(FIND("<",J39)),"N.D.",PRODUCT(J39,1/J$54)) -> #REF! | K80: =IF(ISNUMBER(FIND("<",K39)),"N.D.",PRODUCT(K39,1/K$54)) -> #REF! | L80: =IF(ISNUMBER(FIND("<",L39)),"N.D.",PRODUCT(L39,1/L$54)) -> #REF! | ... S80: =IF(ISNUMBER(FIND("<",S39)),"N.D.",PRODUCT(S39,1/S$54)) -> #REF! | U80: 10 | V80: =MAX(E80:I80) -> #DIV/0! | W80: =IF(V80>U80,"Supera","No Supera") -> #DIV/0!
B81: Silicio | C81: Si | D81: µg/m3 | E81: =IF(ISNUMBER(FIND("<",E40)),"N.D.",PRODUCT(E40,1/E$54)) -> #DIV/0! | F81: =IF(ISNUMBER(FIND("<",F40)),"N.D.",PRODUCT(F40,1/F$54)) -> #DIV/0! | G81: =IF(ISNUMBER(FIND("<",G40)),"N.D.",PRODUCT(G40,1/G$54)) -> #DIV/0! | H81: =IF(ISNUMBER(FIND("<",H40)),"N.D.",PRODUCT(H40,1/H$54)) -> #DIV/0! | I81: =IF(ISNUMBER(FIND("<",I40)),"N.D.",PRODUCT(I40,1/I$54)) -> #DIV/0! | J81: =IF(ISNUMBER(FIND("<",J40)),"N.D.",PRODUCT(J40,1/J$54)) -> #REF! | K81: =IF(ISNUMBER(FIND("<",K40)),"N.D.",PRODUCT(K40,1/K$54)) -> #REF! | L81: =IF(ISNUMBER(FIND("<",L40)),"N.D.",PRODUCT(L40,1/L$54)) -> #REF! | ... S81: =IF(ISNUMBER(FIND("<",S40)),"N.D.",PRODUCT(S40,1/S$54)) -> #REF! | U81: - | V81: =MAX(E81:I81) -> #DIV/0! | W81: =IF(V81>U81,"Supera","No Supera") -> #DIV/0!
B82: Sodio | C82: Na | D82: µg/m3 | E82: =IF(ISNUMBER(FIND("<",E41)),"N.D.",PRODUCT(E41,1/E$54)) -> #DIV/0! | F82: =IF(ISNUMBER(FIND("<",F41)),"N.D.",PRODUCT(F41,1/F$54)) -> #DIV/0! | G82: =IF(ISNUMBER(FIND("<",G41)),"N.D.",PRODUCT(G41,1/G$54)) -> #DIV/0! | H82: =IF(ISNUMBER(FIND("<",H41)),"N.D.",PRODUCT(H41,1/H$54)) -> #DIV/0! | I82: =IF(ISNUMBER(FIND("<",I41)),"N.D.",PRODUCT(I41,1/I$54)) -> #DIV/0! | J82: =IF(ISNUMBER(FIND("<",J41)),"N.D.",PRODUCT(J41,1/J$54)) -> #REF! | K82: =IF(ISNUMBER(FIND("<",K41)),"N.D.",PRODUCT(K41,1/K$54)) -> #REF! | L82: =IF(ISNUMBER(FIND("<",L41)),"N.D.",PRODUCT(L41,1/L$54)) -> #REF! | ... S82: =IF(ISNUMBER(FIND("<",S41)),"N.D.",PRODUCT(S41,1/S$54)) -> #REF! | U82: - | V82: =MAX(E82:I82) -> #DIV/0! | W82: =IF(V82>U82,"Supera","No Supera") -> #DIV/0!
B83: Talio | C83: Tl | D83: µg/m3 | E83: =IF(ISNUMBER(FIND("<",E42)),"N.D.",PRODUCT(E42,1/E$54)) -> #DIV/0! | F83: =IF(ISNUMBER(FIND("<",F42)),"N.D.",PRODUCT(F42,1/F$54)) -> N.D. | G83: =IF(ISNUMBER(FIND("<",G42)),"N.D.",PRODUCT(G42,1/G$54)) -> N.D. | H83: =IF(ISNUMBER(FIND("<",H42)),"N.D.",PRODUCT(H42,1/H$54)) -> #DIV/0! | I83: =IF(ISNUMBER(FIND("<",I42)),"N.D.",PRODUCT(I42,1/I$54)) -> #DIV/0! | J83: =IF(ISNUMBER(FIND("<",J42)),"N.D.",PRODUCT(J42,1/J$54)) -> #REF! | K83: =IF(ISNUMBER(FIND("<",K42)),"N.D.",PRODUCT(K42,1/K$54)) -> #REF! | L83: =IF(ISNUMBER(FIND("<",L42)),"N.D.",PRODUCT(L42,1/L$54)) -> #REF! | ... S83: =IF(ISNUMBER(FIND("<",S42)),"N.D.",PRODUCT(S42,1/S$54)) -> #REF! | U83: - | V83: =MAX(E83:I83) -> #DIV/0! | W83: =IF(V83>U83,"Supera","No Supera") -> #DIV/0!
B84: Titanio | C84: Ti | D84: µg/m3 | E84: =IF(ISNUMBER(FIND("<",E43)),"N.D.",PRODUCT(E43,1/E$54)) -> #DIV/0! | F84: =IF(ISNUMBER(FIND("<",F43)),"N.D.",PRODUCT(F43,1/F$54)) -> #DIV/0! | G84: =IF(ISNUMBER(FIND("<",G43)),"N.D.",PRODUCT(G43,1/G$54)) -> #DIV/0! | H84: =IF(ISNUMBER(FIND("<",H43)),"N.D.",PRODUCT(H43,1/H$54)) -> #DIV/0! | I84: =IF(ISNUMBER(FIND("<",I43)),"N.D.",PRODUCT(I43,1/I$54)) -> #DIV/0! | J84: =IF(ISNUMBER(FIND("<",J43)),"N.D.",PRODUCT(J43,1/J$54)) -> #REF! | K84: =IF(ISNUMBER(FIND("<",K43)),"N.D.",PRODUCT(K43,1/K$54)) -> #REF! | L84: =IF(ISNUMBER(FIND("<",L43)),"N.D.",PRODUCT(L43,1/L$54)) -> #REF! | ... S84: =IF(ISNUMBER(FIND("<",S43)),"N.D.",PRODUCT(S43,1/S$54)) -> #REF! | U84: 120 | V84: =MAX(E84:I84) -> #DIV/0! | W84: =IF(V84>U84,"Supera","No Supera") -> #DIV/0!
B85: Uranio | C85: U | D85: µg/m3 | E85: =IF(ISNUMBER(FIND("<",E44)),"N.D.",PRODUCT(E44,1/E$54)) -> N.D. | F85: =IF(ISNUMBER(FIND("<",F44)),"N.D.",PRODUCT(F44,1/F$54)) -> N.D. | G85: =IF(ISNUMBER(FIND("<",G44)),"N.D.",PRODUCT(G44,1/G$54)) -> N.D. | H85: =IF(ISNUMBER(FIND("<",H44)),"N.D.",PRODUCT(H44,1/H$54)) -> N.D. | I85: =IF(ISNUMBER(FIND("<",I44)),"N.D.",PRODUCT(I44,1/I$54)) -> #DIV/0! | U85: 0.15 | V85: =MAX(E85:I85) -> #DIV/0! | W85: =IF(V85>U85,"Supera","No Supera") -> #DIV/0!
B86: Vanadio | C86: V | D86: µg/m3 | E86: =IF(ISNUMBER(FIND("<",E45)),"N.D.",PRODUCT(E45,1/E$54)) -> #DIV/0! | F86: =IF(ISNUMBER(FIND("<",F45)),"N.D.",PRODUCT(F45,1/F$54)) -> #DIV/0! | G86: =IF(ISNUMBER(FIND("<",G45)),"N.D.",PRODUCT(G45,1/G$54)) -> #DIV/0! | H86: =IF(ISNUMBER(FIND("<",H45)),"N.D.",PRODUCT(H45,1/H$54)) -> #DIV/0! | I86: =IF(ISNUMBER(FIND("<",I45)),"N.D.",PRODUCT(I45,1/I$54)) -> #DIV/0! | J86: =IF(ISNUMBER(FIND("<",J45)),"N.D.",PRODUCT(J45,1/J$54)) -> #REF! | K86: =IF(ISNUMBER(FIND("<",K45)),"N.D.",PRODUCT(K45,1/K$54)) -> #REF! | L86: =IF(ISNUMBER(FIND("<",L45)),"N.D.",PRODUCT(L45,1/L$54)) -> #REF! | ... S86: =IF(ISNUMBER(FIND("<",S45)),"N.D.",PRODUCT(S45,1/S$54)) -> #REF! | U86: 2 | V86: =MAX(E86:I86) -> #DIV/0! | W86: =IF(V86>U86,"Supera","No Supera") -> #DIV/0!
B87: Zinc | C87: Zn | D87: µg/m3 | E87: =IF(ISNUMBER(FIND("<",E46)),"N.D.",PRODUCT(E46,1/E$54)) -> #DIV/0! | F87: =IF(ISNUMBER(FIND("<",F46)),"N.D.",PRODUCT(F46,1/F$54)) -> #DIV/0! | G87: =IF(ISNUMBER(FIND("<",G46)),"N.D.",PRODUCT(G46,1/G$54)) -> #DIV/0! | H87: =IF(ISNUMBER(FIND("<",H46)),"N.D.",PRODUCT(H46,1/H$54)) -> #DIV/0! | I87: =IF(ISNUMBER(FIND("<",I46)),"N.D.",PRODUCT(I46,1/I$54)) -> #DIV/0! | J87: =IF(ISNUMBER(FIND("<",J46)),"N.D.",PRODUCT(J46,1/J$54)) -> #REF! | K87: =IF(ISNUMBER(FIND("<",K46)),"N.D.",PRODUCT(K46,1/K$54)) -> #REF! | L87: =IF(ISNUMBER(FIND("<",L46)),"N.D.",PRODUCT(L46,1/L$54)) -> #REF! | ... S87: =IF(ISNUMBER(FIND("<",S46)),"N.D.",PRODUCT(S46,1/S$54)) -> #REF! | U87: 120 | V87: =MAX(E87:I87) -> #DIV/0! | W87: =IF(V87>U87,"Supera","No Supera") -> #DIV/0!
B89: OBSERVACIONES:
B90: (1) La concentración de metales en PM10, se realizó en base a las condiciones de temperatura T= 10°C (283.15 °K) y presión estándar (760 mmHg ó 1013,25 mBar). N.D. : No detectable.

Sheet Resumen
B2: Fecha Inicio | C2: Fecha Final | D2: PM10 (µg/m3) | F2: Pb en PM10 (24 horas) | H2: Cd en PM10 (24 horas) | I2: a 10°C | J2: =IF(F3>F13,"CORRECTO Pb","ERROR") -> #DIV/0!
B3: ='A.2.4. Cálculo PM10 y VM'!E12 -> 0 | C3: ='A.2.4. Cálculo PM10 y VM'!F12 -> 0 | D3: ='A.2.4. Cálculo PM10 y VM'!M12 -> #DIV/0! | F3: ='A.2.8. Conc. Metales 10°C'!E78 -> #DIV/0! | H3: ='A.2.8. Conc. Metales 10°C'!E62 -> #DIV/0! | J3: =IF(H3>H13,"CORRECTO Cd","ERROR") -> #DIV/0!
