Workbook

Sheet PM10_CA-ILO-03
F2: Tabla 3.20. Concentraciones horarias de PM₁₀
B6: TÍTULO DEL ESTUDIO: | F6: Evaluación de seguimiento de la calidad del aire en el CEBA Jose Pardo, distrito Ilo, provincia Ilo, departamento Moquegua, en setiembre 2022
B8: ESTACIÓN DE MONITOREO: | F8: CA-ILO-03 | Q8: CÓDIGO DE ACCIÓN:
B10: DATOS DEL EQUIPO
B12: EQUIPO: | F12: Monitor automático de partículas | Q12: MARCA: | V12: GRIMM AEROSOL TECHNIK
B14: MODELO: | F14: EDM180 | Q14: SERIE: | V14: 18A19093
B16: Hora\Día | C16: 1 | D16: 2 | E16: 3 | F16: 4 | G16: 5 | H16: 6 | I16: 7 | J16: 8 | K16: 9 | L16: 10 | M16: 11 | N16: 12 | O16: 13 | P16: 14 | Q16: 15 | R16: 16 | S16: 17 | T16: 18 | U16: 19 | V16: 20 | W16: 21 | X16: 22 | Y16: 23 | Z16: 24 | AA16: 25 | AB16: 26 | AC16: 27 | AD16: 28 | AE16: 29 | AF16: 30 | AG16: 31
B17: 0 | C17: 12.15 | D17: 11.35 | E17: 13.74 | F17: 14.03 | G17: 17.48 | H17: 15.54 | I17: 11.83 | J17: 11.89 | K17: 8.46 | L17: 16.28 | M17: 14.23 | N17: 8.18 | O17: 4.24 | P17: 17.36 | Q17: 18.22 | R17: 16.75 | S17: 16.8 | T17: 15.22 | U17: 20.18 | V17: 14.67 | W17: 3.87 | X17: 17.25 | Y17: 9.26 | Z17: 8.97 | AA17: 13.21 | AB17: 21 | AC17: 12.76 | AD17: 13.49 | AE17: 9.72 | AF17: 10.89
B18: 0.041666667 | C18: 9.1 | D18: 10.18 | E18: 15.28 | F18: 12.78 | G18: 15.88 | H18: 18.35 | I18: 11.27 | J18: 8.47 | K18: 6.65 | L18: 12.31 | M18: 10.47 | N18: 9.21 | O18: 4.49 | P18: 13.45 | Q18: 18.82 | R18: 14.32 | S18: 19.57 | T18: 17.03 | U18: 22.73 | V18: 6.53 | W18: 4.11 | X18: 15.2 | Y18: 10.43 | Z18: 8.58 | AA18: 12.87 | AB18: 20.06 | AC18: 12.47 | AD18: 20.05 | AE18: 10.54 | AF18: 10.5
B19: 0.083333333 | C19: 8.15 | D19: 10.08 | E19: 14.74 | F19: 12.37 | G19: 15.78 | H19: 23.49 | I19: 14.09 | J19: 8.26 | K19: 7.26 | L19: 11.73 | M19: 10.75 | N19: 13.3 | O19: 4.64 | P19: 13.28 | Q19: 19.27 | R19: 14.36 | S19: 16.8 | T19: 18.16 | U19: 17.9 | V19: 13.34 | W19: 3.61 | X19: 36.69 | Y19: 9.46 | Z19: 10.88 | AA19: 12.18 | AB19: 20.04 | AC19: 12 | AD19: 34.71 | AE19: 8.55 | AF19: 11.23
B20: 0.125 | C20: 10.95 | D20: 9.88 | E20: 13.19 | F20: 11.64 | G20: 17.99 | H20: 16.98 | I20: 14.81 | J20: 10.46 | K20: 9.97 | L20: 13.03 | M20: 10.08 | N20: 11.25 | O20: 4 | P20: 19.63 | Q20: 18.6 | R20: 14.68 | S20: 18.57 | T20: 15.54 | U20: 25.38 | V20: 10.83 | W20: 3.52 | X20: 34.92 | Y20: 8.53 | Z20: 6.71 | AA20: 8.5 | AB20: 21.13 | AC20: 15.61 | AD20: 8.87 | AE20: 9.09 | AF20: 11.36
B21: 0.16666667 | C21: 12.54 | D21: 10.88 | E21: 13.5 | F21: 12.99 | G21: 19.56 | H21: 16.61 | I21: 13.07 | J21: 10.5 | K21: 10.25 | L21: 19.13 | M21: 10.75 | N21: 12.18 | O21: 4.72 | P21: 13.76 | Q21: 21.88 | R21: 16.61 | S21: 25.77 | T21: 15.44 | U21: 36.73 | V21: 6.5 | W21: 3.28 | X21: 22.08 | Y21: 21.05 | Z21: 7.11 | AA21: 8.16 | AB21: 20.83 | AC21: 19.97 | AD21: 10.64 | AE21: 10.08 | AF21: 12.3
B22: 0.20833333 | C22: 6.58 | D22: 12.04 | E22: 13.9 | F22: 19.39 | G22: 19.47 | H22: 18.02 | I22: 13.55 | J22: 12.38 | K22: 6.89 | L22: 15.97 | M22: 9.86 | N22: 11.58 | O22: 4.71 | P22: 11.65 | Q22: 23.76 | R22: 17.62 | S22: 28.03 | T22: 16.02 | U22: 29.11 | V22: 8.23 | W22: 3.68 | X22: 19.44 | Y22: 29.13 | Z22: 9.79 | AA22: 7.27 | AB22: 18.17 | AC22: 17.61 | AD22: 10.03 | AE22: 6.76 | AF22: 13.35
B23: 0.25 | C23: 5.72 | D23: 12.36 | E23: 17.12 | F23: 21.29 | G23: 21.42 | H23: 14.22 | I23: 14.38 | J23: 13.83 | K23: 6.79 | L23: 22.7 | M23: 11.43 | N23: 12.93 | O23: 4.9 | P23: 10.78 | Q23: 24.8 | R23: 18.15 | S23: 18.63 | T23: 20.02 | U23: 16.23 | V23: 8.82 | W23: 3.39 | X23: 17.86 | Y23: 26.55 | Z23: 6.82 | AA23: 6.17 | AB23: 17.91 | AC23: 22 | AD23: 18.69 | AE23: 6.3 | AF23: 16.1
B24: 0.29166667 | C24: 8.41 | D24: 16.25 | E24: 17.05 | F24: 17.49 | G24: 22.71 | H24: 13.03 | I24: 14.57 | J24: 12.93 | K24: 7.03 | L24: 20.23 | M24: 17.92 | N24: 17.26 | O24: 6.22 | P24: 12.07 | Q24: 21.68 | R24: 19.27 | S24: 15.65 | T24: 14.57 | U24: 17.59 | V24: 10.53 | W24: 3.62 | X24: 24.55 | Y24: 12.23 | Z24: 8.18 | AA24: 14.78 | AB24: 19.89 | AC24: 25.95 | AD24: 17.46 | AE24: 7.26 | AF24: 16.47
B25: 0.33333333 | C25: 10.19 | D25: 19.68 | E25: 20.71 | F25: 22.71 | G25: 24.37 | H25: 13.55 | I25: 17.91 | J25: 16.72 | K25: 8.58 | L25: 16.48 | M25: 11.43 | N25: 16.32 | O25: 11.71 | P25: 17.42 | Q25: 25.22 | R25: 27.94 | S25: 15.61 | T25: 14.11 | U25: 16.63 | V25: 7.62 | W25: 4.27 | X25: 33.51 | Y25: 13.76 | Z25: 11.57 | AA25: ID | AB25: 18.17 | AC25: 30.32 | AD25: 17.68 | AE25: 15.24 | AF25: 25.27
B26: 0.375 | C26: 15.17 | D26: 16.98 | E26: 28 | F26: 25.66 | G26: 40.32 | H26: 20.08 | I26: 14.28 | J26: 15.61 | K26: 11.18 | L26: 24.17 | M26: 13.1 | N26: 11.32 | O26: 8.26 | P26: 20.89 | Q26: 28.05 | R26: 23.72 | S26: 21.12 | T26: 14.32 | U26: 21.21 | V26: 8.32 | W26: 4.7 | X26: 34.17 | Y26: 10.17 | Z26: 11.68 | AA26: IE | AB26: 15.43 | AC26: 28.02 | AD26: 14.97 | AE26: 12.86 | AF26: 21.28
B27: 0.41666667 | C27: 18.88 | D27: 16.83 | E27: 22.11 | F27: 22.98 | G27: 46.73 | H27: 14.79 | I27: 15.14 | J27: 15.92 | K27: 11.03 | L27: 27.41 | M27: 13.33 | N27: 13.04 | O27: 8.41 | P27: 17.73 | Q27: 32.7 | R27: 25.24 | S27: 27.76 | T27: 12.11 | U27: 24.81 | V27: 7.89 | W27: 5.6 | X27: 17.53 | Y27: 14.3 | Z27: 9.33 | AA27: IE | AB27: 13.28 | AC27: 20.8 | AD27: 15.79 | AE27: 16.53 | AF27: 25.05
B28: 0.45833333 | C28: 19.83 | D28: 23.37 | E28: 19.42 | F28: 18.25 | G28: 32.63 | H28: 13.32 | I28: 14.89 | J28: 14.26 | K28: 14.72 | L28: 20.35 | M28: 10.38 | N28: 13.38 | O28: 7.28 | P28: 17.44 | Q28: 26.44 | R28: 25.66 | S28: 24.05 | T28: 16.3 | U28: 19.74 | V28: 6.49 | W28: 5.53 | X28: 20.22 | Y28: 14.66 | Z28: 11.06 | AA28: IE | AB28: 15.99 | AC28: 21.53 | AD28: 17.17 | AE28: 12.22 | AF28: 24.23
B29: 0.5 | C29: 21.34 | D29: 25.02 | E29: 18.76 | F29: 13.98 | G29: 23.73 | H29: 14.52 | I29: 16.18 | J29: 16.87 | K29: 14.07 | L29: 19.41 | M29: 11.1 | N29: 13.61 | O29: 6.89 | P29: 17.02 | Q29: 24.4 | R29: 21.14 | S29: 21.26 | T29: 17.85 | U29: 14.26 | V29: 6.12 | W29: 5.82 | X29: 13.03 | Y29: 11.47 | Z29: 9.04 | AA29: 9.45 | AB29: 16.47 | AC29: 19.77 | AD29: 16.98 | AE29: 13.45 | AF29: 20.02
B30: 0.54166667 | C30: 18.15 | D30: 19.93 | E30: 17.08 | F30: 14.08 | G30: 21.86 | H30: 10.33 | I30: 16.43 | J30: 12.14 | K30: 15.63 | L30: 18.32 | M30: 12.04 | N30: 12.89 | O30: 8 | P30: 14.04 | Q30: 23.64 | R30: 18.05 | S30: 18.16 | T30: 15.15 | U30: 17.27 | V30: 6.55 | W30: 6.84 | X30: 12.35 | Y30: 10.11 | Z30: 9.15 | AA30: 12.92 | AB30: 13.3 | AC30: 18.07 | AD30: 20.05 | AE30: 13.62 | AF30: 20.29
B31: 0.58333333 | C31: 17.41 | D31: 17.87 | E31: 15.84 | F31: 13.58 | G31: 18.38 | H31: 10.97 | I31: 16.88 | J31: 12.36 | K31: 19.52 | L31: 19.02 | M31: 13.98 | N31: 13.55 | O31: 8.67 | P31: 14.95 | Q31: 22.68 | R31: 18.39 | S31: 16.44 | T31: 11.77 | U31: 16.74 | V31: 5.58 | W31: 7.11 | X31: 16.13 | Y31: 12.93 | Z31: 10.18 | AA31: 12.28 | AB31: 13.46 | AC31: 14.16 | AD31: 16.19 | AE31: 12.43 | AF31: 18.48
B32: 0.625 | C32: 16.02 | D32: 16.79 | E32: 15.72 | F32: 13.57 | G32: 21.1 | H32: 10.58 | I32: 15.36 | J32: 12.03 | K32: 24.69 | L32: 15.61 | M32: 11.11 | N32: 12.83 | O32: 7.36 | P32: 15.17 | Q32: 24.52 | R32: 16.69 | S32: 14.51 | T32: 11.96 | U32: 16.04 | V32: 5.75 | W32: 8.57 | X32: 23.82 | Y32: 17.13 | Z32: 9.77 | AA32: 13.2 | AB32: 16.61 | AC32: 13.58 | AD32: 14.33 | AE32: 15.54 | AF32: 18.75
B33: 0.66666667 | C33: 13.25 | D33: 17.4 | E33: 17.21 | F33: 14.49 | G33: 20.31 | H33: 12.53 | I33: 14.05 | J33: 12.17 | K33: 21.56 | L33: 15.28 | M33: 10.68 | N33: 16.17 | O33: 9.89 | P33: 19.16 | Q33: 23.77 | R33: 16.73 | S33: 12.68 | T33: 11.38 | U33: 15.36 | V33: 6.61 | W33: 8.53 | X33: 16.26 | Y33: 15 | Z33: 8.72 | AA33: 12.2 | AB33: 17.81 | AC33: 17.74 | AD33: 12.2 | AE33: 12.97 | AF33: 18.26
B34: 0.70833333 | C34: 16.11 | D34: 16.91 | E34: 18.77 | F34: 16.26 | G34: 20.28 | H34: 12.3 | I34: 12.14 | J34: 12.47 | K34: 16.98 | L34: 19.2 | M34: 11.38 | N34: 14.72 | O34: 11.97 | P34: 17.09 | Q34: 21.29 | R34: 19.86 | S34: 14.08 | T34: 13.32 | U34: 15.12 | V34: 5.4 | W34: 10.76 | X34: 23.15 | Y34: 15.2 | Z34: 9.38 | AA34: 12.9 | AB34: 19.82 | AC34: 19.65 | AD34: 12.31 | AE34: 11.64 | AF34: ID
B35: 0.75 | C35: 14.33 | D35: 18.29 | E35: 19.63 | F35: 17.51 | G35: 22.15 | H35: 14.79 | I35: 15.42 | J35: 14.46 | K35: 16.27 | L35: 20.12 | M35: 10.57 | N35: 16.27 | O35: 18.56 | P35: 18.83 | Q35: 20.61 | R35: 18.9 | S35: 15.65 | T35: 14.83 | U35: 15.29 | V35: 6.34 | W35: 10.97 | X35: 12.77 | Y35: 15.54 | Z35: 13.83 | AA35: 16.18 | AB35: 21.92 | AC35: 18.72 | AD35: 13.71 | AE35: 14.03 | AF35: 16.95
B36: 0.79166667 | C36: 17.38 | D36: 18.01 | E36: 20.48 | F36: 18.64 | G36: 19.27 | H36: 15.01 | I36: 21.46 | J36: 12.58 | K36: 18.37 | L36: 14.2 | M36: 12.09 | N36: 12.99 | O36: 21.68 | P36: 18.46 | Q36: 18.32 | R36: 20.12 | S36: 14.12 | T36: 12.34 | U36: 11.24 | V36: 6.38 | W36: 13.1 | X36: 16.32 | Y36: 15.12 | Z36: 14.3 | AA36: 12.98 | AB36: 22.71 | AC36: 14.58 | AD36: 12.38 | AE36: 13.72 | AF36: 15.79
B37: 0.83333333 | C37: 13.04 | D37: 18.16 | E37: 18.04 | F37: 17.29 | G37: 18.8 | H37: 14.53 | I37: 14.5 | J37: 12.22 | K37: 15.48 | L37: 10.85 | M37: 12.94 | N37: 9.58 | O37: 22.27 | P37: 19.6 | Q37: 17.39 | R37: 21.79 | S37: 14.9 | T37: 16.62 | U37: 9.68 | V37: 9.38 | W37: 16.02 | X37: 13.75 | Y37: 13.16 | Z37: 9.91 | AA37: 13.6 | AB37: 19.66 | AC37: 12.47 | AD37: 14.92 | AE37: 10.63 | AF37: 14.82
B38: 0.875 | C38: 10.44 | D38: 14.51 | E38: 17.5 | F38: 17.95 | G38: 19.49 | H38: 13.29 | I38: 13.96 | J38: 11.54 | K38: 17.62 | L38: 14.69 | M38: 12.4 | N38: 7.72 | O38: 33.89 | P38: 18.04 | Q38: 16.45 | R38: 18.59 | S38: 15.43 | T38: 17.19 | U38: 9.59 | V38: 5.33 | W38: 22.11 | X38: 11.84 | Y38: 14.4 | Z38: 9.65 | AA38: 17.93 | AB38: 20.02 | AC38: 13.34 | AD38: 12.27 | AE38: 9.6 | AF38: 15.35
B39: 0.91666667 | C39: 15.53 | D39: 15.33 | E39: 18.45 | F39: 18.58 | G39: 15.56 | H39: 13.63 | I39: 14.57 | J39: 9.85 | K39: 18.27 | L39: 12.52 | M39: 9.77 | N39: 6.92 | O39: 15.13 | P39: 20.02 | Q39: 16.76 | R39: 19.2 | S39: 15.94 | T39: 16.37 | U39: 6.92 | V39: 4.73 | W39: 23.26 | X39: 11.1 | Y39: 11.13 | Z39: 15.54 | AA39: 19.77 | AB39: 19.88 | AC39: 14.54 | AD39: 13.15 | AE39: 10.14 | AF39: 15.33
B40: 0.95833333 | C40: 11.22 | D40: 14.62 | E40: 15.32 | F40: 19.39 | G40: 17.03 | H40: 12.51 | I40: 12.24 | J40: 9.9 | K40: 14.03 | L40: 13.7 | M40: 11.41 | N40: 4.51 | O40: 19.96 | P40: 20.35 | Q40: 17.68 | R40: 19.83 | S40: 15.43 | T40: 17.13 | U40: 5.32 | V40: 3.77 | W40: 18.14 | X40: 13.05 | Y40: 10.27 | Z40: 9.92 | AA40: 18.8 | AB40: 14.98 | AC40: 13.04 | AD40: 11.71 | AE40: 9.88 | AF40: 15.98
B41: Promedio de PM₁₀ en 24 h | C41: 13.4 | D41: 15.9 | E41: 17.6 | F41: 17 | G41: 22.2 | H41: 14.7 | I41: 14.7 | J41: 12.5 | K41: 13.4 | L41: 17.2 | M41: 11.8 | N41: 12.2 | O41: 10.7 | P41: 16.6 | Q41: 22 | R41: 19.3 | S41: 18.2 | T41: 15.2 | U41: 17.5 | V41: 7.6 | W41: 8.4 | X41: 19.9 | Y41: 14.2 | Z41: 10 | AA41: 12.8 | AB41: 18.3 | AC41: 17.9 | AD41: 15.4 | AE41: 11.4 | AF41: 16.9
B42: ECA aire de PM₁₀ | C42: 100 µg/m³ en periodo de 24 horas
B43: ID: Insuficiencia de datos
B44: IE: Interrupción eléctrica

Sheet PM2.5_CA-ILO-03
F2: Tabla 3.21. Concentraciones horarias de PM₂,₅
B6: TÍTULO DEL ESTUDIO: | F6: ='PM10_CA-ILO-03'!F6 -> Evaluación de seguimiento de la calidad del aire en el CEBA Jose Pardo, distrito Ilo, provincia Ilo, departamento Moquegua, en setiembre 2022
B8: ESTACIÓN DE MONITOREO: | F8: CA-ILO-03 | Q8: CÓDIGO DE ACCIÓN:
B10: DATOS DEL EQUIPO
B12: EQUIPO: | F12: Monitor automático de partículas | Q12: MARCA: | V12: GRIMM AEROSOL TECHNIK
B14: MODELO: | F14: EDM180 | Q14: SERIE: | V14: 18A19093
B16: Hora\Día | C16: 1 | D16: 2 | E16: 3 | F16: 4 | G16: 5 | H16: 6 | I16: 7 | J16: 8 | K16: 9 | L16: 10 | M16: 11 | N16: 12 | O16: 13 | P16: 14 | Q16: 15 | R16: 16 | S16: 17 | T16: 18 | U16: 19 | V16: 20 | W16: 21 | X16: 22 | Y16: 23 | Z16: 24 | AA16: 25 | AB16: 26 | AC16: 27 | AD16: 28 | AE16: 29 | AF16: 30 | AG16: 31
B17: 0 | C17: 9.38 | D17: 9.03 | E17: 10.78 | F17: 10.71 | G17: 12.97 | H17: 11.58 | I17: 8.79 | J17: 8.86 | K17: 7.28 | L17: 12.31 | M17: 11.43 | N17: 6.9 | O17: 4.09 | P17: 14.03 | Q17: 12.91 | R17: 11.52 | S17: 12.19 | T17: 11.73 | U17: 15.38 | V17: 10.46 | W17: 3.65 | X17: 12.28 | Y17: 7.58 | Z17: 6.93 | AA17: 10.11 | AB17: 15.33 | AC17: 9.74 | AD17: 10.47 | AE17: 7.68 | AF17: 8.33
B18: 0.041666667 | C18: 7.62 | D18: 8.2 | E18: 11.37 | F18: 9.77 | G18: 12.21 | H18: 13.9 | I18: 8.47 | J18: 6.65 | K18: 6.09 | L18: 9.61 | M18: 8.22 | N18: 7.52 | O18: 4.22 | P18: 10 | Q18: 13.42 | R18: 10.22 | S18: 13.56 | T18: 13.03 | U18: 16.5 | V18: 5.83 | W18: 3.9 | X18: 10.91 | Y18: 8.26 | Z18: 7.11 | AA18: 9.43 | AB18: 14.55 | AC18: 9.38 | AD18: 15.76 | AE18: 8.44 | AF18: 8.31
B19: 0.083333333 | C19: 7.08 | D19: 8.21 | E19: 11.19 | F19: 9.21 | G19: 11.59 | H19: 18.15 | I19: 9.79 | J19: 6.12 | K19: 6.7 | L19: 9.34 | M19: 8.13 | N19: 9.72 | O19: 4.4 | P19: 9.61 | Q19: 13.38 | R19: 10.11 | S19: 11.94 | T19: 13.14 | U19: 13.4 | V19: 10.84 | W19: 3.49 | X19: 25.44 | Y19: 7.53 | Z19: 8.68 | AA19: 8.89 | AB19: 14.23 | AC19: 8.83 | AD19: 27.4 | AE19: 7.27 | AF19: 8.94
B20: 0.125 | C20: 8.82 | D20: 8.24 | E20: 10.53 | F20: 9.09 | G20: 12.72 | H20: 13.81 | I20: 10.62 | J20: 7.38 | K20: 8.91 | L20: 9.99 | M20: 7.84 | N20: 8.36 | O20: 3.78 | P20: 13.82 | Q20: 13.04 | R20: 10.38 | S20: 13.15 | T20: 11.36 | U20: 17.49 | V20: 9.01 | W20: 3.4 | X20: 24.68 | Y20: 6.64 | Z20: 5.77 | AA20: 6.86 | AB20: 14.88 | AC20: 10.74 | AD20: 7.58 | AE20: 7.52 | AF20: 8.96
B21: 0.16666667 | C21: 9.51 | D21: 8.49 | E21: 10.65 | F21: 10.05 | G21: 13.43 | H21: 12.72 | I21: 10.22 | J21: 8.05 | K21: 8.81 | L21: 13.63 | M21: 8.23 | N21: 8.67 | O21: 4.45 | P21: 9.87 | Q21: 15.16 | R21: 11.68 | S21: 19.71 | T21: 11.38 | U21: 25.36 | V21: 6 | W21: 3.17 | X21: 14.97 | Y21: 14.97 | Z21: 5.72 | AA21: 6.82 | AB21: 14.9 | AC21: 13.48 | AD21: 8.52 | AE21: 8.38 | AF21: 9.11
B22: 0.20833333 | C22: 5.27 | D22: 8.82 | E22: 10.84 | F22: 13.9 | G22: 13.43 | H22: 13.57 | I22: 10.41 | J22: 9.08 | K22: 6.12 | L22: 11.65 | M22: 7.57 | N22: 8.64 | O22: 4.4 | P22: 8.46 | Q22: 16.3 | R22: 12.22 | S22: 21.38 | T22: 11.51 | U22: 19.98 | V22: 7.38 | W22: 3.54 | X22: 13.25 | Y22: 20.94 | Z22: 8.09 | AA22: 6.31 | AB22: 13.03 | AC22: 12.06 | AD22: 7.6 | AE22: 5.51 | AF22: 9.63
B23: 0.25 | C23: 4.51 | D23: 8.79 | E23: 12.23 | F23: 14.62 | G23: 14.45 | H23: 11.47 | I23: 10.28 | J23: 9.63 | K23: 5.88 | L23: 15.49 | M23: 8.53 | N23: 9.36 | O23: 4.32 | P23: 7.82 | Q23: 16.63 | R23: 12.57 | S23: 13.07 | T23: 13.74 | U23: 11.18 | V23: 7.48 | W23: 3.25 | X23: 12.46 | Y23: 19.87 | Z23: 5.62 | AA23: 5.08 | AB23: 12.56 | AC23: 13.63 | AD23: 8.46 | AE23: 4.97 | AF23: 11.12
B24: 0.29166667 | C24: 4.4 | D24: 8.68 | E24: 11.96 | F24: 12.28 | G24: 15.36 | H24: 10.7 | I24: 9.43 | J24: 8.96 | K24: 5.98 | L24: 14.24 | M24: 12.66 | N24: 12.02 | O24: 5.09 | P24: 8.54 | Q24: 14.62 | R24: 11.69 | S24: 10.84 | T24: 10.52 | U24: 12.35 | V24: 8.93 | W24: 3.36 | X24: 17.09 | Y24: 8.41 | Z24: 6.55 | AA24: 10.21 | AB24: 12.47 | AC24: 12.86 | AD24: 7.47 | AE24: 5.13 | AF24: 10.47
B25: 0.33333333 | C25: 4.93 | D25: 9.47 | E25: 12.45 | F25: 16.02 | G25: 16.68 | H25: 10.17 | I25: 9.09 | J25: 12.42 | K25: 6.58 | L25: 11.31 | M25: 7.78 | N25: 10.97 | O25: 8.78 | P25: 9.9 | Q25: 13.48 | R25: 13.38 | S25: 10.82 | T25: 10.32 | U25: 12.04 | V25: 6.32 | W25: 3.67 | X25: 23.69 | Y25: 9.66 | Z25: 8.11 | AA25: ID | AB25: 10.55 | AC25: 11.77 | AD25: 8.43 | AE25: 6.65 | AF25: 12.42
B26: 0.375 | C26: 6.74 | D26: 9.24 | E26: 13.38 | F26: 18.19 | G26: 24.11 | H26: 14.12 | I26: 8.76 | J26: 10.29 | K26: 7.14 | L26: 13.22 | M26: 8.38 | N26: 7.74 | O26: 4.96 | P26: 9.66 | Q26: 13.84 | R26: 12.88 | S26: 12.6 | T26: 8.92 | U26: 13.83 | V26: 6.5 | W26: 3.98 | X26: 25.79 | Y26: 7.02 | Z26: 6.8 | AA26: IE | AB26: 9.29 | AC26: 12.3 | AD26: 7.88 | AE26: 6.22 | AF26: 11.81
B27: 0.41666667 | C27: 7.96 | D27: 11.05 | E27: 12.47 | F27: 14.4 | G27: 31.68 | H27: 9.96 | I27: 9.67 | J27: 8.55 | K27: 5.94 | L27: 14.07 | M27: 7.97 | N27: 8.62 | O27: 5.07 | P27: 9.04 | Q27: 15.31 | R27: 13.27 | S27: 13.47 | T27: 7.28 | U27: 14.41 | V27: 6.13 | W27: 4.68 | X27: 8.86 | Y27: 7.39 | Z27: 5.87 | AA27: IE | AB27: 8.64 | AC27: 11.34 | AD27: 8.34 | AE27: 6.47 | AF27: 11.71
B28: 0.45833333 | C28: 9.49 | D28: 12.1 | E28: 11.3 | F28: 11.82 | G28: 19.59 | H28: 10.23 | I28: 9.47 | J28: 9.19 | K28: 6.86 | L28: 13.73 | M28: 6.38 | N28: 6.93 | O28: 5.3 | P28: 8.83 | Q28: 14.43 | R28: 12.34 | S28: 12.52 | T28: 8.71 | U28: 11.56 | V28: 5.08 | W28: 4.5 | X28: 11.48 | Y28: 7.45 | Z28: 6.92 | AA28: IE | AB28: 9.48 | AC28: 10.48 | AD28: 8.22 | AE28: 5.97 | AF28: 11.47
B29: 0.5 | C29: 10.1 | D29: 12.02 | E29: 11.34 | F29: 10.23 | G29: 13.6 | H29: 10.03 | I29: 10.27 | J29: 9.22 | K29: 8.13 | L29: 12.53 | M29: 6.99 | N29: 6.42 | O29: 5.35 | P29: 8.76 | Q29: 12.97 | R29: 10.88 | S29: 11.78 | T29: 9.62 | U29: 9.78 | V29: 4.71 | W29: 4.65 | X29: 7.42 | Y29: 6.92 | Z29: 6.53 | AA29: 5.97 | AB29: 9.88 | AC29: 10.02 | AD29: 8.37 | AE29: 6.2 | AF29: 10.24
B30: 0.54166667 | C30: 9.49 | D30: 11.02 | E30: 10.94 | F30: 10.14 | G30: 13.47 | H30: 7.68 | I30: 9.38 | J30: 7.89 | K30: 9.36 | L30: 12.28 | M30: 7.92 | N30: 5.68 | O30: 6.11 | P30: 8.12 | Q30: 12.21 | R30: 9.78 | S30: 11.29 | T30: 8.54 | U30: 11.27 | V30: 5.1 | W30: 4.99 | X30: 6.6 | Y30: 6.79 | Z30: 6.54 | AA30: 7.39 | AB30: 8.74 | AC30: 9.26 | AD30: 11.03 | AE30: 6.14 | AF30: 10.31
B31: 0.58333333 | C31: 9.62 | D31: 10.72 | E31: 10.81 | F31: 10.1 | G31: 13.16 | H31: 7.89 | I31: 9.18 | J31: 9 | K31: 10.6 | L31: 12.28 | M31: 9.62 | N31: 7.33 | O31: 6.49 | P31: 8.88 | Q31: 11.74 | R31: 9.51 | S31: 11.22 | T31: 8.12 | U31: 12.13 | V31: 4.92 | W31: 4.62 | X31: 6.93 | Y31: 8.31 | Z31: 7.07 | AA31: 7.45 | AB31: 8.79 | AC31: 8.41 | AD31: 8.13 | AE31: 5.88 | AF31: 9.67
B32: 0.625 | C32: 8.82 | D32: 10.92 | E32: 11.16 | F32: 10.07 | G32: 14.57 | H32: 8.03 | I32: 8.81 | J32: 8.57 | K32: 11.03 | L32: 11.08 | M32: 9.07 | N32: 9.14 | O32: 5.74 | P32: 9.4 | Q32: 11.59 | R32: 9.12 | S32: 10.42 | T32: 10.27 | U32: 11.48 | V32: 5.32 | W32: 5.61 | X32: 12.43 | Y32: 8.64 | Z32: 7.12 | AA32: 8.66 | AB32: 9.77 | AC32: 8.98 | AD32: 7.78 | AE32: 7.73 | AF32: 10.01
B33: 0.66666667 | C33: 8.29 | D33: 11.24 | E33: 12.47 | F33: 11.43 | G33: 13.96 | H33: 9.5 | I33: 9.42 | J33: 8.65 | K33: 10.54 | L33: 11.35 | M33: 8.4 | N33: 11.36 | O33: 6.96 | P33: 11.12 | Q33: 11.36 | R33: 9.16 | S33: 9.32 | T33: 9.05 | U33: 11.08 | V33: 6.04 | W33: 5.89 | X33: 10.08 | Y33: 9.4 | Z33: 6.47 | AA33: 9.32 | AB33: 10.28 | AC33: 11.05 | AD33: 7.28 | AE33: 6.38 | AF33: 10.53
B34: 0.70833333 | C34: 10.38 | D34: 12.61 | E34: 13.34 | F34: 12.41 | G34: 13.94 | H34: 9.38 | I34: 8.66 | J34: 9.18 | K34: 9.34 | L34: 15.07 | M34: 8.41 | N34: 11.32 | O34: 9.32 | P34: 11.2 | Q34: 11.24 | R34: 10.87 | S34: 10.22 | T34: 10.07 | U34: 10.84 | V34: 5.12 | W34: 7.59 | X34: 15.6 | Y34: 10.27 | Z34: 6.81 | AA34: 10.25 | AB34: 11.2 | AC34: 10.82 | AD34: 8.06 | AE34: 6.85 | AF34: ID
B35: 0.75 | C35: 9.77 | D35: 14.59 | E35: 15.13 | F35: 13.02 | G35: 15.88 | H35: 11.46 | I35: 11.66 | J35: 10.85 | K35: 10.14 | L35: 16.94 | M35: 8.16 | N35: 12.88 | O35: 14.09 | P35: 11.93 | Q35: 14.12 | R35: 12.89 | S35: 11.47 | T35: 11.57 | U35: 10.93 | V35: 6.17 | W35: 8.36 | X35: 8.87 | Y35: 10.73 | Z35: 10.26 | AA35: 13.28 | AB35: 11.91 | AC35: 10.53 | AD35: 8.65 | AE35: 9.62 | AF35: 11.85
B36: 0.79166667 | C36: 12.92 | D36: 13.83 | E36: 15.38 | F36: 14.03 | G36: 14.05 | H36: 12.16 | I36: 16.42 | J36: 9.55 | K36: 13.92 | L36: 11.21 | M36: 9.35 | N36: 11.6 | O36: 15.64 | P36: 12.65 | Q36: 12.43 | R36: 14.75 | S36: 10.43 | T36: 9.86 | U36: 8.75 | V36: 6.09 | W36: 9.59 | X36: 11.44 | Y36: 10.99 | Z36: 10.99 | AA36: 10.61 | AB36: 13.34 | AC36: 10.12 | AD36: 8.88 | AE36: 8.58 | AF36: 11.23
B37: 0.83333333 | C37: 10.53 | D37: 14.64 | E37: 13.22 | F37: 13.06 | G37: 13.39 | H37: 11.39 | I37: 10.47 | J37: 9.37 | K37: 11.21 | L37: 8.92 | M37: 9.75 | N37: 8.78 | O37: 15.58 | P37: 13.73 | Q37: 11.73 | R37: 15.38 | S37: 10.9 | T37: 12.8 | U37: 7.46 | V37: 9.07 | W37: 11.47 | X37: 9.82 | Y37: 9.34 | Z37: 7.43 | AA37: 11.07 | AB37: 12.15 | AC37: 9.12 | AD37: 10.95 | AE37: 7.01 | AF37: 10.64
B38: 0.875 | C38: 8.23 | D38: 11.91 | E38: 12.61 | F38: 13.38 | G38: 14.27 | H38: 10.14 | I38: 9.62 | J38: 9.63 | K38: 12.45 | L38: 11.12 | M38: 9.68 | N38: 7.05 | O38: 24.06 | P38: 12.53 | Q38: 11.14 | R38: 12.84 | S38: 11.33 | T38: 12.72 | U38: 7.58 | V38: 5.09 | W38: 16.92 | X38: 8.34 | Y38: 9.93 | Z38: 7.18 | AA38: 14.78 | AB38: 13.75 | AC38: 9.81 | AD38: 8.23 | AE38: 6.88 | AF38: 11
B39: 0.91666667 | C39: 12.23 | D39: 12.57 | E39: 13.84 | F39: 13.4 | G39: 12.01 | H39: 9.95 | I39: 10.06 | J39: 8.47 | K39: 13.01 | L39: 10.07 | M39: 7.67 | N39: 6.42 | O39: 11.23 | P39: 13.97 | Q39: 11.8 | R39: 13.16 | S39: 11.52 | T39: 12.64 | U39: 5.75 | V39: 4.47 | W39: 17.06 | X39: 8.2 | Y39: 7.99 | Z39: 12.71 | AA39: 15.16 | AB39: 14.15 | AC39: 10.95 | AD39: 8.45 | AE39: 8.03 | AF39: 10.94
B40: 0.95833333 | C40: 8.8 | D40: 11.7 | E40: 11.69 | F40: 13.72 | G40: 12.59 | H40: 8.98 | I40: 8.78 | J40: 8.74 | K40: 11.22 | L40: 10.72 | M40: 9.72 | N40: 4.3 | O40: 14.53 | P40: 14.22 | Q40: 12.6 | R40: 13.89 | S40: 10.86 | T40: 12.88 | U40: 4.49 | V40: 3.62 | W40: 13.64 | X40: 10.98 | Y40: 7.97 | Z40: 7.23 | AA40: 14.32 | AB40: 10.93 | AC40: 9.93 | AD40: 8.41 | AE40: 7.65 | AF40: 11.48
B41: Promedio de PM₂,₅ en 24 h | C41: 8.5 | D41: 10.8 | E41: 12.1 | F41: 12.3 | G41: 15.1 | H41: 11.1 | I41: 9.9 | J41: 8.9 | K41: 8.9 | L41: 12.2 | M41: 8.7 | N41: 8.7 | O41: 8.1 | P41: 10.7 | Q41: 13.2 | R41: 11.9 | S41: 12.3 | T41: 10.8 | U41: 12.3 | V41: 6.5 | W41: 6.5 | X41: 13.2 | Y41: 9.7 | Z41: 7.4 | AA41: 9.6 | AB41: 11.9 | AC41: 10.7 | AD41: 9.6 | AE41: 7 | AF41: 10.4 | AG41: =AVERAGE(AG17:AG40) -> #DIV/0!
B42: ECA aire de PM₂,₅ | C42: 50 µg/m³ en periodo de 24 horas
B43: ID: Insuficiencia de datos
B44: IE: Interrupción eléctrica

Sheet SO2_CA-ILO-03
F2: Tabla 3.22. Concentraciones horarias de SO₂
B6: TÍTULO DEL ESTUDIO: | F6: ='PM10_CA-ILO-03'!F6 -> Evaluación de seguimiento de la calidad del aire en el CEBA Jose Pardo, distrito Ilo, provincia Ilo, departamento Moquegua, en setiembre 2022
B8: ESTACIÓN DE MONITOREO: | F8: CA-ILO-03 | Q8: CÓDIGO DE ACCIÓN:
B10: DATOS DEL EQUIPO
B12: EQUIPO: | F12: Analizador de dióxido de azufre | Q12: MARCA: | V12: THERMO SCIENTIFIC
B14: MODELO: | F14: 43i | Q14: SERIE: | V14: 1192914948
B16: Hora\Día | C16: 1 | D16: 2 | E16: 3 | F16: 4 | G16: 5 | H16: 6 | I16: 7 | J16: 8 | K16: 9 | L16: 10 | M16: 11 | N16: 12 | O16: 13 | P16: 14 | Q16: 15 | R16: 16 | S16: 17 | T16: 18 | U16: 19 | V16: 20 | W16: 21 | X16: 22 | Y16: 23 | Z16: 24 | AA16: 25 | AB16: 26 | AC16: 27 | AD16: 28 | AE16: 29 | AF16: 30 | AG16: 31
B17: 0 | C17: 5.42 | D17: 5.58 | E17: 5.45 | F17: 5.45 | G17: 5.61 | H17: 5.58 | I17: 5.53 | J17: 5.66 | K17: 5.69 | L17: 5.79 | M17: 5.84 | N17: 5.71 | O17: 5.66 | P17: 5.97 | Q17: 5.95 | R17: 5.79 | S17: 6 | T17: 6.13 | U17: 6 | V17: 5.92 | W17: 6.1 | X17: 6.05 | Y17: 6.21 | Z17: 6.16 | AA17: 6.37 | AB17: 6.08 | AC17: 6.18 | AD17: 6.03 | AE17: 6.13 | AF17: 6.05 | AG17: 5.45
B18: 0.041666667 | C18: 5.48 | D18: 5.58 | E18: 5.48 | F18: 5.5 | G18: 5.48 | H18: 5.63 | I18: 5.5 | J18: 5.74 | K18: 5.69 | L18: 5.95 | M18: 5.71 | N18: 5.69 | O18: 5.74 | P18: 6 | Q18: 5.9 | R18: 5.9 | S18: 5.97 | T18: 5.9 | U18: 5.97 | V18: 6.03 | W18: 6.08 | X18: 6.13 | Y18: 6.13 | Z18: 6.16 | AA18: 6.24 | AB18: 6.08 | AC18: 6 | AD18: 6.03 | AE18: 6.03 | AF18: 6.1 | AG18: 5.32
B19: 0.083333333 | C19: 5.53 | D19: 5.37 | E19: 5.55 | F19: 5.5 | G19: 5.45 | H19: 5.55 | I19: 5.55 | J19: 5.71 | K19: 5.74 | L19: 6.05 | M19: 5.71 | N19: 5.71 | O19: 5.66 | P19: 5.74 | Q19: 5.92 | R19: 5.82 | S19: 6.03 | T19: 5.82 | U19: 5.92 | V19: 6.03 | W19: 6.08 | X19: 6.37 | Y19: 6.05 | Z19: 6.21 | AA19: 6.21 | AB19: 6.08 | AC19: 6.03 | AD19: 7.36 | AE19: 6.24 | AF19: 5.92 | AG19: 5.4
B20: 0.125 | C20: 5.71 | D20: 5.55 | E20: 5.42 | F20: 5.42 | G20: 5.45 | H20: 5.63 | I20: 5.55 | J20: 5.79 | K20: 5.69 | L20: 5.84 | M20: 5.74 | N20: 5.63 | O20: 5.53 | P20: 5.82 | Q20: 5.74 | R20: 5.92 | S20: 6.16 | T20: 5.97 | U20: 5.95 | V20: 6.13 | W20: 6.18 | X20: 6.92 | Y20: 6.08 | Z20: 6.24 | AA20: 6.26 | AB20: 6.16 | AC20: 5.9 | AD20: 6.47 | AE20: 6.21 | AF20: 6.03 | AG20: 5.4
B21: 0.16666667 | C21: 5.53 | D21: 5.61 | E21: 5.45 | F21: 5.5 | G21: 5.5 | H21: 5.63 | I21: 5.63 | J21: 5.58 | K21: 5.69 | L21: 5.79 | M21: 5.76 | N21: 5.97 | O21: 5.58 | P21: 5.82 | Q21: 5.74 | R21: 5.95 | S21: 6.24 | T21: 5.76 | U21: 10.77 | V21: 6 | W21: 6.1 | X21: 6.34 | Y21: 7.49 | Z21: 6.24 | AA21: 6.18 | AB21: 6.08 | AC21: 5.82 | AD21: 6.16 | AE21: 6.08 | AF21: 6.16 | AG21: 5.45
B22: 0.20833333 | C22: 5.61 | D22: 5.42 | E22: 5.58 | F22: 5.61 | G22: 5.55 | H22: 5.63 | I22: 5.63 | J22: 5.61 | K22: 5.66 | L22: 5.82 | M22: 5.74 | N22: 5.74 | O22: 5.58 | P22: 5.71 | Q22: 5.79 | R22: 5.92 | S22: 7.2 | T22: 5.92 | U22: 10.11 | V22: 6.1 | W22: 6.03 | X22: 6.13 | Y22: 11.61 | Z22: 6.21 | AA22: 6.16 | AB22: 6.08 | AC22: 5.87 | AD22: 6.26 | AE22: 6.03 | AF22: 6.21 | AG22: 5.61
B23: 0.25 | C23: 5.53 | D23: 5.61 | E23: 5.58 | F23: 5.5 | G23: 5.5 | H23: 5.58 | I23: 5.55 | J23: 5.55 | K23: 5.74 | L23: 5.87 | M23: 5.84 | N23: 5.79 | O23: 5.61 | P23: 5.92 | Q23: 5.9 | R23: 5.97 | S23: 6.94 | T23: 5.95 | U23: 6.97 | V23: 6.08 | W23: 6.1 | X23: 6.42 | Y23: 46.27 | Z23: 6.26 | AA23: 6.26 | AB23: 6.03 | AC23: 6.18 | AD23: 6.18 | AE23: 6.08 | AF23: 6.26 | AG23: 5.9
B24: 0.29166667 | C24: 5.76 | D24: 5.58 | E24: 5.48 | F24: 5.4 | G24: 5.55 | H24: 5.61 | I24: 5.74 | J24: 5.69 | K24: 5.69 | L24: 5.71 | M24: 5.79 | N24: 5.87 | O24: 5.66 | P24: 6.03 | Q24: 6.03 | R24: 5.97 | S24: 6.31 | T24: 6 | U24: 6.42 | V24: 6.05 | W24: 6.21 | X24: 7.18 | Y24: 10.77 | Z24: 6.29 | AA24: 6.52 | AB24: 6 | AC24: 6.21 | AD24: 6.29 | AE24: 6.16 | AF24: 6.21 | AG24: 7.99
B25: 0.33333333 | C25: 5.55 | D25: 5.53 | E25: 5.58 | F25: 5.63 | G25: 5.63 | H25: 5.53 | I25: 5.5 | J25: 5.58 | K25: 5.76 | L25: 5.79 | M25: 5.66 | N25: 5.74 | O25: 5.71 | P25: 5.92 | Q25: 6.03 | R25: 5.95 | S25: 6.08 | T25: 6.1 | U25: 6.34 | V25: 5.95 | W25: 6.26 | X25: 13.15 | Y25: 7.41 | Z25: 6.18 | AA25: ID | AB25: 5.95 | AC25: 6.26 | AD25: 6.16 | AE25: 6.03 | AF25: 6.34 | AG25: 7.89
B26: 0.375 | C26: 5.55 | D26: 5.55 | E26: 5.66 | F26: 5.71 | G26: 6.37 | H26: 5.5 | I26: 5.71 | J26: 5.74 | K26: 5.76 | L26: 5.69 | M26: 5.82 | N26: 5.69 | O26: 5.61 | P26: 5.92 | Q26: 5.84 | R26: 6.31 | S26: 6.26 | T26: 6.05 | U26: 6.1 | V26: 6.08 | W26: 5.97 | X26: 14.96 | Y26: 6.94 | Z26: 6.18 | AA26: IE | AB26: 6.08 | AC26: 6.16 | AD26: 6.05 | AE26: 6.16 | AF26: 6.37 | AG26: 6.34
B27: 0.41666667 | C27: 5.5 | D27: 5.61 | E27: 5.63 | F27: 5.66 | G27: 18.73 | H27: 5.71 | I27: 5.71 | J27: 5.63 | K27: 5.92 | L27: 5.9 | M27: 5.82 | N27: 5.71 | O27: 5.92 | P27: 5.9 | Q27: 6 | R27: 6.13 | S27: 6.29 | T27: 5.97 | U27: 6.24 | V27: 6.16 | W27: 6.18 | X27: 7.41 | Y27: 6.6 | Z27: 6.24 | AA27: IE | AB27: 6.21 | AC27: 6.21 | AD27: 6.13 | AE27: 6.08 | AF27: 6.37 | AG27: 5.97
B28: 0.45833333 | C28: 5.58 | D28: 5.69 | E28: 5.69 | F28: 5.69 | G28: 9.09 | H28: 5.82 | I28: 5.63 | J28: 5.79 | K28: 5.84 | L28: 5.84 | M28: 5.79 | N28: 5.82 | O28: 5.87 | P28: 5.87 | Q28: 6.13 | R28: 6.24 | S28: 6.55 | T28: 6.13 | U28: 6.18 | V28: 6.13 | W28: 6.05 | X28: 7.02 | Y28: 6.47 | Z28: 6.18 | AA28: IE | AB28: 6.1 | AC28: 6.13 | AD28: 6.18 | AE28: 6.16 | AF28: 6.18 | AG28: 5.79
B29: 0.5 | C29: 5.66 | D29: 5.69 | E29: 5.58 | F29: 5.48 | G29: 5.95 | H29: 5.92 | I29: 5.61 | J29: 5.66 | K29: 5.82 | L29: 5.79 | M29: 5.82 | N29: 5.95 | O29: 5.76 | P29: 6.03 | Q29: 6.08 | R29: 6.18 | S29: 6.18 | T29: 6.1 | U29: 6.24 | V29: 6.26 | W29: 6.1 | X29: 6.5 | Y29: 6.42 | Z29: 6.26 | AA29: EE | AB29: 6.1 | AC29: 6.24 | AD29: 6.26 | AE29: 6.13 | AF29: 6.24 | AG29: 5.53
B30: 0.54166667 | C30: 5.5 | D30: 5.53 | E30: 5.66 | F30: 5.58 | G30: 5.87 | H30: 5.71 | I30: 5.63 | J30: 5.74 | K30: 5.97 | L30: 5.84 | M30: 5.74 | N30: 5.74 | O30: 5.53 | P30: 5.92 | Q30: 6.13 | R30: 6.18 | S30: 6.16 | T30: 6.16 | U30: 6.18 | V30: 6.1 | W30: 6.08 | X30: 6.45 | Y30: 6.42 | Z30: 6.29 | AA30: EE | AB30: 6.08 | AC30: 6.34 | AD30: 6.21 | AE30: 6.16 | AF30: 6.13 | AG30: 5.69
B31: 0.58333333 | C31: 5.63 | D31: 5.61 | E31: 5.58 | F31: 5.71 | G31: 5.69 | H31: 5.66 | I31: 5.79 | J31: 5.79 | K31: 5.97 | L31: 5.9 | M31: 5.71 | N31: 5.82 | O31: 5.66 | P31: 6 | Q31: 6.18 | R31: 6.13 | S31: 6.26 | T31: 5.84 | U31: 6.03 | V31: 5.92 | W31: 6.08 | X31: 6.29 | Y31: 6.21 | Z31: 6.18 | AA31: EE | AB31: 6.21 | AC31: 6.05 | AD31: 6.16 | AE31: 6.1 | AF31: 6.16 | AG31: 5.58
B32: 0.625 | C32: 5.71 | D32: 5.66 | E32: 5.61 | F32: 5.61 | G32: 5.74 | H32: 5.58 | I32: 5.82 | J32: 5.79 | K32: 5.97 | L32: 5.71 | M32: 5.79 | N32: 5.74 | O32: 5.63 | P32: 5.82 | Q32: 6.18 | R32: 6.08 | S32: 6.08 | T32: 6.05 | U32: 6.05 | V32: 6.08 | W32: 6.13 | X32: 6.24 | Y32: 6.21 | Z32: 6.39 | AA32: EE | AB32: 6.18 | AC32: 6.18 | AD32: 6.31 | AE32: 6.13 | AF32: 6.26 | AG32: 5.71
B33: 0.66666667 | C33: 5.63 | D33: 5.69 | E33: 5.5 | F33: 5.55 | G33: 5.66 | H33: 5.63 | I33: 5.79 | J33: 5.71 | K33: 5.87 | L33: 5.74 | M33: 5.71 | N33: 5.76 | O33: 5.82 | P33: 6.05 | Q33: 6.34 | R33: 6.13 | S33: 6.1 | T33: 6.21 | U33: 5.97 | V33: 5.97 | W33: 6.05 | X33: 6.34 | Y33: 6.21 | Z33: 6.34 | AA33: EE | AB33: ID | AC33: 6.18 | AD33: 6.29 | AE33: 6.05 | AF33: 6.29 | AG33: 5.45
B34: 0.70833333 | C34: 5.53 | D34: 5.61 | E34: 5.63 | F34: 5.58 | G34: 5.69 | H34: 5.66 | I34: 5.61 | J34: 5.76 | K34: 5.82 | L34: 6.03 | M34: 5.82 | N34: 5.9 | O34: 5.92 | P34: 5.92 | Q34: 6.13 | R34: 6.03 | S34: 6.08 | T34: 5.87 | U34: 5.97 | V34: 6.1 | W34: 6.08 | X34: 6.42 | Y34: 6.29 | Z34: 6.29 | AA34: EE | AB34: 6.1 | AC34: 6.21 | AD34: 6.34 | AE34: 6.13 | AF34: 6.18 | AG34: 5.53
B35: 0.75 | C35: 5.55 | D35: 5.63 | E35: 5.55 | F35: 5.63 | G35: 5.55 | H35: 5.53 | I35: 5.74 | J35: 5.71 | K35: 5.9 | L35: 5.76 | M35: 5.76 | N35: 5.71 | O35: 5.87 | P35: 5.97 | Q35: 6.13 | R35: 6.03 | S35: 5.97 | T35: 5.92 | U35: 5.92 | V35: 6.08 | W35: 6.16 | X35: 6.13 | Y35: 6.26 | Z35: 6.16 | AA35: EE | AB35: 6.1 | AC35: 6.08 | AD35: 6.18 | AE35: 6.16 | AF35: 6.21 | AG35: 5.69
B36: 0.79166667 | C36: 5.55 | D36: 5.45 | E36: 5.61 | F36: 5.55 | G36: 5.42 | H36: 5.55 | I36: 5.66 | J36: 5.63 | K36: 5.84 | L36: 5.76 | M36: 5.69 | N36: 5.71 | O36: 5.82 | P36: 5.84 | Q36: 6.03 | R36: 5.87 | S36: 6.1 | T36: 6.03 | U36: 5.9 | V36: 5.76 | W36: 6.08 | X36: 6.34 | Y36: 6.18 | Z36: 6.47 | AA36: EE | AB36: 6.03 | AC36: 6.26 | AD36: 6.13 | AE36: 6.1 | AF36: 6.13 | AG36: 5.4
B37: 0.83333333 | C37: 5.5 | D37: 5.45 | E37: 5.53 | F37: 5.61 | G37: 5.63 | H37: 5.66 | I37: 5.87 | J37: 5.69 | K37: 5.74 | L37: 5.76 | M37: 5.76 | N37: 5.79 | O37: 5.74 | P37: 5.92 | Q37: 5.95 | R37: 5.79 | S37: 6.03 | T37: 6.1 | U37: 5.82 | V37: 6 | W37: 6 | X37: 6.13 | Y37: 6.05 | Z37: 6.24 | AA37: EE | AB37: 6.08 | AC37: 6.1 | AD37: 6.05 | AE37: 6.05 | AF37: 6.16 | AG37: 5.48
B38: 0.875 | C38: 5.61 | D38: 5.55 | E38: 5.58 | F38: 5.4 | G38: 5.71 | H38: 5.66 | I38: 5.66 | J38: 5.63 | K38: 5.82 | L38: 5.71 | M38: 5.66 | N38: 5.76 | O38: 5.92 | P38: 6.03 | Q38: 5.97 | R38: 5.92 | S38: 6 | T38: 5.97 | U38: 5.95 | V38: 6 | W38: 6.05 | X38: 6.1 | Y38: 6.05 | Z38: 6.1 | AA38: EE | AB38: 6.21 | AC38: 6.1 | AD38: 6.1 | AE38: 6.13 | AF38: 6.03 | AG38: 5.76
B39: 0.91666667 | C39: 5.76 | D39: 5.5 | E39: 5.53 | F39: 5.45 | G39: 5.55 | H39: 5.69 | I39: 5.63 | J39: 5.61 | K39: 5.82 | L39: 5.79 | M39: 5.71 | N39: 5.84 | O39: 5.79 | P39: 5.95 | Q39: 5.92 | R39: 6 | S39: 5.97 | T39: 6.13 | U39: 5.97 | V39: 6.13 | W39: 6.21 | X39: 6.03 | Y39: 6.16 | Z39: 6.37 | AA39: EE | AB39: 6.08 | AC39: 6 | AD39: 6.13 | AE39: 6.18 | AF39: 5.97 | AG39: 5.74
B40: 0.95833333 | C40: 5.58 | D40: 5.53 | E40: 5.45 | F40: 5.53 | G40: 5.53 | H40: 5.63 | I40: 5.74 | J40: 5.69 | K40: 5.95 | L40: 5.74 | M40: 5.58 | N40: 5.74 | O40: 5.92 | P40: 5.95 | Q40: 5.9 | R40: 5.87 | S40: 6 | T40: 6.05 | U40: 5.9 | V40: 6.08 | W40: 6.08 | X40: 6.1 | Y40: 6.18 | Z40: 6.24 | AA40: EE | AB40: 6.24 | AC40: 6.08 | AD40: 6.03 | AE40: 6.24 | AF40: 6.29 | AG40: 5.55
B41: Promedio de SO₂ en 24 h | C41: 5.6 | D41: 5.6 | E41: 5.6 | F41: 5.6 | G41: 6.3 | H41: 5.6 | I41: 5.7 | J41: 5.7 | K41: 5.8 | L41: 5.8 | M41: 5.7 | N41: 5.8 | O41: 5.7 | P41: 5.9 | Q41: 6 | R41: 6 | S41: 6.2 | T41: 6 | U41: 6.5 | V41: 6 | W41: 6.1 | X41: 7 | Y41: 8.4 | Z41: 6.2 | AA41: ID | AB41: 6.1 | AC41: 6.1 | AD41: 6.2 | AE41: 6.1 | AF41: 6.2 | AG41: 5.8
B42: ECA aire de SO₂ | C42: 250 µg/m³ en periodo de 24 horas
B44: IE: Interrupción eléctrica
B45: ID: Insuficiencia de datos
B46: EE: Evaluación del especialista

Sheet SO2_m3h_CA-ILO-03
F2: Tabla 3.23. Concentraciones horarias de CO m8h
B6: TÍTULO DEL ESTUDIO: | F6: ='PM10_CA-ILO-03'!F6 -> Evaluación de seguimiento de la calidad del aire en el CEBA Jose Pardo, distrito Ilo, provincia Ilo, departamento Moquegua, en setiembre 2022
B8: ESTACIÓN DE MONITOREO: | F8: CA-ILO-03 | Q8: CÓDIGO DE ACCIÓN:
B10: DATOS DEL EQUIPO
B12: EQUIPO: | F12: Analizador de dióxido de azufre | Q12: MARCA: | V12: THERMO SCIENTIFIC
B14: MODELO: | F14: 43i | Q14: SERIE: | V14: 1192914948
B16: Hora\Día | C16: 1 | D16: 2 | E16: 3 | F16: 4 | G16: 5 | H16: 6 | I16: 7 | J16: 8 | K16: 9 | L16: 10 | M16: 11 | N16: 12 | O16: 13 | P16: 14 | Q16: 15 | R16: 16 | S16: 17 | T16: 18 | U16: 19 | V16: 20 | W16: 21 | X16: 22 | Y16: 23 | Z16: 24 | AA16: 25 | AB16: 26 | AC16: 27 | AD16: 28 | AE16: 29 | AF16: 30 | AG16: 31
B17: 0 | C17: 5.57 | D17: 5.64 | E17: 5.49 | F17: 5.48 | G17: 5.53 | H17: 5.55 | I17: 5.62 | J17: 5.68 | K17: 5.66 | L17: 5.85 | M17: 5.79 | N17: 5.67 | O17: 5.75 | P17: 5.89 | Q17: 5.95 | R17: 5.87 | S17: 5.96 | T17: 6.03 | U17: 6.06 | V17: 5.93 | W17: 6.1 | X17: 6.11 | Y17: 6.11 | Z17: 6.17 | AA17: 6.33 | AB17: ID | AC17: 6.17 | AD17: 6.04 | AE17: 6.1 | AF17: 6.16 | AG17: 5.37
B18: 0.041666667 | C18: 5.48 | D18: 5.58 | E18: 5.49 | F18: 5.47 | G18: 5.54 | H18: 5.58 | I18: 5.55 | J18: 5.71 | K18: 5.69 | L18: 5.9 | M18: 5.76 | N18: 5.66 | O18: 5.71 | P18: 5.96 | Q18: 5.93 | R18: 5.86 | S18: 5.95 | T18: 6.01 | U18: 6.01 | V18: 5.95 | W18: 6.09 | X18: 6.09 | Y18: 6.15 | Z18: 6.17 | AA18: 6.28 | AB18: ID | AC18: 6.14 | AD18: 6.05 | AE18: 6.06 | AF18: 6.13 | AG18: 5.35
B19: 0.083333333 | C19: 5.48 | D19: 5.51 | E19: 5.49 | F19: 5.48 | G19: 5.51 | H19: 5.59 | I19: 5.53 | J19: 5.7 | K19: 5.71 | L19: 5.93 | M19: 5.75 | N19: 5.7 | O19: 5.69 | P19: 5.9 | Q19: 5.92 | R19: 5.84 | S19: 6 | T19: 5.95 | U19: 5.96 | V19: 5.99 | W19: 6.09 | X19: 6.18 | Y19: 6.13 | Z19: 6.18 | AA19: 6.27 | AB19: 6.08 | AC19: 6.07 | AD19: 6.47 | AE19: 6.13 | AF19: 6.02 | AG19: 5.39
B20: 0.125 | C20: 5.57 | D20: 5.5 | E20: 5.48 | F20: 5.47 | G20: 5.46 | H20: 5.6 | I20: 5.53 | J20: 5.75 | K20: 5.71 | L20: 5.95 | M20: 5.72 | N20: 5.68 | O20: 5.64 | P20: 5.85 | Q20: 5.85 | R20: 5.88 | S20: 6.05 | T20: 5.9 | U20: 5.95 | V20: 6.06 | W20: 6.11 | X20: 6.47 | Y20: 6.09 | Z20: 6.2 | AA20: 6.24 | AB20: 6.11 | AC20: 5.98 | AD20: 6.62 | AE20: 6.16 | AF20: 6.02 | AG20: 5.37
B21: 0.16666667 | C21: 5.59 | D21: 5.51 | E21: 5.47 | F21: 5.47 | G21: 5.47 | H21: 5.6 | I21: 5.58 | J21: 5.69 | K21: 5.71 | L21: 5.89 | M21: 5.74 | N21: 5.77 | O21: 5.59 | P21: 5.79 | Q21: 5.8 | R21: 5.9 | S21: 6.14 | T21: 5.85 | U21: 7.55 | V21: 6.05 | W21: 6.12 | X21: 6.54 | Y21: 6.54 | Z21: 6.23 | AA21: 6.22 | AB21: 6.11 | AC21: 5.92 | AD21: 6.66 | AE21: 6.18 | AF21: 6.04 | AG21: 5.42
B22: 0.20833333 | C22: 5.62 | D22: 5.53 | E22: 5.48 | F22: 5.51 | G22: 5.5 | H22: 5.63 | I22: 5.6 | J22: 5.66 | K22: 5.68 | L22: 5.82 | M22: 5.75 | N22: 5.78 | O22: 5.56 | P22: 5.78 | Q22: 5.76 | R22: 5.93 | S22: 6.53 | T22: 5.88 | U22: 8.94 | V22: 6.08 | W22: 6.1 | X22: 6.46 | Y22: 8.39 | Z22: 6.23 | AA22: 6.2 | AB22: 6.11 | AC22: 5.86 | AD22: 6.3 | AE22: 6.11 | AF22: 6.13 | AG22: 5.49
B23: 0.25 | C23: 5.56 | D23: 5.55 | E23: 5.54 | F23: 5.54 | G23: 5.52 | H23: 5.61 | I23: 5.6 | J23: 5.58 | K23: 5.7 | L23: 5.83 | M23: 5.78 | N23: 5.83 | O23: 5.59 | P23: 5.82 | Q23: 5.81 | R23: 5.95 | S23: 6.79 | T23: 5.88 | U23: 9.28 | V23: 6.06 | W23: 6.08 | X23: 6.3 | Y23: 21.79 | Z23: 6.24 | AA23: 6.2 | AB23: 6.06 | AC23: 5.96 | AD23: 6.2 | AE23: 6.06 | AF23: 6.21 | AG23: 5.65
B24: 0.29166667 | C24: 5.63 | D24: 5.54 | E24: 5.55 | F24: 5.5 | G24: 5.53 | H24: 5.61 | I24: 5.64 | J24: 5.62 | K24: 5.7 | L24: 5.8 | M24: 5.79 | N24: 5.8 | O24: 5.62 | P24: 5.89 | Q24: 5.91 | R24: 5.95 | S24: 6.82 | T24: 5.96 | U24: 7.83 | V24: 6.08 | W24: 6.11 | X24: 6.58 | Y24: 22.88 | Z24: 6.25 | AA24: 6.31 | AB24: 6.04 | AC24: 6.09 | AD24: 6.24 | AE24: 6.09 | AF24: 6.23 | AG24: 6.5
B25: 0.33333333 | C25: 5.61 | D25: 5.57 | E25: 5.55 | F25: 5.51 | G25: 5.56 | H25: 5.57 | I25: 5.6 | J25: 5.61 | K25: 5.73 | L25: 5.79 | M25: 5.76 | N25: 5.8 | O25: 5.66 | P25: 5.96 | Q25: 5.99 | R25: 5.96 | S25: 6.44 | T25: 6.02 | U25: 6.58 | V25: 6.03 | W25: 6.19 | X25: 8.92 | Y25: 21.48 | Z25: 6.24 | AA25: ID | AB25: 5.99 | AC25: 6.22 | AD25: 6.21 | AE25: 6.09 | AF25: 6.27 | AG25: 7.26
B26: 0.375 | C26: 5.62 | D26: 5.55 | E26: 5.57 | F26: 5.58 | G26: 5.85 | H26: 5.55 | I26: 5.65 | J26: 5.67 | K26: 5.74 | L26: 5.73 | M26: 5.76 | N26: 5.77 | O26: 5.66 | P26: 5.96 | Q26: 5.97 | R26: 6.08 | S26: 6.22 | T26: 6.05 | U26: 6.29 | V26: 6.03 | W26: 6.15 | X26: 11.76 | Y26: 8.37 | Z26: 6.22 | AA26: ID | AB26: 6.01 | AC26: 6.21 | AD26: 6.17 | AE26: 6.12 | AF26: 6.31 | AG26: 7.41
B27: 0.41666667 | C27: 5.53 | D27: 5.56 | E27: 5.62 | F27: 5.67 | G27: 10.24 | H27: 5.58 | I27: 5.64 | J27: 5.65 | K27: 5.81 | L27: 5.79 | M27: 5.77 | N27: 5.71 | O27: 5.75 | P27: 5.91 | Q27: 5.96 | R27: 6.13 | S27: 6.21 | T27: 6.04 | U27: 6.23 | V27: 6.06 | W27: 6.14 | X27: 11.84 | Y27: 6.98 | Z27: 6.2 | AA27: IE | AB27: 6.08 | AC27: 6.21 | AD27: 6.11 | AE27: 6.09 | AF27: 6.36 | AG27: 6.73
B28: 0.45833333 | C28: 5.54 | D28: 5.62 | E28: 5.66 | F28: 5.69 | G28: 11.4 | H28: 5.68 | I28: 5.68 | J28: 5.72 | K28: 5.84 | L28: 5.81 | M28: 5.81 | N28: 5.74 | O28: 5.8 | P28: 5.9 | Q28: 5.99 | R28: 6.23 | S28: 6.37 | T28: 6.05 | U28: 6.17 | V28: 6.12 | W28: 6.07 | X28: 9.8 | Y28: 6.67 | Z28: 6.2 | AA28: IE | AB28: 6.13 | AC28: 6.17 | AD28: 6.12 | AE28: 6.13 | AF28: 6.31 | AG28: 6.03
B29: 0.5 | C29: 5.58 | D29: 5.66 | E29: 5.63 | F29: 5.61 | G29: 11.26 | H29: 5.82 | I29: 5.65 | J29: 5.69 | K29: 5.86 | L29: 5.84 | M29: 5.81 | N29: 5.83 | O29: 5.85 | P29: 5.93 | Q29: 6.07 | R29: 6.18 | S29: 6.34 | T29: 6.07 | U29: 6.22 | V29: 6.18 | W29: 6.11 | X29: 6.98 | Y29: 6.5 | Z29: 6.23 | AA29: EE | AB29: 6.14 | AC29: 6.19 | AD29: 6.19 | AE29: 6.12 | AF29: 6.26 | AG29: 5.76
B30: 0.54166667 | C30: 5.58 | D30: 5.64 | E30: 5.64 | F30: 5.58 | G30: 6.97 | H30: 5.82 | I30: 5.62 | J30: 5.73 | K30: 5.88 | L30: 5.82 | M30: 5.78 | N30: 5.84 | O30: 5.72 | P30: 5.94 | Q30: 6.11 | R30: 6.2 | S30: 6.3 | T30: 6.13 | U30: 6.2 | V30: 6.16 | W30: 6.08 | X30: 6.66 | Y30: 6.44 | Z30: 6.24 | AA30: EE | AB30: 6.09 | AC30: 6.24 | AD30: 6.22 | AE30: 6.15 | AF30: 6.18 | AG30: 5.67
B31: 0.58333333 | C31: 5.6 | D31: 5.61 | E31: 5.61 | F31: 5.59 | G31: 5.84 | H31: 5.76 | I31: 5.68 | J31: 5.73 | K31: 5.92 | L31: 5.84 | M31: 5.76 | N31: 5.84 | O31: 5.65 | P31: 5.98 | Q31: 6.13 | R31: 6.16 | S31: 6.2 | T31: 6.03 | U31: 6.15 | V31: 6.09 | W31: 6.09 | X31: 6.41 | Y31: 6.35 | Z31: 6.24 | AA31: EE | AB31: 6.13 | AC31: 6.21 | AD31: 6.21 | AE31: 6.13 | AF31: 6.18 | AG31: 5.6
B32: 0.625 | C32: 5.61 | D32: 5.6 | E32: 5.62 | F32: 5.63 | G32: 5.77 | H32: 5.65 | I32: 5.75 | J32: 5.77 | K32: 5.97 | L32: 5.82 | M32: 5.75 | N32: 5.77 | O32: 5.61 | P32: 5.91 | Q32: 6.16 | R32: 6.13 | S32: 6.17 | T32: 6.02 | U32: 6.09 | V32: 6.03 | W32: 6.1 | X32: 6.33 | Y32: 6.28 | Z32: 6.29 | AA32: EE | AB32: 6.16 | AC32: 6.19 | AD32: 6.23 | AE32: 6.13 | AF32: 6.18 | AG32: 5.66
B33: 0.66666667 | C33: 5.66 | D33: 5.65 | E33: 5.56 | F33: 5.62 | G33: 5.7 | H33: 5.62 | I33: 5.8 | J33: 5.76 | K33: 5.94 | L33: 5.78 | M33: 5.74 | N33: 5.77 | O33: 5.7 | P33: 5.96 | Q33: 6.23 | R33: 6.11 | S33: 6.15 | T33: 6.03 | U33: 6.02 | V33: 5.99 | W33: 6.09 | X33: 6.29 | Y33: 6.21 | Z33: 6.3 | AA33: EE | AB33: ID | AC33: 6.14 | AD33: 6.25 | AE33: 6.09 | AF33: 6.24 | AG33: 5.58
B34: 0.70833333 | C34: 5.62 | D34: 5.65 | E34: 5.58 | F34: 5.58 | G34: 5.7 | H34: 5.62 | I34: 5.74 | J34: 5.75 | K34: 5.89 | L34: 5.83 | M34: 5.77 | N34: 5.8 | O34: 5.79 | P34: 5.93 | Q34: 6.22 | R34: 6.08 | S34: 6.09 | T34: 6.04 | U34: 6 | V34: 6.05 | W34: 6.09 | X34: 6.33 | Y34: 6.24 | Z34: 6.34 | AA34: EE | AB34: ID | AC34: 6.19 | AD34: 6.31 | AE34: 6.1 | AF34: 6.24 | AG34: 5.56
B35: 0.75 | C35: 5.57 | D35: 5.64 | E35: 5.56 | F35: 5.59 | G35: 5.63 | H35: 5.61 | I35: 5.71 | J35: 5.73 | K35: 5.86 | L35: 5.84 | M35: 5.76 | N35: 5.79 | O35: 5.87 | P35: 5.98 | Q35: 6.2 | R35: 6.06 | S35: 6.05 | T35: 6 | U35: 5.95 | V35: 6.05 | W35: 6.1 | X35: 6.3 | Y35: 6.25 | Z35: 6.26 | AA35: EE | AB35: ID | AC35: 6.16 | AD35: 6.27 | AE35: 6.11 | AF35: 6.23 | AG35: 5.56
B36: 0.79166667 | C36: 5.54 | D36: 5.56 | E36: 5.6 | F36: 5.59 | G36: 5.55 | H36: 5.58 | I36: 5.67 | J36: 5.7 | K36: 5.85 | L36: 5.85 | M36: 5.76 | N36: 5.77 | O36: 5.87 | P36: 5.91 | Q36: 6.1 | R36: 5.98 | S36: 6.05 | T36: 5.94 | U36: 5.93 | V36: 5.98 | W36: 6.11 | X36: 6.3 | Y36: 6.24 | Z36: 6.31 | AA36: EE | AB36: 6.08 | AC36: 6.18 | AD36: 6.22 | AE36: 6.13 | AF36: 6.17 | AG36: 5.54
B37: 0.83333333 | C37: 5.53 | D37: 5.51 | E37: 5.56 | F37: 5.6 | G37: 5.53 | H37: 5.58 | I37: 5.76 | J37: 5.68 | K37: 5.83 | L37: 5.76 | M37: 5.74 | N37: 5.74 | O37: 5.81 | P37: 5.91 | Q37: 6.04 | R37: 5.9 | S37: 6.03 | T37: 6.02 | U37: 5.88 | V37: 5.95 | W37: 6.08 | X37: 6.2 | Y37: 6.16 | Z37: 6.29 | AA37: EE | AB37: 6.07 | AC37: 6.15 | AD37: 6.12 | AE37: 6.1 | AF37: 6.17 | AG37: 5.52
B38: 0.875 | C38: 5.55 | D38: 5.48 | E38: 5.57 | F38: 5.52 | G38: 5.59 | H38: 5.62 | I38: 5.73 | J38: 5.65 | K38: 5.8 | L38: 5.74 | M38: 5.7 | N38: 5.75 | O38: 5.83 | P38: 5.93 | Q38: 5.98 | R38: 5.86 | S38: 6.04 | T38: 6.03 | U38: 5.89 | V38: 5.92 | W38: 6.04 | X38: 6.19 | Y38: 6.09 | Z38: 6.27 | AA38: EE | AB38: 6.11 | AC38: 6.15 | AD38: 6.09 | AE38: 6.09 | AF38: 6.11 | AG38: 5.55
B39: 0.91666667 | C39: 5.62 | D39: 5.5 | E39: 5.55 | F39: 5.49 | G39: 5.63 | H39: 5.67 | I39: 5.72 | J39: 5.64 | K39: 5.79 | L39: 5.75 | M39: 5.71 | N39: 5.8 | O39: 5.82 | P39: 5.97 | Q39: 5.95 | R39: 5.9 | S39: 6 | T39: 6.07 | U39: 5.91 | V39: 6.04 | W39: 6.09 | X39: 6.09 | Y39: 6.09 | Z39: 6.24 | AA39: EE | AB39: 6.12 | AC39: 6.07 | AD39: 6.09 | AE39: 6.12 | AF39: 6.05 | AG39: 5.66
B40: 0.95833333 | C40: 5.65 | D40: 5.53 | E40: 5.52 | F40: 5.46 | G40: 5.6 | H40: 5.66 | I40: 5.68 | J40: 5.64 | K40: 5.86 | L40: 5.75 | M40: 5.65 | N40: 5.78 | O40: 5.88 | P40: 5.98 | Q40: 5.93 | R40: 5.93 | S40: 5.99 | T40: 6.05 | U40: 5.94 | V40: 6.07 | W40: 6.11 | X40: 6.08 | Y40: 6.13 | Z40: 6.24 | AA40: EE | AB40: 6.18 | AC40: 6.06 | AD40: 6.09 | AE40: 6.18 | AF40: 6.1 | AG40: 5.68
B41: Estado de cuidado de SO2 | C41: 500 µg/m³ en periodo de 3 horas móviles
B42: ID: Insuficiencia de datos
B43: EE: Evaluación del especialista
B44: IE: Interrupción eléctrica

Sheet H2S_CA-ILO-03
F2: Tabla 3.24. Concentraciones horarias de H₂S
B6: TÍTULO DEL ESTUDIO: | F6: ='PM10_CA-ILO-03'!F6 -> Evaluación de seguimiento de la calidad del aire en el CEBA Jose Pardo, distrito Ilo, provincia Ilo, departamento Moquegua, en setiembre 2022
B8: ESTACIÓN DE MONITOREO: | F8: CA-ILO-03 | Q8: CÓDIGO DE ACCIÓN:
B10: DATOS DEL EQUIPO
B12: EQUIPO: | F12: Analizador sulfuro de hidrógeno | Q12: MARCA: | V12: THERMO SCIENTIFIC
B14: MODELO: | F14: 450i | Q14: SERIE: | V14: CM19490140
B16: Hora\Día | C16: 1 | D16: 2 | E16: 3 | F16: 4 | G16: 5 | H16: 6 | I16: 7 | J16: 8 | K16: 9 | L16: 10 | M16: 11 | N16: 12 | O16: 13 | P16: 14 | Q16: 15 | R16: 16 | S16: 17 | T16: 18 | U16: 19 | V16: 20 | W16: 21 | X16: 22 | Y16: 23 | Z16: 24 | AA16: 25 | AB16: 26 | AC16: 27 | AD16: 28 | AE16: 29 | AF16: 30 | AG16: 31
B17: 0 | C17: 3.59 | D17: 3.53 | E17: 3.61 | F17: 3.63 | G17: 3.6 | H17: 3.53 | I17: 3.52 | J17: 3.59 | K17: 3.88 | L17: 3.74 | M17: 3.63 | N17: 3.88 | O17: 3.5 | P17: 3.67 | Q17: 3.75 | R17: 3.93 | S17: 3.96 | T17: 4.09 | U17: 3.89 | V17: 3.84 | W17: 3.88 | X17: 3.73 | Y17: 3.75 | Z17: 3.86 | AA17: 3.98 | AB17: 3.82 | AC17: 3.78 | AD17: 3.82 | AE17: 4 | AF17: 3.91 | AG17: 3.53
B18: 0.041666667 | C18: 3.67 | D18: 3.45 | E18: 3.52 | F18: 3.46 | G18: 3.75 | H18: 3.67 | I18: 3.56 | J18: 3.59 | K18: 3.82 | L18: 3.64 | M18: 3.57 | N18: 4.14 | O18: 3.64 | P18: 3.91 | Q18: 3.86 | R18: 3.82 | S18: 3.84 | T18: 3.92 | U18: 4.03 | V18: 3.86 | W18: 4 | X18: 3.93 | Y18: 3.95 | Z18: 3.77 | AA18: 3.95 | AB18: 3.91 | AC18: 3.86 | AD18: 3.74 | AE18: 4.03 | AF18: 3.92 | AG18: 3.52
B19: 0.083333333 | C19: 3.67 | D19: 3.45 | E19: 3.46 | F19: 3.73 | G19: 3.64 | H19: 3.66 | I19: 3.53 | J19: 3.7 | K19: 3.84 | L19: 3.66 | M19: 3.68 | N19: 3.85 | O19: 3.7 | P19: 3.82 | Q19: 3.84 | R19: 3.77 | S19: 3.95 | T19: 3.84 | U19: 3.86 | V19: 3.63 | W19: 4.02 | X19: 3.82 | Y19: 3.81 | Z19: 3.85 | AA19: 3.93 | AB19: 3.86 | AC19: 3.67 | AD19: 3.93 | AE19: 3.93 | AF19: 3.84 | AG19: 3.56
B20: 0.125 | C20: 3.52 | D20: 3.67 | E20: 3.6 | F20: 3.57 | G20: 3.43 | H20: 3.74 | I20: 3.68 | J20: 3.6 | K20: 3.93 | L20: 3.71 | M20: 3.84 | N20: 4 | O20: 3.57 | P20: 3.91 | Q20: 3.85 | R20: 3.73 | S20: 3.78 | T20: 3.93 | U20: 3.71 | V20: 3.73 | W20: 4.02 | X20: 3.96 | Y20: 3.88 | Z20: 3.93 | AA20: 3.89 | AB20: 3.88 | AC20: 3.74 | AD20: 3.88 | AE20: 4.1 | AF20: 4.14 | AG20: 3.42
B21: 0.16666667 | C21: 3.73 | D21: 3.54 | E21: 3.74 | F21: 3.56 | G21: 3.59 | H21: 3.54 | I21: 4.1 | J21: 3.41 | K21: 3.75 | L21: 3.71 | M21: 3.63 | N21: 3.75 | O21: 3.66 | P21: 3.92 | Q21: 3.84 | R21: 3.77 | S21: 4.28 | T21: 3.84 | U21: 10.19 | V21: 3.91 | W21: 3.98 | X21: 3.99 | Y21: 14.22 | Z21: 3.84 | AA21: 4.06 | AB21: 3.96 | AC21: 3.91 | AD21: 3.89 | AE21: 4.04 | AF21: 3.98 | AG21: 3.46
B22: 0.20833333 | C22: 3.56 | D22: 3.57 | E22: 3.7 | F22: 3.56 | G22: 3.77 | H22: 3.59 | I22: 3.85 | J22: 3.64 | K22: 3.75 | L22: 3.67 | M22: 3.71 | N22: 3.86 | O22: 3.78 | P22: 3.86 | Q22: 3.91 | R22: 3.77 | S22: 4.24 | T22: 3.98 | U22: 4.21 | V22: 3.79 | W22: 3.89 | X22: 3.96 | Y22: 7.44 | Z22: 3.98 | AA22: 4.02 | AB22: 3.78 | AC22: 3.67 | AD22: 4.03 | AE22: 4.06 | AF22: 3.98 | AG22: 3.45
B23: 0.25 | C23: 3.63 | D23: 3.59 | E23: 3.74 | F23: 3.61 | G23: 3.74 | H23: 3.54 | I23: 3.7 | J23: 3.78 | K23: 3.73 | L23: 3.7 | M23: 3.81 | N23: 3.92 | O23: 3.63 | P23: 3.86 | Q23: 3.88 | R23: 3.84 | S23: 3.95 | T23: 3.98 | U23: 3.93 | V23: 3.86 | W23: 4 | X23: 3.89 | Y23: 5.3 | Z23: 3.75 | AA23: 4.02 | AB23: 3.85 | AC23: 4.03 | AD23: 4.03 | AE23: 4.07 | AF23: 3.96 | AG23: 3.7
B24: 0.29166667 | C24: 3.66 | D24: 3.66 | E24: 3.66 | F24: 3.35 | G24: 3.66 | H24: 3.54 | I24: 3.77 | J24: 3.63 | K24: 3.52 | L24: 3.77 | M24: 3.68 | N24: 4 | O24: 3.89 | P24: 3.95 | Q24: 3.92 | R24: 3.79 | S24: 3.82 | T24: 4.04 | U24: 3.96 | V24: 3.84 | W24: 4.03 | X24: 4.59 | Y24: 4.14 | Z24: 3.63 | AA24: 4.06 | AB24: 3.92 | AC24: 3.82 | AD24: 4.03 | AE24: 4 | AF24: 3.99 | AG24: 3.75
B25: 0.33333333 | C25: 3.5 | D25: 3.41 | E25: 3.54 | F25: 3.6 | G25: 3.77 | H25: 3.52 | I25: 3.56 | J25: 3.46 | K25: 3.66 | L25: 3.7 | M25: 3.59 | N25: 3.89 | O25: 3.7 | P25: 3.91 | Q25: 3.74 | R25: 3.71 | S25: 3.53 | T25: 3.86 | U25: 3.71 | V25: 3.93 | W25: 3.99 | X25: 4.64 | Y25: 3.96 | Z25: 3.73 | AA25: ID | AB25: 3.98 | AC25: 3.86 | AD25: 3.92 | AE25: 3.99 | AF25: 4.02 | AG25: 3.67
B26: 0.375 | C26: 3.46 | D26: 3.43 | E26: 3.61 | F26: 3.66 | G26: 4.55 | H26: 3.52 | I26: 3.52 | J26: 3.73 | K26: 3.68 | L26: 3.78 | M26: 3.73 | N26: 3.79 | O26: 3.74 | P26: 4.02 | Q26: 3.79 | R26: 3.86 | S26: 3.61 | T26: 3.95 | U26: 3.79 | V26: 3.82 | W26: 3.84 | X26: 4.3 | Y26: 3.91 | Z26: 3.74 | AA26: IE | AB26: 3.98 | AC26: 3.99 | AD26: 3.88 | AE26: 3.99 | AF26: 3.98 | AG26: 3.73
B27: 0.41666667 | C27: 3.57 | D27: 3.66 | E27: 3.61 | F27: 3.35 | G27: 4.11 | H27: 3.36 | I27: 3.43 | J27: 3.6 | K27: 3.6 | L27: 3.71 | M27: 3.71 | N27: 3.85 | O27: 3.7 | P27: 3.82 | Q27: 3.81 | R27: 3.64 | S27: 3.13 | T27: 3.93 | U27: 4.02 | V27: 4.09 | W27: 3.85 | X27: 3.96 | Y27: 3.85 | Z27: 3.74 | AA27: IE | AB27: 4.03 | AC27: 3.85 | AD27: 4.21 | AE27: 3.95 | AF27: 3.95 | AG27: 3.77
B28: 0.45833333 | C28: 3.5 | D28: 3.71 | E28: 3.53 | F28: 3.59 | G28: 3.68 | H28: 3.64 | I28: 3.47 | J28: 3.6 | K28: 3.63 | L28: 3.67 | M28: 3.67 | N28: 3.91 | O28: 3.73 | P28: 3.78 | Q28: 3.95 | R28: 3.75 | S28: 3.57 | T28: 3.92 | U28: 3.96 | V28: 3.89 | W28: 3.78 | X28: 3.92 | Y28: 3.77 | Z28: 3.71 | AA28: IE | AB28: 3.98 | AC28: 3.81 | AD28: 3.96 | AE28: 4.03 | AF28: 3.93 | AG28: 3.6
B29: 0.5 | C29: 3.41 | D29: 3.7 | E29: 3.56 | F29: 3.67 | G29: 3.59 | H29: 3.66 | I29: 3.47 | J29: 3.6 | K29: 3.52 | L29: 3.57 | M29: 3.75 | N29: 3.84 | O29: 3.68 | P29: 3.78 | Q29: 3.99 | R29: 3.78 | S29: 3.89 | T29: 3.95 | U29: 3.91 | V29: 3.79 | W29: 4 | X29: 3.91 | Y29: 3.81 | Z29: 3.71 | AA29: EE | AB29: 3.82 | AC29: 3.86 | AD29: 3.96 | AE29: 3.95 | AF29: 3.92 | AG29: 3.63
B30: 0.54166667 | C30: 3.36 | D30: 3.74 | E30: 3.54 | F30: 3.6 | G30: 3.46 | H30: 3.56 | I30: 3.36 | J30: 3.77 | K30: 3.82 | L30: 3.74 | M30: 3.7 | N30: 3.75 | O30: 3.71 | P30: 3.78 | Q30: 3.85 | R30: 3.68 | S30: 3.95 | T30: 3.77 | U30: 3.75 | V30: 3.78 | W30: 3.85 | X30: 3.99 | Y30: 3.88 | Z30: 3.88 | AA30: EE | AB30: 3.86 | AC30: 3.92 | AD30: 4.03 | AE30: 3.82 | AF30: 3.89 | AG30: 3.75
B31: 0.58333333 | C31: 3.5 | D31: 3.47 | E31: 3.43 | F31: 3.57 | G31: 3.61 | H31: 3.43 | I31: 3.52 | J31: 3.6 | K31: 3.68 | L31: 3.67 | M31: 3.54 | N31: 3.75 | O31: 3.7 | P31: 3.77 | Q31: 3.92 | R31: 3.84 | S31: 3.88 | T31: 3.89 | U31: 3.86 | V31: 3.71 | W31: 3.74 | X31: 3.84 | Y31: 3.96 | Z31: 4.06 | AA31: EE | AB31: 3.78 | AC31: 3.77 | AD31: 3.91 | AE31: 4.07 | AF31: 4.04 | AG31: 3.64
B32: 0.625 | C32: 3.59 | D32: 3.52 | E32: 3.49 | F32: 3.49 | G32: 3.71 | H32: 3.54 | I32: 3.56 | J32: 3.59 | K32: 3.84 | L32: 3.68 | M32: 3.77 | N32: 3.78 | O32: 3.79 | P32: 3.75 | Q32: 3.96 | R32: 3.85 | S32: 3.86 | T32: 3.93 | U32: 3.79 | V32: 3.85 | W32: 3.96 | X32: 3.89 | Y32: 3.82 | Z32: 3.85 | AA32: EE | AB32: 3.93 | AC32: 3.68 | AD32: 3.89 | AE32: 3.96 | AF32: 3.89 | AG32: 3.46
B33: 0.66666667 | C33: 3.42 | D33: 3.54 | E33: 3.6 | F33: 3.52 | G33: 3.64 | H33: 3.5 | I33: 3.43 | J33: 3.63 | K33: 3.85 | L33: 3.67 | M33: 3.74 | N33: 3.64 | O33: 3.81 | P33: 3.74 | Q33: 3.93 | R33: 3.84 | S33: 4.04 | T33: 3.74 | U33: 3.77 | V33: 3.93 | W33: 3.99 | X33: 3.85 | Y33: 3.88 | Z33: 3.99 | AA33: EE | AB33: 3.75 | AC33: 3.68 | AD33: 4.02 | AE33: 3.96 | AF33: 4.16 | AG33: 3.5
B34: 0.70833333 | C34: 3.66 | D34: 3.59 | E34: 3.77 | F34: 3.53 | G34: 3.77 | H34: 3.47 | I34: 3.35 | J34: 3.56 | K34: 3.78 | L34: 3.74 | M34: 3.68 | N34: 3.67 | O34: 3.73 | P34: 3.92 | Q34: 3.88 | R34: 3.68 | S34: 4 | T34: 3.75 | U34: 3.85 | V34: 3.92 | W34: 3.86 | X34: 4.03 | Y34: 3.92 | Z34: 3.91 | AA34: EE | AB34: VA | AC34: 3.67 | AD34: 3.86 | AE34: 3.85 | AF34: 4.18 | AG34: 3.22
B35: 0.75 | C35: 3.59 | D35: 3.42 | E35: 3.68 | F35: 3.5 | G35: 3.67 | H35: 3.52 | I35: 3.5 | J35: 3.59 | K35: 3.78 | L35: 3.68 | M35: 3.79 | N35: 3.66 | O35: 3.77 | P35: 3.84 | Q35: 3.88 | R35: 3.78 | S35: 3.91 | T35: 3.99 | U35: 3.95 | V35: 3.81 | W35: 3.86 | X35: 3.78 | Y35: 3.92 | Z35: 3.71 | AA35: EE | AB35: 3.74 | AC35: 3.81 | AD35: 3.98 | AE35: 3.92 | AF35: 4.11 | AG35: 3.49
B36: 0.79166667 | C36: 3.46 | D36: 3.5 | E36: 3.75 | F36: 3.64 | G36: 3.64 | H36: 3.5 | I36: 3.41 | J36: 3.54 | K36: 3.85 | L36: 3.7 | M36: 3.74 | N36: 3.74 | O36: 3.89 | P36: 3.85 | Q36: 3.92 | R36: 3.84 | S36: 3.99 | T36: 3.86 | U36: 3.88 | V36: 3.98 | W36: 3.81 | X36: 3.78 | Y36: 3.78 | Z36: 3.82 | AA36: EE | AB36: 3.78 | AC36: 3.88 | AD36: 3.98 | AE36: 4.1 | AF36: 4.07 | AG36: 3.5
B37: 0.83333333 | C37: 3.56 | D37: 3.5 | E37: 3.5 | F37: 3.5 | G37: 3.57 | H37: 3.63 | I37: 3.61 | J37: 3.61 | K37: 3.86 | L37: 3.5 | M37: 3.64 | N37: 3.63 | O37: 3.81 | P37: 3.64 | Q37: 4.03 | R37: 3.78 | S37: 3.75 | T37: 3.93 | U37: 3.92 | V37: 3.79 | W37: 3.78 | X37: 3.91 | Y37: 3.64 | Z37: 3.92 | AA37: EE | AB37: 3.74 | AC37: 3.77 | AD37: 4 | AE37: 4.04 | AF37: 4.28 | AG37: 3.53
B38: 0.875 | C38: 3.52 | D38: 3.42 | E38: 3.66 | F38: 3.54 | G38: 3.6 | H38: 3.59 | I38: 3.41 | J38: 3.67 | K38: 3.78 | L38: 3.57 | M38: 3.7 | N38: 3.7 | O38: 3.86 | P38: 3.84 | Q38: 3.67 | R38: 3.95 | S38: 3.82 | T38: 3.95 | U38: 3.67 | V38: 3.96 | W38: 3.79 | X38: 3.89 | Y38: 3.79 | Z38: 3.78 | AA38: EE | AB38: 3.75 | AC38: 3.67 | AD38: 3.93 | AE38: 4.03 | AF38: 4.3 | AG38: 3.45
B39: 0.91666667 | C39: 3.56 | D39: 3.54 | E39: 3.53 | F39: 3.64 | G39: 3.63 | H39: 3.54 | I39: 3.56 | J39: 3.7 | K39: 3.82 | L39: 3.73 | M39: 3.82 | N39: 3.61 | O39: 3.84 | P39: 3.74 | Q39: 3.86 | R39: 3.71 | S39: 3.84 | T39: 3.92 | U39: 3.91 | V39: 3.82 | W39: 3.89 | X39: 3.92 | Y39: 3.89 | Z39: 3.88 | AA39: EE | AB39: 3.86 | AC39: 3.77 | AD39: 3.96 | AE39: 4.03 | AF39: 4 | AG39: 3.49
B40: 0.95833333 | C40: 3.47 | D40: 3.45 | E40: 3.64 | F40: 3.61 | G40: 3.52 | H40: 3.5 | I40: 3.43 | J40: 3.53 | K40: 3.77 | L40: 3.74 | M40: 3.92 | N40: 3.68 | O40: 3.82 | P40: 3.82 | Q40: 3.82 | R40: 3.89 | S40: 3.85 | T40: 4.02 | U40: 3.77 | V40: 3.89 | W40: 3.89 | X40: 3.78 | Y40: 3.85 | Z40: 3.78 | AA40: EE | AB40: 3.91 | AC40: 3.95 | AD40: 3.85 | AE40: 4.09 | AF40: 4.28 | AG40: 3.64
B41: Promedio de H₂S en 24 h | C41: 3.5 | D41: 3.5 | E41: 3.6 | F41: 3.6 | G41: 3.7 | H41: 3.6 | I41: 3.6 | J41: 3.6 | K41: 3.8 | L41: 3.7 | M41: 3.7 | N41: 3.8 | O41: 3.7 | P41: 3.8 | Q41: 3.9 | R41: 3.8 | S41: 3.8 | T41: 3.9 | U41: 4.1 | V41: 3.9 | W41: 3.9 | X41: 4 | Y41: 4.5 | Z41: 3.8 | AA41: ID | AB41: 3.9 | AC41: 3.8 | AD41: 3.9 | AE41: 4 | AF41: 4 | AG41: 3.6
B42: ECA aire de H₂S | C42: 150 µg/m³ en periodo de 24 horas
B43: IE: Interrupción eléctrica
B44: ID: Insuficiencia de datos
B45: EE: Evaluación del especialista

Sheet NO2_CA-ILO-03
F2: Tabla 3.25. Concentraciones horarias de NO₂
B6: TÍTULO DEL ESTUDIO: | F6: ='PM10_CA-ILO-03'!F6 -> Evaluación de seguimiento de la calidad del aire en el CEBA Jose Pardo, distrito Ilo, provincia Ilo, departamento Moquegua, en setiembre 2022
B8: ESTACIÓN DE MONITOREO: | F8: CA-ILO-03 | Q8: CÓDIGO DE ACCIÓN:
B10: DATOS DEL EQUIPO
B12: EQUIPO: | F12: Analizador dióxido de nitrógeno | Q12: MARCA: | V12: THERMO SCIENTIFIC
B14: MODELO: | F14: 42i | Q14: SERIE: | V14: 1192914961
B16: Hora\Día | C16: 1 | D16: 2 | E16: 3 | F16: 4 | G16: 5 | H16: 6 | I16: 7 | J16: 8 | K16: 9 | L16: 10 | M16: 11 | N16: 12 | O16: 13 | P16: 14 | Q16: 15 | R16: 16 | S16: 17 | T16: 18 | U16: 19 | V16: 20 | W16: 21 | X16: 22 | Y16: 23 | Z16: 24 | AA16: 25 | AB16: 26 | AC16: 27 | AD16: 28 | AE16: 29 | AF16: 30 | AG16: 31
B17: 0 | C17: 3.16 | D17: 3.87 | E17: 3.65 | F17: 3.99 | G17: 3.14 | H17: 3.68 | I17: 3.68 | J17: 3.7 | K17: 3.29 | L17: 4.19 | M17: 4.49 | N17: 3.06 | O17: 2.8 | P17: 4.57 | Q17: 3.31 | R17: 3.18 | S17: 3.68 | T17: 3.48 | U17: 3.7 | V17: 3.38 | W17: 2.74 | X17: 3.76 | Y17: 4.74 | Z17: 3.59 | AA17: 5.04 | AB17: 3.31 | AC17: 2.95 | AD17: 2.97 | AE17: 2.9 | AF17: 3.48
B18: 0.041666667 | C18: 2.71 | D18: 2.91 | E18: 3.2 | F18: 3.37 | G18: 2.8 | H18: 4.49 | I18: 3.29 | J18: 3.48 | K18: 3.01 | L18: 3.42 | M18: 3.74 | N18: 2.74 | O18: 2.67 | P18: 3.89 | Q18: 3.23 | R18: 3.05 | S18: 3.91 | T18: 3.2 | U18: 3.16 | V18: 2.84 | W18: 2.63 | X18: 3.48 | Y18: 3.53 | Z18: 3.2 | AA18: 3.84 | AB18: 3.2 | AC18: 2.76 | AD18: 2.91 | AE18: 2.59 | AF18: 2.93
B19: 0.083333333 | C19: 2.58 | D19: 2.84 | E19: 2.67 | F19: 3.18 | G19: 2.99 | H19: 6.17 | I19: 3.05 | J19: 3.2 | K19: 2.8 | L19: 3.16 | M19: 3.61 | N19: 2.76 | O19: 2.54 | P19: 2.86 | Q19: 3.16 | R19: 2.9 | S19: 3.05 | T19: 3.38 | U19: 2.93 | V19: 2.99 | W19: 2.48 | X19: 4.15 | Y19: 2.84 | Z19: 3.14 | AA19: 3.61 | AB19: 3.03 | AC19: 2.8 | AD19: 3.67 | AE19: 2.48 | AF19: 2.58
B20: 0.125 | C20: 2.71 | D20: 3.25 | E20: 2.78 | F20: 3.46 | G20: 3.01 | H20: 5.73 | I20: 3.5 | J20: 3.06 | K20: 2.9 | L20: 3.12 | M20: 3.63 | N20: 3.23 | O20: 2.52 | P20: 3.27 | Q20: 3.37 | R20: 2.99 | S20: 3.68 | T20: 3.1 | U20: 3.5 | V20: 2.86 | W20: 2.48 | X20: 3.97 | Y20: 4.06 | Z20: 3.25 | AA20: 3.31 | AB20: 3.46 | AC20: 3.44 | AD20: 2.71 | AE20: 2.59 | AF20: 3.05
B21: 0.16666667 | C21: 2.97 | D21: 3.1 | E21: 3.16 | F21: 3.52 | G21: 3.46 | H21: 4.27 | I21: 4.7 | J21: 3.31 | K21: 3.05 | L21: 3.67 | M21: 3.74 | N21: 3.38 | O21: 3.2 | P21: 3.14 | Q21: 3.14 | R21: 3.42 | S21: 4.47 | T21: 3.27 | U21: 11.34 | V21: 2.86 | W21: 2.76 | X21: 4.15 | Y21: 8.4 | Z21: 3.55 | AA21: 3.42 | AB21: 3.27 | AC21: 4.87 | AD21: 3.14 | AE21: 2.95 | AF21: 2.8
B22: 0.20833333 | C22: 3.53 | D22: 3.89 | E22: 4.08 | F22: 3.93 | G22: 5.77 | H22: 5.17 | I22: 5.77 | J22: 4.34 | K22: 3.4 | L22: 4.15 | M22: 4.38 | N22: 3.87 | O22: 5.7 | P22: 3.97 | Q22: 4.19 | R22: 4.17 | S22: 5.56 | T22: 3.67 | U22: 7.71 | V22: 3.68 | W22: 3.65 | X22: 5.19 | Y22: 15.12 | Z22: 5.47 | AA22: 3.78 | AB22: 4.4 | AC22: 5.43 | AD22: 5.32 | AE22: 3.67 | AF22: 3.44
B23: 0.25 | C23: 5.3 | D23: 5.9 | E23: 5.7 | F23: 4.83 | G23: 7.54 | H23: 7.35 | I23: 9.38 | J23: 6.56 | K23: 5.11 | L23: 6.17 | M23: 4.93 | N23: 7.28 | O23: 5.15 | P23: 6.32 | Q23: 6 | R23: 6.2 | S23: 6.47 | T23: 5.08 | U23: 6.73 | V23: 7.73 | W23: 5.85 | X23: 8.12 | Y23: 17.71 | Z23: 5.81 | AA23: 5.04 | AB23: 6.15 | AC23: 7.16 | AD23: 7.31 | AE23: 4.76 | AF23: 7.2
B24: 0.29166667 | C24: 6.54 | D24: 7.14 | E24: 6.82 | F24: 6.39 | G24: 13.86 | H24: 8.29 | I24: 7.58 | J24: 8.07 | K24: 6.34 | L24: 7.9 | M24: 5.87 | N24: 11.54 | O24: 5.73 | P24: 7.09 | Q24: 9.64 | R24: 6.96 | S24: 6.09 | T24: 5.41 | U24: 8.23 | V24: 7.44 | W24: 6.62 | X24: 13.48 | Y24: 10.34 | Z24: 7.48 | AA24: 6.49 | AB24: 8.59 | AC24: 6.84 | AD24: 6.6 | AE24: 5.96 | AF24: 5.62
B25: 0.33333333 | C25: 6.17 | D25: 6.52 | E25: 6.81 | F25: 5.87 | G25: 13.14 | H25: 7.03 | I25: 6.02 | J25: 8.46 | K25: 6.32 | L25: 7.22 | M25: 4.79 | N25: 12.46 | O25: 5.72 | P25: 9.08 | Q25: 6.66 | R25: 7.33 | S25: 8.29 | T25: 4.62 | U25: 6.94 | V25: 7.13 | W25: 6.94 | X25: 15.89 | Y25: 11.37 | Z25: 7.5 | AA25: ID | AB25: 6.96 | AC25: 8.61 | AD25: 6.66 | AE25: 6.86 | AF25: 7.18
B26: 0.375 | C26: 5 | D26: 4.68 | E26: 6.96 | F26: 4.94 | G26: 11.28 | H26: 5.68 | I26: 4.76 | J26: 6.24 | K26: 8.87 | L26: 6.28 | M26: 4.34 | N26: 8.95 | O26: 4.94 | P26: 6.97 | Q26: 7.11 | R26: 5.32 | S26: 7.67 | T26: 4.21 | U26: 7.88 | V26: 6.19 | W26: 5.11 | X26: 13.22 | Y26: 7.97 | Z26: 5.53 | AA26: EE | AB26: 4.94 | AC26: 6.71 | AD26: 4.98 | AE26: 5.04 | AF26: 5.19
B27: 0.41666667 | C27: 4.62 | D27: 4.55 | E27: 5.4 | F27: 4.53 | G27: 10.11 | H27: 6.82 | I27: 4.68 | J27: 5.64 | K27: 8.4 | L27: 5.19 | M27: 4.08 | N27: 7.24 | O27: 5.25 | P27: 5.73 | Q27: 9.91 | R27: 5.09 | S27: 5.28 | T27: 3.8 | U27: 7.65 | V27: 5.19 | W27: 4.62 | X27: 7.03 | Y27: 6.52 | Z27: 4.98 | AA27: EE | AB27: 4.42 | AC27: 5.62 | AD27: 4.55 | AE27: 5.62 | AF27: 4.72
B28: 0.45833333 | C28: 4.42 | D28: 4.46 | E28: 4.98 | F28: 4.1 | G28: 8.38 | H28: 11.69 | I28: 5.41 | J28: 6.52 | K28: 10.34 | L28: 4.89 | M28: 4.19 | N28: 4.91 | O28: 4.96 | P28: 5.85 | Q28: 8.46 | R28: 4.74 | S28: 5.94 | T28: 3.89 | U28: 6.35 | V28: 5.17 | W28: 6.11 | X28: 10.57 | Y28: 5.88 | Z28: 5.19 | AA28: EE | AB28: 4.81 | AC28: 5.17 | AD28: 4.4 | AE28: 4.14 | AF28: 6
B29: 0.5 | C29: 4.51 | D29: 4.57 | E29: 4.94 | F29: 4.1 | G29: 5.11 | H29: 9.61 | I29: 5.28 | J29: 5.79 | K29: 5.55 | L29: 4.66 | M29: 4.17 | N29: 5.41 | O29: 5.23 | P29: 5.36 | Q29: 7.69 | R29: 4.74 | S29: 5.15 | T29: 4.08 | U29: 5.11 | V29: 5.09 | W29: 5.04 | X29: 6.34 | Y29: 6.17 | Z29: 5.41 | AA29: EE | AB29: 5.13 | AC29: 4.74 | AD29: 4.7 | AE29: 4.34 | AF29: 4.27
B30: 0.54166667 | C30: 4.38 | D30: 4.68 | E30: 4.76 | F30: 3.85 | G30: 5.11 | H30: 6.17 | I30: 5.06 | J30: 5.47 | K30: 5.36 | L30: 4.81 | M30: 4 | N30: 6.45 | O30: 5.19 | P30: 5.04 | Q30: 6.9 | R30: 4.61 | S30: 4.53 | T30: 4 | U30: 6.88 | V30: 5 | W30: 5.17 | X30: 5.15 | Y30: 5.6 | Z30: 5.41 | AA30: EE | AB30: 4.87 | AC30: 5.02 | AD30: 4.91 | AE30: 4.34 | AF30: 4.59
B31: 0.58333333 | C31: 4.14 | D31: 4.89 | E31: 4.27 | F31: 3.74 | G31: 4.59 | H31: 5.02 | I31: 5.21 | J31: 7.07 | K31: 5.4 | L31: 4.51 | M31: 3.55 | N31: 6.49 | O31: 4.74 | P31: 5.13 | Q31: 8.55 | R31: 4.59 | S31: 4.78 | T31: 3.44 | U31: 7.43 | V31: 5 | W31: 6.43 | X31: 5.62 | Y31: 5.72 | Z31: 5.13 | AA31: EE | AB31: 4.62 | AC31: 4.68 | AD31: 4.32 | AE31: 4.17 | AF31: 6.67
