Workbook

Sheet PM10_CA-ILO-02
F2: Tabla 3.11. Concentraciones horarias de PM₁₀
B6: TÍTULO DEL ESTUDIO: | F6: Evaluación de seguimiento de la calidad del aire en la Municipalidad de PacochaI, distrito Pacocha, provincia Ilo, departamento Moquegua, en marzo 2022
B8: ESTACIÓN DE MONITOREO: | F8: CA-ILO-02 | Q8: CÓDIGO DE ACCIÓN:
B10: DATOS DEL EQUIPO
B12: EQUIPO: | F12: Monitor automático de partículas | Q12: MARCA: | V12: GRIMM AEROSOL TECHNIK
B14: MODELO: | F14: EDM180 | Q14: SERIE: | V14: 18A19091
B16: Hora\Día | C16: 1 | D16: 2 | E16: 3 | F16: 4 | G16: 5 | H16: 6 | I16: 7 | J16: 8 | K16: 9 | L16: 10 | M16: 11 | N16: 12 | O16: 13 | P16: 14 | Q16: 15 | R16: 16 | S16: 17 | T16: 18 | U16: 19 | V16: 20 | W16: 21 | X16: 22 | Y16: 23 | Z16: 24 | AA16: 25 | AB16: 26 | AC16: 27 | AD16: 28 | AE16: 29 | AF16: 30 | AG16: 31
B17: 0 | C17: SE | D17: SE | E17: SE | F17: SE | G17: SE | H17: SE | I17: SE | J17: SE | K17: SE | L17: SE | M17: SE | N17: SE | O17: SE | P17: SE | Q17: SE | R17: SE | S17: SE | T17: SE | U17: SE | V17: SE | W17: SE | X17: SE | Y17: SE | Z17: SE | AA17: SE | AB17: SE | AC17: SE | AD17: SE | AE17: SE | AF17: SE | AG17: SE
B18: 0.041666667 | C18: SE | D18: SE | E18: SE | F18: SE | G18: SE | H18: SE | I18: SE | J18: SE | K18: SE | L18: SE | M18: SE | N18: SE | O18: SE | P18: SE | Q18: SE | R18: SE | S18: SE | T18: SE | U18: SE | V18: SE | W18: SE | X18: SE | Y18: SE | Z18: SE | AA18: SE | AB18: SE | AC18: SE | AD18: SE | AE18: SE | AF18: SE | AG18: SE
B19: 0.083333333 | C19: SE | D19: SE | E19: SE | F19: SE | G19: SE | H19: SE | I19: SE | J19: SE | K19: SE | L19: SE | M19: SE | N19: SE | O19: SE | P19: SE | Q19: SE | R19: SE | S19: SE | T19: SE | U19: SE | V19: SE | W19: SE | X19: SE | Y19: SE | Z19: SE | AA19: SE | AB19: SE | AC19: SE | AD19: SE | AE19: SE | AF19: SE | AG19: SE
B20: 0.125 | C20: SE | D20: SE | E20: SE | F20: SE | G20: SE | H20: SE | I20: SE | J20: SE | K20: SE | L20: SE | M20: SE | N20: SE | O20: SE | P20: SE | Q20: SE | R20: SE | S20: SE | T20: SE | U20: SE | V20: SE | W20: SE | X20: SE | Y20: SE | Z20: SE | AA20: SE | AB20: SE | AC20: SE | AD20: SE | AE20: SE | AF20: SE | AG20: SE
B21: 0.16666667 | C21: SE | D21: SE | E21: SE | F21: SE | G21: SE | H21: SE | I21: SE | J21: SE | K21: SE | L21: SE | M21: SE | N21: SE | O21: SE | P21: SE | Q21: SE | R21: SE | S21: SE | T21: SE | U21: SE | V21: SE | W21: SE | X21: SE | Y21: SE | Z21: SE | AA21: SE | AB21: SE | AC21: SE | AD21: SE | AE21: SE | AF21: SE | AG21: SE
B22: 0.20833333 | C22: SE | D22: SE | E22: SE | F22: SE | G22: SE | H22: SE | I22: SE | J22: SE | K22: SE | L22: SE | M22: SE | N22: SE | O22: SE | P22: SE | Q22: SE | R22: SE | S22: SE | T22: SE | U22: SE | V22: SE | W22: SE | X22: SE | Y22: SE | Z22: SE | AA22: SE | AB22: SE | AC22: SE | AD22: SE | AE22: SE | AF22: SE | AG22: SE
B23: 0.25 | C23: SE | D23: SE | E23: SE | F23: SE | G23: SE | H23: SE | I23: SE | J23: SE | K23: SE | L23: SE | M23: SE | N23: SE | O23: SE | P23: SE | Q23: SE | R23: SE | S23: SE | T23: SE | U23: SE | V23: SE | W23: SE | X23: SE | Y23: SE | Z23: SE | AA23: SE | AB23: SE | AC23: SE | AD23: SE | AE23: SE | AF23: SE | AG23: SE
B24: 0.29166667 | C24: SE | D24: SE | E24: SE | F24: SE | G24: SE | H24: SE | I24: SE | J24: SE | K24: SE | L24: SE | M24: SE | N24: SE | O24: SE | P24: SE | Q24: SE | R24: SE | S24: SE | T24: SE | U24: SE | V24: SE | W24: SE | X24: SE | Y24: SE | Z24: SE | AA24: SE | AB24: SE | AC24: SE | AD24: SE | AE24: SE | AF24: SE | AG24: SE
B25: 0.33333333 | C25: SE | D25: SE | E25: SE | F25: SE | G25: SE | H25: SE | I25: SE | J25: SE | K25: SE | L25: SE | M25: SE | N25: SE | O25: SE | P25: SE | Q25: SE | R25: SE | S25: SE | T25: SE | U25: SE | V25: SE | W25: SE | X25: SE | Y25: SE | Z25: SE | AA25: SE | AB25: SE | AC25: SE | AD25: SE | AE25: SE | AF25: SE | AG25: SE
B26: 0.375 | C26: SE | D26: SE | E26: SE | F26: SE | G26: SE | H26: SE | I26: SE | J26: SE | K26: SE | L26: SE | M26: SE | N26: SE | O26: SE | P26: SE | Q26: SE | R26: SE | S26: SE | T26: SE | U26: SE | V26: SE | W26: SE | X26: SE | Y26: SE | Z26: SE | AA26: SE | AB26: SE | AC26: SE | AD26: SE | AE26: SE | AF26: SE | AG26: SE
B27: 0.41666667 | C27: SE | D27: SE | E27: SE | F27: SE | G27: SE | H27: SE | I27: SE | J27: SE | K27: SE | L27: SE | M27: SE | N27: SE | O27: SE | P27: SE | Q27: SE | R27: SE | S27: SE | T27: SE | U27: SE | V27: SE | W27: SE | X27: SE | Y27: SE | Z27: SE | AA27: SE | AB27: SE | AC27: SE | AD27: SE | AE27: SE | AF27: SE | AG27: SE
B28: 0.45833333 | C28: SE | D28: SE | E28: SE | F28: SE | G28: SE | H28: SE | I28: SE | J28: SE | K28: SE | L28: SE | M28: SE | N28: SE | O28: SE | P28: SE | Q28: SE | R28: SE | S28: SE | T28: SE | U28: SE | V28: SE | W28: SE | X28: SE | Y28: SE | Z28: SE | AA28: SE | AB28: SE | AC28: SE | AD28: SE | AE28: SE | AF28: SE | AG28: SE
... B40: 0.95833333 | C40: SE | D40: SE | E40: SE | F40: SE | G40: SE | H40: SE | I40: SE | J40: SE | K40: SE | L40: SE | M40: SE | N40: SE | O40: SE | P40: SE | Q40: SE | R40: SE | S40: SE | T40: SE | U40: SE | V40: SE | W40: SE | X40: SE | Y40: SE | Z40: SE | AA40: SE | AB40: SE | AC40: SE | AD40: SE | AE40: SE | AF40: SE | AG40: SE
B41: Promedio de PM₁₀ en 24 h | C41: SE | D41: SE | E41: SE | F41: SE | G41: SE | H41: SE | I41: SE | J41: SE | K41: SE | L41: SE | M41: SE | N41: SE | O41: SE | P41: SE | Q41: SE | R41: SE | S41: SE | T41: SE | U41: SE | V41: SE | W41: SE | X41: SE | Y41: SE | Z41: SE | AA41: SE | AB41: SE | AC41: SE | AD41: SE | AE41: SE | AF41: SE | AG41: SE
B42: ECA aire de PM₁₀ | C42: 100 µg/m³ en periodo de 24 horas
B43: SE: Sin equipo

Sheet PM2.5_CA-ILO-02
F2: Tabla 3.12. Concentraciones horarias de PM₂,₅
B6: TÍTULO DEL ESTUDIO: | F6: ='PM10_CA-ILO-02'!F6 -> Evaluación de seguimiento de la calidad del aire en la Municipalidad de PacochaI, distrito Pacocha, provincia Ilo, departamento Moquegua, en marzo 2022
B8: ESTACIÓN DE MONITOREO: | F8: CA-ILO-02 | Q8: CÓDIGO DE ACCIÓN:
B10: DATOS DEL EQUIPO
B12: EQUIPO: | F12: Monitor automático de partículas | Q12: MARCA: | V12: GRIMM AEROSOL TECHNIK
B14: MODELO: | F14: EDM180 | Q14: SERIE: | V14: 18A19091
B16: Hora\Día | C16: 1 | D16: 2 | E16: 3 | F16: 4 | G16: 5 | H16: 6 | I16: 7 | J16: 8 | K16: 9 | L16: 10 | M16: 11 | N16: 12 | O16: 13 | P16: 14 | Q16: 15 | R16: 16 | S16: 17 | T16: 18 | U16: 19 | V16: 20 | W16: 21 | X16: 22 | Y16: 23 | Z16: 24 | AA16: 25 | AB16: 26 | AC16: 27 | AD16: 28 | AE16: 29 | AF16: 30 | AG16: 31
B17: 0 | C17: SE | D17: SE | E17: SE | F17: SE | G17: SE | H17: SE | I17: SE | J17: SE | K17: SE | L17: SE | M17: SE | N17: SE | O17: SE | P17: SE | Q17: SE | R17: SE | S17: SE | T17: SE | U17: SE | V17: SE | W17: SE | X17: SE | Y17: SE | Z17: SE | AA17: SE | AB17: SE | AC17: SE | AD17: SE | AE17: SE | AF17: SE | AG17: SE
B18: 0.041666667 | C18: SE | D18: SE | E18: SE | F18: SE | G18: SE | H18: SE | I18: SE | J18: SE | K18: SE | L18: SE | M18: SE | N18: SE | O18: SE | P18: SE | Q18: SE | R18: SE | S18: SE | T18: SE | U18: SE | V18: SE | W18: SE | X18: SE | Y18: SE | Z18: SE | AA18: SE | AB18: SE | AC18: SE | AD18: SE | AE18: SE | AF18: SE | AG18: SE
B19: 0.083333333 | C19: SE | D19: SE | E19: SE | F19: SE | G19: SE | H19: SE | I19: SE | J19: SE | K19: SE | L19: SE | M19: SE | N19: SE | O19: SE | P19: SE | Q19: SE | R19: SE | S19: SE | T19: SE | U19: SE | V19: SE | W19: SE | X19: SE | Y19: SE | Z19: SE | AA19: SE | AB19: SE | AC19: SE | AD19: SE | AE19: SE | AF19: SE | AG19: SE
B20: 0.125 | C20: SE | D20: SE | E20: SE | F20: SE | G20: SE | H20: SE | I20: SE | J20: SE | K20: SE | L20: SE | M20: SE | N20: SE | O20: SE | P20: SE | Q20: SE | R20: SE | S20: SE | T20: SE | U20: SE | V20: SE | W20: SE | X20: SE | Y20: SE | Z20: SE | AA20: SE | AB20: SE | AC20: SE | AD20: SE | AE20: SE | AF20: SE | AG20: SE
B21: 0.16666667 | C21: SE | D21: SE | E21: SE | F21: SE | G21: SE | H21: SE | I21: SE | J21: SE | K21: SE | L21: SE | M21: SE | N21: SE | O21: SE | P21: SE | Q21: SE | R21: SE | S21: SE | T21: SE | U21: SE | V21: SE | W21: SE | X21: SE | Y21: SE | Z21: SE | AA21: SE | AB21: SE | AC21: SE | AD21: SE | AE21: SE | AF21: SE | AG21: SE
B22: 0.20833333 | C22: SE | D22: SE | E22: SE | F22: SE | G22: SE | H22: SE | I22: SE | J22: SE | K22: SE | L22: SE | M22: SE | N22: SE | O22: SE | P22: SE | Q22: SE | R22: SE | S22: SE | T22: SE | U22: SE | V22: SE | W22: SE | X22: SE | Y22: SE | Z22: SE | AA22: SE | AB22: SE | AC22: SE | AD22: SE | AE22: SE | AF22: SE | AG22: SE
B23: 0.25 | C23: SE | D23: SE | E23: SE | F23: SE | G23: SE | H23: SE | I23: SE | J23: SE | K23: SE | L23: SE | M23: SE | N23: SE | O23: SE | P23: SE | Q23: SE | R23: SE | S23: SE | T23: SE | U23: SE | V23: SE | W23: SE | X23: SE | Y23: SE | Z23: SE | AA23: SE | AB23: SE | AC23: SE | AD23: SE | AE23: SE | AF23: SE | AG23: SE
B24: 0.29166667 | C24: SE | D24: SE | E24: SE | F24: SE | G24: SE | H24: SE | I24: SE | J24: SE | K24: SE | L24: SE | M24: SE | N24: SE | O24: SE | P24: SE | Q24: SE | R24: SE | S24: SE | T24: SE | U24: SE | V24: SE | W24: SE | X24: SE | Y24: SE | Z24: SE | AA24: SE | AB24: SE | AC24: SE | AD24: SE | AE24: SE | AF24: SE | AG24: SE
B25: 0.33333333 | C25: SE | D25: SE | E25: SE | F25: SE | G25: SE | H25: SE | I25: SE | J25: SE | K25: SE | L25: SE | M25: SE | N25: SE | O25: SE | P25: SE | Q25: SE | R25: SE | S25: SE | T25: SE | U25: SE | V25: SE | W25: SE | X25: SE | Y25: SE | Z25: SE | AA25: SE | AB25: SE | AC25: SE | AD25: SE | AE25: SE | AF25: SE | AG25: SE
B26: 0.375 | C26: SE | D26: SE | E26: SE | F26: SE | G26: SE | H26: SE | I26: SE | J26: SE | K26: SE | L26: SE | M26: SE | N26: SE | O26: SE | P26: SE | Q26: SE | R26: SE | S26: SE | T26: SE | U26: SE | V26: SE | W26: SE | X26: SE | Y26: SE | Z26: SE | AA26: SE | AB26: SE | AC26: SE | AD26: SE | AE26: SE | AF26: SE | AG26: SE
B27: 0.41666667 | C27: SE | D27: SE | E27: SE | F27: SE | G27: SE | H27: SE | I27: SE | J27: SE | K27: SE | L27: SE | M27: SE | N27: SE | O27: SE | P27: SE | Q27: SE | R27: SE | S27: SE | T27: SE | U27: SE | V27: SE | W27: SE | X27: SE | Y27: SE | Z27: SE | AA27: SE | AB27: SE | AC27: SE | AD27: SE | AE27: SE | AF27: SE | AG27: SE
B28: 0.45833333 | C28: SE | D28: SE | E28: SE | F28: SE | G28: SE | H28: SE | I28: SE | J28: SE | K28: SE | L28: SE | M28: SE | N28: SE | O28: SE | P28: SE | Q28: SE | R28: SE | S28: SE | T28: SE | U28: SE | V28: SE | W28: SE | X28: SE | Y28: SE | Z28: SE | AA28: SE | AB28: SE | AC28: SE | AD28: SE | AE28: SE | AF28: SE | AG28: SE
... B40: 0.95833333 | C40: SE | D40: SE | E40: SE | F40: SE | G40: SE | H40: SE | I40: SE | J40: SE | K40: SE | L40: SE | M40: SE | N40: SE | O40: SE | P40: SE | Q40: SE | R40: SE | S40: SE | T40: SE | U40: SE | V40: SE | W40: SE | X40: SE | Y40: SE | Z40: SE | AA40: SE | AB40: SE | AC40: SE | AD40: SE | AE40: SE | AF40: SE | AG40: SE
B41: Promedio de PM₂,₅ en 24 h | C41: SE | D41: SE | E41: SE | F41: SE | G41: SE | H41: SE | I41: SE | J41: SE | K41: SE | L41: SE | M41: SE | N41: SE | O41: SE | P41: SE | Q41: SE | R41: SE | S41: SE | T41: SE | U41: SE | V41: SE | W41: SE | X41: SE | Y41: SE | Z41: SE | AA41: SE | AB41: SE | AC41: SE | AD41: SE | AE41: SE | AF41: SE | AG41: SE
B42: ECA aire de PM₂,₅ | C42: 50 µg/m³ en periodo de 24 horas
B43: SE: Sin equipo

Sheet SO2_CA-ILO-02
F2: Tabla 3.13. Concentraciones horarias de SO₂
B6: TÍTULO DEL ESTUDIO: | F6: ='PM10_CA-ILO-02'!F6 -> Evaluación de seguimiento de la calidad del aire en la Municipalidad de PacochaI, distrito Pacocha, provincia Ilo, departamento Moquegua, en marzo 2022
B8: ESTACIÓN DE MONITOREO: | F8: CA-ILO-02 | Q8: CÓDIGO DE ACCIÓN:
B10: DATOS DEL EQUIPO
B12: EQUIPO: | F12: Analizador de dióxido de azufre | Q12: MARCA: | V12: THERMO SCIENTIFIC
B14: MODELO: | F14: 43i | Q14: SERIE: | V14: 1192914947
B16: Hora\Día | C16: 1 | D16: 2 | E16: 3 | F16: 4 | G16: 5 | H16: 6 | I16: 7 | J16: 8 | K16: 9 | L16: 10 | M16: 11 | N16: 12 | O16: 13 | P16: 14 | Q16: 15 | R16: 16 | S16: 17 | T16: 18 | U16: 19 | V16: 20 | W16: 21 | X16: 22 | Y16: 23 | Z16: 24 | AA16: 25 | AB16: 26 | AC16: 27 | AD16: 28 | AE16: 29 | AF16: 30 | AG16: 31
B17: 0 | C17: 46.4 | D17: 30.37 | E17: 18.5 | F17: 45.69 | G17: 35.82 | H17: 72.65 | I17: 14.75 | J17: 20.8 | K17: 15.88 | L17: 32.7 | M17: 55.57 | N17: 16.48 | O17: 27.33 | P17: 21.12 | Q17: 60.97 | R17: 75.82 | S17: 32.91 | T17: 16.66 | U17: 12.86 | V17: 22.22 | W17: 121.38 | X17: 20.65 | Y17: 122.98 | Z17: 64.32 | AA17: 227.89 | AB17: 16.09 | AC17: 87.67 | AD17: 34.14 | AE17: 40.64 | AF17: 12.68 | AG17: 14.33
B18: 0.041666667 | C18: 31.86 | D18: 31.13 | E18: 26.57 | F18: 26.67 | G18: 84.76 | H18: 59.63 | I18: 43.44 | J18: 17.66 | K18: 17.63 | L18: 29.95 | M18: 32.46 | N18: 15.25 | O18: 17.66 | P18: 18.08 | Q18: 45.56 | R18: 67.94 | S18: 24.63 | T18: 15.09 | U18: 12.6 | V18: 62.85 | W18: 89.34 | X18: 30.42 | Y18: 77.63 | Z18: 30.16 | AA18: 127.7 | AB18: 72.97 | AC18: 29.92 | AD18: 26.04 | AE18: 33.25 | AF18: 12.76 | AG18: 22.11
B19: 0.083333333 | C19: 51.35 | D19: 23.84 | E19: 44.54 | F19: 33.64 | G19: 121.99 | H19: 46.22 | I19: 19.05 | J19: 51.22 | K19: 25.31 | L19: 34.58 | M19: 34.95 | N19: 22.58 | O19: 41.89 | P19: 15.48 | Q19: 35.55 | R19: 82.24 | S19: 30.31 | T19: 13.62 | U19: 12.73 | V19: 33.75 | W19: 101.39 | X19: 46.45 | Y19: 27.41 | Z19: 58.58 | AA19: 88.69 | AB19: 46.16 | AC19: 26.57 | AD19: 17.42 | AE19: 27.72 | AF19: 12.92 | AG19: 76.24
B20: 0.125 | C20: 32.41 | D20: 48.44 | E20: 63.48 | F20: 23.16 | G20: 98.75 | H20: 49.44 | I20: 18.29 | J20: 28.45 | K20: 23.74 | L20: 20.99 | M20: 47.87 | N20: 34.98 | O20: 40.64 | P20: 24.84 | Q20: 48.1 | R20: 55.73 | S20: 16.64 | T20: 13.15 | U20: 12.76 | V20: 27.75 | W20: 45.48 | X20: 31.23 | Y20: 27.27 | Z20: 37.41 | AA20: 81.82 | AB20: 37.52 | AC20: 22.35 | AD20: 15.85 | AE20: 21.41 | AF20: 12.81 | AG20: 69.67
B21: 0.16666667 | C21: 26.72 | D21: 28.58 | E21: 65.76 | F21: 86.43 | G21: 73.94 | H21: 37.54 | I21: 17.4 | J21: 22.17 | K21: 44.04 | L21: 18.03 | M21: 26.04 | N21: 16.79 | O21: 42.1 | P21: 84.52 | Q21: 43.75 | R21: 40.82 | S21: 14.88 | T21: 13.49 | U21: 17.55 | V21: 29.84 | W21: 109.73 | X21: 60.36 | Y21: 22.79 | Z21: 27.43 | AA21: 31.02 | AB21: 65.26 | AC21: 41.87 | AD21: 18.05 | AE21: 14.59 | AF21: 12.65 | AG21: 49.18
B22: 0.20833333 | C22: 27.98 | D22: 18.29 | E22: 21.33 | F22: 150.86 | G22: 78.42 | H22: 34.92 | I22: 20.36 | J22: 38.41 | K22: 23.55 | L22: 20.17 | M22: 19.26 | N22: 27.04 | O22: 36.31 | P22: 135.69 | Q22: 35.45 | R22: 38.38 | S22: 14.65 | T22: 14.83 | U22: 16.11 | V22: 26.93 | W22: 122.48 | X22: 92.98 | Y22: 19.1 | Z22: 17.4 | AA22: 17.37 | AB22: ID | AC22: 45.77 | AD22: 15.8 | AE22: 71.21 | AF22: 12.65 | AG22: 44.96
B23: 0.25 | C23: 60.34 | D23: 23.66 | E23: 34.64 | F23: 54.94 | G23: 83.37 | H23: 88.14 | I23: 22.72 | J23: 32.2 | K23: 16.3 | L23: 21.82 | M23: 19.96 | N23: 18.65 | O23: 31.65 | P23: 157.25 | Q23: 29.74 | R23: 46.58 | S23: 23.13 | T23: 21.93 | U23: 13.52 | V23: 22.24 | W23: 87.8 | X23: 103.44 | Y23: 24.1 | Z23: 30.6 | AA23: 20.23 | AB23: ND | AC23: 40.35 | AD23: 15.93 | AE23: 153.79 | AF23: 12.73 | AG23: 30.94
B24: 0.29166667 | C24: 32.62 | D24: 30.81 | E24: 66.36 | F24: 83.13 | G24: 72.23 | H24: 48.92 | I24: 25.52 | J24: 39.82 | K24: 34.95 | L24: 63.4 | M24: 20.93 | N24: 20.54 | O24: 28.37 | P24: 132.1 | Q24: 26.17 | R24: 23.66 | S24: 22.74 | T24: 23.19 | U24: 12.97 | V24: 22.22 | W24: 105.61 | X24: 58.32 | Y24: 26.93 | Z24: 84.94 | AA24: 25.28 | AB24: EE | AC24: 50.17 | AD24: 18.08 | AE24: 140.22 | AF24: 12.86 | AG24: 49.7
B25: 0.33333333 | C25: 38.49 | D25: 43.05 | E25: 57.69 | F25: 24.68 | G25: 47.74 | H25: 55.52 | I25: 23.97 | J25: 28.27 | K25: 22.11 | L25: 73.2 | M25: 25.02 | N25: 16.19 | O25: 23.48 | P25: 71.37 | Q25: 14.83 | R25: 20.02 | S25: 16.43 | T25: 21.77 | U25: 14.54 | V25: 32.54 | W25: 98.43 | X25: 22.51 | Y25: 97.83 | Z25: 32.02 | AA25: 43.89 | AB25: EE | AC25: 35.68 | AD25: 14.75 | AE25: 39.43 | AF25: 12.89 | AG25: 25.73
B26: 0.375 | C26: 34.58 | D26: 25.18 | E26: 154.11 | F26: 25.86 | G26: 60.47 | H26: 42.34 | I26: 20.2 | J26: 16.61 | K26: 24.58 | L26: 25.13 | M26: 25.86 | N26: 19.99 | O26: 20.46 | P26: 42.08 | Q26: 16.85 | R26: 45.17 | S26: 16.85 | T26: ID | U26: 14.67 | V26: 21.82 | W26: 27.51 | X26: 24.99 | Y26: 16.35 | Z26: 23.74 | AA26: 30.37 | AB26: 18.63 | AC26: 17.11 | AD26: 13.78 | AE26: 18.42 | AF26: 12.94 | AG26: 21.3
B27: 0.41666667 | C27: 16.64 | D27: 15.96 | E27: 70.5 | F27: 18.26 | G27: 23.53 | H27: 15.75 | I27: 17.63 | J27: 14.51 | K27: 19.99 | L27: 15.9 | M27: 30.94 | N27: VF | O27: 15.59 | P27: 28.03 | Q27: 29.13 | R27: 15.27 | S27: 13.62 | T27: 13.18 | U27: 13.62 | V27: 13.49 | W27: 13.65 | X27: 14.57 | Y27: 13.96 | Z27: 14.8 | AA27: 16.06 | AB27: 15.04 | AC27: 13.91 | AD27: 13.49 | AE27: 14.38 | AF27: 13.02 | AG27: 16.87
B28: 0.45833333 | C28: 14.15 | D28: 14.23 | E28: 17.42 | F28: 15.12 | G28: 18.34 | H28: 14.36 | I28: 14.44 | J28: 13.96 | K28: 13.94 | L28: 13.68 | M28: 15.75 | N28: ID | O28: 14.36 | P28: 18.08 | Q28: 14.07 | R28: 14.17 | S28: 13.44 | T28: 13.1 | U28: 13.23 | V28: 12.94 | W28: 13.31 | X28: 13.96 | Y28: 13.76 | Z28: 13.81 | AA28: 14.1 | AB28: 13.62 | AC28: 13.7 | AD28: 13.65 | AE28: ID | AF28: 12.97 | AG28: 13.47
B29: 0.5 | C29: 13.91 | D29: 13.89 | E29: 14.1 | F29: 14.83 | G29: 14.31 | H29: 13.96 | I29: 14.15 | J29: 13.6 | K29: 13.62 | L29: 13.81 | M29: 13.96 | N29: 13.81 | O29: 14.04 | P29: 13.89 | Q29: ID | R29: 13.78 | S29: 13.49 | T29: 13.1 | U29: 13.13 | V29: 12.84 | W29: 13.07 | X29: 13.55 | Y29: 13.62 | Z29: 13.65 | AA29: 13.81 | AB29: 13.62 | AC29: 13.73 | AD29: 13.81 | AE29: 13.52 | AF29: 12.94 | AG29: 13.52
B30: 0.54166667 | C30: 13.94 | D30: 13.57 | E30: 13.68 | F30: 13.94 | G30: 14.07 | H30: 13.81 | I30: 16.56 | J30: 13.47 | K30: 13.68 | L30: 13.55 | M30: 14.07 | N30: 13.49 | O30: 13.65 | P30: 13.52 | Q30: IE | R30: 13.65 | S30: 13.34 | T30: 13.07 | U30: 12.94 | V30: 12.76 | W30: 13.68 | X30: 13.57 | Y30: 13.81 | Z30: 13.44 | AA30: 13.89 | AB30: 13.73 | AC30: 13.55 | AD30: 13.57 | AE30: 13.41 | AF30: 12.84 | AG30: 13.81
B31: 0.58333333 | C31: 13.94 | D31: 13.6 | E31: 13.81 | F31: 13.86 | G31: 14.1 | H31: 13.96 | I31: 14.93 | J31: 13.55 | K31: 13.47 | L31: 13.6 | M31: 13.73 | N31: 13.41 | O31: 13.6 | P31: 13.31 | Q31: IE | R31: 13.52 | S31: 13.36 | T31: 13.02 | U31: 13 | V31: 12.68 | W31: 14.67 | X31: 13.34 | Y31: 13.62 | Z31: 13.6 | AA31: 14.1 | AB31: 13.55 | AC31: 13.73 | AD31: 13.39 | AE31: 13.28 | AF31: 13.1 | AG31: 13.94
B32: 0.625 | C32: 13.44 | D32: 13.44 | E32: 13.55 | F32: 13.47 | G32: 13.89 | H32: 13.6 | I32: 16.56 | J32: 13.47 | K32: 13.52 | L32: 13.34 | M32: 13.81 | N32: 13.31 | O32: 13.49 | P32: 13.44 | Q32: EE | R32: 13.49 | S32: ID | T32: 13 | U32: 13 | V32: 12.97 | W32: 13.02 | X32: 13.49 | Y32: 13.36 | Z32: 13.36 | AA32: 15.27 | AB32: 13.31 | AC32: 13.39 | AD32: 13.41 | AE32: 13.39 | AF32: 12.94 | AG32: 13.52
B33: 0.66666667 | C33: 13.62 | D33: 13.47 | E33: 13.55 | F33: 13.47 | G33: 13.86 | H33: 13.76 | I33: 15.09 | J33: 13.26 | K33: 13.52 | L33: 13.44 | M33: 13.47 | N33: 13.18 | O33: 13.49 | P33: 13.34 | Q33: 13.28 | R33: 13.15 | S33: IE | T33: 12.84 | U33: ID | V33: 12.81 | W33: 13.36 | X33: 13.44 | Y33: 13.49 | Z33: 13.44 | AA33: 14.65 | AB33: 13.49 | AC33: 13.26 | AD33: 13.26 | AE33: 13.28 | AF33: 12.92 | AG33: 13.36
B34: 0.70833333 | C34: 13.47 | D34: 13.57 | E34: 13.47 | F34: 13.41 | G34: 16.74 | H34: 14.78 | I34: 19.36 | J34: 13.52 | K34: 13.36 | L34: 13.39 | M34: 13.36 | N34: 13.41 | O34: 13.18 | P34: 13.28 | Q34: 18.18 | R34: 13.18 | S34: EE | T34: 12.81 | U34: MA | V34: 12.65 | W34: ID | X34: 13.26 | Y34: 13.39 | Z34: 13.44 | AA34: 14.38 | AB34: 13.28 | AC34: 13.28 | AD34: 13.18 | AE34: 13.18 | AF34: 12.92 | AG34: 13.15
B35: 0.75 | C35: 13.52 | D35: 13.31 | E35: 13.39 | F35: 13.47 | G35: 23.66 | H35: 17.97 | I35: 36.94 | J35: 13.89 | K35: 13.36 | L35: 13.39 | M35: 13.41 | N35: 13.2 | O35: 13.26 | P35: 13.52 | Q35: 36.89 | R35: 13.15 | S35: EE | T35: 12.94 | U35: ID | V35: 12.68 | W35: EE | X35: 13.31 | Y35: 13.36 | Z35: 13.34 | AA35: 14.07 | AB35: 13.28 | AC35: 13.18 | AD35: 13.15 | AE35: 13.15 | AF35: 12.94 | AG35: 13.2
B36: 0.79166667 | C36: 13.31 | D36: 30.29 | E36: 13.26 | F36: 13.41 | G36: 18.37 | H36: ID | I36: 82.48 | J36: 29.58 | K36: 13.05 | L36: 66.78 | M36: 13.36 | N36: 13.18 | O36: 34.85 | P36: 104.96 | Q36: 13.78 | R36: 31.83 | S36: 13.91 | T36: 12.89 | U36: 12.55 | V36: 12.52 | W36: 13.02 | X36: 13.41 | Y36: 13.26 | Z36: 13.26 | AA36: 13.62 | AB36: 13.13 | AC36: 13.1 | AD36: 13.05 | AE36: 13.2 | AF36: 12.89 | AG36: 13.31
B37: 0.83333333 | C37: 13.18 | D37: 22.87 | E37: 29.89 | F37: 54.42 | G37: 14.67 | H37: ID | I37: 152.51 | J37: 111.3 | K37: 13.26 | L37: 63.3 | M37: 13.31 | N37: 12.84 | O37: 92.12 | P37: 39.56 | Q37: 13.96 | R37: 35.5 | S37: 13.57 | T37: 12.81 | U37: 12.45 | V37: 12.65 | W37: 13.28 | X37: 13.23 | Y37: 13.2 | Z37: 13.2 | AA37: 13.62 | AB37: 13.02 | AC37: 13.13 | AD37: 13.23 | AE37: 12.86 | AF37: 12.94 | AG37: 13.34
B38: 0.875 | C38: 33.8 | D38: 20.49 | E38: 25.73 | F38: 62.98 | G38: 22.27 | H38: ID | I38: 79.78 | J38: 25.81 | K38: 60.76 | L38: 123.74 | M38: 13.15 | N38: 12.81 | O38: 17.32 | P38: 54.6 | Q38: 14.2 | R38: 20.49 | S38: 15.64 | T38: 12.81 | U38: 12.39 | V38: 12.45 | W38: 13.31 | X38: 13.07 | Y38: 13.23 | Z38: 13.13 | AA38: 13.62 | AB38: 12.97 | AC38: 13.91 | AD38: 13.23 | AE38: 12.97 | AF38: 13.1 | AG38: 13.07
B39: 0.91666667 | C39: 28.43 | D39: 100.69 | E39: 43.57 | F39: 77.29 | G39: 25.15 | H39: ID | I39: 19.6 | J39: 20.44 | K39: 24.18 | L39: 137.6 | M39: 23.48 | N39: 12.86 | O39: 15.9 | P39: 101.97 | Q39: 24.68 | R39: 54.08 | S39: 18.94 | T39: 12.79 | U39: 15.8 | V39: 33.54 | W39: 13.07 | X39: 13.07 | Y39: 13.15 | Z39: 68.33 | AA39: 13.57 | AB39: 12.97 | AC39: 153.17 | AD39: 14.33 | AE39: 12.97 | AF39: 17.76 | AG39: 64.71
B40: 0.95833333 | C40: 15.27 | D40: 74.67 | E40: 82.84 | F40: 99.87 | G40: 46.11 | H40: 23.61 | I40: 21.98 | J40: 32.2 | K40: 30.05 | L40: 81.46 | M40: 20.17 | N40: 91.07 | O40: 22.03 | P40: 74.25 | Q40: 134.25 | R40: 40.53 | S40: 17.55 | T40: 13 | U40: 20.91 | V40: 192.52 | W40: 14.59 | X40: 85.05 | Y40: 40.53 | Z40: 273.37 | AA40: 13.6 | AB40: 73.6 | AC40: 61.2 | AD40: 47.11 | AE40: 12.84 | AF40: 19.62 | AG40: 65.63
B41: Promedio de SO₂ en 24 h | C41: 25.6 | D41: 28.2 | E41: 38.8 | F41: 41.4 | G41: 43.2 | H41: 34.5 | I41: 31.2 | J41: 26.6 | K41: 21.6 | L41: 39 | M41: 22.2 | N41: 20.2 | O41: 25.7 | P41: 50.8 | Q41: 33.5 | R41: 33.4 | S41: 18 | T41: 14.6 | U41: 14 | V41: 28.4 | W41: 48.7 | X41: 31.3 | Y41: 28.3 | Z41: 37.9 | AA41: 37.2 | AB41: 25.3 | AC41: 32.2 | AD41: 17.2 | AE41: 31.9 | AF41: 13.4 | AG41: 29.1
B42: ECA aire de SO₂ | C42: 250 µg/m³ en periodo de 24 horas
B43: ID: Insuficiencia de datos
B44: VF: Verificación de equipo
B45: IE: Interrupsión eléctrica
B46: EE: Evaluación del especialista
B47: MA: Mantenimiento preventivo o correctivo del equipo
B48: ND: No disponible

Sheet SO2_m3h_CA-ILO-02
F2: Tabla 3.14. Concentraciones horarias de SO₂
B6: TÍTULO DEL ESTUDIO: | F6: ='PM10_CA-ILO-02'!F6 -> Evaluación de seguimiento de la calidad del aire en la Municipalidad de PacochaI, distrito Pacocha, provincia Ilo, departamento Moquegua, en marzo 2022
B8: ESTACIÓN DE MONITOREO: | F8: CA-ILO-02 | Q8: CÓDIGO DE ACCIÓN:
B10: DATOS DEL EQUIPO
B12: EQUIPO: | F12: Analizador de dióxido de azufre | Q12: MARCA: | V12: THERMO SCIENTIFIC
B14: MODELO: | F14: 43i | Q14: SERIE: | V14: 1192914947
B16: Hora\Día | C16: 1 | D16: 2 | E16: 3 | F16: 4 | G16: 5 | H16: 6 | I16: 7 | J16: 8 | K16: 9 | L16: 10 | M16: 11 | N16: 12 | O16: 13 | P16: 14 | Q16: 15 | R16: 16 | S16: 17 | T16: 18 | U16: 19 | V16: 20 | W16: 21 | X16: 22 | Y16: 23 | Z16: 24 | AA16: 25 | AB16: 26 | AC16: 27 | AD16: 28 | AE16: 29 | AF16: 30 | AG16: 31
B17: 0 | C17: 43.14 | D17: 24.69 | E17: 64.62 | F17: 57.37 | G17: 70.99 | H17: 47.97 | I17: ID | J17: 20.79 | K17: 22.84 | L17: 28.98 | M17: 91.54 | N17: 20.04 | O17: 43.75 | P17: 19.68 | Q17: 79.06 | R17: 78.25 | S17: 42.51 | T17: 17.72 | U17: 12.88 | V17: 19.64 | W17: 115.81 | X17: 16.1 | Y17: 73.7 | Z17: 39.33 | AA17: 189.86 | AB17: 14.42 | AC17: 58.08 | AD17: 82.84 | AE17: 34.03 | AF17: 12.83 | AG17: 17.24
B18: 0.041666667 | C18: 39.42 | D18: 25.59 | E18: 39.91 | F18: 51.73 | G18: 73.48 | H18: 59.46 | I18: 27.266667 | J18: 20.15 | K18: 21.9 | L18: 30.9 | M18: 56.5 | N18: 17.3 | O18: 45.35 | P18: 20.41 | Q18: 60.26 | R18: 92.67 | S18: 32.69 | T18: 16.43 | U18: 12.82 | V18: 35.33 | W18: 134.41 | X18: 21.89 | Y18: 95.22 | Z18: 45 | AA18: 209.65 | AB18: 34.22 | AC18: 63.73 | AD18: 40.46 | AE18: 40.33 | AF18: 12.76 | AG18: 18.69
B19: 0.083333333 | C19: 43.2 | D19: 28.45 | E19: 29.87 | F19: 35.33 | G19: 80.86 | H19: 59.5 | I19: 25.75 | J19: 29.89 | K19: 19.61 | L19: 32.41 | M19: 40.99 | N19: 18.1 | O19: 28.96 | P19: 18.23 | Q19: 47.36 | R19: 75.33 | S19: 29.28 | T19: 15.12 | U19: 12.73 | V19: 39.61 | W19: 104.04 | X19: 32.51 | Y19: 76.01 | Z19: 51.02 | AA19: 148.09 | AB19: 45.07 | AC19: 48.05 | AD19: 25.87 | AE19: 33.87 | AF19: 12.79 | AG19: 37.56
B20: 0.125 | C20: 38.54 | D20: 34.47 | E20: 44.86 | F20: 27.82 | G20: 101.83 | H20: 51.76 | I20: 26.93 | J20: 32.44 | K20: 22.23 | L20: 28.51 | M20: 38.43 | N20: 24.27 | O20: 33.4 | P20: 19.47 | Q20: 43.07 | R20: 68.64 | S20: 23.86 | T20: 13.95 | U20: 12.7 | V20: 41.45 | W20: 78.74 | X20: 36.03 | Y20: 44.1 | Z20: 42.05 | AA20: 99.4 | AB20: 52.22 | AC20: 26.28 | AD20: 19.77 | AE20: 27.46 | AF20: 12.83 | AG20: 56.01
B21: 0.16666667 | C21: 36.83 | D21: 33.62 | E21: 57.93 | F21: 47.74 | G21: 98.23 | H21: 44.4 | I21: 18.25 | J21: 33.95 | K21: 31.03 | L21: 24.53 | M21: 36.29 | N21: 24.78 | O21: 41.54 | P21: 41.61 | Q21: 42.47 | R21: 59.6 | S21: 20.61 | T21: 13.42 | U21: 14.35 | V21: 30.45 | W21: 85.53 | X21: 46.01 | Y21: 25.82 | Z21: 41.14 | AA21: 67.18 | AB21: 49.65 | AC21: 30.26 | AD21: 17.11 | AE21: 21.24 | AF21: 12.79 | AG21: 65.03
B22: 0.20833333 | C22: 29.04 | D22: 31.77 | E22: 50.19 | F22: 86.82 | G22: 83.7 | H22: 40.63 | I22: 18.68 | J22: 29.68 | K22: 30.44 | L22: 19.73 | M22: 31.06 | N22: 26.27 | O22: 39.68 | P22: 81.68 | Q22: 42.43 | R22: 44.98 | S22: 15.39 | T22: 13.82 | U22: 15.47 | V22: 28.17 | W22: 92.56 | X22: 61.52 | Y22: 23.05 | Z22: 27.41 | AA22: 43.4 | AB22: ID | AC22: 36.66 | AD22: 16.57 | AE22: 35.74 | AF22: 12.7 | AG22: 54.6
B23: 0.25 | C23: 38.35 | D23: 23.51 | E23: 40.58 | F23: 97.41 | G23: 78.58 | H23: 53.53 | I23: 20.16 | J23: 30.93 | K23: 27.96 | L23: 20.01 | M23: 21.75 | N23: 20.83 | O23: 36.69 | P23: 125.82 | Q23: 36.31 | R23: 41.93 | S23: 17.55 | T23: 16.75 | U23: 15.73 | V23: 26.34 | W23: 106.67 | X23: 85.59 | Y23: 22 | Z23: 25.14 | AA23: 22.87 | AB23: ND | AC23: 42.66 | AD23: 16.59 | AE23: 79.86 | AF23: 12.68 | AG23: 41.69
B24: 0.29166667 | C24: 40.31 | D24: 24.25 | E24: 40.78 | F24: 96.31 | G24: 78.01 | H24: 57.33 | I24: 22.87 | J24: 36.81 | K24: 24.93 | L24: 35.13 | M24: 20.05 | N24: 22.08 | O24: 32.11 | P24: 141.68 | Q24: 30.45 | R24: 36.21 | S24: 20.17 | T24: 19.98 | U24: 14.2 | V24: 23.8 | W24: 105.3 | X24: 84.91 | Y24: 23.38 | Z24: 44.31 | AA24: 20.96 | AB24: EE | AC24: 45.43 | AD24: 16.6 | AE24: 121.74 | AF24: 12.75 | AG24: 41.87
B25: 0.33333333 | C25: 43.82 | D25: 32.51 | E25: 52.9 | F25: 54.25 | G25: 67.78 | H25: 64.19 | I25: 24.07 | J25: 33.43 | K25: 24.45 | L25: 52.81 | M25: 21.97 | N25: 18.46 | O25: 27.83 | P25: 120.24 | Q25: 23.58 | R25: 30.09 | S25: 20.77 | T25: 22.3 | U25: 13.68 | V25: 25.67 | W25: 97.28 | X25: 61.42 | Y25: 49.62 | Z25: 49.19 | AA25: 29.8 | AB25: EE | AC25: 42.07 | AD25: 16.25 | AE25: 111.15 | AF25: 12.83 | AG25: 35.46
B26: 0.375 | C26: 35.23 | D26: 33.01 | E26: 92.72 | F26: 44.56 | G26: 60.15 | H26: 48.93 | I26: 23.23 | J26: 28.23 | K26: 27.21 | L26: 53.91 | M26: 23.94 | N26: 18.91 | O26: 24.1 | P26: 81.85 | Q26: 19.28 | R26: 29.62 | S26: 18.67 | T26: ID | U26: 14.06 | V26: 25.53 | W26: 77.18 | X26: 35.27 | Y26: 47.04 | Z26: 46.9 | AA26: 33.18 | AB26: ID | AC26: 34.32 | AD26: 15.54 | AE26: 66.02 | AF26: 12.9 | AG26: 32.24
B27: 0.41666667 | C27: 29.9 | D27: 28.06 | E27: 94.1 | F27: 22.93 | G27: 43.91 | H27: 37.87 | I27: 20.6 | J27: 19.8 | K27: 22.23 | L27: 38.08 | M27: 27.27 | N27: ID | O27: 19.84 | P27: 47.16 | Q27: 20.27 | R27: 26.82 | S27: 15.63 | T27: ID | U27: 14.28 | V27: 22.62 | W27: 46.53 | X27: 20.69 | Y27: 42.71 | Z27: 23.52 | AA27: 30.11 | AB27: ID | AC27: 22.23 | AD27: 14.01 | AE27: 24.08 | AF27: 12.95 | AG27: 21.3
B28: 0.45833333 | C28: 21.79 | D28: 18.46 | E28: 80.68 | F28: 19.75 | G28: 34.11 | H28: 24.15 | I28: 17.42 | J28: 15.03 | K28: 19.5 | L28: 18.24 | M28: 24.18 | N28: ID | O28: 16.8 | P28: 29.4 | Q28: 20.02 | R28: 24.87 | S28: 14.64 | T28: ID | U28: 13.84 | V28: 16.08 | W28: 18.16 | X28: 17.84 | Y28: 14.69 | Z28: 17.45 | AA28: 20.18 | AB28: 15.76 | AC28: 14.91 | AD28: 13.64 | AE28: ID | AF28: 12.98 | AG28: 17.21
B29: 0.5 | C29: 14.9 | D29: 14.69 | E29: 34.01 | F29: 16.07 | G29: 18.73 | H29: 14.69 | I29: 15.41 | J29: 14.02 | K29: 15.85 | L29: 14.46 | M29: 20.22 | N29: ID | O29: 14.66 | P29: 20 | Q29: ID | R29: 14.41 | S29: 13.52 | T29: 13.13 | U29: 13.33 | V29: 13.09 | W29: 13.34 | X29: 14.03 | Y29: 13.78 | Z29: 14.09 | AA29: 14.66 | AB29: 14.09 | AC29: 13.78 | AD29: 13.65 | AE29: ID | AF29: 12.98 | AG29: 14.62
B30: 0.54166667 | C30: 14 | D30: 13.9 | E30: 15.07 | F30: 14.63 | G30: 15.57 | H30: 14.04 | I30: 15.05 | J30: 13.68 | K30: 13.75 | L30: 13.68 | M30: 14.59 | N30: ID | O30: 14.02 | P30: 15.16 | Q30: IE | R30: 13.87 | S30: 13.42 | T30: 13.09 | U30: 13.1 | V30: 12.85 | W30: 13.35 | X30: 13.69 | Y30: 13.73 | Z30: 13.63 | AA30: 13.93 | AB30: 13.66 | AC30: 13.66 | AD30: 13.68 | AE30: ID | AF30: 12.92 | AG30: 13.6
B31: 0.58333333 | C31: 13.93 | D31: 13.69 | E31: 13.86 | F31: 14.21 | G31: 14.16 | H31: 13.91 | I31: 15.21 | J31: 13.54 | K31: 13.59 | L31: 13.65 | M31: 13.92 | N31: 13.57 | O31: 13.76 | P31: 13.57 | Q31: IE | R31: 13.65 | S31: 13.4 | T31: 13.06 | U31: 13.02 | V31: 12.76 | W31: 13.81 | X31: 13.49 | Y31: 13.68 | Z31: 13.56 | AA31: 13.93 | AB31: 13.63 | AC31: 13.67 | AD31: 13.59 | AE31: 13.4 | AF31: 12.96 | AG31: 13.76
B32: 0.625 | C32: 13.77 | D32: 13.54 | E32: 13.68 | F32: 13.76 | G32: 14.02 | H32: 13.79 | I32: 16.02 | J32: 13.5 | K32: 13.56 | L32: 13.5 | M32: 13.87 | N32: 13.4 | O32: 13.58 | P32: 13.42 | Q32: EE | R32: 13.55 | S32: ID | T32: 13.03 | U32: 12.98 | V32: 12.8 | W32: 13.79 | X32: 13.47 | Y32: 13.6 | Z32: 13.47 | AA32: 14.42 | AB32: 13.53 | AC32: 13.56 | AD32: 13.46 | AE32: 13.36 | AF32: 12.96 | AG32: 13.76
B33: 0.66666667 | C33: 13.67 | D33: 13.5 | E33: 13.64 | F33: 13.6 | G33: 13.95 | H33: 13.77 | I33: 15.53 | J33: 13.43 | K33: 13.5 | L33: 13.46 | M33: 13.67 | N33: 13.3 | O33: 13.53 | P33: 13.36 | Q33: ID | R33: 13.39 | S33: IE | T33: 12.95 | U33: ID | V33: 12.82 | W33: 13.68 | X33: 13.42 | Y33: 13.49 | Z33: 13.47 | AA33: 14.67 | AB33: 13.45 | AC33: 13.46 | AD33: 13.35 | AE33: 13.32 | AF33: 12.99 | AG33: 13.61
B34: 0.70833333 | C34: 13.51 | D34: 13.49 | E34: 13.52 | F34: 13.45 | G34: 14.83 | H34: 14.05 | I34: 17 | J34: 13.42 | K34: 13.47 | L34: 13.39 | M34: 13.55 | N34: 13.3 | O34: 13.39 | P34: 13.35 | Q34: ID | R34: 13.27 | S34: EE | T34: 12.88 | U34: MA | V34: 12.81 | W34: ID | X34: 13.4 | Y34: 13.41 | Z34: 13.41 | AA34: 14.77 | AB34: 13.36 | AC34: 13.31 | AD34: 13.28 | AE34: 13.28 | AF34: 12.93 | AG34: 13.34
B35: 0.75 | C35: 13.54 | D35: 13.45 | E35: 13.47 | F35: 13.45 | G35: 18.09 | H35: 15.5 | I35: 23.8 | J35: 13.56 | K35: 13.41 | L35: 13.41 | M35: 13.41 | N35: 13.26 | O35: 13.31 | P35: 13.38 | Q35: 22.78 | R35: 13.16 | S35: EE | T35: 12.86 | U35: ID | V35: 12.71 | W35: ID | X35: 13.34 | Y35: 13.41 | Z35: 13.41 | AA35: 14.37 | AB35: 13.35 | AC35: 13.24 | AD35: 13.2 | AE35: 13.2 | AF35: 12.93 | AG35: 13.24
B36: 0.79166667 | C36: 13.43 | D36: 19.06 | E36: 13.37 | F36: 13.43 | G36: 19.59 | H36: ID | I36: 46.26 | J36: 19 | K36: 13.26 | L36: 31.19 | M36: 13.38 | N36: 13.26 | O36: 20.43 | P36: 43.92 | Q36: 22.95 | R36: 19.39 | S36: ID | T36: 12.88 | U36: ID | V36: 12.62 | W36: ID | X36: 13.33 | Y36: 13.34 | Z36: 13.35 | AA36: 14.02 | AB36: 13.23 | AC36: 13.19 | AD36: 13.13 | AE36: 13.18 | AF36: 12.92 | AG36: 13.22
B37: 0.83333333 | C37: 13.34 | D37: 22.16 | E37: 18.85 | F37: 27.1 | G37: 18.9 | H37: ID | I37: 90.64 | J37: 51.59 | K37: 13.22 | L37: 47.82 | M37: 13.36 | N37: 13.07 | O37: 46.74 | P37: 52.68 | Q37: 21.54 | R37: 26.83 | S37: ID | T37: 12.88 | U37: ID | V37: 12.62 | W37: ID | X37: 13.32 | Y37: 13.27 | Z37: 13.27 | AA37: 13.77 | AB37: 13.14 | AC37: 13.14 | AD37: 13.14 | AE37: 13.07 | AF37: 12.92 | AG37: 13.28
B38: 0.875 | C38: 20.1 | D38: 24.55 | E38: 22.96 | F38: 43.6 | G38: 18.44 | H38: ID | I38: 104.92 | J38: 55.56 | K38: 29.02 | L38: 84.61 | M38: 13.27 | N38: 12.94 | O38: 48.1 | P38: 66.37 | Q38: 13.98 | R38: 29.27 | S38: 14.37 | T38: 12.84 | U38: 12.46 | V38: 12.54 | W38: 13.2 | X38: 13.24 | Y38: 13.23 | Z38: 13.2 | AA38: 13.62 | AB38: 13.04 | AC38: 13.38 | AD38: 13.17 | AE38: 13.01 | AF38: 12.98 | AG38: 13.24
B39: 0.91666667 | C39: 25.14 | D39: 48.02 | E39: 33.06 | F39: 64.9 | G39: 20.7 | H39: ID | I39: 83.96 | J39: 52.52 | K39: 32.73 | L39: 108.21 | M39: 16.65 | N39: 12.84 | O39: 41.78 | P39: 65.38 | Q39: 17.61 | R39: 36.69 | S39: 16.05 | T39: 12.8 | U39: 13.55 | V39: 19.55 | W39: 13.22 | X39: 13.12 | Y39: 13.19 | Z39: 31.55 | AA39: 13.6 | AB39: 12.99 | AC39: 60.07 | AD39: 13.6 | AE39: 12.93 | AF39: 14.6 | AG39: 30.37
B40: 0.95833333 | C40: 25.83 | D40: 65.28 | E40: 50.71 | F40: 80.05 | G40: 31.18 | H40: ID | I40: 40.45 | J40: 26.15 | K40: 38.33 | L40: 114.27 | M40: 18.93 | N40: 38.91 | O40: 18.42 | P40: 76.94 | Q40: 57.71 | R40: 38.37 | S40: 17.38 | T40: 12.87 | U40: 16.37 | V40: 79.5 | W40: 13.66 | X40: 37.06 | Y40: 22.3 | Z40: 118.28 | AA40: 13.6 | AB40: 33.18 | AC40: 76.09 | AD40: 24.89 | AE40: 12.93 | AF40: 16.83 | AG40: 47.8
B41: Estado de cuidado de SO₂ | C41: 500 µg/m³ en periodo de 3 horas móviles
B42: ID: Insuficiencia de datos
B43: IE:Interrupción eléctrica
B44: EE: Evaluación del especialista
B45: MA: Mantenimiento preventivo o correctivo del equipo
B46: ND: No disponible

Sheet H2S_CA-ILO-02
F2: Tabla 3.15. Concentraciones horarias de H₂S
B6: TÍTULO DEL ESTUDIO: | F6: ='PM10_CA-ILO-02'!F6 -> Evaluación de seguimiento de la calidad del aire en la Municipalidad de PacochaI, distrito Pacocha, provincia Ilo, departamento Moquegua, en marzo 2022
B8: ESTACIÓN DE MONITOREO: | F8: CA-ILO-02 | Q8: CÓDIGO DE ACCIÓN:
B10: DATOS DEL EQUIPO
B12: EQUIPO: | F12: Analizador sulfuro de hidrógeno | Q12: MARCA: | V12: THERMO SCIENTIFIC
B14: MODELO: | F14: 450i | Q14: SERIE: | V14: CM19490139
B16: Hora\Día | C16: 1 | D16: 2 | E16: 3 | F16: 4 | G16: 5 | H16: 6 | I16: 7 | J16: 8 | K16: 9 | L16: 10 | M16: 11 | N16: 12 | O16: 13 | P16: 14 | Q16: 15 | R16: 16 | S16: 17 | T16: 18 | U16: 19 | V16: 20 | W16: 21 | X16: 22 | Y16: 23 | Z16: 24 | AA16: 25 | AB16: 26 | AC16: 27 | AD16: 28 | AE16: 29 | AF16: 30 | AG16: 31
B17: 0 | C17: 17.6 | D17: 17.47 | E17: 46.52 | F17: 48.33 | G17: 64.22 | H17: 37.09 | I17: 27.62 | J17: 26.45 | K17: 15.23 | L17: 20.35 | M17: 62.41 | N17: 27.81 | O17: 33.55 | P17: 60.23 | Q17: 37.04 | R17: 47.58 | S17: 27.17 | T17: 20.02 | U17: 12.41 | V17: 12.59 | W17: 11.8 | X17: 42.02 | Y17: 10.54 | Z17: 14.76 | AA17: 10.73 | AB17: 11.79 | AC17: 22.8 | AD17: 17.07 | AE17: 11.47 | AF17: 10.13 | AG17: 9.83
B18: 0.041666667 | C18: 34.04 | D18: 11.66 | E18: 24.32 | F18: 48.48 | G18: 166.52 | H18: 39.92 | I18: 58.52 | J18: 26.01 | K18: 41 | L18: 16.64 | M18: 22.88 | N18: 60.91 | O18: 23.55 | P18: 17.82 | Q18: 43.19 | R18: 19.57 | S18: 16.01 | T18: 13.39 | U18: 12.11 | V18: 12.38 | W18: 11.83 | X18: 34.68 | Y18: 11.94 | Z18: 11.23 | AA18: 10.48 | AB18: 14.57 | AC18: 23.23 | AD18: 12.33 | AE18: 10.63 | AF18: 10.62 | AG18: 10.65
B19: 0.083333333 | C19: 29.55 | D19: 36.32 | E19: 19.03 | F19: 98.76 | G19: 35.36 | H19: 38.07 | I19: 31.86 | J19: 35.71 | K19: 14.25 | L19: 16.53 | M19: 12.79 | N19: 44.13 | O19: 18.85 | P19: 12.98 | Q19: 16.99 | R19: 27.05 | S19: 22.77 | T19: 12.58 | U19: 12.09 | V19: 11.97 | W19: 11.05 | X19: 14.46 | Y19: 10.38 | Z19: 12.37 | AA19: 10.44 | AB19: 21.88 | AC19: 13.2 | AD19: 11.43 | AE19: 10.36 | AF19: 10.69 | AG19: 11.02
B20: 0.125 | C20: 60.09 | D20: 56.48 | E20: 14.62 | F20: 75.95 | G20: 182.76 | H20: 37.85 | I20: 20.47 | J20: 58.73 | K20: 116.25 | L20: 11.77 | M20: 15.03 | N20: 30.87 | O20: 36.72 | P20: 15.89 | Q20: 52.49 | R20: 33.4 | S20: 12.36 | T20: 17.97 | U20: 15 | V20: 11.4 | W20: 11.23 | X20: 12.4 | Y20: 10.04 | Z20: 10.42 | AA20: 10.33 | AB20: 16.44 | AC20: 10.19 | AD20: 12.26 | AE20: 10.58 | AF20: 10.59 | AG20: 10.72
B21: 0.16666667 | C21: 131.09 | D21: 74.23 | E21: 22.92 | F21: 24.69 | G21: 121.21 | H21: 125.32 | I21: 15.04 | J21: 51.96 | K21: 14.44 | L21: 63.97 | M21: 28.86 | N21: 31.71 | O21: 12.34 | P21: 19.86 | Q21: 48.55 | R21: 40.42 | S21: 33.58 | T21: 13.72 | U21: 14.09 | V21: 11.88 | W21: 11.2 | X21: 11.87 | Y21: 9.88 | Z21: 10.62 | AA21: 10.37 | AB21: 11.02 | AC21: 9.97 | AD21: 11.31 | AE21: 10.88 | AF21: 10.62 | AG21: 10.29
B22: 0.20833333 | C22: 98.27 | D22: 36.71 | E22: 16.76 | F22: 23.39 | G22: 26.34 | H22: 29.98 | I22: 13.44 | J22: 22.87 | K22: 19.38 | L22: 30.86 | M22: 21.38 | N22: 14.54 | O22: 58.78 | P22: 68.19 | Q22: 38.29 | R22: 31.93 | S22: 12.52 | T22: 12.97 | U22: 11.95 | V22: 11.94 | W22: 11.02 | X22: 11.38 | Y22: 10.01 | Z22: 10.59 | AA22: 10.42 | AB22: ID | AC22: 12.65 | AD22: 10.55 | AE22: 35.78 | AF22: 10.7 | AG22: 10.69
B23: 0.25 | C23: 27.83 | D23: 25.59 | E23: 21.74 | F23: 16.85 | G23: 17.14 | H23: 33.44 | I23: 13.27 | J23: 72.86 | K23: 26.84 | L23: 21.27 | M23: 15.8 | N23: 148.45 | O23: 86.25 | P23: 19.78 | Q23: 11.8 | R23: 32.92 | S23: 14.79 | T23: 13.05 | U23: 11.58 | V23: 11.73 | W23: 10.91 | X23: 10.54 | Y23: 10.19 | Z23: 11.13 | AA23: 48.8 | AB23: ND | AC23: 9.88 | AD23: 10.55 | AE23: 30.14 | AF23: 10.58 | AG23: 11.01
B24: 0.29166667 | C24: 58.98 | D24: 98.94 | E24: 58.63 | F24: 70.96 | G24: 41.6 | H24: 46.86 | I24: 52.68 | J24: 42.27 | K24: 24.02 | L24: 20.7 | M24: 15.01 | N24: 77.71 | O24: 151.3 | P24: 54.49 | Q24: 12.98 | R24: 31.78 | S24: 55.43 | T24: 17.78 | U24: 11.69 | V24: 11.8 | W24: 11.65 | X24: 12.25 | Y24: 23.32 | Z24: 12.62 | AA24: 74.92 | AB24: EE | AC24: 12.93 | AD24: 15.35 | AE24: 89.18 | AF24: 10.45 | AG24: 12.18
B25: 0.33333333 | C25: 20.25 | D25: 21.13 | E25: 61.41 | F25: 15.23 | G25: 64.15 | H25: 20.03 | I25: 36.61 | J25: 17.15 | K25: 30.89 | L25: 25.48 | M25: 27.65 | N25: 16.35 | O25: 32.12 | P25: 42.71 | Q25: 12.94 | R25: 24.53 | S25: 23.64 | T25: 14.48 | U25: 12.07 | V25: 25.42 | W25: 19.67 | X25: 11.34 | Y25: 22.78 | Z25: 14.65 | AA25: 24.95 | AB25: EE | AC25: 12.15 | AD25: 11.44 | AE25: 29.62 | AF25: 10.51 | AG25: 12.44
B26: 0.375 | C26: 13.96 | D26: 37.89 | E26: 55.34 | F26: 14.47 | G26: 39.43 | H26: 13.89 | I26: 21.32 | J26: 12.8 | K26: 25.78 | L26: 28.59 | M26: 12.7 | N26: 14.16 | O26: 14.11 | P26: 46.72 | Q26: 15.71 | R26: 22.17 | S26: 46.94 | T26: ID | U26: 11.73 | V26: 22.11 | W26: 11.9 | X26: 10.84 | Y26: 9.62 | Z26: 11.23 | AA26: 13.12 | AB26: 11.02 | AC26: 11.05 | AD26: 10.87 | AE26: 12.02 | AF26: 10.49 | AG26: 10.79
B27: 0.41666667 | C27: 12.34 | D27: 10.79 | E27: 33.85 | F27: 14.08 | G27: 13.93 | H27: 12.04 | I27: 14.72 | J27: 11.68 | K27: 21.38 | L27: 15.6 | M27: 12.11 | N27: 13.3 | O27: 11.05 | P27: 20.72 | Q27: 24.2 | R27: 10.83 | S27: 11.37 | T27: 12.2 | U27: 11.8 | V27: 11.11 | W27: 11.38 | X27: 11.41 | Y27: 9.84 | Z27: 10.17 | AA27: 11.66 | AB27: 10.13 | AC27: 10.74 | AD27: 10.61 | AE27: 11.12 | AF27: 10.36 | AG27: 10.8
B28: 0.45833333 | C28: 12.07 | D28: 10.36 | E28: 19.06 | F28: 13.58 | G28: 23.38 | H28: 12.12 | I28: 13.18 | J28: 11.2 | K28: 11.81 | L28: 11.51 | M28: 11.81 | N28: 12.18 | O28: 12.23 | P28: 12.41 | Q28: 10.31 | R28: 11.09 | S28: 11.05 | T28: 12.22 | U28: 11.86 | V28: 11.72 | W28: 10.91 | X28: 10.65 | Y28: 9.22 | Z28: 9.6 | AA28: 9.79 | AB28: 9.77 | AC28: 10.88 | AD28: 10.34 | AE28: ID | AF28: 10.56 | AG28: 10.51
B29: 0.5 | C29: 11.52 | D29: 10.66 | E29: 14.05 | F29: 13.33 | G29: 12.58 | H29: 12.15 | I29: 12.75 | J29: 11.26 | K29: 11.23 | L29: 11.59 | M29: 11.31 | N29: VF | O29: 11.25 | P29: 12.57 | Q29: ID | R29: 9.15 | S29: 11.38 | T29: 12.55 | U29: 11.95 | V29: 11.44 | W29: 11.01 | X29: 10.48 | Y29: 10.01 | Z29: 9.94 | AA29: 10.31 | AB29: 10.13 | AC29: 10.83 | AD29: 9.7 | AE29: ID | AF29: 10.59 | AG29: 10.49
B30: 0.54166667 | C30: 12.38 | D30: 9.97 | E30: 13.91 | F30: 13.2 | G30: 12.48 | H30: 12.07 | I30: 12.69 | J30: 11.65 | K30: 11.04 | L30: 11.09 | M30: 11.63 | N30: 11.23 | O30: 11.51 | P30: 11.33 | Q30: IE | R30: 9.8 | S30: 11.55 | T30: 11.94 | U30: 11.97 | V30: 11.22 | W30: 10.79 | X30: 9.92 | Y30: 9.87 | Z30: 10.06 | AA30: 11.34 | AB30: 9.94 | AC30: 10.45 | AD30: 9.95 | AE30: 11.38 | AF30: 10.65 | AG30: 10.45
B31: 0.58333333 | C31: 12.84 | D31: 10.12 | E31: 13.8 | F31: 13.14 | G31: 12.32 | H31: 12.38 | I31: 12.91 | J31: 11.84 | K31: 11.22 | L31: 11.62 | M31: 12.11 | N31: 11.62 | O31: 11.73 | P31: 11.02 | Q31: IE | R31: 11.23 | S31: 11.02 | T31: 11.56 | U31: 12.01 | V31: 10.88 | W31: 11.33 | X31: 10.33 | Y31: 9.74 | Z31: 9.99 | AA31: 10.66 | AB31: 10.09 | AC31: 10.15 | AD31: 9.81 | AE31: 10.08 | AF31: 10.26 | AG31: 10.47
B32: 0.625 | C32: 12.51 | D32: 11.31 | E32: 13.76 | F32: 12.69 | G32: 12.25 | H32: 11.84 | I32: 12.23 | J32: 11.77 | K32: 11.11 | L32: 11.68 | M32: 11.95 | N32: 12.15 | O32: 11.3 | P32: 11.38 | Q32: EE | R32: 11.84 | S32: ID | T32: 12.08 | U32: 11.73 | V32: 10.49 | W32: 8.27 | X32: 9.86 | Y32: 10.19 | Z32: 10.31 | AA32: 11.25 | AB32: 9.73 | AC32: 10.31 | AD32: 10.16 | AE32: 11.09 | AF32: 10.37 | AG32: 9.8
B33: 0.66666667 | C33: 12.79 | D33: 10.76 | E33: 13.62 | F33: 12.72 | G33: 12.9 | H33: 11.76 | I33: 12.33 | J33: 11.62 | K33: 11.44 | L33: 11.91 | M33: 11.86 | N33: 11.3 | O33: 11.59 | P33: 12.01 | Q33: 11.58 | R33: 12.05 | S33: IE | T33: 12.33 | U33: 11.51 | V33: 11.09 | W33: 8.56 | X33: 10.06 | Y33: 10.41 | Z33: 10.58 | AA33: 10.55 | AB33: 9.58 | AC33: 10.55 | AD33: 10.12 | AE33: 10.65 | AF33: 10.34 | AG33: 9.7
B34: 0.70833333 | C34: 13.08 | D34: 11.7 | E34: 13.76 | F34: 12.75 | G34: 13.3 | H34: 11.95 | I34: 12.75 | J34: 11.98 | K34: 11.87 | L34: 11.7 | M34: 11.84 | N34: 11.61 | O34: 11.97 | P34: 11.88 | Q34: 16.87 | R34: 11.98 | S34: EE | T34: 12.44 | U34: 11.76 | V34: 11.12 | W34: ID | X34: 10.29 | Y34: 10.47 | Z34: 10.69 | AA34: 10.08 | AB34: 9.91 | AC34: 9.95 | AD34: 10.23 | AE34: 10.69 | AF34: 10.33 | AG34: 10.26
B35: 0.75 | C35: 12.05 | D35: 13.34 | E35: 13.36 | F35: 13.05 | G35: 12.59 | H35: 11.84 | I35: 21.48 | J35: 12.43 | K35: 11.61 | L35: 11.26 | M35: 11.72 | N35: 12.25 | O35: 11.58 | P35: 11.95 | Q35: 33.76 | R35: 11.65 | S35: EE | T35: 12 | U35: 11.44 | V35: 11.38 | W35: EE | X35: 10.62 | Y35: 10.4 | Z35: 10.48 | AA35: 9.56 | AB35: 9.34 | AC35: 10.37 | AD35: 10.36 | AE35: 10.48 | AF35: 10.09 | AG35: 10.44
B36: 0.79166667 | C36: 9.42 | D36: 38.6 | E36: 13.33 | F36: 12.52 | G36: 12.47 | H36: ID | I36: 39.21 | J36: 32.61 | K36: 11.94 | L36: 28.73 | M36: 11.72 | N36: 11.41 | O36: 27.72 | P36: 12.26 | Q36: 30.29 | R36: 26.51 | S36: 42.33 | T36: 12 | U36: 10.66 | V36: 11.25 | W36: 9.38 | X36: 10.31 | Y36: 10.4 | Z36: 10.52 | AA36: 9.91 | AB36: 10.15 | AC36: 9.9 | AD36: 10.77 | AE36: 10.61 | AF36: 10.62 | AG36: 10.41
B37: 0.83333333 | C37: 9.88 | D37: 123.82 | E37: 71.53 | F37: 34.07 | G37: 12.54 | H37: ID | I37: 45.12 | J37: 25.15 | K37: 12.4 | L37: 60.42 | M37: 11.09 | N37: 11.94 | O37: 31.5 | P37: 48.09 | Q37: 20.11 | R37: 22.81 | S37: 48.23 | T37: 12 | U37: 11.01 | V37: 11.48 | W37: 9.66 | X37: 10.48 | Y37: 10.19 | Z37: 10.09 | AA37: 9.48 | AB37: 9.77 | AC37: 10.34 | AD37: 10.72 | AE37: 10.58 | AF37: 10.24 | AG37: 10.68
B38: 0.875 | C38: 14.86 | D38: 54.02 | E38: 56.49 | F38: 14.41 | G38: 32.4 | H38: ID | I38: 25.58 | J38: 17.1 | K38: 14.15 | L38: 88.2 | M38: 11.65 | N38: 11.69 | O38: 36.74 | P38: 12.66 | Q38: 20.59 | R38: 24.74 | S38: 22.98 | T38: 12.23 | U38: 10.9 | V38: 11.27 | W38: 9.9 | X38: 10.63 | Y38: 10.31 | Z38: 9.87 | AA38: 9.59 | AB38: 9.84 | AC38: 12.11 | AD38: 10.45 | AE38: 10.56 | AF38: 12.66 | AG38: 10.86
B39: 0.91666667 | C39: 22.11 | D39: 66.87 | E39: 52.58 | F39: 47.33 | G39: 20.15 | H39: ID | I39: 35.29 | J39: 27.29 | K39: 53.85 | L39: 109.75 | M39: 31.97 | N39: 11.47 | O39: 21.2 | P39: 23.5 | Q39: 19.88 | R39: 20.36 | S39: 12.9 | T39: 12.5 | U39: 31.41 | V39: 11.15 | W39: 9.62 | X39: 9.77 | Y39: 9.65 | Z39: 12.29 | AA39: 9.51 | AB39: 10.19 | AC39: 31.82 | AD39: 12.94 | AE39: 11.01 | AF39: 10.86 | AG39: 25.88
B40: 0.95833333 | C40: 44.67 | D40: 44.56 | E40: 71.99 | F40: 24.31 | G40: 15 | H40: 42.34 | I40: 41.7 | J40: 26.38 | K40: 27.62 | L40: 37.77 | M40: 65.23 | N40: 12.27 | O40: 18.36 | P40: 38.48 | Q40: 26.03 | R40: 30.05 | S40: 13.58 | T40: 12.58 | U40: 32.55 | V40: 12.19 | W40: 13.23 | X40: 10.55 | Y40: 11.91 | Z40: 20.96 | AA40: 9.22 | AB40: 12.45 | AC40: 18.45 | AD40: 11.87 | AE40: 10.38 | AF40: 10.36 | AG40: 12.59
B41: Promedio de H₂S en 24 h | C41: 29.3 | D41: 35.1 | E41: 31.5 | F41: 28.7 | G41: 40.7 | H41: 28.6 | I41: 25.1 | J41: 25 | K41: 23.4 | L41: 28.7 | M41: 19.7 | N41: 27 | O41: 29.5 | P41: 25.4 | Q41: 25.2 | R41: 22.3 | S41: 23.1 | T41: 13.3 | U41: 13.6 | V41: 12.5 | W41: 11.2 | X41: 13.2 | Y41: 11.3 | Z41: 11.5 | AA41: 15.3 | AB41: 11.4 | AC41: 13.1 | AD41: 11.3 | AE41: 17.2 | AF41: 10.6 | AG41: 11.4
B42: ECA aire de H₂S | C42: 150 µg/m³ en periodo de 24 horas
B44: ID: Insuficiencia de datos
B45: VF: Verificación de equipo
B46: IE:Interrupción eléctrica
B47: EE: Evaluación del especialista
B48: ND: No disponible

Sheet NO2_CA-ILO-02
F2: Tabla 3.16. Concentraciones horarias de NO₂
B6: TÍTULO DEL ESTUDIO: | F6: ='PM10_CA-ILO-02'!F6 -> Evaluación de seguimiento de la calidad del aire en la Municipalidad de PacochaI, distrito Pacocha, provincia Ilo, departamento Moquegua, en marzo 2022
B8: ESTACIÓN DE MONITOREO: | F8: CA-ILO-02 | Q8: CÓDIGO DE ACCIÓN:
B10: DATOS DEL EQUIPO
B12: EQUIPO: | F12: Analizador dióxido de nitrógeno | Q12: MARCA: | V12: THERMO SCIENTIFIC
B14: MODELO: | F14: 42i | Q14: SERIE: | V14: 1192914960
B16: Hora\Día | C16: 1 | D16: 2 | E16: 3 | F16: 4 | G16: 5 | H16: 6 | I16: 7 | J16: 8 | K16: 9 | L16: 10 | M16: 11 | N16: 12 | O16: 13 | P16: 14 | Q16: 15 | R16: 16 | S16: 17 | T16: 18 | U16: 19 | V16: 20 | W16: 21 | X16: 22 | Y16: 23 | Z16: 24 | AA16: 25 | AB16: 26 | AC16: 27 | AD16: 28 | AE16: 29 | AF16: 30 | AG16: 31
B17: 0 | C17: 6.81 | D17: 12.45 | E17: 8.35 | F17: 16.02 | G17: 13.5 | H17: 17.3 | I17: 8.16 | J17: 11.88 | K17: 7.76 | L17: 5.66 | M17: 19.23 | N17: 10.26 | O17: 10.4 | P17: 10.19 | Q17: 12.3 | R17: 12.13 | S17: 11.36 | T17: 15.68 | U17: 3.33 | V17: 6.62 | W17: 10.92 | X17: 18.72 | Y17: 10.08 | Z17: 14.12 | AA17: 16.07 | AB17: 5.15 | AC17: 18.24 | AD17: 11.77 | AE17: 7.76 | AF17: 2.82 | AG17: 3.57
B18: 0.041666667 | C18: 16.98 | D18: 10.36 | E18: 11.36 | F18: 8.52 | G18: 16.71 | H18: 14.95 | I18: 8.33 | J18: 15.1 | K18: 7.43 | L18: 8.8 | M18: 8.42 | N18: 6.49 | O18: 4.94 | P18: 10.13 | Q18: 9.59 | R18: 10.55 | S18: 9.23 | T18: 8.08 | U18: 2.43 | V18: 7.93 | W18: 12.77 | X18: 13.2 | Y18: 10.68 | Z18: 5.64 | AA18: 10.21 | AB18: 19.57 | AC18: 12.2 | AD18: 4.96 | AE18: 5.23 | AF18: 2.39 | AG18: 4.51
B19: 0.083333333 | C19: 12.13 | D19: 9.63 | E19: 10.3 | F19: 12.88 | G19: 17.35 | H19: 13.24 | I19: 6.71 | J19: 13.54 | K19: 6.66 | L19: 8.82 | M19: 7.05 | N19: 7.91 | O19: 10.4 | P19: 3.1 | Q19: 9.19 | R19: 11.15 | S19: 14.14 | T19: 4.61 | U19: 2.35 | V19: 4.34 | W19: 10.36 | X19: 11.09 | Y19: 3.72 | Z19: 12.31 | AA19: 6.73 | AB19: 18.2 | AC19: 7.91 | AD19: 7.13 | AE19: 3.63 | AF19: 2.29 | AG19: 12.01
B20: 0.125 | C20: 13.87 | D20: 14.59 | E20: 11.62 | F20: 12.26 | G20: 17.13 | H20: 11.62 | I20: 6.64 | J20: 11.49 | K20: 5.43 | L20: 4.1 | M20: 9.66 | N20: 7.18 | O20: 10.13 | P20: 6.13 | Q20: 13.54 | R20: 10.02 | S20: 4.23 | T20: 3.08 | U20: 2.63 | V20: 4.38 | W20: 3.97 | X20: 10.23 | Y20: 4.27 | Z20: 7.52 | AA20: 5.87 | AB20: 14.19 | AC20: 4.57 | AD20: 7.43 | AE20: 3.29 | AF20: 2.35 | AG20: 9.55
B21: 0.16666667 | C21: 13.1 | D21: 14.81 | E21: 13.37 | F21: 13.86 | G21: 14.44 | H21: 14.46 | I21: 9.12 | J21: 6.32 | K21: 9.4 | L21: 5.87 | M21: 5.85 | N21: 4.76 | O21: 8.01 | P21: 9.34 | Q21: 14.01 | R21: 12.86 | S21: 4.12 | T21: 3.63 | U21: 4.59 | V21: 4.17 | W21: 6.73 | X21: 14.46 | Y21: 3.29 | Z21: 4.32 | AA21: 3.14 | AB21: 8.59 | AC21: 4.94 | AD21: 4.94 | AE21: 2.73 | AF21: 2.5 | AG21: 4.87
B22: 0.20833333 | C22: 8.85 | D22: 15.25 | E22: 7.76 | F22: 21.54 | G22: 12.84 | H22: 11.77 | I22: 15.6 | J22: 10.51 | K22: 8.44 | L22: 6.43 | M22: 7.99 | N22: 8.89 | O22: 9.4 | P22: 10.42 | Q22: 12.93 | R22: 13.67 | S22: 6.47 | T22: 4.62 | U22: 6.17 | V22: 8.1 | W22: 9.68 | X22: 18.63 | Y22: 2.95 | Z22: 4.19 | AA22: 3.87 | AB22: ID | AC22: 7.86 | AD22: 3.91 | AE22: 16.68 | AF22: 4.04 | AG22: 4.59
B23: 0.25 | C23: 12.65 | D23: 21.54 | E23: 17.95 | F23: 13.5 | G23: 11.15 | H23: 14.21 | I23: 12.58 | J23: 18.99 | K23: 14.19 | L23: 9.81 | M23: 12.3 | N23: 13.24 | O23: 7.75 | P23: 13.78 | Q23: 9.59 | R23: 11.71 | S23: 8.8 | T23: 7.67 | U23: 11.04 | V23: 6.67 | W23: 13.42 | X23: 11.79 | Y23: 7.73 | Z23: 8.38 | AA23: 9.95 | AB23: ND | AC23: 9.46 | AD23: 13.82 | AE23: 19.35 | AF23: 6 | AG23: 5.64
B24: 0.29166667 | C24: 10.34 | D24: 15.85 | E24: 15.23 | F24: 14.02 | G24: 11.69 | H24: 7.2 | I24: 12.8 | J24: 21.81 | K24: 10.75 | L24: 11.24 | M24: 8.61 | N24: 12.86 | O24: 8.59 | P24: 12.07 | Q24: 8.95 | R24: 12.73 | S24: 11.36 | T24: 14.93 | U24: 6.97 | V24: 4.31 | W24: 19.19 | X24: 16.07 | Y24: 14.66 | Z24: 16.32 | AA24: 12.35 | AB24: EE | AC24: 7.9 | AD24: 14.1 | AE24: 19.04 | AF24: 8.42 | AG24: 15.72
B25: 0.33333333 | C25: 8.29 | D25: 10.11 | E25: 12.3 | F25: 9.72 | G25: 9.49 | H25: 6.82 | I25: 11.39 | J25: 9.04 | K25: 5.4 | L25: 10.55 | M25: 7.33 | N25: 4.66 | O25: 4.42 | P25: 6.28 | Q25: 6.3 | R25: 6.99 | S25: 8.67 | T25: 8.35 | U25: 5.68 | V25: 6.92 | W25: 10.68 | X25: 14.33 | Y25: 11.98 | Z25: 10.85 | AA25: 12.67 | AB25: EE | AC25: 7.6 | AD25: 9.68 | AE25: 14.27 | AF25: 6.17 | AG25: 8.38
B26: 0.375 | C26: 6.03 | D26: 6.58 | E26: 11.56 | F26: 7.73 | G26: 6.37 | H26: 6.02 | I26: 6.77 | J26: 5.49 | K26: 4.7 | L26: 6.97 | M26: 8.1 | N26: 4.15 | O26: 4.19 | P26: 6.45 | Q26: 5.3 | R26: 6.41 | S26: 6.92 | T26: ID | U26: 5.06 | V26: 5.21 | W26: 6.73 | X26: 8.59 | Y26: 4.96 | Z26: 6.17 | AA26: 8.12 | AB26: 8.55 | AC26: 4.32 | AD26: 5.36 | AE26: 8.76 | AF26: 5.56 | AG26: 5.49
B27: 0.41666667 | C27: 7.05 | D27: 5.28 | E27: 7.33 | F27: 7.14 | G27: 4.49 | H27: 3.5 | I27: 6.71 | J27: 4.49 | K27: 6.28 | L27: 4.57 | M27: 6.34 | N27: 5.15 | O27: 4 | P27: 4.32 | Q27: 5.72 | R27: 4.55 | S27: 4.21 | T27: 4.81 | U27: 6.24 | V27: 3.48 | W27: 4.68 | X27: 5.92 | Y27: 4.68 | Z27: 5.13 | AA27: 6.75 | AB27: 5.7 | AC27: 4.08 | AD27: 7.5 | AE27: 7.24 | AF27: 4.64 | AG27: 7.24
B28: 0.45833333 | C28: 4.85 | D28: 5.13 | E28: 4.87 | F28: 4.94 | G28: 4.89 | H28: 3.06 | I28: 4.42 | J28: 4.23 | K28: 4.04 | L28: 3.67 | M28: 6 | N28: 4.27 | O28: 3.27 | P28: 4.49 | Q28: 3.68 | R28: 4.12 | S28: 4.25 | T28: 4.23 | U28: 6.73 | V28: 3.29 | W28: 4.68 | X28: 5.38 | Y28: 4.42 | Z28: 4.98 | AA28: 4.94 | AB28: 5.38 | AC28: 3.42 | AD28: 7.13 | AE28: 6.88 | AF28: 4.59 | AG28: 4.46
B29: 0.5 | C29: 4.42 | D29: 4.66 | E29: 4.46 | F29: 5.06 | G29: 3.72 | H29: 2.97 | I29: 4.06 | J29: 4.32 | K29: 3.53 | L29: 3.7 | M29: 4.25 | N29: 4.19 | O29: 3.93 | P29: 3.33 | Q29: ID | R29: 4.31 | S29: 4.06 | T29: 3.8 | U29: 4.29 | V29: 3.18 | W29: 4.36 | X29: 4.38 | Y29: 4.91 | Z29: 4.53 | AA29: 4.96 | AB29: 5.15 | AC29: 3.46 | AD29: 4.51 | AE29: 4.17 | AF29: 4.62 | AG29: 4
B30: 0.54166667 | C30: 4.29 | D30: 4.12 | E30: 3.7 | F30: 4.29 | G30: 3.63 | H30: 2.84 | I30: 4.7 | J30: 4.44 | K30: 3.52 | L30: 3.55 | M30: 4.59 | N30: 3.89 | O30: 3.01 | P30: 3.46 | Q30: IE | R30: 3.63 | S30: 3.74 | T30: 3.76 | U30: 4.08 | V30: 2.76 | W30: 4.72 | X30: 4.31 | Y30: 4.93 | Z30: 4.59 | AA30: 5.49 | AB30: 6.17 | AC30: 3.23 | AD30: 4.29 | AE30: VF | AF30: 5.21 | AG30: 4.66
B31: 0.58333333 | C31: 4.57 | D31: 4.23 | E31: 4.4 | F31: 4.59 | G31: 3.55 | H31: 3.16 | I31: 4.4 | J31: 4.53 | K31: 3.53 | L31: 3.76 | M31: 5.68 | N31: ID | O31: 3.65 | P31: 3.97 | Q31: IE | R31: 4 | S31: 3.78 | T31: 3.95 | U31: 4.08 | V31: 3.44 | W31: 5.55 | X31: 4.68 | Y31: 4.87 | Z31: 5.55 | AA31: 5.41 | AB31: 4.68 | AC31: 3.7 | AD31: 5.34 | AE31: 4.49 | AF31: 6.96 | AG31: 4.89
B32: 0.625 | C32: 4.72 | D32: 5.51 | E32: 5.15 | F32: 4.08 | G32: 3.78 | H32: 2.88 | I32: 4.7 | J32: 4.93 | K32: 3.7 | L32: 3.78 | M32: 4.47 | N32: 3.72 | O32: 3.37 | P32: 3.78 | Q32: EE | R32: 3.5 | S32: ID | T32: 4.38 | U32: 4.04 | V32: 2.76 | W32: 4.51 | X32: 4.17 | Y32: 4.49 | Z32: 4.94 | AA32: 5.45 | AB32: 4.15 | AC32: 3.5 | AD32: 5.32 | AE32: 4.55 | AF32: 5.41 | AG32: 4.46
B33: 0.66666667 | C33: 4.85 | D33: 5.26 | E33: 4.81 | F33: 3.95 | G33: 3.53 | H33: 2.58 | I33: 5.04 | J33: 4.91 | K33: 3.67 | L33: 3.59 | M33: 4.25 | N33: 3.31 | O33: 3.21 | P33: 3.91 | Q33: 4.04 | R33: 3.95 | S33: IE | T33: 3.7 | U33: 4.14 | V33: 2.61 | W33: 4.85 | X33: 4.57 | Y33: 4.66 | Z33: 4.76 | AA33: 6.07 | AB33: 4.34 | AC33: 3.23 | AD33: 5.64 | AE33: 4.42 | AF33: 5.32 | AG33: 4.55
B34: 0.70833333 | C34: 5.9 | D34: 5.41 | E34: 5.45 | F34: 6.11 | G34: 5.26 | H34: 3.27 | I34: 7.97 | J34: 5.3 | K34: 4.36 | L34: 4.06 | M34: 4.31 | N34: 3.84 | O34: 3.95 | P34: 4.96 | Q34: 5.3 | R34: 4.76 | S34: EE | T34: 4.21 | U34: 3.7 | V34: 3.33 | W34: ID | X34: 5.34 | Y34: 5.7 | Z34: 5.58 | AA34: 6.71 | AB34: 4.72 | AC34: 3.84 | AD34: 6.28 | AE34: 5.72 | AF34: 6.22 | AG34: 5.51
B35: 0.75 | C35: 6.67 | D35: 11.19 | E35: 6.62 | F35: 6.97 | G35: 8.85 | H35: 5.28 | I35: 11.41 | J35: 6.37 | K35: 4.62 | L35: 6.05 | M35: 6.41 | N35: 4.62 | O35: 4.68 | P35: 6.75 | Q35: 7.35 | R35: 6.03 | S35: EE | T35: 5.26 | U35: 5.3 | V35: 4.59 | W35: EE | X35: 7.5 | Y35: 7.05 | Z35: 7.97 | AA35: 9.81 | AB35: 6.24 | AC35: 4.62 | AD35: 7.56 | AE35: 6.62 | AF35: 8.37 | AG35: 6.96
B36: 0.79166667 | C36: 7.09 | D36: 15.79 | E36: 6.32 | F36: 7.52 | G36: 6.94 | H36: ID | I36: 12.09 | J36: 13.1 | K36: 3.35 | L36: 10.57 | M36: 6.62 | N36: 5.62 | O36: 8.2 | P36: 16.75 | Q36: 7.26 | R36: 11.22 | S36: 5.34 | T36: 5.25 | U36: 6.52 | V36: 5.62 | W36: 7.05 | X36: 6.24 | Y36: 4.81 | Z36: 4.98 | AA36: 8.2 | AB36: 5.34 | AC36: 4.91 | AD36: 6.79 | AE36: 5.09 | AF36: 8.52 | AG36: 6.84
B37: 0.83333333 | C37: 7.35 | D37: 13.18 | E37: 10.42 | F37: 14.68 | G37: 5.3 | H37: ID | I37: 13.59 | J37: 19.5 | K37: 4.29 | L37: 10.53 | M37: 6 | N37: 5.08 | O37: 12.3 | P37: 13.91 | Q37: 12.37 | R37: 15.85 | S37: 6.09 | T37: 4.08 | U37: 5.77 | V37: 4.96 | W37: 10.96 | X37: 4.66 | Y37: 3.08 | Z37: 3.35 | AA37: 6.6 | AB37: 4.78 | AC37: 6.02 | AD37: 9.61 | AE37: 3.37 | AF37: 8.12 | AG37: 7.65
B38: 0.875 | C38: 11.45 | D38: 13.48 | E38: 19.08 | F38: 17.8 | G38: 6.34 | H38: ID | I38: 9.79 | J38: 23.16 | K38: 5.72 | L38: 17.56 | M38: 6.54 | N38: 4.74 | O38: 10.53 | P38: 11.24 | Q38: 13.27 | R38: 10.83 | S38: 7.63 | T38: 4.74 | U38: 5.56 | V38: 3.99 | W38: 7.01 | X38: 4.61 | Y38: 3.25 | Z38: 2.58 | AA38: 5.75 | AB38: 7.11 | AC38: 6.54 | AD38: 9.23 | AE38: 3.52 | AF38: 6.94 | AG38: 5.9
B39: 0.91666667 | C39: 13.74 | D39: 19.25 | E39: 19.82 | F39: 18.65 | G39: 8.35 | H39: ID | I39: 8.48 | J39: 11.26 | K39: 8.7 | L39: 17.01 | M39: 9.12 | N39: 4.79 | O39: 8.27 | P39: 12.67 | Q39: 8.07 | R39: 19.48 | S39: 16.51 | T39: 4.78 | U39: 5.47 | V39: 4.7 | W39: 3.4 | X39: 3.84 | Y39: 3.67 | Z39: 13.35 | AA39: 5.45 | AB39: 4 | AC39: 20.81 | AD39: 6.99 | AE39: 3.85 | AF39: 6.07 | AG39: 21.58
B40: 0.95833333 | C40: 9.57 | D40: 15.96 | E40: 17.78 | F40: 16.17 | G40: 8.48 | H40: 6.3 | I40: 10.04 | J40: 10.68 | K40: 9.19 | L40: 13.74 | M40: 6.71 | N40: 8.69 | O40: 6.6 | P40: 12.63 | Q40: 14.76 | R40: 17.22 | S40: 14.18 | T40: 4.7 | U40: 10.4 | V40: 14.61 | W40: 5.08 | X40: 8.23 | Y40: 8.59 | Z40: 24.97 | AA40: 4.32 | AB40: 10.87 | AC40: 13.42 | AD40: 10.9 | AE40: 4.14 | AF40: 4.7 | AG40: 17.77
B41: ECA aire de NO₂ | C41: 200 µg/m³ en periodo de 1 hora
B43: ID: Insuficiencia de datos
B44: VF: Verificación del equipo
B45: IE:Interrupción eléctrica
B46: EE: Evaluación del especialista
B47: ND: No disponible

Sheet CO_CA-ILO-02
F2: Tabla 3.17. Concentraciones horarias de CO
B6: TÍTULO DEL ESTUDIO: | F6: ='PM10_CA-ILO-02'!F6 -> Evaluación de seguimiento de la calidad del aire en la Municipalidad de PacochaI, distrito Pacocha, provincia Ilo, departamento Moquegua, en marzo 2022
B8: ESTACIÓN DE MONITOREO: | F8: CA-ILO-02 | Q8: CÓDIGO DE ACCIÓN:
B10: DATOS DEL EQUIPO
B12: EQUIPO: | F12: Analizador monóxido de carbono | Q12: MARCA: | V12: THERMO SCIENTIFIC
B14: MODELO: | F14: 48i | Q14: SERIE: | V14: 1193085161
B16: Hora\Día | C16: 1 | D16: 2 | E16: 3 | F16: 4 | G16: 5 | H16: 6 | I16: 7 | J16: 8 | K16: 9 | L16: 10 | M16: 11 | N16: 12 | O16: 13 | P16: 14 | Q16: 15 | R16: 16 | S16: 17 | T16: 18 | U16: 19 | V16: 20 | W16: 21 | X16: 22 | Y16: 23 | Z16: 24 | AA16: 25 | AB16: 26 | AC16: 27 | AD16: 28 | AE16: 29 | AF16: 30 | AG16: 31
B17: 0 | C17: 229.83 | D17: 232.09 | E17: 226.81 | F17: 262.12 | G17: 270.08 | H17: 278.29 | I17: EE | J17: 305.37 | K17: 283.36 | L17: 278.22 | M17: 304.97 | N17: 299.72 | O17: 293.46 | P17: 277.62 | Q17: 310.86 | R17: EE | S17: 234.19 | T17: EE | U17: EE | V17: EE | W17: EE | X17: EE | Y17: EE | Z17: EE | AA17: EE | AB17: 218.36 | AC17: EE | AD17: EE | AE17: EE | AF17: 254.44 | AG17: 253.87
B18: 0.041666667 | C18: 244.19 | D18: 223.38 | E18: 232 | F18: 237.06 | G18: 265.71 | H18: 265.63 | I18: EE | J18: 283.15 | K18: 285.06 | L18: 286.99 | M18: 295.53 | N18: 288.82 | O18: 278.2 | P18: 266.22 | Q18: 278.89 | R18: EE | S18: 238.15 | T18: EE | U18: EE | V18: EE | W18: EE | X18: EE | Y18: EE | Z18: EE | AA18: EE | AB18: 218.19 | AC18: EE | AD18: EE | AE18: EE | AF18: 248.89 | AG18: 253.75
B19: 0.083333333 | C19: 241.48 | D19: 227.49 | E19: 224.97 | F19: 248.5 | G19: 271.11 | H19: 289.4 | I19: EE | J19: 273.41 | K19: 279.76 | L19: 286.44 | M19: 290.5 | N19: 290.69 | O19: 275.9 | P19: 262.14 | Q19: 243.67 | R19: EE | S19: 243.24 | T19: EE | U19: EE | V19: EE | W19: EE | X19: EE | Y19: EE | Z19: EE | AA19: EE | AB19: 234 | AC19: EE | AD19: EE | AE19: EE | AF19: 247.25 | AG19: 251.18
B20: 0.125 | C20: 239.71 | D20: 223.69 | E20: 228.22 | F20: 246.15 | G20: 280 | H20: 264.68 | I20: EE | J20: 273.17 | K20: 277.6 | L20: 286.35 | M20: 285.32 | N20: 286.43 | O20: 274.59 | P20: 260.18 | Q20: 235.86 | R20: EE | S20: 229.38 | T20: EE | U20: EE | V20: EE | W20: EE | X20: EE | Y20: EE | Z20: EE | AA20: EE | AB20: 233.04 | AC20: EE | AD20: EE | AE20: EE | AF20: 249.85 | AG20: 250.68
B21: 0.16666667 | C21: 238.44 | D21: 229.53 | E21: 228.72 | F21: 285.33 | G21: 266.21 | H21: 273.72 | I21: EE | J21: 275.1 | K21: 280.71 | L21: 283.51 | M21: 288.56 | N21: 286.99 | O21: 272.8 | P21: 264.4 | Q21: 309.13 | R21: EE | S21: 226.16 | T21: EE | U21: EE | V21: EE | W21: EE | X21: EE | Y21: EE | Z21: EE | AA21: EE | AB21: 219.14 | AC21: EE | AD21: EE | AE21: EE | AF21: 246.17 | AG21: 247.55
B22: 0.20833333 | C22: 240.51 | D22: 250.07 | E22: 234.73 | F22: 265.33 | G22: 277.32 | H22: 265.39 | I22: EE | J22: 279.63 | K22: 288.68 | L22: 300.92 | M22: 309.46 | N22: 301.89 | O22: 277.07 | P22: 272.19 | Q22: 288.47 | R22: EE | S22: 252.45 | T22: EE | U22: EE | V22: EE | W22: EE | X22: EE | Y22: EE | Z22: EE | AA22: EE | AB22: ID | AC22: EE | AD22: EE | AE22: EE | AF22: 253.7 | AG22: 248.46
B23: 0.25 | C23: 254.4 | D23: 302.09 | E23: 284.71 | F23: 291.16 | G23: 310.98 | H23: 271.17 | I23: EE | J23: 328.34 | K23: 318.81 | L23: 310.59 | M23: 327.91 | N23: 350.13 | O23: 298.02 | P23: 343.23 | Q23: 260.42 | R23: EE | S23: 245.5 | T23: EE | U23: EE | V23: EE | W23: EE | X23: EE | Y23: EE | Z23: EE | AA23: EE | AB23: ND | AC23: EE | AD23: EE | AE23: EE | AF23: 260.26 | AG23: 259.11
B24: 0.29166667 | C24: 255.97 | D24: 265.28 | E24: 292.86 | F24: 292.51 | G24: 303.36 | H24: 274.29 | I24: EE | J24: 346.64 | K24: 309.5 | L24: 334.97 | M24: 309.52 | N24: 335.24 | O24: 296.3 | P24: 308.8 | Q24: 281.13 | R24: EE | S24: 278.99 | T24: EE | U24: EE | V24: EE | W24: EE | X24: EE | Y24: EE | Z24: EE | AA24: EE | AB24: EE | AC24: EE | AD24: EE | AE24: EE | AF24: 281.81 | AG24: 310.65
