Workbook

Sheet PM10_CA-ILO-02
F2: Tabla 3.11. Concentraciones horarias de PM₁₀
B6: TÍTULO DEL ESTUDIO: | F6: Evaluación de seguimiento de la calidad del aire en la Municipalidad de PacochaI, distrito Pacocha, provincia Ilo, departamento Moquegua, en marzo 2022
B8: ESTACIÓN DE MONITOREO: | F8: CA-ILO-02 | Q8: CÓDIGO DE ACCIÓN:
B10: DATOS DEL EQUIPO
B12: EQUIPO: | F12: Monitor automático de partículas | Q12: MARCA: | V12: GRIMM AEROSOL TECHNIK
B14: MODELO: | F14: EDM180 | Q14: SERIE: | V14: 18A19091
B16: Hora\Día | C16: 1 | D16: 2 | E16: 3 | F16: 4 | G16: 5 | H16: 6 | I16: 7 | J16: 8 | K16: 9 | L16: 10 | M16: 11 | N16: 12 | O16: 13 | P16: 14 | Q16: 15 | R16: 16 | S16: 17 | T16: 18 | U16: 19 | V16: 20 | W16: 21 | X16: 22 | Y16: 23 | Z16: 24 | AA16: 25 | AB16: 26 | AC16: 27 | AD16: 28 | AE16: 29 | AF16: 30 | AG16: 31
B17: 0 | C17: SE | D17: SE | E17: SE | F17: SE | G17: SE | H17: SE | I17: SE | J17: SE | K17: SE | L17: SE | M17: SE | N17: SE | O17: SE | P17: SE | Q17: SE | R17: SE | S17: SE | T17: SE | U17: SE | V17: SE | W17: SE | X17: SE | Y17: SE | Z17: SE | AA17: SE | AB17: SE | AC17: SE | AD17: SE | AE17: SE | AF17: SE | AG17: SE
B18: 0.041666667 | C18: SE | D18: SE | E18: SE | F18: SE | G18: SE | H18: SE | I18: SE | J18: SE | K18: SE | L18: SE | M18: SE | N18: SE | O18: SE | P18: SE | Q18: SE | R18: SE | S18: SE | T18: SE | U18: SE | V18: SE | W18: SE | X18: SE | Y18: SE | Z18: SE | AA18: SE | AB18: SE | AC18: SE | AD18: SE | AE18: SE | AF18: SE | AG18: SE
B19: 0.083333333 | C19: SE | D19: SE | E19: SE | F19: SE | G19: SE | H19: SE | I19: SE | J19: SE | K19: SE | L19: SE | M19: SE | N19: SE | O19: SE | P19: SE | Q19: SE | R19: SE | S19: SE | T19: SE | U19: SE | V19: SE | W19: SE | X19: SE | Y19: SE | Z19: SE | AA19: SE | AB19: SE | AC19: SE | AD19: SE | AE19: SE | AF19: SE | AG19: SE
B20: 0.125 | C20: SE | D20: SE | E20: SE | F20: SE | G20: SE | H20: SE | I20: SE | J20: SE | K20: SE | L20: SE | M20: SE | N20: SE | O20: SE | P20: SE | Q20: SE | R20: SE | S20: SE | T20: SE | U20: SE | V20: SE | W20: SE | X20: SE | Y20: SE | Z20: SE | AA20: SE | AB20: SE | AC20: SE | AD20: SE | AE20: SE | AF20: SE | AG20: SE
B21: 0.16666667 | C21: SE | D21: SE | E21: SE | F21: SE | G21: SE | H21: SE | I21: SE | J21: SE | K21: SE | L21: SE | M21: SE | N21: SE | O21: SE | P21: SE | Q21: SE | R21: SE | S21: SE | T21: SE | U21: SE | V21: SE | W21: SE | X21: SE | Y21: SE | Z21: SE | AA21: SE | AB21: SE | AC21: SE | AD21: SE | AE21: SE | AF21: SE | AG21: SE
B22: 0.20833333 | C22: SE | D22: SE | E22: SE | F22: SE | G22: SE | H22: SE | I22: SE | J22: SE | K22: SE | L22: SE | M22: SE | N22: SE | O22: SE | P22: SE | Q22: SE | R22: SE | S22: SE | T22: SE | U22: SE | V22: SE | W22: SE | X22: SE | Y22: SE | Z22: SE | AA22: SE | AB22: SE | AC22: SE | AD22: SE | AE22: SE | AF22: SE | AG22: SE
B23: 0.25 | C23: SE | D23: SE | E23: SE | F23: SE | G23: SE | H23: SE | I23: SE | J23: SE | K23: SE | L23: SE | M23: SE | N23: SE | O23: SE | P23: SE | Q23: SE | R23: SE | S23: SE | T23: SE | U23: SE | V23: SE | W23: SE | X23: SE | Y23: SE | Z23: SE | AA23: SE | AB23: SE | AC23: SE | AD23: SE | AE23: SE | AF23: SE | AG23: SE
B24: 0.29166667 | C24: SE | D24: SE | E24: SE | F24: SE | G24: SE | H24: SE | I24: SE | J24: SE | K24: SE | L24: SE | M24: SE | N24: SE | O24: SE | P24: SE | Q24: SE | R24: SE | S24: SE | T24: SE | U24: SE | V24: SE | W24: SE | X24: SE | Y24: SE | Z24: SE | AA24: SE | AB24: SE | AC24: SE | AD24: SE | AE24: SE | AF24: SE | AG24: SE
B25: 0.33333333 | C25: SE | D25: SE | E25: SE | F25: SE | G25: SE | H25: SE | I25: SE | J25: SE | K25: SE | L25: SE | M25: SE | N25: SE | O25: SE | P25: SE | Q25: SE | R25: SE | S25: SE | T25: SE | U25: SE | V25: SE | W25: SE | X25: SE | Y25: SE | Z25: SE | AA25: SE | AB25: SE | AC25: SE | AD25: SE | AE25: SE | AF25: SE | AG25: SE
B26: 0.375 | C26: SE | D26: SE | E26: SE | F26: SE | G26: SE | H26: SE | I26: SE | J26: SE | K26: SE | L26: SE | M26: SE | N26: SE | O26: SE | P26: SE | Q26: SE | R26: SE | S26: SE | T26: SE | U26: SE | V26: SE | W26: SE | X26: SE | Y26: SE | Z26: SE | AA26: SE | AB26: SE | AC26: SE | AD26: SE | AE26: SE | AF26: SE | AG26: SE
B27: 0.41666667 | C27: SE | D27: SE | E27: SE | F27: SE | G27: SE | H27: SE | I27: SE | J27: SE | K27: SE | L27: SE | M27: SE | N27: SE | O27: SE | P27: SE | Q27: SE | R27: SE | S27: SE | T27: SE | U27: SE | V27: SE | W27: SE | X27: SE | Y27: SE | Z27: SE | AA27: SE | AB27: SE | AC27: SE | AD27: SE | AE27: SE | AF27: SE | AG27: SE
B28: 0.45833333 | C28: SE | D28: SE | E28: SE | F28: SE | G28: SE | H28: SE | I28: SE | J28: SE | K28: SE | L28: SE | M28: SE | N28: SE | O28: SE | P28: SE | Q28: SE | R28: SE | S28: SE | T28: SE | U28: SE | V28: SE | W28: SE | X28: SE | Y28: SE | Z28: SE | AA28: SE | AB28: SE | AC28: SE | AD28: SE | AE28: SE | AF28: SE | AG28: SE
... B40: 0.95833333 | C40: SE | D40: SE | E40: SE | F40: SE | G40: SE | H40: SE | I40: SE | J40: SE | K40: SE | L40: SE | M40: SE | N40: SE | O40: SE | P40: SE | Q40: SE | R40: SE | S40: SE | T40: SE | U40: SE | V40: SE | W40: SE | X40: SE | Y40: SE | Z40: SE | AA40: SE | AB40: SE | AC40: SE | AD40: SE | AE40: SE | AF40: SE | AG40: SE
B41: Promedio de PM₁₀ en 24 h | C41: SE | D41: SE | E41: SE | F41: SE | G41: SE | H41: SE | I41: SE | J41: SE | K41: SE | L41: SE | M41: SE | N41: SE | O41: SE | P41: SE | Q41: SE | R41: SE | S41: SE | T41: SE | U41: SE | V41: SE | W41: SE | X41: SE | Y41: SE | Z41: SE | AA41: SE | AB41: SE | AC41: SE | AD41: SE | AE41: SE | AF41: SE | AG41: SE
B42: ECA aire de PM₁₀ | C42: 100 µg/m³ en periodo de 24 horas
B43: SE: Sin equipo

Sheet PM2.5_CA-ILO-02
F2: Tabla 3.12. Concentraciones horarias de PM₂,₅
B6: TÍTULO DEL ESTUDIO: | F6: ='PM10_CA-ILO-02'!F6 -> Evaluación de seguimiento de la calidad del aire en la Municipalidad de PacochaI, distrito Pacocha, provincia Ilo, departamento Moquegua, en marzo 2022
B8: ESTACIÓN DE MONITOREO: | F8: CA-ILO-02 | Q8: CÓDIGO DE ACCIÓN:
B10: DATOS DEL EQUIPO
B12: EQUIPO: | F12: Monitor automático de partículas | Q12: MARCA: | V12: GRIMM AEROSOL TECHNIK
B14: MODELO: | F14: EDM180 | Q14: SERIE: | V14: 18A19091
B16: Hora\Día | C16: 1 | D16: 2 | E16: 3 | F16: 4 | G16: 5 | H16: 6 | I16: 7 | J16: 8 | K16: 9 | L16: 10 | M16: 11 | N16: 12 | O16: 13 | P16: 14 | Q16: 15 | R16: 16 | S16: 17 | T16: 18 | U16: 19 | V16: 20 | W16: 21 | X16: 22 | Y16: 23 | Z16: 24 | AA16: 25 | AB16: 26 | AC16: 27 | AD16: 28 | AE16: 29 | AF16: 30 | AG16: 31
B17: 0 | C17: SE | D17: SE | E17: SE | F17: SE | G17: SE | H17: SE | I17: SE | J17: SE | K17: SE | L17: SE | M17: SE | N17: SE | O17: SE | P17: SE | Q17: SE | R17: SE | S17: SE | T17: SE | U17: SE | V17: SE | W17: SE | X17: SE | Y17: SE | Z17: SE | AA17: SE | AB17: SE | AC17: SE | AD17: SE | AE17: SE | AF17: SE | AG17: SE
B18: 0.041666667 | C18: SE | D18: SE | E18: SE | F18: SE | G18: SE | H18: SE | I18: SE | J18: SE | K18: SE | L18: SE | M18: SE | N18: SE | O18: SE | P18: SE | Q18: SE | R18: SE | S18: SE | T18: SE | U18: SE | V18: SE | W18: SE | X18: SE | Y18: SE | Z18: SE | AA18: SE | AB18: SE | AC18: SE | AD18: SE | AE18: SE | AF18: SE | AG18: SE
B19: 0.083333333 | C19: SE | D19: SE | E19: SE | F19: SE | G19: SE | H19: SE | I19: SE | J19: SE | K19: SE | L19: SE | M19: SE | N19: SE | O19: SE | P19: SE | Q19: SE | R19: SE | S19: SE | T19: SE | U19: SE | V19: SE | W19: SE | X19: SE | Y19: SE | Z19: SE | AA19: SE | AB19: SE | AC19: SE | AD19: SE | AE19: SE | AF19: SE | AG19: SE
B20: 0.125 | C20: SE | D20: SE | E20: SE | F20: SE | G20: SE | H20: SE | I20: SE | J20: SE | K20: SE | L20: SE | M20: SE | N20: SE | O20: SE | P20: SE | Q20: SE | R20: SE | S20: SE | T20: SE | U20: SE | V20: SE | W20: SE | X20: SE | Y20: SE | Z20: SE | AA20: SE | AB20: SE | AC20: SE | AD20: SE | AE20: SE | AF20: SE | AG20: SE
B21: 0.16666667 | C21: SE | D21: SE | E21: SE | F21: SE | G21: SE | H21: SE | I21: SE | J21: SE | K21: SE | L21: SE | M21: SE | N21: SE | O21: SE | P21: SE | Q21: SE | R21: SE | S21: SE | T21: SE | U21: SE | V21: SE | W21: SE | X21: SE | Y21: SE | Z21: SE | AA21: SE | AB21: SE | AC21: SE | AD21: SE | AE21: SE | AF21: SE | AG21: SE
B22: 0.20833333 | C22: SE | D22: SE | E22: SE | F22: SE | G22: SE | H22: SE | I22: SE | J22: SE | K22: SE | L22: SE | M22: SE | N22: SE | O22: SE | P22: SE | Q22: SE | R22: SE | S22: SE | T22: SE | U22: SE | V22: SE | W22: SE | X22: SE | Y22: SE | Z22: SE | AA22: SE | AB22: SE | AC22: SE | AD22: SE | AE22: SE | AF22: SE | AG22: SE
B23: 0.25 | C23: SE | D23: SE | E23: SE | F23: SE | G23: SE | H23: SE | I23: SE | J23: SE | K23: SE | L23: SE | M23: SE | N23: SE | O23: SE | P23: SE | Q23: SE | R23: SE | S23: SE | T23: SE | U23: SE | V23: SE | W23: SE | X23: SE | Y23: SE | Z23: SE | AA23: SE | AB23: SE | AC23: SE | AD23: SE | AE23: SE | AF23: SE | AG23: SE
B24: 0.29166667 | C24: SE | D24: SE | E24: SE | F24: SE | G24: SE | H24: SE | I24: SE | J24: SE | K24: SE | L24: SE | M24: SE | N24: SE | O24: SE | P24: SE | Q24: SE | R24: SE | S24: SE | T24: SE | U24: SE | V24: SE | W24: SE | X24: SE | Y24: SE | Z24: SE | AA24: SE | AB24: SE | AC24: SE | AD24: SE | AE24: SE | AF24: SE | AG24: SE
B25: 0.33333333 | C25: SE | D25: SE | E25: SE | F25: SE | G25: SE | H25: SE | I25: SE | J25: SE | K25: SE | L25: SE | M25: SE | N25: SE | O25: SE | P25: SE | Q25: SE | R25: SE | S25: SE | T25: SE | U25: SE | V25: SE | W25: SE | X25: SE | Y25: SE | Z25: SE | AA25: SE | AB25: SE | AC25: SE | AD25: SE | AE25: SE | AF25: SE | AG25: SE
B26: 0.375 | C26: SE | D26: SE | E26: SE | F26: SE | G26: SE | H26: SE | I26: SE | J26: SE | K26: SE | L26: SE | M26: SE | N26: SE | O26: SE | P26: SE | Q26: SE | R26: SE | S26: SE | T26: SE | U26: SE | V26: SE | W26: SE | X26: SE | Y26: SE | Z26: SE | AA26: SE | AB26: SE | AC26: SE | AD26: SE | AE26: SE | AF26: SE | AG26: SE
B27: 0.41666667 | C27: SE | D27: SE | E27: SE | F27: SE | G27: SE | H27: SE | I27: SE | J27: SE | K27: SE | L27: SE | M27: SE | N27: SE | O27: SE | P27: SE | Q27: SE | R27: SE | S27: SE | T27: SE | U27: SE | V27: SE | W27: SE | X27: SE | Y27: SE | Z27: SE | AA27: SE | AB27: SE | AC27: SE | AD27: SE | AE27: SE | AF27: SE | AG27: SE
B28: 0.45833333 | C28: SE | D28: SE | E28: SE | F28: SE | G28: SE | H28: SE | I28: SE | J28: SE | K28: SE | L28: SE | M28: SE | N28: SE | O28: SE | P28: SE | Q28: SE | R28: SE | S28: SE | T28: SE | U28: SE | V28: SE | W28: SE | X28: SE | Y28: SE | Z28: SE | AA28: SE | AB28: SE | AC28: SE | AD28: SE | AE28: SE | AF28: SE | AG28: SE
... B40: 0.95833333 | C40: SE | D40: SE | E40: SE | F40: SE | G40: SE | H40: SE | I40: SE | J40: SE | K40: SE | L40: SE | M40: SE | N40: SE | O40: SE | P40: SE | Q40: SE | R40: SE | S40: SE | T40: SE | U40: SE | V40: SE | W40: SE | X40: SE | Y40: SE | Z40: SE | AA40: SE | AB40: SE | AC40: SE | AD40: SE | AE40: SE | AF40: SE | AG40: SE
B41: Promedio de PM₂,₅ en 24 h | C41: SE | D41: SE | E41: SE | F41: SE | G41: SE | H41: SE | I41: SE | J41: SE | K41: SE | L41: SE | M41: SE | N41: SE | O41: SE | P41: SE | Q41: SE | R41: SE | S41: SE | T41: SE | U41: SE | V41: SE | W41: SE | X41: SE | Y41: SE | Z41: SE | AA41: SE | AB41: SE | AC41: SE | AD41: SE | AE41: SE | AF41: SE | AG41: SE
B42: ECA aire de PM₂,₅ | C42: 50 µg/m³ en periodo de 24 horas
B43: SE: Sin equipo

Sheet SO2_CA-ILO-02
F2: Tabla 3.13. Concentraciones horarias de SO₂
B6: TÍTULO DEL ESTUDIO: | F6: ='PM10_CA-ILO-02'!F6 -> Evaluación de seguimiento de la calidad del aire en la Municipalidad de PacochaI, distrito Pacocha, provincia Ilo, departamento Moquegua, en marzo 2022
B8: ESTACIÓN DE MONITOREO: | F8: CA-ILO-02 | Q8: CÓDIGO DE ACCIÓN:
B10: DATOS DEL EQUIPO
B12: EQUIPO: | F12: Analizador de dióxido de azufre | Q12: MARCA: | V12: THERMO SCIENTIFIC
B14: MODELO: | F14: 43i | Q14: SERIE: | V14: 1192914947
B16: Hora\Día | C16: 1 | D16: 2 | E16: 3 | F16: 4 | G16: 5 | H16: 6 | I16: 7 | J16: 8 | K16: 9 | L16: 10 | M16: 11 | N16: 12 | O16: 13 | P16: 14 | Q16: 15 | R16: 16 | S16: 17 | T16: 18 | U16: 19 | V16: 20 | W16: 21 | X16: 22 | Y16: 23 | Z16: 24 | AA16: 25 | AB16: 26 | AC16: 27 | AD16: 28 | AE16: 29 | AF16: 30 | AG16: 31
B17: 0 | C17: 46.4 | D17: 30.37 | E17: 18.5 | F17: 45.69 | G17: 35.82 | H17: 72.65 | I17: 14.75 | J17: 20.8 | K17: 15.88 | L17: 32.7 | M17: 55.57 | N17: 16.48 | O17: 27.33 | P17: 21.12 | Q17: 60.97 | R17: 75.82 | S17: 32.91 | T17: 16.66 | U17: 12.86 | V17: 22.22 | W17: 121.38 | X17: 20.65 | Y17: 122.98 | Z17: 64.32 | AA17: 227.89 | AB17: 16.09 | AC17: 87.67 | AD17: 34.14 | AE17: 40.64 | AF17: 12.68 | AG17: 14.33
B18: 0.041666667 | C18: 31.86 | D18: 31.13 | E18: 26.57 | F18: 26.67 | G18: 84.76 | H18: 59.63 | I18: 43.44 | J18: 17.66 | K18: 17.63 | L18: 29.95 | M18: 32.46 | N18: 15.25 | O18: 17.66 | P18: 18.08 | Q18: 45.56 | R18: 67.94 | S18: 24.63 | T18: 15.09 | U18: 12.6 | V18: 62.85 | W18: 89.34 | X18: 30.42 | Y18: 77.63 | Z18: 30.16 | AA18: 127.7 | AB18: 72.97 | AC18: 29.92 | AD18: 26.04 | AE18: 33.25 | AF18: 12.76 | AG18: 22.11
B19: 0.083333333 | C19: 51.35 | D19: 23.84 | E19: 44.54 | F19: 33.64 | G19: 121.99 | H19: 46.22 | I19: 19.05 | J19: 51.22 | K19: 25.31 | L19: 34.58 | M19: 34.95 | N19: 22.58 | O19: 41.89 | P19: 15.48 | Q19: 35.55 | R19: 82.24 | S19: 30.31 | T19: 13.62 | U19: 12.73 | V19: 33.75 | W19: 101.39 | X19: 46.45 | Y19: 27.41 | Z19: 58.58 | AA19: 88.69 | AB19: 46.16 | AC19: 26.57 | AD19: 17.42 | AE19: 27.72 | AF19: 12.92 | AG19: 76.24
B20: 0.125 | C20: 32.41 | D20: 48.44 | E20: 63.48 | F20: 23.16 | G20: 98.75 | H20: 49.44 | I20: 18.29 | J20: 28.45 | K20: 23.74 | L20: 20.99 | M20: 47.87 | N20: 34.98 | O20: 40.64 | P20: 24.84 | Q20: 48.1 | R20: 55.73 | S20: 16.64 | T20: 13.15 | U20: 12.76 | V20: 27.75 | W20: 45.48 | X20: 31.23 | Y20: 27.27 | Z20: 37.41 | AA20: 81.82 | AB20: 37.52 | AC20: 22.35 | AD20: 15.85 | AE20: 21.41 | AF20: 12.81 | AG20: 69.67
B21: 0.16666667 | C21: 26.72 | D21: 28.58 | E21: 65.76 | F21: 86.43 | G21: 73.94 | H21: 37.54 | I21: 17.4 | J21: 22.17 | K21: 44.04 | L21: 18.03 | M21: 26.04 | N21: 16.79 | O21: 42.1 | P21: 84.52 | Q21: 43.75 | R21: 40.82 | S21: 14.88 | T21: 13.49 | U21: 17.55 | V21: 29.84 | W21: 109.73 | X21: 60.36 | Y21: 22.79 | Z21: 27.43 | AA21: 31.02 | AB21: 65.26 | AC21: 41.87 | AD21: 18.05 | AE21: 14.59 | AF21: 12.65 | AG21: 49.18
B22: 0.20833333 | C22: 27.98 | D22: 18.29 | E22: 21.33 | F22: 150.86 | G22: 78.42 | H22: 34.92 | I22: 20.36 | J22: 38.41 | K22: 23.55 | L22: 20.17 | M22: 19.26 | N22: 27.04 | O22: 36.31 | P22: 135.69 | Q22: 35.45 | R22: 38.38 | S22: 14.65 | T22: 14.83 | U22: 16.11 | V22: 26.93 | W22: 122.48 | X22: 92.98 | Y22: 19.1 | Z22: 17.4 | AA22: 17.37 | AB22: ID | AC22: 45.77 | AD22: 15.8 | AE22: 71.21 | AF22: 12.65 | AG22: 44.96
B23: 0.25 | C23: 60.34 | D23: 23.66 | E23: 34.64 | F23: 54.94 | G23: 83.37 | H23: 88.14 | I23: 22.72 | J23: 32.2 | K23: 16.3 | L23: 21.82 | M23: 19.96 | N23: 18.65 | O23: 31.65 | P23: 157.25 | Q23: 29.74 | R23: 46.58 | S23: 23.13 | T23: 21.93 | U23: 13.52 | V23: 22.24 | W23: 87.8 | X23: 103.44 | Y23: 24.1 | Z23: 30.6 | AA23: 20.23 | AB23: ND | AC23: 40.35 | AD23: 15.93 | AE23: 153.79 | AF23: 12.73 | AG23: 30.94
B24: 0.29166667 | C24: 32.62 | D24: 30.81 | E24: 66.36 | F24: 83.13 | G24: 72.23 | H24: 48.92 | I24: 25.52 | J24: 39.82 | K24: 34.95 | L24: 63.4 | M24: 20.93 | N24: 20.54 | O24: 28.37 | P24: 132.1 | Q24: 26.17 | R24: 23.66 | S24: 22.74 | T24: 23.19 | U24: 12.97 | V24: 22.22 | W24: 105.61 | X24: 58.32 | Y24: 26.93 | Z24: 84.94 | AA24: 25.28 | AB24: EE | AC24: 50.17 | AD24: 18.08 | AE24: 140.22 | AF24: 12.86 | AG24: 49.7
B25: 0.33333333 | C25: 38.49 | D25: 43.05 | E25: 57.69 | F25: 24.68 | G25: 47.74 | H25: 55.52 | I25: 23.97 | J25: 28.27 | K25: 22.11 | L25: 73.2 | M25: 25.02 | N25: 16.19 | O25: 23.48 | P25: 71.37 | Q25: 14.83 | R25: 20.02 | S25: 16.43 | T25: 21.77 | U25: 14.54 | V25: 32.54 | W25: 98.43 | X25: 22.51 | Y25: 97.83 | Z25: 32.02 | AA25: 43.89 | AB25: EE | AC25: 35.68 | AD25: 14.75 | AE25: 39.43 | AF25: 12.89 | AG25: 25.73
B26: 0.375 | C26: 34.58 | D26: 25.18 | E26: 154.11 | F26: 25.86 | G26: 60.47 | H26: 42.34 | I26: 20.2 | J26: 16.61 | K26: 24.58 | L26: 25.13 | M26: 25.86 | N26: 19.99 | O26: 20.46 | P26: 42.08 | Q26: 16.85 | R26: 45.17 | S26: 16.85 | T26: ID | U26: 14.67 | V26: 21.82 | W26: 27.51 | X26: 24.99 | Y26: 16.35 | Z26: 23.74 | AA26: 30.37 | AB26: 18.63 | AC26: 17.11 | AD26: 13.78 | AE26: 18.42 | AF26: 12.94 | AG26: 21.3
B27: 0.41666667 | C27: 16.64 | D27: 15.96 | E27: 70.5 | F27: 18.26 | G27: 23.53 | H27: 15.75 | I27: 17.63 | J27: 14.51 | K27: 19.99 | L27: 15.9 | M27: 30.94 | N27: VF | O27: 15.59 | P27: 28.03 | Q27: 29.13 | R27: 15.27 | S27: 13.62 | T27: 13.18 | U27: 13.62 | V27: 13.49 | W27: 13.65 | X27: 14.57 | Y27: 13.96 | Z27: 14.8 | AA27: 16.06 | AB27: 15.04 | AC27: 13.91 | AD27: 13.49 | AE27: 14.38 | AF27: 13.02 | AG27: 16.87
B28: 0.45833333 | C28: 14.15 | D28: 14.23 | E28: 17.42 | F28: 15.12 | G28: 18.34 | H28: 14.36 | I28: 14.44 | J28: 13.96 | K28: 13.94 | L28: 13.68 | M28: 15.75 | N28: ID | O28: 14.36 | P28: 18.08 | Q28: 14.07 | R28: 14.17 | S28: 13.44 | T28: 13.1 | U28: 13.23 | V28: 12.94 | W28: 13.31 | X28: 13.96 | Y28: 13.76 | Z28: 13.81 | AA28: 14.1 | AB28: 13.62 | AC28: 13.7 | AD28: 13.65 | AE28: ID | AF28: 12.97 | AG28: 13.47
B29: 0.5 | C29: 13.91 | D29: 13.89 | E29: 14.1 | F29: 14.83 | G29: 14.31 | H29: 13.96 | I29: 14.15 | J29: 13.6 | K29: 13.62 | L29: 13.81 | M29: 13.96 | N29: 13.81 | O29: 14.04 | P29: 13.89 | Q29: ID | R29: 13.78 | S29: 13.49 | T29: 13.1 | U29: 13.13 | V29: 12.84 | W29: 13.07 | X29: 13.55 | Y29: 13.62 | Z29: 13.65 | AA29: 13.81 | AB29: 13.62 | AC29: 13.73 | AD29: 13.81 | AE29: 13.52 | AF29: 12.94 | AG29: 13.52
B30: 0.54166667 | C30: 13.94 | D30: 13.57 | E30: 13.68 | F30: 13.94 | G30: 14.07 | H30: 13.81 | I30: 16.56 | J30: 13.47 | K30: 13.68 | L30: 13.55 | M30: 14.07 | N30: 13.49 | O30: 13.65 | P30: 13.52 | Q30: IE | R30: 13.65 | S30: 13.34 | T30: 13.07 | U30: 12.94 | V30: 12.76 | W30: 13.68 | X30: 13.57 | Y30: 13.81 | Z30: 13.44 | AA30: 13.89 | AB30: 13.73 | AC30: 13.55 | AD30: 13.57 | AE30: 13.41 | AF30: 12.84 | AG30: 13.81
B31: 0.58333333 | C31: 13.94 | D31: 13.6 | E31: 13.81 | F31: 13.86 | G31: 14.1 | H31: 13.96 | I31: 14.93 | J31: 13.55 | K31: 13.47 | L31: 13.6 | M31: 13.73 | N31: 13.41 | O31: 13.6 | P31: 13.31 | Q31: IE | R31: 13.52 | S31: 13.36 | T31: 13.02 | U31: 13 | V31: 12.68 | W31: 14.67 | X31: 13.34 | Y31: 13.62 | Z31: 13.6 | AA31: 14.1 | AB31: 13.55 | AC31: 13.73 | AD31: 13.39 | AE31: 13.28 | AF31: 13.1 | AG31: 13.94
B32: 0.625 | C32: 13.44 | D32: 13.44 | E32: 13.55 | F32: 13.47 | G32: 13.89 | H32: 13.6 | I32: 16.56 | J32: 13.47 | K32: 13.52 | L32: 13.34 | M32: 13.81 | N32: 13.31 | O32: 13.49 | P32: 13.44 | Q32: EE | R32: 13.49 | S32: ID | T32: 13 | U32: 13 | V32: 12.97 | W32: 13.02 | X32: 13.49 | Y32: 13.36 | Z32: 13.36 | AA32: 15.27 | AB32: 13.31 | AC32: 13.39 | AD32: 13.41 | AE32: 13.39 | AF32: 12.94 | AG32: 13.52
B33: 0.66666667 | C33: 13.62 | D33: 13.47 | E33: 13.55 | F33: 13.47 | G33: 13.86 | H33: 13.76 | I33: 15.09 | J33: 13.26 | K33: 13.52 | L33: 13.44 | M33: 13.47 | N33: 13.18 | O33: 13.49 | P33: 13.34 | Q33: 13.28 | R33: 13.15 | S33: IE | T33: 12.84 | U33: ID | V33: 12.81 | W33: 13.36 | X33: 13.44 | Y33: 13.49 | Z33: 13.44 | AA33: 14.65 | AB33: 13.49 | AC33: 13.26 | AD33: 13.26 | AE33: 13.28 | AF33: 12.92 | AG33: 13.36
B34: 0.70833333 | C34: 13.47 | D34: 13.57 | E34: 13.47 | F34: 13.41 | G34: 16.74 | H34: 14.78 | I34: 19.36 | J34: 13.52 | K34: 13.36 | L34: 13.39 | M34: 13.36 | N34: 13.41 | O34: 13.18 | P34: 13.28 | Q34: 18.18 | R34: 13.18 | S34: EE | T34: 12.81 | U34: MA | V34: 12.65 | W34: ID | X34: 13.26 | Y34: 13.39 | Z34: 13.44 | AA34: 14.38 | AB34: 13.28 | AC34: 13.28 | AD34: 13.18 | AE34: 13.18 | AF34: 12.92 | AG34: 13.15
B35: 0.75 | C35: 13.52 | D35: 13.31 | E35: 13.39 | F35: 13.47 | G35: 23.66 | H35: 17.97 | I35: 36.94 | J35: 13.89 | K35: 13.36 | L35: 13.39 | M35: 13.41 | N35: 13.2 | O35: 13.26 | P35: 13.52 | Q35: 36.89 | R35: 13.15 | S35: EE | T35: 12.94 | U35: ID | V35: 12.68 | W35: EE | X35: 13.31 | Y35: 13.36 | Z35: 13.34 | AA35: 14.07 | AB35: 13.28 | AC35: 13.18 | AD35: 13.15 | AE35: 13.15 | AF35: 12.94 | AG35: 13.2
B36: 0.79166667 | C36: 13.31 | D36: 30.29 | E36: 13.26 | F36: 13.41 | G36: 18.37 | H36: ID | I36: 82.48 | J36: 29.58 | K36: 13.05 | L36: 66.78 | M36: 13.36 | N36: 13.18 | O36: 34.85 | P36: 104.96 | Q36: 13.78 | R36: 31.83 | S36: 13.91 | T36: 12.89 | U36: 12.55 | V36: 12.52 | W36: 13.02 | X36: 13.41 | Y36: 13.26 | Z36: 13.26 | AA36: 13.62 | AB36: 13.13 | AC36: 13.1 | AD36: 13.05 | AE36: 13.2 | AF36: 12.89 | AG36: 13.31
B37: 0.83333333 | C37: 13.18 | D37: 22.87 | E37: 29.89 | F37: 54.42 | G37: 14.67 | H37: ID | I37: 152.51 | J37: 111.3 | K37: 13.26 | L37: 63.3 | M37: 13.31 | N37: 12.84 | O37: 92.12 | P37: 39.56 | Q37: 13.96 | R37: 35.5 | S37: 13.57 | T37: 12.81 | U37: 12.45 | V37: 12.65 | W37: 13.28 | X37: 13.23 | Y37: 13.2 | Z37: 13.2 | AA37: 13.62 | AB37: 13.02 | AC37: 13.13 | AD37: 13.23 | AE37: 12.86 | AF37: 12.94 | AG37: 13.34
B38: 0.875 | C38: 33.8 | D38: 20.49 | E38: 25.73 | F38: 62.98 | G38: 22.27 | H38: ID | I38: 79.78 | J38: 25.81 | K38: 60.76 | L38: 123.74 | M38: 13.15 | N38: 12.81 | O38: 17.32 | P38: 54.6 | Q38: 14.2 | R38: 20.49 | S38: 15.64 | T38: 12.81 | U38: 12.39 | V38: 12.45 | W38: 13.31 | X38: 13.07 | Y38: 13.23 | Z38: 13.13 | AA38: 13.62 | AB38: 12.97 | AC38: 13.91 | AD38: 13.23 | AE38: 12.97 | AF38: 13.1 | AG38: 13.07
B39: 0.91666667 | C39: 28.43 | D39: 100.69 | E39: 43.57 | F39: 77.29 | G39: 25.15 | H39: ID | I39: 19.6 | J39: 20.44 | K39: 24.18 | L39: 137.6 | M39: 23.48 | N39: 12.86 | O39: 15.9 | P39: 101.97 | Q39: 24.68 | R39: 54.08 | S39: 18.94 | T39: 12.79 | U39: 15.8 | V39: 33.54 | W39: 13.07 | X39: 13.07 | Y39: 13.15 | Z39: 68.33 | AA39: 13.57 | AB39: 12.97 | AC39: 153.17 | AD39: 14.33 | AE39: 12.97 | AF39: 17.76 | AG39: 64.71
B40: 0.95833333 | C40: 15.27 | D40: 74.67 | E40: 82.84 | F40: 99.87 | G40: 46.11 | H40: 23.61 | I40: 21.98 | J40: 32.2 | K40: 30.05 | L40: 81.46 | M40: 20.17 | N40: 91.07 | O40: 22.03 | P40: 74.25 | Q40: 134.25 | R40: 40.53 | S40: 17.55 | T40: 13 | U40: 20.91 | V40: 192.52 | W40: 14.59 | X40: 85.05 | Y40: 40.53 | Z40: 273.37 | AA40: 13.6 | AB40: 73.6 | AC40: 61.2 | AD40: 47.11 | AE40: 12.84 | AF40: 19.62 | AG40: 65.63
B41: Promedio de SO₂ en 24 h | C41: 25.6 | D41: 28.2 | E41: 38.8 | F41: 41.4 | G41: 43.2 | H41: 34.5 | I41: 31.2 | J41: 26.6 | K41: 21.6 | L41: 39 | M41: 22.2 | N41: 20.2 | O41: 25.7 | P41: 50.8 | Q41: 33.5 | R41: 33.4 | S41: 18 | T41: 14.6 | U41: 14 | V41: 28.4 | W41: 48.7 | X41: 31.3 | Y41: 28.3 | Z41: 37.9 | AA41: 37.2 | AB41: 25.3 | AC41: 32.2 | AD41: 17.2 | AE41: 31.9 | AF41: 13.4 | AG41: 29.1
B42: ECA aire de SO₂ | C42: 250 µg/m³ en periodo de 24 horas
B43: ID: Insuficiencia de datos
B44: VF: Verificación de equipo
B45: IE: Interrupsión eléctrica
B46: EE: Evaluación del especialista
B47: MA: Mantenimiento preventivo o correctivo del equipo
B48: ND: No disponible

Sheet SO2_m3h_CA-ILO-02
F2: Tabla 3.14. Concentraciones horarias de SO₂
B6: TÍTULO DEL ESTUDIO: | F6: ='PM10_CA-ILO-02'!F6 -> Evaluación de seguimiento de la calidad del aire en la Municipalidad de PacochaI, distrito Pacocha, provincia Ilo, departamento Moquegua, en marzo 2022
B8: ESTACIÓN DE MONITOREO: | F8: CA-ILO-02 | Q8: CÓDIGO DE ACCIÓN:
B10: DATOS DEL EQUIPO
B12: EQUIPO: | F12: Analizador de dióxido de azufre | Q12: MARCA: | V12: THERMO SCIENTIFIC
B14: MODELO: | F14: 43i | Q14: SERIE: | V14: 1192914947
B16: Hora\Día | C16: 1 | D16: 2 | E16: 3 | F16: 4 | G16: 5 | H16: 6 | I16: 7 | J16: 8 | K16: 9 | L16: 10 | M16: 11 | N16: 12 | O16: 13 | P16: 14 | Q16: 15 | R16: 16 | S16: 17 | T16: 18 | U16: 19 | V16: 20 | W16: 21 | X16: 22 | Y16: 23 | Z16: 24 | AA16: 25 | AB16: 26 | AC16: 27 | AD16: 28 | AE16: 29 | AF16: 30 | AG16: 31
B17: 0 | C17: 43.14 | D17: 24.69 | E17: 64.62 | F17: 57.37 | G17: 70.99 | H17: 47.97 | I17: ID | J17: 20.79 | K17: 22.84 | L17: 28.98 | M17: 91.54 | N17: 20.04 | O17: 43.75 | P17: 19.68 | Q17: 79.06 | R17: 78.25 | S17: 42.51 | T17: 17.72 | U17: 12.88 | V17: 19.64 | W17: 115.81 | X17: 16.1 | Y17: 73.7 | Z17: 39.33 | AA17: 189.86 | AB17: 14.42 | AC17: 58.08 | AD17: 82.84 | AE17: 34.03 | AF17: 12.83 | AG17: 17.24
B18: 0.041666667 | C18: 39.42 | D18: 25.59 | E18: 39.91 | F18: 51.73 | G18: 73.48 | H18: 59.46 | I18: 27.266667 | J18: 20.15 | K18: 21.9 | L18: 30.9 | M18: 56.5 | N18: 17.3 | O18: 45.35 | P18: 20.41 | Q18: 60.26 | R18: 92.67 | S18: 32.69 | T18: 16.43 | U18: 12.82 | V18: 35.33 | W18: 134.41 | X18: 21.89 | Y18: 95.22 | Z18: 45 | AA18: 209.65 | AB18: 34.22 | AC18: 63.73 | AD18: 40.46 | AE18: 40.33 | AF18: 12.76 | AG18: 18.69
B19: 0.083333333 | C19: 43.2 | D19: 28.45 | E19: 29.87 | F19: 35.33 | G19: 80.86 | H19: 59.5 | I19: 25.75 | J19: 29.89 | K19: 19.61 | L19: 32.41 | M19: 40.99 | N19: 18.1 | O19: 28.96 | P19: 18.23 | Q19: 47.36 | R19: 75.33 | S19: 29.28 | T19: 15.12 | U19: 12.73 | V19: 39.61 | W19: 104.04 | X19: 32.51 | Y19: 76.01 | Z19: 51.02 | AA19: 148.09 | AB19: 45.07 | AC19: 48.05 | AD19: 25.87 | AE19: 33.87 | AF19: 12.79 | AG19: 37.56
B20: 0.125 | C20: 38.54 | D20: 34.47 | E20: 44.86 | F20: 27.82 | G20: 101.83 | H20: 51.76 | I20: 26.93 | J20: 32.44 | K20: 22.23 | L20: 28.51 | M20: 38.43 | N20: 24.27 | O20: 33.4 | P20: 19.47 | Q20: 43.07 | R20: 68.64 | S20: 23.86 | T20: 13.95 | U20: 12.7 | V20: 41.45 | W20: 78.74 | X20: 36.03 | Y20: 44.1 | Z20: 42.05 | AA20: 99.4 | AB20: 52.22 | AC20: 26.28 | AD20: 19.77 | AE20: 27.46 | AF20: 12.83 | AG20: 56.01
B21: 0.16666667 | C21: 36.83 | D21: 33.62 | E21: 57.93 | F21: 47.74 | G21: 98.23 | H21: 44.4 | I21: 18.25 | J21: 33.95 | K21: 31.03 | L21: 24.53 | M21: 36.29 | N21: 24.78 | O21: 41.54 | P21: 41.61 | Q21: 42.47 | R21: 59.6 | S21: 20.61 | T21: 13.42 | U21: 14.35 | V21: 30.45 | W21: 85.53 | X21: 46.01 | Y21: 25.82 | Z21: 41.14 | AA21: 67.18 | AB21: 49.65 | AC21: 30.26 | AD21: 17.11 | AE21: 21.24 | AF21: 12.79 | AG21: 65.03
B22: 0.20833333 | C22: 29.04 | D22: 31.77 | E22: 50.19 | F22: 86.82 | G22: 83.7 | H22: 40.63 | I22: 18.68 | J22: 29.68 | K22: 30.44 | L22: 19.73 | M22: 31.06 | N22: 26.27 | O22: 39.68 | P22: 81.68 | Q22: 42.43 | R22: 44.98 | S22: 15.39 | T22: 13.82 | U22: 15.47 | V22: 28.17 | W22: 92.56 | X22: 61.52 | Y22: 23.05 | Z22: 27.41 | AA22: 43.4 | AB22: ID | AC22: 36.66 | AD22: 16.57 | AE22: 35.74 | AF22: 12.7 | AG22: 54.6
B23: 0.25 | C23: 38.35 | D23: 23.51 | E23: 40.58 | F23: 97.41 | G23: 78.58 | H23: 53.53 | I23: 20.16 | J23: 30.93 | K23: 27.96 | L23: 20.01 | M23: 21.75 | N23: 20.83 | O23: 36.69 | P23: 125.82 | Q23: 36.31 | R23: 41.93 | S23: 17.55 | T23: 16.75 | U23: 15.73 | V23: 26.34 | W23: 106.67 | X23: 85.59 | Y23: 22 | Z23: 25.14 | AA23: 22.87 | AB23: ND | AC23: 42.66 | AD23: 16.59 | AE23: 79.86 | AF23: 12.68 | AG23: 41.69
B24: 0.29166667 | C24: 40.31 | D24: 24.25 | E24: 40.78 | F24: 96.31 | G24: 78.01 | H24: 57.33 | I24: 22.87 | J24: 36.81 | K24: 24.93 | L24: 35.13 | M24: 20.05 | N24: 22.08 | O24: 32.11 | P24: 141.68 | Q24: 30.45 | R24: 36.21 | S24: 20.17 | T24: 19.98 | U24: 14.2 | V24: 23.8 | W24: 105.3 | X24: 84.91 | Y24: 23.38 | Z24: 44.31 | AA24: 20.96 | AB24: EE | AC24: 45.43 | AD24: 16.6 | AE24: 121.74 | AF24: 12.75 | AG24: 41.87
B25: 0.33333333 | C25: 43.82 | D25: 32.51 | E25: 52.9 | F25: 54.25 | G25: 67.78 | H25: 64.19 | I25: 24.07 | J25: 33.43 | K25: 24.45 | L25: 52.81 | M25: 21.97 | N25: 18.46 | O25: 27.83 | P25: 120.24 | Q25: 23.58 | R25: 30.09 | S25: 20.77 | T25: 22.3 | U25: 13.68 | V25: 25.67 | W25: 97.28 | X25: 61.42 | Y25: 49.62 | Z25: 49.19 | AA25: 29.8 | AB25: EE | AC25: 42.07 | AD25: 16.25 | AE25: 111.15 | AF25: 12.83 | AG25: 35.46
B26: 0.375 | C26: 35.23 | D26: 33.01 | E26: 92.72 | F26: 44.56 | G26: 60.15 | H26: 48.93 | I26: 23.23 | J26: 28.23 | K26: 27.21 | L26: 53.91 | M26: 23.94 | N26: 18.91 | O26: 24.1 | P26: 81.85 | Q26: 19.28 | R26: 29.62 | S26: 18.67 | T26: ID | U26: 14.06 | V26: 25.53 | W26: 77.18 | X26: 35.27 | Y26: 47.04 | Z26: 46.9 | AA26: 33.18 | AB26: ID | AC26: 34.32 | AD26: 15.54 | AE26: 66.02 | AF26: 12.9 | AG26: 32.24
B27: 0.41666667 | C27: 29.9 | D27: 28.06 | E27: 94.1 | F27: 22.93 | G27: 43.91 | H27: 37.87 | I27: 20.6 | J27: 19.8 | K27: 22.23 | L27: 38.08 | M27: 27.27 | N27: ID | O27: 19.84 | P27: 47.16 | Q27: 20.27 | R27: 26.82 | S27: 15.63 | T27: ID | U27: 14.28 | V27: 22.62 | W27: 46.53 | X27: 20.69 | Y27: 42.71 | Z27: 23.52 | AA27: 30.11 | AB27: ID | AC27: 22.23 | AD27: 14.01 | AE27: 24.08 | AF27: 12.95 | AG27: 21.3
B28: 0.45833333 | C28: 21.79 | D28: 18.46 | E28: 80.68 | F28: 19.75 | G28: 34.11 | H28: 24.15 | I28: 17.42 | J28: 15.03 | K28: 19.5 | L28: 18.24 | M28: 24.18 | N28: ID | O28: 16.8 | P28: 29.4 | Q28: 20.02 | R28: 24.87 | S28: 14.64 | T28: ID | U28: 13.84 | V28: 16.08 | W28: 18.16 | X28: 17.84 | Y28: 14.69 | Z28: 17.45 | AA28: 20.18 | AB28: 15.76 | AC28: 14.91 | AD28: 13.64 | AE28: ID | AF28: 12.98 | AG28: 17.21
B29: 0.5 | C29: 14.9 | D29: 14.69 | E29: 34.01 | F29: 16.07 | G29: 18.73 | H29: 14.69 | I29: 15.41 | J29: 14.02 | K29: 15.85 | L29: 14.46 | M29: 20.22 | N29: ID | O29: 14.66 | P29: 20 | Q29: ID | R29: 14.41 | S29: 13.52 | T29: 13.13 | U29: 13.33 | V29: 13.09 | W29: 13.34 | X29: 14.03 | Y29: 13.78 | Z29: 14.09 | AA29: 14.66 | AB29: 14.09 | AC29: 13.78 | AD29: 13.65 | AE29: ID | AF29: 12.98 | AG29: 14.62
B30: 0.54166667 | C30: 14 | D30: 13.9 | E30: 15.07 | F30: 14.63 | G30: 15.57 | H30: 14.04 | I30: 15.05 | J30: 13.68 | K30: 13.75 | L30: 13.68 | M30: 14.59 | N30: ID | O30: 14.02 | P30: 15.16 | Q30: IE | R30: 13.87 | S30: 13.42 | T30: 13.09 | U30: 13.1 | V30: 12.85 | W30: 13.35 | X30: 13.69 | Y30: 13.73 | Z30: 13.63 | AA30: 13.93 | AB30: 13.66 | AC30: 13.66 | AD30: 13.68 | AE30: ID | AF30: 12.92 | AG30: 13.6
B31: 0.58333333 | C31: 13.93 | D31: 13.69 | E31: 13.86 | F31: 14.21 | G31: 14.16 | H31: 13.91 | I31: 15.21 | J31: 13.54 | K31: 13.59 | L31: 13.65 | M31: 13.92 | N31: 13.57 | O31: 13.76 | P31: 13.57 | Q31: IE | R31: 13.65 | S31: 13.4 | T31: 13.06 | U31: 13.02 | V31: 12.76 | W31: 13.81 | X31: 13.49 | Y31: 13.68 | Z31: 13.56 | AA31: 13.93 | AB31: 13.63 | AC31: 13.67 | AD31: 13.59 | AE31: 13.4 | AF31: 12.96 | AG31: 13.76
B32: 0.625 | C32: 13.77 | D32: 13.54 | E32: 13.68 | F32: 13.76 | G32: 14.02 | H32: 13.79 | I32: 16.02 | J32: 13.5 | K32: 13.56 | L32: 13.5 | M32: 13.87 | N32: 13.4 | O32: 13.58 | P32: 13.42 | Q32: EE | R32: 13.55 | S32: ID | T32: 13.03 | U32: 12.98 | V32: 12.8 | W32: 13.79 | X32: 13.47 | Y32: 13.6 | Z32: 13.47 | AA32: 14.42 | AB32: 13.53 | AC32: 13.56 | AD32: 13.46 | AE32: 13.36 | AF32: 12.96 | AG32: 13.76
B33: 0.66666667 | C33: 13.67 | D33: 13.5 | E33: 13.64 | F33: 13.6 | G33: 13.95 | H33: 13.77 | I33: 15.53 | J33: 13.43 | K33: 13.5 | L33: 13.46 | M33: 13.67 | N33: 13.3 | O33: 13.53 | P33: 13.36 | Q33: ID | R33: 13.39 | S33: IE | T33: 12.95 | U33: ID | V33: 12.82 | W33: 13.68 | X33: 13.42 | Y33: 13.49 | Z33: 13.47 | AA33: 14.67 | AB33: 13.45 | AC33: 13.46 | AD33: 13.35 | AE33: 13.32 | AF33: 12.99 | AG33: 13.61
B34: 0.70833333 | C34: 13.51 | D34: 13.49 | E34: 13.52 | F34: 13.45 | G34: 14.83 | H34: 14.05 | I34: 17 | J34: 13.42 | K34: 13.47 | L34: 13.39 | M34: 13.55 | N34: 13.3 | O34: 13.39 | P34: 13.35 | Q34: ID | R34: 13.27 | S34: EE | T34: 12.88 | U34: MA | V34: 12.81 | W34: ID | X34: 13.4 | Y34: 13.41 | Z34: 13.41 | AA34: 14.77 | AB34: 13.36 | AC34: 13.31 | AD34: 13.28 | AE34: 13.28 | AF34: 12.93 | AG34: 13.34
B35: 0.75 | C35: 13.54 | D35: 13.45 | E35: 13.47 | F35: 13.45 | G35: 18.09 | H35: 15.5 | I35: 23.8 | J35: 13.56 | K35: 13.41 | L35: 13.41 | M35: 13.41 | N35: 13.26 | O35: 13.31 | P35: 13.38 | Q35: 22.78 | R35: 13.16 | S35: EE | T35: 12.86 | U35: ID | V35: 12.71 | W35: ID | X35: 13.34 | Y35: 13.41 | Z35: 13.41 | AA35: 14.37 | AB35: 13.35 | AC35: 13.24 | AD35: 13.2 | AE35: 13.2 | AF35: 12.93 | AG35: 13.24
B36: 0.79166667 | C36: 13.43 | D36: 19.06 | E36: 13.37 | F36: 13.43 | G36: 19.59 | H36: ID | I36: 46.26 | J36: 19 | K36: 13.26 | L36: 31.19 | M36: 13.38 | N36: 13.26 | O36: 20.43 | P36: 43.92 | Q36: 22.95 | R36: 19.39 | S36: ID | T36: 12.88 | U36: ID | V36: 12.62 | W36: ID | X36: 13.33 | Y36: 13.34 | Z36: 13.35 | AA36: 14.02 | AB36: 13.23 | AC36: 13.19 | AD36: 13.13 | AE36: 13.18 | AF36: 12.92 | AG36: 13.22
B37: 0.83333333 | C37: 13.34 | D37: 22.16 | E37: 18.85 | F37: 27.1 | G37: 18.9 | H37: ID | I37: 90.64 | J37: 51.59 | K37: 13.22 | L37: 47.82 | M37: 13.36 | N37: 13.07 | O37: 46.74 | P37: 52.68 | Q37: 21.54 | R37: 26.83 | S37: ID | T37: 12.88 | U37: ID | V37: 12.62 | W37: ID | X37: 13.32 | Y37: 13.27 | Z37: 13.27 | AA37: 13.77 | AB37: 13.14 | AC37: 13.14 | AD37: 13.14 | AE37: 13.07 | AF37: 12.92 | AG37: 13.28
B38: 0.875 | C38: 20.1 | D38: 24.55 | E38: 22.96 | F38: 43.6 | G38: 18.44 | H38: ID | I38: 104.92 | J38: 55.56 | K38: 29.02 | L38: 84.61 | M38: 13.27 | N38: 12.94 | O38: 48.1 | P38: 66.37 | Q38: 13.98 | R38: 29.27 | S38: 14.37 | T38: 12.84 | U38: 12.46 | V38: 12.54 | W38: 13.2 | X38: 13.24 | Y38: 13.23 | Z38: 13.2 | AA38: 13.62 | AB38: 13.04 | AC38: 13.38 | AD38: 13.17 | AE38: 13.01 | AF38: 12.98 | AG38: 13.24
B39: 0.91666667 | C39: 25.14 | D39: 48.02 | E39: 33.06 | F39: 64.9 | G39: 20.7 | H39: ID | I39: 83.96 | J39: 52.52 | K39: 32.73 | L39: 108.21 | M39: 16.65 | N39: 12.84 | O39: 41.78 | P39: 65.38 | Q39: 17.61 | R39: 36.69 | S39: 16.05 | T39: 12.8 | U39: 13.55 | V39: 19.55 | W39: 13.22 | X39: 13.12 | Y39: 13.19 | Z39: 31.55 | AA39: 13.6 | AB39: 12.99 | AC39: 60.07 | AD39: 13.6 | AE39: 12.93 | AF39: 14.6 | AG39: 30.37
B40: 0.95833333 | C40: 25.83 | D40: 65.28 | E40: 50.71 | F40: 80.05 | G40: 31.18 | H40: ID | I40: 40.45 | J40: 26.15 | K40: 38.33 | L40: 114.27 | M40: 18.93 | N40: 38.91 | O40: 18.42 | P40: 76.94 | Q40: 57.71 | R40: 38.37 | S40: 17.38 | T40: 12.87 | U40: 16.37 | V40: 79.5 | W40: 13.66 | X40: 37.06 | Y40: 22.3 | Z40: 118.28 | AA40: 13.6 | AB40: 33.18 | AC40: 76.09 | AD40: 24.89 | AE40: 12.93 | AF40: 16.83 | AG40: 47.8
B41: Estado de cuidado de SO₂ | C41: 500 µg/m³ en periodo de 3 horas móviles
B42: ID: Insuficiencia de datos
B43: IE:Interrupción eléctrica
B44: EE: Evaluación del especialista
B45: MA: Mantenimiento preventivo o correctivo del equipo
B46: ND: No disponible

Sheet H2S_CA-ILO-02
F2: Tabla 3.15. Concentraciones horarias de H₂S
B6: TÍTULO DEL ESTUDIO: | F6: ='PM10_CA-ILO-02'!F6 -> Evaluación de seguimiento de la calidad del aire en la Municipalidad de PacochaI, distrito Pacocha, provincia Ilo, departamento Moquegua, en marzo 2022
B8: ESTACIÓN DE MONITOREO: | F8: CA-ILO-02 | Q8: CÓDIGO DE ACCIÓN:
B10: DATOS DEL EQUIPO
B12: EQUIPO: | F12: Analizador sulfuro de hidrógeno | Q12: MARCA: | V12: THERMO SCIENTIFIC
B14: MODELO: | F14: 450i | Q14: SERIE: | V14: CM19490139
B16: Hora\Día | C16: 1 | D16: 2 | E16: 3 | F16: 4 | G16: 5 | H16: 6 | I16: 7 | J16: 8 | K16: 9 | L16: 10 | M16: 11 | N16: 12 | O16: 13 | P16: 14 | Q16: 15 | R16: 16 | S16: 17 | T16: 18 | U16: 19 | V16: 20 | W16: 21 | X16: 22 | Y16: 23 | Z16: 24 | AA16: 25 | AB16: 26 | AC16: 27 | AD16: 28 | AE16: 29 | AF16: 30 | AG16: 31
B17: 0 | C17: 17.6 | D17: 17.47 | E17: 46.52 | F17: 48.33 | G17: 64.22 | H17: 37.09 | I17: 27.62 | J17: 26.45 | K17: 15.23 | L17: 20.35 | M17: 62.41 | N17: 27.81 | O17: 33.55 | P17: 60.23 | Q17: 37.04 | R17: 47.58 | S17: 27.17 | T17: 20.02 | U17: 12.41 | V17: 12.59 | W17: 11.8 | X17: 42.02 | Y17: 10.54 | Z17: 14.76 | AA17: 10.73 | AB17: 11.79 | AC17: 22.8 | AD17: 17.07 | AE17: 11.47 | AF17: 10.13 | AG17: 9.83
B18: 0.041666667 | C18: 34.04 | D18: 11.66 | E18: 24.32 | F18: 48.48 | G18: 166.52 | H18: 39.92 | I18: 58.52 | J18: 26.01 | K18: 41 | L18: 16.64 | M18: 22.88 | N18: 60.91 | O18: 23.55 | P18: 17.82 | Q18: 43.19 | R18: 19.57 | S18: 16.01 | T18: 13.39 | U18: 12.11 | V18: 12.38 | W18: 11.83 | X18: 34.68 | Y18: 11.94 | Z18: 11.23 | AA18: 10.48 | AB18: 14.57 | AC18: 23.23 | AD18: 12.33 | AE18: 10.63 | AF18: 10.62 | AG18: 10.65
B19: 0.083333333 | C19: 29.55 | D19: 36.32 | E19: 19.03 | F19: 98.76 | G19: 35.36 | H19: 38.07 | I19: 31.86 | J19: 35.71 | K19: 14.25 | L19: 16.53 | M19: 12.79 | N19: 44.13 | O19: 18.85 | P19: 12.98 | Q19: 16.99 | R19: 27.05 | S19: 22.77 | T19: 12.58 | U19: 12.09 | V19: 11.97 | W19: 11.05 | X19: 14.46 | Y19: 10.38 | Z19: 12.37 | AA19: 10.44 | AB19: 21.88 | AC19: 13.2 | AD19: 11.43 | AE19: 10.36 | AF19: 10.69 | AG19: 11.02
B20: 0.125 | C20: 60.09 | D20: 56.48 | E20: 14.62 | F20: 75.95 | G20: 182.76 | H20: 37.85 | I20: 20.47 | J20: 58.73 | K20: 116.25 | L20: 11.77 | M20: 15.03 | N20: 30.87 | O20: 36.72 | P20: 15.89 | Q20: 52.49 | R20: 33.4 | S20: 12.36 | T20: 17.97 | U20: 15 | V20: 11.4 | W20: 11.23 | X20: 12.4 | Y20: 10.04 | Z20: 10.42 | AA20: 10.33 | AB20: 16.44 | AC20: 10.19 | AD20: 12.26 | AE20: 10.58 | AF20: 10.59 | AG20: 10.72
B21: 0.16666667 | C21: 131.09 | D21: 74.23 | E21: 22.92 | F21: 24.69 | G21: 121.21 | H21: 125.32 | I21: 15.04 | J21: 51.96 | K21: 14.44 | L21: 63.97 | M21: 28.86 | N21: 31.71 | O21: 12.34 | P21: 19.86 | Q21: 48.55 | R21: 40.42 | S21: 33.58 | T21: 13.72 | U21: 14.09 | V21: 11.88 | W21: 11.2 | X21: 11.87 | Y21: 9.88 | Z21: 10.62 | AA21: 10.37 | AB21: 11.02 | AC21: 9.97 | AD21: 11.31 | AE21: 10.88 | AF21: 10.62 | AG21: 10.29
B22: 0.20833333 | C22: 98.27 | D22: 36.71 | E22: 16.76 | F22: 23.39 | G22: 26.34 | H22: 29.98 | I22: 13.44 | J22: 22.87 | K22: 19.38 | L22: 30.86 | M22: 21.38 | N22: 14.54 | O22: 58.78 | P22: 68.19 | Q22: 38.29 | R22: 31.93 | S22: 12.52 | T22: 12.97 | U22: 11.95 | V22: 11.94 | W22: 11.02 | X22: 11.38 | Y22: 10.01 | Z22: 10.59 | AA22: 10.42 | AB22: ID | AC22: 12.65 | AD22: 10.55 | AE22: 35.78 | AF22: 10.7 | AG22: 10.69
B23: 0.25 | C23: 27.83 | D23: 25.59 | E23: 21.74 | F23: 16.85 | G23: 17.14 | H23: 33.44 | I23: 13.27 | J23: 72.86 | K23: 26.84 | L23: 21.27 | M23: 15.8 | N23: 148.45 | O23: 86.25 | P23: 19.78 | Q23: 11.8 | R23: 32.92 | S23: 14.79 | T23: 13.05 | U23: 11.58 | V23: 11.73 | W23: 10.91 | X23: 10.54 | Y23: 10.19 | Z23: 11.13 | AA23: 48.8 | AB23: ND | AC23: 9.88 | AD23: 10.55 | AE23: 30.14 | AF23: 10.58 | AG23: 11.01
B24: 0.29166667 | C24: 58.98 | D24: 98.94 | E24: 58.63 | F24: 70.96 | G24: 41.6 | H24: 46.86 | I24: 52.68 | J24: 42.27 | K24: 24.02 | L24: 20.7 | M24: 15.01 | N24: 77.71 | O24: 151.3 | P24: 54.49 | Q24: 12.98 | R24: 31.78 | S24: 55.43 | T24: 17.78 | U24: 11.69 | V24: 11.8 | W24: 11.65 | X24: 12.25 | Y24: 23.32 | Z24: 12.62 | AA24: 74.92 | AB24: EE | AC24: 12.93 | AD24: 15.35 | AE24: 89.18 | AF24: 10.45 | AG24: 12.18
B25: 0.33333333 | C25: 20.25 | D25: 21.13 | E25: 61.41 | F25: 15.23 | G25: 64.15 | H25: 20.03 | I25: 36.61 | J25: 17.15 | K25: 30.89 | L25: 25.48 | M25: 27.65 | N25: 16.35 | O25: 32.12 | P25: 42.71 | Q25: 12.94 | R25: 24.53 | S25: 23.64 | T25: 14.48 | U25: 12.07 | V25: 25.42 | W25: 19.67 | X25: 11.34 | Y25: 22.78 | Z25: 14.65 | AA25: 24.95 | AB25: EE | AC25: 12.15 | AD25: 11.44 | AE25: 29.62 | AF25: 10.51 | AG25: 12.44
B26: 0.375 | C26: 13.96 | D26: 37.89 | E26: 55.34 | F26: 14.47 | G26: 39.43 | H26: 13.89 | I26: 21.32 | J26: 12.8 | K26: 25.78 | L26: 28.59 | M26: 12.7 | N26: 14.16 | O26: 14.11 | P26: 46.72 | Q26: 15.71 | R26: 22.17 | S26: 46.94 | T26: ID | U26: 11.73 | V26: 22.11 | W26: 11.9 | X26: 10.84 | Y26: 9.62 | Z26: 11.23 | AA26: 13.12 | AB26: 11.02 | AC26: 11.05 | AD26: 10.87 | AE26: 12.02 | AF26: 10.49 | AG26: 10.79
B27: 0.41666667 | C27: 12.34 | D27: 10.79 | E27: 33.85 | F27: 14.08 | G27: 13.93 | H27: 12.04 | I27: 14.72 | J27: 11.68 | K27: 21.38 | L27: 15.6 | M27: 12.11 | N27: 13.3 | O27: 11.05 | P27: 20.72 | Q27: 24.2 | R27: 10.83 | S27: 11.37 | T27: 12.2 | U27: 11.8 | V27: 11.11 | W27: 11.38 | X27: 11.41 | Y27: 9.84 | Z27: 10.17 | AA27: 11.66 | AB27: 10.13 | AC27: 10.74 | AD27: 10.61 | AE27: 11.12 | AF27: 10.36 | AG27: 10.8
B28: 0.45833333 | C28: 12.07 | D28: 10.36 | E28: 19.06 | F28: 13.58 | G28: 23.38 | H28: 12.12 | I28: 13.18 | J28: 11.2 | K28: 11.81 | L28: 11.51 | M28: 11.81 | N28: 12.18 | O28: 12.23 | P28: 12.41 | Q28: 10.31 | R28: 11.09 | S28: 11.05 | T28: 12.22 | U28: 11.86 | V28: 11.72 | W28: 10.91 | X28: 10.65 | Y28: 9.22 | Z28: 9.6 | AA28: 9.79 | AB28: 9.77 | AC28: 10.88 | AD28: 10.34 | AE28: ID | AF28: 10.56 | AG28: 10.51
B29: 0.5 | C29: 11.52 | D29: 10.66 | E29: 14.05 | F29: 13.33 | G29: 12.58 | H29: 12.15 | I29: 12.75 | J29: 11.26 | K29: 11.23 | L29: 11.59 | M29: 11.31 | N29: VF | O29: 11.25 | P29: 12.57 | Q29: ID | R29: 9.15 | S29: 11.38 | T29: 12.55 | U29: 11.95 | V29: 11.44 | W29: 11.01 | X29: 10.48 | Y29: 10.01 | Z29: 9.94 | AA29: 10.31 | AB29: 10.13 | AC29: 10.83 | AD29: 9.7 | AE29: ID | AF29: 10.59 | AG29: 10.49
B30: 0.54166667 | C30: 12.38 | D30: 9.97 | E30: 13.91 | F30: 13.2 | G30: 12.48 | H30: 12.07 | I30: 12.69 | J30: 11.65 | K30: 11.04 | L30: 11.09 | M30: 11.63 | N30: 11.23 | O30: 11.51 | P30: 11.33 | Q30: IE | R30: 9.8 | S30: 11.55 | T30: 11.94 | U30: 11.97 | V30: 11.22 | W30: 10.79 | X30: 9.92 | Y30: 9.87 | Z30: 10.06 | AA30: 11.34 | AB30: 9.94 | AC30: 10.45 | AD30: 9.95 | AE30: 11.38 | AF30: 10.65 | AG30: 10.45
B31: 0.58333333 | C31: 12.84 | D31: 10.12 | E31: 13.8 | F31: 13.14 | G31: 12.32 | H31: 12.38 | I31: 12.91 | J31: 11.84 | K31: 11.22 | L31: 11.62 | M31: 12.11 | N31: 11.62 | O31: 11.73 | P31: 11.02 | Q31: IE | R31: 11.23 | S31: 11.02 | T31: 11.56 | U31: 12.01 | V31: 10.88 | W31: 11.33 | X31: 10.33 | Y31: 9.74 | Z31: 9.99 | AA31: 10.66 | AB31: 10.09 | AC31: 10.15 | AD31: 9.81 | AE31: 10.08 | AF31: 10.26 | AG31: 10.47
B32: 0.625 | C32: 12.51 | D32: 11.31 | E32: 13.76 | F32: 12.69 | G32: 12.25 | H32: 11.84 | I32: 12.23 | J32: 11.77 | K32: 11.11 | L32: 11.68 | M32: 11.95 | N32: 12.15 | O32: 11.3 | P32: 11.38 | Q32: EE | R32: 11.84 | S32: ID | T32: 12.08 | U32: 11.73 | V32: 10.49 | W32: 8.27 | X32: 9.86 | Y32: 10.19 | Z32: 10.31 | AA32: 11.25 | AB32: 9.73 | AC32: 10.31 | AD32: 10.16 | AE32: 11.09 | AF32: 10.37 | AG32: 9.8
B33: 0.66666667 | C33: 12.79 | D33: 10.76 | E33: 13.62 | F33: 12.72 | G33: 12.9 | H33: 11.76 | I33: 12.33 | J33: 11.62 | K33: 11.44 | L33: 11.91 | M33: 11.86 | N33: 11.3 | O33: 11.59 | P33: 12.01 | Q33: 11.58 | R33: 12.05 | S33: IE | T33: 12.33 | U33: 11.51 | V33: 11.09 | W33: 8.56 | X33: 10.06 | Y33: 10.41 | Z33: 10.58 | AA33: 10.55 | AB33: 9.58 | AC33: 10.55 | AD33: 10.12 | AE33: 10.65 | AF33: 10.34 | AG33: 9.7
B34: 0.70833333 | C34: 13.08 | D34: 11.7 | E34: 13.76 | F34: 12.75 | G34: 13.3 | H34: 11.95 | I34: 12.75 | J34: 11.98 | K34: 11.87 | L34: 11.7 | M34: 11.84 | N34: 11.61 | O34: 11.97 | P34: 11.88 | Q34: 16.87 | R34: 11.98 | S34: EE | T34: 12.44 | U34: 11.76 | V34: 11.12 | W34: ID | X34: 10.29 | Y34: 10.47 | Z34: 10.69 | AA34: 10.08 | AB34: 9.91 | AC34: 9.95 | AD34: 10.23 | AE34: 10.69 | AF34: 10.33 | AG34: 10.26
B35: 0.75 | C35: 12.05 | D35: 13.34 | E35: 13.36 | F35: 13.05 | G35: 12.59 | H35: 11.84 | I35: 21.48 | J35: 12.43 | K35: 11.61 | L35: 11.26 | M35: 11.72 | N35: 12.25 | O35: 11.58 | P35: 11.95 | Q35: 33.76 | R35: 11.65 | S35: EE | T35: 12 | U35: 11.44 | V35: 11.38 | W35: EE | X35: 10.62 | Y35: 10.4 | Z35: 10.48 | AA35: 9.56 | AB35: 9.34 | AC35: 10.37 | AD35: 10.36 | AE35: 10.48 | AF35: 10.09 | AG35: 10.44
B36: 0.79166667 | C36: 9.42 | D36: 38.6 | E36: 13.33 | F36: 12.52 | G36: 12.47 | H36: ID | I36: 39.21 | J36: 32.61 | K36: 11.94 | L36: 28.73 | M36: 11.72 | N36: 11.41 | O36: 27.72 | P36: 12.26 | Q36: 30.29 | R36: 26.51 | S36: 42.33 | T36: 12 | U36: 10.66 | V36: 11.25 | W36: 9.38 | X36: 10.31 | Y36: 10.4 | Z36: 10.52 | AA36: 9.91 | AB36: 10.15 | AC36: 9.9 | AD36: 10.77 | AE36: 10.61 | AF36: 10.62 | AG36: 10.41
B37: 0.83333333 | C37: 9.88 | D37: 123.82 | E37: 71.53 | F37: 34.07 | G37: 12.54 | H37: ID | I37: 45.12 | J37: 25.15 | K37: 12.4 | L37: 60.42 | M37: 11.09 | N37: 11.94 | O37: 31.5 | P37: 48.09 | Q37: 20.11 | R37: 22.81 | S37: 48.23 | T37: 12 | U37: 11.01 | V37: 11.48 | W37: 9.66 | X37: 10.48 | Y37: 10.19 | Z37: 10.09 | AA37: 9.48 | AB37: 9.77 | AC37: 10.34 | AD37: 10.72 | AE37: 10.58 | AF37: 10.24 | AG37: 10.68
B38: 0.875 | C38: 14.86 | D38: 54.02 | E38: 56.49 | F38: 14.41 | G38: 32.4 | H38: ID | I38: 25.58 | J38: 17.1 | K38: 14.15 | L38: 88.2 | M38: 11.65 | N38: 11.69 | O38: 36.74 | P38: 12.66 | Q38: 20.59 | R38: 24.74 | S38: 22.98 | T38: 12.23 | U38: 10.9 | V38: 11.27 | W38: 9.9 | X38: 10.63 | Y38: 10.31 | Z38: 9.87 | AA38: 9.59 | AB38: 9.84 | AC38: 12.11 | AD38: 10.45 | AE38: 10.56 | AF38: 12.66 | AG38: 10.86
B39: 0.91666667 | C39: 22.11 | D39: 66.87 | E39: 52.58 | F39: 47.33 | G39: 20.15 | H39: ID | I39: 35.29 | J39: 27.29 | K39: 53.85 | L39: 109.75 | M39: 31.97 | N39: 11.47 | O39: 21.2 | P39: 23.5 | Q39: 19.88 | R39: 20.36 | S39: 12.9 | T39: 12.5 | U39: 31.41 | V39: 11.15 | W39: 9.62 | X39: 9.77 | Y39: 9.65 | Z39: 12.29 | AA39: 9.51 | AB39: 10.19 | AC39: 31.82 | AD39: 12.94 | AE39: 11.01 | AF39: 10.86 | AG39: 25.88
B40: 0.95833333 | C40: 44.67 | D40: 44.56 | E40: 71.99 | F40: 24.31 | G40: 15 | H40: 42.34 | I40: 41.7 | J40: 26.38 | K40: 27.62 | L40: 37.77 | M40: 65.23 | N40: 12.27 | O40: 18.36 | P40: 38.48 | Q40: 26.03 | R40: 30.05 | S40: 13.58 | T40: 12.58 | U40: 32.55 | V40: 12.19 | W40: 13.23 | X40: 10.55 | Y40: 11.91 | Z40: 20.96 | AA40: 9.22 | AB40: 12.45 | AC40: 18.45 | AD40: 11.87 | AE40: 10.38 | AF40: 10.36 | AG40: 12.59
B41: Promedio de H₂S en 24 h | C41: 29.3 | D41: 35.1 | E41: 31.5 | F41: 28.7 | G41: 40.7 | H41: 28.6 | I41: 25.1 | J41: 25 | K41: 23.4 | L41: 28.7 | M41: 19.7 | N41: 27 | O41: 29.5 | P41: 25.4 | Q41: 25.2 | R41: 22.3 | S41: 23.1 | T41: 13.3 | U41: 13.6 | V41: 12.5 | W41: 11.2 | X41: 13.2 | Y41: 11.3 | Z41: 11.5 | AA41: 15.3 | AB41: 11.4 | AC41: 13.1 | AD41: 11.3 | AE41: 17.2 | AF41: 10.6 | AG41: 11.4
B42: ECA aire de H₂S | C42: 150 µg/m³ en periodo de 24 horas
B44: ID: Insuficiencia de datos
B45: VF: Verificación de equipo
B46: IE:Interrupción eléctrica
B47: EE: Evaluación del especialista
B48: ND: No disponible

Sheet NO2_CA-ILO-02
F2: Tabla 3.16. Concentraciones horarias de NO₂
B6: TÍTULO DEL ESTUDIO: | F6: ='PM10_CA-ILO-02'!F6 -> Evaluación de seguimiento de la calidad del aire en la Municipalidad de PacochaI, distrito Pacocha, provincia Ilo, departamento Moquegua, en marzo 2022
B8: ESTACIÓN DE MONITOREO: | F8: CA-ILO-02 | Q8: CÓDIGO DE ACCIÓN:
B10: DATOS DEL EQUIPO
B12: EQUIPO: | F12: Analizador dióxido de nitrógeno | Q12: MARCA: | V12: THERMO SCIENTIFIC
B14: MODELO: | F14: 42i | Q14: SERIE: | V14: 1192914960
B16: Hora\Día | C16: 1 | D16: 2 | E16: 3 | F16: 4 | G16: 5 | H16: 6 | I16: 7 | J16: 8 | K16: 9 | L16: 10 | M16: 11 | N16: 12 | O16: 13 | P16: 14 | Q16: 15 | R16: 16 | S16: 17 | T16: 18 | U16: 19 | V16: 20 | W16: 21 | X16: 22 | Y16: 23 | Z16: 24 | AA16: 25 | AB16: 26 | AC16: 27 | AD16: 28 | AE16: 29 | AF16: 30 | AG16: 31
B17: 0 | C17: 6.81 | D17: 12.45 | E17: 8.35 | F17: 16.02 | G17: 13.5 | H17: 17.3 | I17: 8.16 | J17: 11.88 | K17: 7.76 | L17: 5.66 | M17: 19.23 | N17: 10.26 | O17: 10.4 | P17: 10.19 | Q17: 12.3 | R17: 12.13 | S17: 11.36 | T17: 15.68 | U17: 3.33 | V17: 6.62 | W17: 10.92 | X17: 18.72 | Y17: 10.08 | Z17: 14.12 | AA17: 16.07 | AB17: 5.15 | AC17: 18.24 | AD17: 11.77 | AE17: 7.76 | AF17: 2.82 | AG17: 3.57
B18: 0.041666667 | C18: 16.98 | D18: 10.36 | E18: 11.36 | F18: 8.52 | G18: 16.71 | H18: 14.95 | I18: 8.33 | J18: 15.1 | K18: 7.43 | L18: 8.8 | M18: 8.42 | N18: 6.49 | O18: 4.94 | P18: 10.13 | Q18: 9.59 | R18: 10.55 | S18: 9.23 | T18: 8.08 | U18: 2.43 | V18: 7.93 | W18: 12.77 | X18: 13.2 | Y18: 10.68 | Z18: 5.64 | AA18: 10.21 | AB18: 19.57 | AC18: 12.2 | AD18: 4.96 | AE18: 5.23 | AF18: 2.39 | AG18: 4.51
B19: 0.083333333 | C19: 12.13 | D19: 9.63 | E19: 10.3 | F19: 12.88 | G19: 17.35 | H19: 13.24 | I19: 6.71 | J19: 13.54 | K19: 6.66 | L19: 8.82 | M19: 7.05 | N19: 7.91 | O19: 10.4 | P19: 3.1 | Q19: 9.19 | R19: 11.15 | S19: 14.14 | T19: 4.61 | U19: 2.35 | V19: 4.34 | W19: 10.36 | X19: 11.09 | Y19: 3.72 | Z19: 12.31 | AA19: 6.73 | AB19: 18.2 | AC19: 7.91 | AD19: 7.13 | AE19: 3.63 | AF19: 2.29 | AG19: 12.01
B20: 0.125 | C20: 13.87 | D20: 14.59 | E20: 11.62 | F20: 12.26 | G20: 17.13 | H20: 11.62 | I20: 6.64 | J20: 11.49 | K20: 5.43 | L20: 4.1 | M20: 9.66 | N20: 7.18 | O20: 10.13 | P20: 6.13 | Q20: 13.54 | R20: 10.02 | S20: 4.23 | T20: 3.08 | U20: 2.63 | V20: 4.38 | W20: 3.97 | X20: 10.23 | Y20: 4.27 | Z20: 7.52 | AA20: 5.87 | AB20: 14.19 | AC20: 4.57 | AD20: 7.43 | AE20: 3.29 | AF20: 2.35 | AG20: 9.55
B21: 0.16666667 | C21: 13.1 | D21: 14.81 | E21: 13.37 | F21: 13.86 | G21: 14.44 | H21: 14.46 | I21: 9.12 | J21: 6.32 | K21: 9.4 | L21: 5.87 | M21: 5.85 | N21: 4.76 | O21: 8.01 | P21: 9.34 | Q21: 14.01 | R21: 12.86 | S21: 4.12 | T21: 3.63 | U21: 4.59 | V21: 4.17 | W21: 6.73 | X21: 14.46 | Y21: 3.29 | Z21: 4.32 | AA21: 3.14 | AB21: 8.59 | AC21: 4.94 | AD21: 4.94 | AE21: 2.73 | AF21: 2.5 | AG21: 4.87
B22: 0.20833333 | C22: 8.85 | D22: 15.25 | E22: 7.76 | F22: 21.54 | G22: 12.84 | H22: 11.77 | I22: 15.6 | J22: 10.51 | K22: 8.44 | L22: 6.43 | M22: 7.99 | N22: 8.89 | O22: 9.4 | P22: 10.42 | Q22: 12.93 | R22: 13.67 | S22: 6.47 | T22: 4.62 | U22: 6.17 | V22: 8.1 | W22: 9.68 | X22: 18.63 | Y22: 2.95 | Z22: 4.19 | AA22: 3.87 | AB22: ID | AC22: 7.86 | AD22: 3.91 | AE22: 16.68 | AF22: 4.04 | AG22: 4.59
B23: 0.25 | C23: 12.65 | D23: 21.54 | E23: 17.95 | F23: 13.5 | G23: 11.15 | H23: 14.21 | I23: 12.58 | J23: 18.99 | K23: 14.19 | L23: 9.81 | M23: 12.3 | N23: 13.24 | O23: 7.75 | P23: 13.78 | Q23: 9.59 | R23: 11.71 | S23: 8.8 | T23: 7.67 | U23: 11.04 | V23: 6.67 | W23: 13.42 | X23: 11.79 | Y23: 7.73 | Z23: 8.38 | AA23: 9.95 | AB23: ND | AC23: 9.46 | AD23: 13.82 | AE23: 19.35 | AF23: 6 | AG23: 5.64
B24: 0.29166667 | C24: 10.34 | D24: 15.85 | E24: 15.23 | F24: 14.02 | G24: 11.69 | H24: 7.2 | I24: 12.8 | J24: 21.81 | K24: 10.75 | L24: 11.24 | M24: 8.61 | N24: 12.86 | O24: 8.59 | P24: 12.07 | Q24: 8.95 | R24: 12.73 | S24: 11.36 | T24: 14.93 | U24: 6.97 | V24: 4.31 | W24: 19.19 | X24: 16.07 | Y24: 14.66 | Z24: 16.32 | AA24: 12.35 | AB24: EE | AC24: 7.9 | AD24: 14.1 | AE24: 19.04 | AF24: 8.42 | AG24: 15.72
B25: 0.33333333 | C25: 8.29 | D25: 10.11 | E25: 12.3 | F25: 9.72 | G25: 9.49 | H25: 6.82 | I25: 11.39 | J25: 9.04 | K25: 5.4 | L25: 10.55 | M25: 7.33 | N25: 4.66 | O25: 4.42 | P25: 6.28 | Q25: 6.3 | R25: 6.99 | S25: 8.67 | T25: 8.35 | U25: 5.68 | V25: 6.92 | W25: 10.68 | X25: 14.33 | Y25: 11.98 | Z25: 10.85 | AA25: 12.67 | AB25: EE | AC25: 7.6 | AD25: 9.68 | AE25: 14.27 | AF25: 6.17 | AG25: 8.38
B26: 0.375 | C26: 6.03 | D26: 6.58 | E26: 11.56 | F26: 7.73 | G26: 6.37 | H26: 6.02 | I26: 6.77 | J26: 5.49 | K26: 4.7 | L26: 6.97 | M26: 8.1 | N26: 4.15 | O26: 4.19 | P26: 6.45 | Q26: 5.3 | R26: 6.41 | S26: 6.92 | T26: ID | U26: 5.06 | V26: 5.21 | W26: 6.73 | X26: 8.59 | Y26: 4.96 | Z26: 6.17 | AA26: 8.12 | AB26: 8.55 | AC26: 4.32 | AD26: 5.36 | AE26: 8.76 | AF26: 5.56 | AG26: 5.49
B27: 0.41666667 | C27: 7.05 | D27: 5.28 | E27: 7.33 | F27: 7.14 | G27: 4.49 | H27: 3.5 | I27: 6.71 | J27: 4.49 | K27: 6.28 | L27: 4.57 | M27: 6.34 | N27: 5.15 | O27: 4 | P27: 4.32 | Q27: 5.72 | R27: 4.55 | S27: 4.21 | T27: 4.81 | U27: 6.24 | V27: 3.48 | W27: 4.68 | X27: 5.92 | Y27: 4.68 | Z27: 5.13 | AA27: 6.75 | AB27: 5.7 | AC27: 4.08 | AD27: 7.5 | AE27: 7.24 | AF27: 4.64 | AG27: 7.24
B28: 0.45833333 | C28: 4.85 | D28: 5.13 | E28: 4.87 | F28: 4.94 | G28: 4.89 | H28: 3.06 | I28: 4.42 | J28: 4.23 | K28: 4.04 | L28: 3.67 | M28: 6 | N28: 4.27 | O28: 3.27 | P28: 4.49 | Q28: 3.68 | R28: 4.12 | S28: 4.25 | T28: 4.23 | U28: 6.73 | V28: 3.29 | W28: 4.68 | X28: 5.38 | Y28: 4.42 | Z28: 4.98 | AA28: 4.94 | AB28: 5.38 | AC28: 3.42 | AD28: 7.13 | AE28: 6.88 | AF28: 4.59 | AG28: 4.46
B29: 0.5 | C29: 4.42 | D29: 4.66 | E29: 4.46 | F29: 5.06 | G29: 3.72 | H29: 2.97 | I29: 4.06 | J29: 4.32 | K29: 3.53 | L29: 3.7 | M29: 4.25 | N29: 4.19 | O29: 3.93 | P29: 3.33 | Q29: ID | R29: 4.31 | S29: 4.06 | T29: 3.8 | U29: 4.29 | V29: 3.18 | W29: 4.36 | X29: 4.38 | Y29: 4.91 | Z29: 4.53 | AA29: 4.96 | AB29: 5.15 | AC29: 3.46 | AD29: 4.51 | AE29: 4.17 | AF29: 4.62 | AG29: 4
B30: 0.54166667 | C30: 4.29 | D30: 4.12 | E30: 3.7 | F30: 4.29 | G30: 3.63 | H30: 2.84 | I30: 4.7 | J30: 4.44 | K30: 3.52 | L30: 3.55 | M30: 4.59 | N30: 3.89 | O30: 3.01 | P30: 3.46 | Q30: IE | R30: 3.63 | S30: 3.74 | T30: 3.76 | U30: 4.08 | V30: 2.76 | W30: 4.72 | X30: 4.31 | Y30: 4.93 | Z30: 4.59 | AA30: 5.49 | AB30: 6.17 | AC30: 3.23 | AD30: 4.29 | AE30: VF | AF30: 5.21 | AG30: 4.66
B31: 0.58333333 | C31: 4.57 | D31: 4.23 | E31: 4.4 | F31: 4.59 | G31: 3.55 | H31: 3.16 | I31: 4.4 | J31: 4.53 | K31: 3.53 | L31: 3.76 | M31: 5.68 | N31: ID | O31: 3.65 | P31: 3.97 | Q31: IE | R31: 4 | S31: 3.78 | T31: 3.95 | U31: 4.08 | V31: 3.44 | W31: 5.55 | X31: 4.68 | Y31: 4.87 | Z31: 5.55 | AA31: 5.41 | AB31: 4.68 | AC31: 3.7 | AD31: 5.34 | AE31: 4.49 | AF31: 6.96 | AG31: 4.89
B32: 0.625 | C32: 4.72 | D32: 5.51 | E32: 5.15 | F32: 4.08 | G32: 3.78 | H32: 2.88 | I32: 4.7 | J32: 4.93 | K32: 3.7 | L32: 3.78 | M32: 4.47 | N32: 3.72 | O32: 3.37 | P32: 3.78 | Q32: EE | R32: 3.5 | S32: ID | T32: 4.38 | U32: 4.04 | V32: 2.76 | W32: 4.51 | X32: 4.17 | Y32: 4.49 | Z32: 4.94 | AA32: 5.45 | AB32: 4.15 | AC32: 3.5 | AD32: 5.32 | AE32: 4.55 | AF32: 5.41 | AG32: 4.46
B33: 0.66666667 | C33: 4.85 | D33: 5.26 | E33: 4.81 | F33: 3.95 | G33: 3.53 | H33: 2.58 | I33: 5.04 | J33: 4.91 | K33: 3.67 | L33: 3.59 | M33: 4.25 | N33: 3.31 | O33: 3.21 | P33: 3.91 | Q33: 4.04 | R33: 3.95 | S33: IE | T33: 3.7 | U33: 4.14 | V33: 2.61 | W33: 4.85 | X33: 4.57 | Y33: 4.66 | Z33: 4.76 | AA33: 6.07 | AB33: 4.34 | AC33: 3.23 | AD33: 5.64 | AE33: 4.42 | AF33: 5.32 | AG33: 4.55
B34: 0.70833333 | C34: 5.9 | D34: 5.41 | E34: 5.45 | F34: 6.11 | G34: 5.26 | H34: 3.27 | I34: 7.97 | J34: 5.3 | K34: 4.36 | L34: 4.06 | M34: 4.31 | N34: 3.84 | O34: 3.95 | P34: 4.96 | Q34: 5.3 | R34: 4.76 | S34: EE | T34: 4.21 | U34: 3.7 | V34: 3.33 | W34: ID | X34: 5.34 | Y34: 5.7 | Z34: 5.58 | AA34: 6.71 | AB34: 4.72 | AC34: 3.84 | AD34: 6.28 | AE34: 5.72 | AF34: 6.22 | AG34: 5.51
B35: 0.75 | C35: 6.67 | D35: 11.19 | E35: 6.62 | F35: 6.97 | G35: 8.85 | H35: 5.28 | I35: 11.41 | J35: 6.37 | K35: 4.62 | L35: 6.05 | M35: 6.41 | N35: 4.62 | O35: 4.68 | P35: 6.75 | Q35: 7.35 | R35: 6.03 | S35: EE | T35: 5.26 | U35: 5.3 | V35: 4.59 | W35: EE | X35: 7.5 | Y35: 7.05 | Z35: 7.97 | AA35: 9.81 | AB35: 6.24 | AC35: 4.62 | AD35: 7.56 | AE35: 6.62 | AF35: 8.37 | AG35: 6.96
B36: 0.79166667 | C36: 7.09 | D36: 15.79 | E36: 6.32 | F36: 7.52 | G36: 6.94 | H36: ID | I36: 12.09 | J36: 13.1 | K36: 3.35 | L36: 10.57 | M36: 6.62 | N36: 5.62 | O36: 8.2 | P36: 16.75 | Q36: 7.26 | R36: 11.22 | S36: 5.34 | T36: 5.25 | U36: 6.52 | V36: 5.62 | W36: 7.05 | X36: 6.24 | Y36: 4.81 | Z36: 4.98 | AA36: 8.2 | AB36: 5.34 | AC36: 4.91 | AD36: 6.79 | AE36: 5.09 | AF36: 8.52 | AG36: 6.84
B37: 0.83333333 | C37: 7.35 | D37: 13.18 | E37: 10.42 | F37: 14.68 | G37: 5.3 | H37: ID | I37: 13.59 | J37: 19.5 | K37: 4.29 | L37: 10.53 | M37: 6 | N37: 5.08 | O37: 12.3 | P37: 13.91 | Q37: 12.37 | R37: 15.85 | S37: 6.09 | T37: 4.08 | U37: 5.77 | V37: 4.96 | W37: 10.96 | X37: 4.66 | Y37: 3.08 | Z37: 3.35 | AA37: 6.6 | AB37: 4.78 | AC37: 6.02 | AD37: 9.61 | AE37: 3.37 | AF37: 8.12 | AG37: 7.65
B38: 0.875 | C38: 11.45 | D38: 13.48 | E38: 19.08 | F38: 17.8 | G38: 6.34 | H38: ID | I38: 9.79 | J38: 23.16 | K38: 5.72 | L38: 17.56 | M38: 6.54 | N38: 4.74 | O38: 10.53 | P38: 11.24 | Q38: 13.27 | R38: 10.83 | S38: 7.63 | T38: 4.74 | U38: 5.56 | V38: 3.99 | W38: 7.01 | X38: 4.61 | Y38: 3.25 | Z38: 2.58 | AA38: 5.75 | AB38: 7.11 | AC38: 6.54 | AD38: 9.23 | AE38: 3.52 | AF38: 6.94 | AG38: 5.9
B39: 0.91666667 | C39: 13.74 | D39: 19.25 | E39: 19.82 | F39: 18.65 | G39: 8.35 | H39: ID | I39: 8.48 | J39: 11.26 | K39: 8.7 | L39: 17.01 | M39: 9.12 | N39: 4.79 | O39: 8.27 | P39: 12.67 | Q39: 8.07 | R39: 19.48 | S39: 16.51 | T39: 4.78 | U39: 5.47 | V39: 4.7 | W39: 3.4 | X39: 3.84 | Y39: 3.67 | Z39: 13.35 | AA39: 5.45 | AB39: 4 | AC39: 20.81 | AD39: 6.99 | AE39: 3.85 | AF39: 6.07 | AG39: 21.58
B40: 0.95833333 | C40: 9.57 | D40: 15.96 | E40: 17.78 | F40: 16.17 | G40: 8.48 | H40: 6.3 | I40: 10.04 | J40: 10.68 | K40: 9.19 | L40: 13.74 | M40: 6.71 | N40: 8.69 | O40: 6.6 | P40: 12.63 | Q40: 14.76 | R40: 17.22 | S40: 14.18 | T40: 4.7 | U40: 10.4 | V40: 14.61 | W40: 5.08 | X40: 8.23 | Y40: 8.59 | Z40: 24.97 | AA40: 4.32 | AB40: 10.87 | AC40: 13.42 | AD40: 10.9 | AE40: 4.14 | AF40: 4.7 | AG40: 17.77
B41: ECA aire de NO₂ | C41: 200 µg/m³ en periodo de 1 hora
B43: ID: Insuficiencia de datos
B44: VF: Verificación del equipo
B45: IE:Interrupción eléctrica
B46: EE: Evaluación del especialista
B47: ND: No disponible

Sheet CO_CA-ILO-02
F2: Tabla 3.17. Concentraciones horarias de CO
B6: TÍTULO DEL ESTUDIO: | F6: ='PM10_CA-ILO-02'!F6 -> Evaluación de seguimiento de la calidad del aire en la Municipalidad de PacochaI, distrito Pacocha, provincia Ilo, departamento Moquegua, en marzo 2022
B8: ESTACIÓN DE MONITOREO: | F8: CA-ILO-02 | Q8: CÓDIGO DE ACCIÓN:
B10: DATOS DEL EQUIPO
B12: EQUIPO: | F12: Analizador monóxido de carbono | Q12: MARCA: | V12: THERMO SCIENTIFIC
B14: MODELO: | F14: 48i | Q14: SERIE: | V14: 1193085161
B16: Hora\Día | C16: 1 | D16: 2 | E16: 3 | F16: 4 | G16: 5 | H16: 6 | I16: 7 | J16: 8 | K16: 9 | L16: 10 | M16: 11 | N16: 12 | O16: 13 | P16: 14 | Q16: 15 | R16: 16 | S16: 17 | T16: 18 | U16: 19 | V16: 20 | W16: 21 | X16: 22 | Y16: 23 | Z16: 24 | AA16: 25 | AB16: 26 | AC16: 27 | AD16: 28 | AE16: 29 | AF16: 30 | AG16: 31
B17: 0 | C17: 229.83 | D17: 232.09 | E17: 226.81 | F17: 262.12 | G17: 270.08 | H17: 278.29 | I17: EE | J17: 305.37 | K17: 283.36 | L17: 278.22 | M17: 304.97 | N17: 299.72 | O17: 293.46 | P17: 277.62 | Q17: 310.86 | R17: EE | S17: 234.19 | T17: EE | U17: EE | V17: EE | W17: EE | X17: EE | Y17: EE | Z17: EE | AA17: EE | AB17: 218.36 | AC17: EE | AD17: EE | AE17: EE | AF17: 254.44 | AG17: 253.87
B18: 0.041666667 | C18: 244.19 | D18: 223.38 | E18: 232 | F18: 237.06 | G18: 265.71 | H18: 265.63 | I18: EE | J18: 283.15 | K18: 285.06 | L18: 286.99 | M18: 295.53 | N18: 288.82 | O18: 278.2 | P18: 266.22 | Q18: 278.89 | R18: EE | S18: 238.15 | T18: EE | U18: EE | V18: EE | W18: EE | X18: EE | Y18: EE | Z18: EE | AA18: EE | AB18: 218.19 | AC18: EE | AD18: EE | AE18: EE | AF18: 248.89 | AG18: 253.75
B19: 0.083333333 | C19: 241.48 | D19: 227.49 | E19: 224.97 | F19: 248.5 | G19: 271.11 | H19: 289.4 | I19: EE | J19: 273.41 | K19: 279.76 | L19: 286.44 | M19: 290.5 | N19: 290.69 | O19: 275.9 | P19: 262.14 | Q19: 243.67 | R19: EE | S19: 243.24 | T19: EE | U19: EE | V19: EE | W19: EE | X19: EE | Y19: EE | Z19: EE | AA19: EE | AB19: 234 | AC19: EE | AD19: EE | AE19: EE | AF19: 247.25 | AG19: 251.18
B20: 0.125 | C20: 239.71 | D20: 223.69 | E20: 228.22 | F20: 246.15 | G20: 280 | H20: 264.68 | I20: EE | J20: 273.17 | K20: 277.6 | L20: 286.35 | M20: 285.32 | N20: 286.43 | O20: 274.59 | P20: 260.18 | Q20: 235.86 | R20: EE | S20: 229.38 | T20: EE | U20: EE | V20: EE | W20: EE | X20: EE | Y20: EE | Z20: EE | AA20: EE | AB20: 233.04 | AC20: EE | AD20: EE | AE20: EE | AF20: 249.85 | AG20: 250.68
B21: 0.16666667 | C21: 238.44 | D21: 229.53 | E21: 228.72 | F21: 285.33 | G21: 266.21 | H21: 273.72 | I21: EE | J21: 275.1 | K21: 280.71 | L21: 283.51 | M21: 288.56 | N21: 286.99 | O21: 272.8 | P21: 264.4 | Q21: 309.13 | R21: EE | S21: 226.16 | T21: EE | U21: EE | V21: EE | W21: EE | X21: EE | Y21: EE | Z21: EE | AA21: EE | AB21: 219.14 | AC21: EE | AD21: EE | AE21: EE | AF21: 246.17 | AG21: 247.55
B22: 0.20833333 | C22: 240.51 | D22: 250.07 | E22: 234.73 | F22: 265.33 | G22: 277.32 | H22: 265.39 | I22: EE | J22: 279.63 | K22: 288.68 | L22: 300.92 | M22: 309.46 | N22: 301.89 | O22: 277.07 | P22: 272.19 | Q22: 288.47 | R22: EE | S22: 252.45 | T22: EE | U22: EE | V22: EE | W22: EE | X22: EE | Y22: EE | Z22: EE | AA22: EE | AB22: ID | AC22: EE | AD22: EE | AE22: EE | AF22: 253.7 | AG22: 248.46
B23: 0.25 | C23: 254.4 | D23: 302.09 | E23: 284.71 | F23: 291.16 | G23: 310.98 | H23: 271.17 | I23: EE | J23: 328.34 | K23: 318.81 | L23: 310.59 | M23: 327.91 | N23: 350.13 | O23: 298.02 | P23: 343.23 | Q23: 260.42 | R23: EE | S23: 245.5 | T23: EE | U23: EE | V23: EE | W23: EE | X23: EE | Y23: EE | Z23: EE | AA23: EE | AB23: ND | AC23: EE | AD23: EE | AE23: EE | AF23: 260.26 | AG23: 259.11
B24: 0.29166667 | C24: 255.97 | D24: 265.28 | E24: 292.86 | F24: 292.51 | G24: 303.36 | H24: 274.29 | I24: EE | J24: 346.64 | K24: 309.5 | L24: 334.97 | M24: 309.52 | N24: 335.24 | O24: 296.3 | P24: 308.8 | Q24: 281.13 | R24: EE | S24: 278.99 | T24: EE | U24: EE | V24: EE | W24: EE | X24: EE | Y24: EE | Z24: EE | AA24: EE | AB24: EE | AC24: EE | AD24: EE | AE24: EE | AF24: 281.81 | AG24: 310.65
B25: 0.33333333 | C25: 244.33 | D25: 237.97 | E25: 246.87 | F25: 259.92 | G25: 269.84 | H25: 269.54 | I25: EE | J25: 300.02 | K25: 305.52 | L25: 318.37 | M25: 302.52 | N25: 299.69 | O25: 283.68 | P25: 264.63 | Q25: 246.47 | R25: EE | S25: 249.53 | T25: EE | U25: EE | V25: EE | W25: EE | X25: EE | Y25: EE | Z25: EE | AA25: EE | AB25: EE | AC25: EE | AD25: EE | AE25: EE | AF25: 267.97 | AG25: 272.1
B26: 0.375 | C26: 227.39 | D26: 225.1 | E26: 228.42 | F26: 235.82 | G26: 261.99 | H26: 248.8 | I26: EE | J26: 279.06 | K26: 281.65 | L26: 279.73 | M26: 310.94 | N26: 276.14 | O26: 266.78 | P26: 213.06 | Q26: 241.03 | R26: EE | S26: 241.17 | T26: EE | U26: EE | V26: EE | W26: EE | X26: EE | Y26: EE | Z26: EE | AA26: EE | AB26: EE | AC26: EE | AD26: EE | AE26: ID | AF26: 257.61 | AG26: 261.27
B27: 0.41666667 | C27: 219.52 | D27: 205.29 | E27: 224.33 | F27: 234.07 | G27: 256.67 | H27: 248.63 | I27: EE | J27: 282.21 | K27: 273.49 | L27: 273.04 | M27: 280.04 | N27: 272.47 | O27: 262.36 | P27: 212.39 | Q27: 216.18 | R27: EE | S27: 236.45 | T27: EE | U27: EE | V27: EE | W27: EE | X27: EE | Y27: EE | Z27: EE | AA27: EE | AB27: EE | AC27: EE | AD27: EE | AE27: ID | AF27: 250.76 | AG27: 265.67
B28: 0.45833333 | C28: 219.33 | D28: 211.51 | E28: 237.01 | F28: 233.73 | G28: 243.59 | H28: 248.61 | I28: EE | J28: 261.35 | K28: 263.4 | L28: 278.97 | M28: 275.78 | N28: 266.19 | O28: 255.67 | P28: 209.29 | Q28: 208.37 | R28: EE | S28: 230.61 | T28: EE | U28: EE | V28: EE | W28: ID | X28: EE | Y28: EE | Z28: EE | AA28: EE | AB28: EE | AC28: EE | AD28: EE | AE28: 240.71 | AF28: 243.72 | AG28: 264.36
B29: 0.5 | C29: 211.88 | D29: 204.38 | E29: 238.92 | F29: 236.19 | G29: 245.64 | H29: 246.61 | I29: EE | J29: 261.8 | K29: 264.26 | L29: 280.23 | M29: 278.66 | N29: 249.98 | O29: 259.83 | P29: 202.12 | Q29: ID | R29: EE | S29: 237.12 | T29: EE | U29: EE | V29: EE | W29: 223.78 | X29: EE | Y29: EE | Z29: EE | AA29: ID | AB29: EE | AC29: EE | AD29: EE | AE29: 227.79 | AF29: 244.41 | AG29: 259.23
B30: 0.54166667 | C30: 204.25 | D30: 194.76 | E30: 234.67 | F30: 229.67 | G30: 240.84 | H30: 248.41 | I30: EE | J30: 270.18 | K30: 268.24 | L30: 273.42 | M30: 280.11 | N30: ID | O30: 262.25 | P30: 204.04 | Q30: IE | R30: EE | S30: 230.64 | T30: EE | U30: EE | V30: EE | W30: 264.78 | X30: EE | Y30: EE | Z30: EE | AA30: 214.05 | AB30: EE | AC30: EE | AD30: EE | AE30: 228.55 | AF30: 240.83 | AG30: 250.83
B31: 0.58333333 | C31: 197.04 | D31: 203.66 | E31: 239.41 | F31: 209.06 | G31: 237.29 | H31: 249.68 | I31: EE | J31: 278.16 | K31: 264.75 | L31: 272.23 | M31: 284.08 | N31: 211.16 | O31: 257.71 | P31: 206.06 | Q31: IE | R31: EE | S31: 231.93 | T31: EE | U31: EE | V31: EE | W31: 288.86 | X31: EE | Y31: EE | Z31: EE | AA31: 207.6 | AB31: EE | AC31: EE | AD31: EE | AE31: 233.9 | AF31: 238.92 | AG31: 250.56
B32: 0.625 | C32: 211.76 | D32: 234.32 | E32: 251.23 | F32: 207.98 | G32: 251.99 | H32: 252.14 | I32: ID | J32: 271.6 | K32: 271.89 | L32: 272.23 | M32: 284.42 | N32: 231.64 | O32: 261.65 | P32: 206.82 | Q32: EE | R32: EE | S32: ID | T32: EE | U32: EE | V32: EE | W32: 242.56 | X32: EE | Y32: EE | Z32: EE | AA32: 206.06 | AB32: EE | AC32: EE | AD32: EE | AE32: 243.77 | AF32: 249.04 | AG32: 255.18
B33: 0.66666667 | C33: 223.67 | D33: 221.51 | E33: 248.05 | F33: 234.07 | G33: 256.65 | H33: 250.23 | I33: 236.95 | J33: 277.6 | K33: 280.34 | L33: 276.02 | M33: 289.09 | N33: 254.25 | O33: 260.04 | P33: 217.72 | Q33: EE | R33: EE | S33: IE | T33: EE | U33: EE | V33: EE | W33: EE | X33: EE | Y33: EE | Z33: EE | AA33: 220.22 | AB33: EE | AC33: EE | AD33: EE | AE33: 246.05 | AF33: 254.24 | AG33: 262.25
B34: 0.70833333 | C34: 240.25 | D34: 220.81 | E34: 255.02 | F34: 256.45 | G34: 272.34 | H34: 253.07 | I34: 256.22 | J34: 287.5 | K34: 296.21 | L34: 287.79 | M34: 287.21 | N34: 269.33 | O34: 257.61 | P34: 231.1 | Q34: EE | R34: EE | S34: EE | T34: EE | U34: EE | V34: EE | W34: EE | X34: EE | Y34: EE | Z34: EE | AA34: 237.53 | AB34: EE | AC34: EE | AD34: EE | AE34: 267.25 | AF34: 260.77 | AG34: 278.47
B35: 0.75 | C35: 248.55 | D35: 260.16 | E35: 257.23 | F35: 257.3 | G35: 265.88 | H35: 257.83 | I35: 267.06 | J35: 295.81 | K35: 290.02 | L35: 297.94 | M35: 316.01 | N35: 284.94 | O35: 273.53 | P35: 245.57 | Q35: EE | R35: EE | S35: EE | T35: EE | U35: EE | V35: EE | W35: EE | X35: EE | Y35: EE | Z35: EE | AA35: 265.85 | AB35: EE | AC35: EE | AD35: EE | AE35: 282.83 | AF35: 290.16 | AG35: 307.81
B36: 0.79166667 | C36: 251.39 | D36: 264.05 | E36: 259.68 | F36: 279.16 | G36: 263.07 | H36: ID | I36: 270.58 | J36: 293.4 | K36: 289.74 | L36: 298.02 | M36: 324.46 | N36: 300.17 | O36: 283.52 | P36: 231.44 | Q36: EE | R36: EE | S36: EE | T36: EE | U36: EE | V36: EE | W36: EE | X36: EE | Y36: EE | Z36: EE | AA36: 264.02 | AB36: EE | AC36: EE | AD36: EE | AE36: 268.42 | AF36: 294.64 | AG36: 309.17
B37: 0.83333333 | C37: 246.27 | D37: 250.25 | E37: 269.09 | F37: 272.29 | G37: 268.43 | H37: ID | I37: 284.64 | J37: 302.52 | K37: 287.64 | L37: 309.86 | M37: 312.77 | N37: 294.91 | O37: 276.05 | P37: 612.92 | Q37: EE | R37: EE | S37: EE | T37: EE | U37: EE | V37: EE | W37: EE | X37: EE | Y37: EE | Z37: EE | AA37: 249.72 | AB37: EE | AC37: EE | AD37: EE | AE37: 258.28 | AF37: 290.4 | AG37: 303.24
B38: 0.875 | C38: 218.82 | D38: 247.04 | E38: 314.39 | F38: 246.31 | G38: 271.74 | H38: ID | I38: 271.24 | J38: 302.16 | K38: 289.64 | L38: 321.06 | M38: 313.51 | N38: 289.71 | O38: 306.57 | P38: 534.68 | Q38: EE | R38: EE | S38: EE | T38: EE | U38: EE | V38: EE | W38: EE | X38: EE | Y38: EE | Z38: EE | AA38: 245.48 | AB38: EE | AC38: EE | AD38: EE | AE38: 259.62 | AF38: 280.71 | AG38: 278.6
B39: 0.91666667 | C39: 236.12 | D39: 247.3 | E39: 337.8 | F39: 264.68 | G39: 281.88 | H39: ID | I39: 270.46 | J39: 296.37 | K39: 295.06 | L39: 339.5 | M39: 325.86 | N39: 284.97 | O39: 286.32 | P39: 437.3 | Q39: EE | R39: EE | S39: EE | T39: EE | U39: EE | V39: EE | W39: EE | X39: EE | Y39: EE | Z39: EE | AA39: 242.22 | AB39: EE | AC39: EE | AD39: EE | AE39: 260.98 | AF39: 262.92 | AG39: 290.39
B40: 0.95833333 | C40: 236.95 | D40: 225.89 | E40: 264.56 | F40: 270.05 | G40: 280.13 | H40: ID | I40: 297.4 | J40: 302.74 | K40: 293.33 | L40: 356.32 | M40: 294.17 | N40: 277.18 | O40: 265.72 | P40: 409.46 | Q40: EE | R40: EE | S40: EE | T40: EE | U40: EE | V40: EE | W40: EE | X40: EE | Y40: EE | Z40: EE | AA40: 224.7 | AB40: EE | AC40: EE | AD40: EE | AE40: 262.64 | AF40: 253.3 | AG40: 264.76
B41: ECA aire de CO | C41: 30000 µg/m³ en periodo de 1 hora
B43: ID: Insuficiencia de datos
B44: EE: Evaluación del especialista
B45: IE:Interrupción eléctrica
B46: ND: No disponible

Sheet CO_m8h_CA-ILO-02
F2: Tabla 3.18. Concentraciones horarias de CO m8h
B6: TÍTULO DEL ESTUDIO: | F6: ='PM10_CA-ILO-02'!F6 -> Evaluación de seguimiento de la calidad del aire en la Municipalidad de PacochaI, distrito Pacocha, provincia Ilo, departamento Moquegua, en marzo 2022
B8: ESTACIÓN DE MONITOREO: | F8: CA-ILO-02 | Q8: CÓDIGO DE ACCIÓN:
B10: DATOS DEL EQUIPO
B12: EQUIPO: | F12: Analizador monóxido de carbono | Q12: MARCA: | V12: THERMO SCIENTIFIC
B14: MODELO: | F14: 48i | Q14: SERIE: | V14: 1193085161
B16: Hora\Día | C16: 1 | D16: 2 | E16: 3 | F16: 4 | G16: 5 | H16: 6 | I16: 7 | J16: 8 | K16: 9 | L16: 10 | M16: 11 | N16: 12 | O16: 13 | P16: 14 | Q16: 15 | R16: 16 | S16: 17 | T16: 18 | U16: 19 | V16: 20 | W16: 21 | X16: 22 | Y16: 23 | Z16: 24 | AA16: 25 | AB16: 26 | AC16: 27 | AD16: 28 | AE16: 29 | AF16: 30 | AG16: 31
B17: 0 | C17: 240.7 | D17: 238.8 | E17: 242.79 | F17: 277.49 | G17: 264.54 | H17: 272.72 | I17: ID | J17: 277.87 | K17: 295.48 | L17: 289.98 | M17: 314.43 | N17: 309.21 | O17: 286.83 | P17: 278.37 | Q17: 376.67 | R17: EE | S17: ID | T17: EE | U17: EE | V17: EE | W17: EE | X17: EE | Y17: EE | Z17: EE | AA17: EE | AB17: 243.49 | AC17: EE | AD17: EE | AE17: EE | AF17: 264.31 | AG17: 273.35
B18: 0.041666667 | C18: 242.15 | D18: 236.7 | E18: 244.19 | F18: 275.24 | G18: 265.7 | H18: 271.88 | I18: ID | J18: 281.24 | K18: 295.18 | L18: 288.83 | M18: 315.4 | N18: 309.42 | O18: 287.94 | P18: 279.44 | Q18: 382.64 | R18: EE | S18: ID | T18: EE | U18: EE | V18: EE | W18: EE | X18: EE | Y18: EE | Z18: EE | AA18: EE | AB18: 241.07 | AC18: EE | AD18: EE | AE18: EE | AF18: 262.01 | AG18: 272.47
B19: 0.083333333 | C19: 242.34 | D19: 234.06 | E19: 239.79 | F19: 274.15 | G19: 267.42 | H19: 274.82 | I19: EE | J19: 282.03 | K19: 293.17 | L19: 288.38 | M19: 314.47 | N19: 306.25 | O19: 286.81 | P19: 278.02 | Q19: 382.4 | R19: EE | S19: ID | T19: EE | U19: EE | V19: EE | W19: EE | X19: EE | Y19: EE | Z19: EE | AA19: EE | AB19: 237.09 | AC19: EE | AD19: EE | AE19: EE | AF19: 257.56 | AG19: 267.6
B20: 0.125 | C20: 239.96 | D20: 230.6 | E20: 235.31 | F20: 272.46 | G20: 267.53 | H20: 275.02 | I20: EE | J20: 282.35 | K20: 291.2 | L20: 287.96 | M20: 312.88 | N20: 301.5 | O20: 283.62 | P20: 275.1 | Q20: 382.96 | R20: EE | S20: ID | T20: EE | U20: EE | V20: EE | W20: EE | X20: EE | Y20: EE | Z20: EE | AA20: EE | AB20: 233.21 | AC20: EE | AD20: EE | AE20: EE | AF20: 255.24 | AG20: 262.1
B21: 0.16666667 | C21: 238.65 | D21: 228.51 | E21: 232.62 | F21: 274.49 | G21: 266.77 | H21: 275.68 | I21: EE | J21: 281.16 | K21: 288.47 | L21: 287.44 | M21: 310.22 | N21: 298.27 | O21: 280.85 | P21: 273.65 | Q21: 344.98 | R21: EE | S21: ID | T21: EE | U21: EE | V21: EE | W21: EE | X21: EE | Y21: EE | Z21: EE | AA21: EE | AB21: 229.39 | AC21: EE | AD21: EE | AE21: EE | AF21: 253.73 | AG21: 256.75
B22: 0.20833333 | C22: 239 | D22: 232.42 | E22: 231.08 | F22: 268.36 | G22: 270.65 | H22: 274.89 | I22: EE | J22: 282.21 | K22: 286.78 | L22: 288.85 | M22: 308.77 | N22: 296.82 | O22: 279.27 | P22: 269.35 | Q22: 314.21 | R22: EE | S22: 237.26 | T22: EE | U22: EE | V22: EE | W22: EE | X22: EE | Y22: EE | Z22: EE | AA22: EE | AB22: 227.09 | AC22: EE | AD22: EE | AE22: EE | AF22: 252.99 | AG22: 252.71
B23: 0.25 | C23: 240.52 | D23: 240.66 | E23: 235.76 | F23: 262.53 | G23: 276.43 | H23: 273.55 | I23: EE | J23: 289.45 | K23: 289.59 | L23: 290.79 | M23: 307.32 | N23: 299.86 | O23: 280.9 | P23: 276.46 | Q23: 292.1 | R23: EE | S23: 238.44 | T23: EE | U23: EE | V23: EE | W23: EE | X23: EE | Y23: EE | Z23: EE | AA23: EE | AB23: 224.57 | AC23: EE | AD23: EE | AE23: EE | AF23: 252.9 | AG23: 252.24
B24: 0.29166667 | C24: 243.07 | D24: 244.2 | E24: 244.13 | F24: 266.02 | G24: 280.6 | H24: 272.82 | I24: EE | J24: 295.6 | K24: 290.44 | L24: 296 | M24: 301.47 | N24: 304.99 | O24: 283.29 | P24: 281.85 | Q24: 276.05 | R24: EE | S24: 243.51 | T24: EE | U24: EE | V24: EE | W24: EE | X24: EE | Y24: EE | Z24: EE | AA24: EE | AB24: ID | AC24: EE | AD24: EE | AE24: EE | AF24: 255.3 | AG24: 259.41
B25: 0.33333333 | C25: 244.88 | D25: 244.94 | E25: 246.64 | F25: 265.74 | G25: 280.57 | H25: 271.73 | I25: EE | J25: 294.93 | K25: 293.2 | L25: 301.02 | M25: 301.16 | N25: 304.99 | O25: 282.07 | P25: 280.22 | Q25: 268 | R25: EE | S25: 245.42 | T25: EE | U25: EE | V25: EE | W25: EE | X25: EE | Y25: EE | Z25: EE | AA25: EE | AB25: ID | AC25: EE | AD25: EE | AE25: EE | AF25: 256.99 | AG25: 261.68
B26: 0.375 | C26: 242.78 | D26: 245.15 | E26: 246.19 | F26: 265.59 | G26: 280.1 | H26: 269.62 | I26: EE | J26: 294.42 | K26: 292.78 | L26: 300.11 | M26: 303.09 | N26: 303.4 | O26: 280.64 | P26: 273.58 | Q26: 263.27 | R26: EE | S26: 245.8 | T26: EE | U26: EE | V26: EE | W26: EE | X26: EE | Y26: EE | Z26: EE | AA26: EE | AB26: ID | AC26: EE | AD26: EE | AE26: ID | AF26: 258.08 | AG26: 262.62
B27: 0.41666667 | C27: 240.03 | D27: 242.38 | E27: 246.11 | F27: 263.79 | G27: 278.3 | H27: 264.53 | I27: EE | J27: 295.52 | K27: 292 | L27: 298.44 | M27: 301.78 | N27: 301.12 | O27: 278.95 | P27: 267.36 | Q27: 259.84 | R27: EE | S27: 244.95 | T27: EE | U27: EE | V27: EE | W27: EE | X27: EE | Y27: EE | Z27: EE | AA27: EE | AB27: ID | AC27: EE | AD27: EE | AE27: ID | AF27: 258.52 | AG27: 264.44
B28: 0.45833333 | C28: 237.49 | D28: 240.85 | E28: 247.21 | F28: 262.23 | G28: 273.74 | H28: 262.52 | I28: EE | J28: 294.04 | K28: 290.22 | L28: 297.51 | M28: 300.59 | N28: 298.59 | O28: 276.59 | P28: 261 | Q28: 256.4 | R28: EE | S28: 245.11 | T28: EE | U28: EE | V28: EE | W28: ID | X28: EE | Y28: EE | Z28: EE | AA28: EE | AB28: ID | AC28: EE | AD28: EE | AE28: ID | AF28: 257.75 | AG28: 266.15
B29: 0.5 | C29: 234.17 | D29: 237.71 | E29: 248.48 | F29: 256.09 | G29: 271.17 | H29: 259.13 | I29: EE | J29: 292.38 | K29: 288.16 | L29: 297.1 | M29: 299.35 | N29: 293.97 | O29: 274.96 | P29: 253.21 | Q29: 248.87 | R29: EE | S29: 246.48 | T29: EE | U29: EE | V29: EE | W29: ID | X29: EE | Y29: EE | Z29: EE | AA29: EE | AB29: EE | AC29: EE | AD29: EE | AE29: ID | AF29: 257.53 | AG29: 267.61
B30: 0.54166667 | C30: 229.63 | D30: 230.8 | E30: 248.47 | F30: 251.63 | G30: 266.61 | H30: 257.01 | I30: EE | J30: 291.2 | K30: 285.61 | L30: 293.66 | M30: 295.68 | N30: 292.83 | O30: 273.11 | P30: 244.7 | Q30: 242.27 | R30: EE | S30: 243.75 | T30: EE | U30: EE | V30: EE | W30: ID | X30: EE | Y30: EE | Z30: EE | AA30: ID | AB30: EE | AC30: EE | AD30: EE | AE30: ID | AF30: 255.92 | AG30: 267.9
B31: 0.58333333 | C31: 222.46 | D31: 218.49 | E31: 242.81 | F31: 241.37 | G31: 257.4 | H31: 254.32 | I31: EE | J31: 284.93 | K31: 278.85 | L31: 288.87 | M31: 290.21 | N31: 272.98 | O31: 268.07 | P31: 227.55 | Q31: ID | R31: EE | S31: 242.05 | T31: EE | U31: EE | V31: EE | W31: ID | X31: EE | Y31: EE | Z31: EE | AA31: ID | AB31: EE | AC31: EE | AD31: EE | AE31: ID | AF31: 253.25 | AG31: 266.83
B32: 0.625 | C32: 216.94 | D32: 214.62 | E32: 237.61 | F32: 230.8 | G32: 250.98 | H32: 251.55 | I32: EE | J32: 275.55 | K32: 274.15 | L32: 281.03 | M32: 287.07 | N32: 258.18 | O32: 263.74 | P32: 214.8 | Q32: ID | R32: EE | S32: 236.78 | T32: EE | U32: EE | V32: EE | W32: ID | X32: EE | Y32: EE | Z32: EE | AA32: ID | AB32: EE | AC32: EE | AD32: EE | AE32: ID | AF32: 249.16 | AG32: 259.9
B33: 0.66666667 | C33: 214.35 | D33: 212.57 | E33: 237.76 | F33: 227.57 | G33: 249.33 | H33: 249.14 | I33: ID | J33: 272.74 | K33: 271 | L33: 275.73 | M33: 285.39 | N33: 251.69 | O33: 260.79 | P33: 208.94 | Q33: ID | R33: EE | S33: 234.65 | T33: EE | U33: EE | V33: EE | W33: EE | X33: EE | Y33: EE | Z33: EE | AA33: ID | AB33: EE | AC33: EE | AD33: EE | AE33: 236.79 | AF33: 247.44 | AG33: 258.67
B34: 0.70833333 | C34: 215.96 | D34: 212.03 | E34: 241.08 | F34: 230.15 | G34: 250.63 | H34: 249.67 | I34: ID | J34: 273.8 | K34: 272.82 | L34: 276.74 | M34: 282.42 | N34: 250.72 | O34: 259.64 | P34: 211.19 | Q34: ID | R34: EE | S34: ID | T34: EE | U34: EE | V34: EE | W34: EE | X34: EE | Y34: EE | Z34: EE | AA34: ID | AB34: EE | AC34: EE | AD34: EE | AE34: 241.15 | AF34: 247.84 | AG34: 260.82
B35: 0.75 | C35: 219.59 | D35: 218.89 | E35: 245.19 | F35: 233.06 | G35: 251.78 | H35: 250.82 | I35: ID | J35: 275.5 | K35: 274.89 | L35: 279.85 | M35: 286.92 | N35: 252.5 | O35: 261.04 | P35: 215.34 | Q35: ID | R35: EE | S35: ID | T35: EE | U35: EE | V35: EE | W35: EE | X35: EE | Y35: EE | Z35: EE | AA35: 225.22 | AB35: EE | AC35: EE | AD35: EE | AE35: 246.36 | AF35: 252.76 | AG35: 266.09
B36: 0.79166667 | C36: 223.6 | D36: 225.46 | E36: 248.03 | F36: 238.74 | G36: 254.21 | H36: 251.14 | I36: ID | J36: 279.51 | K36: 278.18 | L36: 282.24 | M36: 293 | N36: 257.35 | O36: 264.52 | P36: 218.11 | Q36: EE | R36: EE | S36: ID | T36: EE | U36: EE | V36: EE | W36: EE | X36: EE | Y36: EE | Z36: EE | AA36: 230.76 | AB36: EE | AC36: EE | AD36: EE | AE36: 249.82 | AF36: 259.13 | AG36: 271.69
B37: 0.83333333 | C37: 227.9 | D37: 231.19 | E37: 251.8 | F37: 243.25 | G37: 257.06 | H37: 251.89 | I37: ID | J37: 284.6 | K37: 281.1 | L37: 285.94 | M37: 297.27 | N37: 263.77 | O37: 266.54 | P37: 269.46 | Q37: EE | R37: EE | S37: ID | T37: EE | U37: EE | V37: EE | W37: EE | X37: EE | Y37: EE | Z37: EE | AA37: 233.13 | AB37: EE | AC37: EE | AD37: EE | AE37: 253.63 | AF37: 264.88 | AG37: 277.19
B38: 0.875 | C38: 229.72 | D38: 237.72 | E38: 261.76 | F38: 245.33 | G38: 260.92 | H38: ID | I38: 264.45 | J38: 288.59 | K38: 283.78 | L38: 291.89 | M38: 301.44 | N38: 267.01 | O38: 272.08 | P38: 310.79 | Q38: EE | R38: EE | S38: ID | T38: EE | U38: EE | V38: EE | W38: EE | X38: EE | Y38: EE | Z38: EE | AA38: 237.06 | AB38: EE | AC38: EE | AD38: EE | AE38: 257.52 | AF38: 269.86 | AG38: 280.66
B39: 0.91666667 | C39: 234.6 | D39: 243.18 | E39: 274.06 | F39: 252.28 | G39: 266.5 | H39: ID | I39: 265.31 | J39: 290.87 | K39: 287.57 | L39: 300.3 | M39: 306.67 | N39: 276.24 | O39: 275.66 | P39: 339.69 | Q39: EE | R39: EE | S39: EE | T39: EE | U39: EE | V39: EE | W39: EE | X39: EE | Y39: EE | Z39: EE | AA39: 241.39 | AB39: EE | AC39: EE | AD39: EE | AE39: 260.9 | AF39: 272.86 | AG39: 285.64
B40: 0.95833333 | C40: 237.75 | D40: 242.13 | E40: 275.73 | F40: 260.04 | G40: 270.02 | H40: ID | I40: 269.32 | J40: 294.76 | K40: 290.25 | L40: 310.81 | M40: 307.88 | N40: 281.93 | O40: 276.17 | P40: 365.02 | Q40: EE | R40: EE | S40: EE | T40: EE | U40: EE | V40: EE | W40: EE | X40: EE | Y40: EE | Z40: EE | AA40: 243.72 | AB40: EE | AC40: EE | AD40: EE | AE40: 263.26 | AF40: 273.39 | AG40: 286.84
B41: ECA aire de CO-m8h | C41: 10000 µg/m³ en periodo de 8 horas
B42: ID: Insuficiencia de datos
B43: EE: Evaluación del especialista

Sheet Met_CA-ILO-02
D2: Tabla 3.19. Datos Meteorológicos
C6: TÍTULO DEL ESTUDIO: | D6: ='PM10_CA-ILO-02'!F6 -> Evaluación de seguimiento de la calidad del aire en la Municipalidad de PacochaI, distrito Pacocha, provincia Ilo, departamento Moquegua, en marzo 2022
C8: ESTACIÓN DE MONITOREO: | D8: CA-ILO-02 | F8: CÓDIGO DE ACCIÓN:
C10: DATOS DEL EQUIPO
C12: EQUIPO: | D12: Estación meteorológica | G12: MARCA: | H12: Diversas
C14: SENSOR: | D14: Velocidad y Dirección de Viento | G14: SERIE: | H14: WM174402
C15: SENSOR: | D15: Temperatura y Humedad | G15: SERIE: | H15: 1663393889
C16: SENSOR: | D16: Presión barométrica | G16: SERIE: | H16: BPA11350
C17: SENSOR: | D17: Precipitación | G17: SERIE: | H17: TB00015746
C18: SENSOR: | D18: Radiación solar | G18: SERIE: | H18: 193287
C20: FECHA Y HORA | D20: Presión atmosférica (hPa) | E20: Precipitación (mm) | F20: Temperatura ambiental (°C) | G20: Humedad relativa (%) | H20: Velocidad de Viento (m/s) | I20: Dirección de Viento (°) | J20: Radiación Solar (W/m²)
C21: 44621 | D21: 1007.7 | E21: 0 | F21: 21.7 | G21: 65.3 | H21: 0.1 | I21: 9.1 | J21: 0
C22: 44621.042 | D22: 1007.3 | E22: 0 | F22: 20.5 | G22: 69 | H22: 0.5 | I22: 301.4 | J22: 0
C23: 44621.083 | D23: 1007 | E23: 0 | F23: 21.5 | G23: 65.2 | H23: 0.2 | I23: 321.9 | J23: 0
C24: 44621.125 | D24: 1007.1 | E24: 0 | F24: 20.9 | G24: 66.9 | H24: 0.2 | I24: 174.5 | J24: 0
C25: 44621.167 | D25: 1007 | E25: 0 | F25: 21 | G25: 67.5 | H25: 0.2 | I25: 247.5 | J25: 0
C26: 44621.208 | D26: 1007.4 | E26: 0 | F26: 20.3 | G26: 70.1 | H26: 0.2 | I26: 194.9 | J26: 1.3
C27: 44621.25 | D27: 1007.8 | E27: 0 | F27: 21.1 | G27: 67.4 | H27: 0 | I27: 283.8 | J27: 56.9
C28: 44621.292 | D28: 1008.1 | E28: 0 | F28: 20.8 | G28: 69.3 | H28: 0.7 | I28: 241.1 | J28: 217.7
C29: 44621.333 | D29: 1007.6 | E29: 0 | F29: 23 | G29: 61.7 | H29: 1.3 | I29: 221 | J29: 564.4
C30: 44621.375 | D30: 1007 | E30: 0 | F30: 24 | G30: 58.8 | H30: 1.8 | I30: 230.3 | J30: 624.1
C31: 44621.417 | D31: 1006.6 | E31: 0 | F31: 24.9 | G31: 56.4 | H31: 2.5 | I31: 141.3 | J31: 646.5
C32: 44621.458 | D32: 1006.1 | E32: 0 | F32: 25.8 | G32: 54.1 | H32: 5.2 | I32: 111.3 | J32: 743.6
... C155: 44626.583 | D155: 1002.4 | E155: 0 | F155: 26.6 | G155: 55.2 | H155: 7.6 | I155: 109.7 | J155: 764.5
C156: 44626.625 | D156: ID | E156: 0 | F156: 25.7 | G156: 57.1 | H156: 8.6 | I156: 100.6 | J156: 568.9
C157: 44626.667 | D157: ID | E157: 0 | F157: 25.2 | G157: 58.8 | H157: 7.3 | I157: 95.3 | J157: 323.9
C158: 44626.708 | D158: 1003.6 | E158: 0 | F158: 25.2 | G158: 58.6 | H158: 6.5 | I158: 88.6 | J158: 108.8
C159: 44626.75 | D159: 1004.4 | E159: 0 | F159: 24.1 | G159: 60.5 | H159: 6.5 | I159: 84.1 | J159: 3.9
C160: 44626.792 | D160: ID | E160: ID | F160: ID | G160: ID | H160: ID | I160: ID | J160: ID
C161: 44626.833 | D161: ID | E161: ID | F161: ID | G161: ID | H161: ID | I161: ID | J161: ID
C162: 44626.875 | D162: 1007 | E162: 0 | F162: 24.4 | G162: 60.8 | H162: 3.1 | I162: 82.5 | J162: 0
C163: 44626.917 | D163: 1006.9 | E163: 0 | F163: 23.1 | G163: 64.5 | H163: 1.1 | I163: 257.8 | J163: 0
C164: 44626.958 | D164: 1006.5 | E164: 0 | F164: 22.6 | G164: 66.3 | H164: 1.2 | I164: 286.1 | J164: 0
C165: 44627 | D165: 1006 | E165: 0 | F165: 21.9 | G165: 68.4 | H165: 0.1 | I165: 201.3 | J165: 0
C166: 44627.042 | D166: 1005.9 | E166: 0 | F166: 22.1 | G166: 67.4 | H166: 0.3 | I166: 283.7 | J166: 0
C167: 44627.083 | D167: 1005.8 | E167: 0 | F167: 21.5 | G167: 69.6 | H167: 0.3 | I167: 143.3 | J167: 0
C168: 44627.125 | D168: 1005.6 | E168: 0 | F168: 22.2 | G168: 67.2 | H168: 0 | I168: 145 | J168: 0
C169: 44627.167 | D169: 1005.8 | E169: 0 | F169: 22.4 | G169: 66.5 | H169: 0.5 | I169: 152.7 | J169: 0
C170: 44627.208 | D170: 1006.2 | E170: 0 | F170: 22.9 | G170: 64.5 | H170: 0.6 | I170: 69 | J170: 0.3
C171: 44627.25 | D171: 1006.1 | E171: 0 | F171: 23.6 | G171: 62.4 | H171: 1.1 | I171: 36.9 | J171: 39.2
C172: 44627.292 | D172: 1006.7 | E172: 0 | F172: 22.2 | G172: 65.9 | H172: 0.8 | I172: 266.2 | J172: 82.1
C173: 44627.333 | D173: 1006.5 | E173: 0 | F173: 22.9 | G173: 65 | H173: 0.9 | I173: 246.1 | J173: 313.9
... C367: 44635.417 | D367: 1006.3 | E367: 0 | F367: 25.2 | G367: 56.2 | H367: 3.7 | I367: 114 | J367: 834.5
C368: 44635.458 | D368: ID | E368: 0 | F368: 25.1 | G368: 55.3 | H368: 8.8 | I368: 97.7 | J368: 908.5
C369: 44635.5 | D369: IE | E369: IE | F369: IE | G369: IE | H369: IE | I369: IE | J369: IE
C370: 44635.542 | D370: IE | E370: IE | F370: IE | G370: IE | H370: IE | I370: IE | J370: IE
C371: 44635.583 | D371: IE | E371: IE | F371: IE | G371: IE | H371: IE | I371: IE | J371: IE
C372: 44635.625 | D372: 1003.7 | E372: 0 | F372: 25.9 | G372: 54.2 | H372: 7.8 | I372: 91.8 | J372: 416.4
C373: 44635.667 | D373: 1003.9 | E373: 0 | F373: 25.3 | G373: 55 | H373: 6.7 | I373: 94.5 | J373: 252.2
C374: 44635.708 | D374: 1005 | E374: 0 | F374: 24.3 | G374: 56.9 | H374: 2.4 | I374: 277.3 | J374: 66.6
C375: 44635.75 | D375: 1006.1 | E375: 0 | F375: 22.2 | G375: 62.9 | H375: 2.2 | I375: 275.2 | J375: 1.3
C376: 44635.792 | D376: 1007.3 | E376: 0 | F376: 21.3 | G376: 65.6 | H376: 0.8 | I376: 218.5 | J376: 0
C377: 44635.833 | D377: 1007.7 | E377: 0 | F377: 21.5 | G377: 65 | H377: 0.3 | I377: 104.4 | J377: 0
C378: 44635.875 | D378: 1007.9 | E378: 0 | F378: 22.2 | G378: 62.3 | H378: 1 | I378: 292.8 | J378: 0
C379: 44635.917 | D379: 1008.3 | E379: 0 | F379: 19.9 | G379: 71.3 | H379: 1.4 | I379: 283.1 | J379: 0
C380: 44635.958 | D380: 1008 | E380: 0 | F380: 20.5 | G380: 68.4 | H380: 0.7 | I380: 333.4 | J380: 0
C381: 44636 | D381: 1007.5 | E381: 0 | F381: 20.7 | G381: 67.5 | H381: 1 | I381: 285.5 | J381: 0
C382: 44636.042 | D382: 1007.1 | E382: 0 | F382: 20.6 | G382: 67.1 | H382: 0.6 | I382: 170.6 | J382: 0
C383: 44636.083 | D383: 1006.7 | E383: 0 | F383: 20 | G383: 69.6 | H383: 0.1 | I383: 303.8 | J383: 0
... C419: 44637.583 | D419: 1004.7 | E419: 0 | F419: 24.9 | G419: 58.9 | H419: 8.2 | I419: 101.9 | J419: 724.2
C420: 44637.625 | D420: ID | E420: ID | F420: ID | G420: ID | H420: ID | I420: ID | J420: ID
C421: 44637.667 | D421: IE | E421: IE | F421: IE | G421: IE | H421: IE | I421: IE | J421: IE
C422: 44637.708 | D422: ID | E422: ID | F422: ID | G422: ID | H422: ID | I422: ID | J422: ID
C423: 44637.75 | D423: 1006.7 | E423: 0 | F423: 22.3 | G423: 69.5 | H423: 5.7 | I423: 91.3 | J423: 0.8
C424: 44637.792 | D424: 1007.7 | E424: 0 | F424: 21.1 | G424: 72.2 | H424: 2.3 | I424: 294.9 | J424: 0
C425: 44637.833 | D425: 1008.6 | E425: 0 | F425: 20.2 | G425: 76.1 | H425: 1.2 | I425: 261.3 | J425: 0
C426: 44637.875 | D426: 1009 | E426: 0 | F426: 20.1 | G426: 77.2 | H426: 1 | I426: 318.4 | J426: 0
C427: 44637.917 | D427: 1008.2 | E427: 0 | F427: 20.6 | G427: 75 | H427: 0.1 | I427: 317.9 | J427: 0
C428: 44637.958 | D428: 1007.9 | E428: 0 | F428: 20.1 | G428: 75.8 | H428: 0.5 | I428: 72.7 | J428: 0
C429: 44638 | D429: 1007.3 | E429: 0 | F429: 20.2 | G429: 75.6 | H429: 0 | I429: 0 | J429: 0
C430: 44638.042 | D430: 1007 | E430: 0 | F430: 20 | G430: 75.4 | H430: 0.3 | I430: 16.9 | J430: 0
C431: 44638.083 | D431: 1006.8 | E431: 0 | F431: 20.1 | G431: 74.3 | H431: 1.2 | I431: 76.7 | J431: 0
C432: 44638.125 | D432: 1006.3 | E432: 0 | F432: 20.1 | G432: 71.7 | H432: 1.3 | I432: 65.6 | J432: 0
C433: 44638.167 | D433: 1006.5 | E433: 0 | F433: 19.7 | G433: 74.4 | H433: 0.3 | I433: 42.4 | J433: 0
C434: 44638.208 | D434: 1006.8 | E434: 0 | F434: 19.3 | G434: 75.5 | H434: 0.6 | I434: 357.2 | J434: 0.4
... C625: 44646.167 | D625: 1006.7 | E625: 0 | F625: 18.5 | G625: 70 | H625: 1 | I625: 21.5 | J625: 0
C626: 44646.208 | D626: ID | E626: ID | F626: ID | G626: ID | H626: ID | I626: ID | J626: ID
C627: 44646.25 | D627: EE | E627: EE | F627: EE | G627: EE | H627: EE | I627: EE | J627: EE
C628: 44646.292 | D628: 1008.1 | E628: 0 | F628: 21.1 | G628: 63.7 | H628: 0.8 | I628: 114.1 | J628: 315.6
C629: 44646.333 | D629: 1007.6 | E629: 0 | F629: 20.9 | G629: 64.4 | H629: 1.5 | I629: 187.4 | J629: 530.2
C630: 44646.375 | D630: 1007 | E630: 0 | F630: 22.6 | G630: 59.4 | H630: 2.8 | I630: 176.6 | J630: 702.6
C631: 44646.417 | D631: 1006.4 | E631: 0 | F631: 24 | G631: 56.7 | H631: 4 | I631: 130.1 | J631: 786.2
C632: 44646.458 | D632: 1005.9 | E632: 0 | F632: 24.3 | G632: 58 | H632: 5.3 | I632: 135.7 | J632: 853.5
C633: 44646.5 | D633: 1005.5 | E633: 0 | F633: 24.8 | G633: 57.3 | H633: 4.6 | I633: 136.7 | J633: 869
C634: 44646.542 | D634: 1005 | E634: 0 | F634: 24.9 | G634: 57 | H634: 5 | I634: 139.9 | J634: 810.4
C635: 44646.583 | D635: 1004.8 | E635: 0 | F635: 24.2 | G635: 58.8 | H635: 5.4 | I635: 128.2 | J635: 683.9
C636: 44646.625 | D636: 1004.9 | E636: 0 | F636: 23.4 | G636: 61.1 | H636: 5.3 | I636: 118.4 | J636: 488
C637: 44646.667 | D637: 1005.1 | E637: 0 | F637: 22.8 | G637: 63.6 | H637: 4.8 | I637: 117.3 | J637: 239.8
C638: 44646.708 | D638: 1006 | E638: 0 | F638: 21.9 | G638: 67.4 | H638: 4.5 | I638: 110.4 | J638: 51.5
C639: 44646.75 | D639: 1007.2 | E639: 0 | F639: 21.4 | G639: 69.2 | H639: 4 | I639: 103.3 | J639: 0
... C703: 44649.417 | D703: 1007.7 | E703: 0 | F703: 22.5 | G703: 61.1 | H703: 5 | I703: 151.2 | J703: 807.6
C704: 44649.458 | D704: ID | E704: ID | F704: ID | G704: ID | H704: ID | I704: ID | J704: ID
C705: 44649.5 | D705: 1006.2 | E705: 0 | F705: 22.5 | G705: 62 | H705: 5.8 | I705: 120.1 | J705: 970.9
C706: 44649.542 | D706: 1005.9 | E706: 0 | F706: 22.1 | G706: 64.3 | H706: 6.4 | I706: 112.7 | J706: 888.6
C707: 44649.583 | D707: 1006.1 | E707: 0 | F707: 22 | G707: 63.8 | H707: 6.1 | I707: 114.2 | J707: 734
C708: 44649.625 | D708: 1006 | E708: 0 | F708: 21.8 | G708: 64.5 | H708: 5.7 | I708: 113.3 | J708: 518.2
C709: 44649.667 | D709: 1006.8 | E709: 0 | F709: 21.3 | G709: 65.8 | H709: 5.4 | I709: 95.3 | J709: 253.9
C710: 44649.708 | D710: 1007.2 | E710: 0 | F710: 20.6 | G710: 67.7 | H710: 4.5 | I710: 99 | J710: 34.3
C711: 44649.75 | D711: 1008.1 | E711: 0 | F711: 20.4 | G711: 68.5 | H711: 4.2 | I711: 96.5 | J711: 0
C712: 44649.792 | D712: 1008.6 | E712: 0 | F712: 20.4 | G712: 68.4 | H712: 4.1 | I712: 96 | J712: 0
...

Sheet Regresion
A1: Po/Pa | B1: 2 | D1: 4 | G1: Po/Pa | H1: 4 | I1: 6 | N1: Po/Pa | O1: 6 | P1: 8
A2: 0.912 | B2: =ROUND(1.2636*A2-0.0719,3) -> 1.081 | D2: =ROUND(1.2636*A2-0.0681,3) -> 1.084 | G2: 0.912 | H2: =ROUND(1.2636*G2-0.0681,3) -> 1.084 | I2: =ROUND(1.2364*G2-0.0391,3) -> 1.088 | N2: 0.922 | O2: =1.2364*N2-0.0391 -> 1.1008608 | P2: =1.2636*N2-0.0611 -> 1.1039392
A3: 0.93 | B3: 1.103 | D3: 1.107 | G3: 0.93 | H3: 1.107 | I3: 1.111 | N3: 0.93 | O3: 1.111 | P3: 1.114
A4: 0.931 | B4: 1.105 | D4: 1.108 | G4: 0.931 | H4: 1.108 | I4: 1.112 | N4: 0.931 | O4: 1.112 | P4: 1.115
A5: 0.932 | B5: 1.106 | D5: 1.11 | G5: 0.932 | H5: 1.11 | I5: 1.113 | N5: 0.932 | O5: 1.113 | P5: 1.117
A6: 0.933 | B6: 1.107 | D6: 1.111 | G6: 0.933 | H6: 1.111 | I6: 1.114 | N6: 0.933 | O6: 1.114 | P6: 1.118
A7: 0.934 | B7: 1.108 | D7: 1.112 | G7: 0.934 | H7: 1.112 | I7: 1.116 | N7: 0.934 | O7: 1.116 | P7: 1.119
A8: 0.935 | B8: 1.11 | D8: 1.113 | G8: 0.935 | H8: 1.113 | I8: 1.117 | N8: 0.935 | O8: 1.117 | P8: 1.12
A9: 0.936 | B9: 1.111 | D9: 1.115 | G9: 0.936 | H9: 1.115 | I9: 1.118 | N9: 0.936 | O9: 1.118 | P9: 1.122
A10: 0.937 | B10: 1.112 | D10: 1.116 | G10: 0.937 | H10: 1.116 | I10: 1.119 | N10: 0.937 | O10: 1.119 | P10: 1.123
A11: 0.938 | B11: 1.113 | D11: 1.117 | G11: 0.938 | H11: 1.117 | I11: 1.121 | N11: 0.938 | O11: 1.121 | P11: 1.124
A12: 0.939 | B12: 1.115 | D12: 1.118 | G12: 0.939 | H12: 1.118 | I12: 1.122 | N12: 0.939 | O12: 1.122 | P12: 1.125
A13: 0.94 | B13: 1.116 | D13: 1.12 | G13: 0.94 | H13: 1.12 | I13: 1.123 | N13: 0.94 | O13: 1.123 | P13: 1.127

Sheet Hoja2
A1: Aluminio | B1: Aluminio (Al) | C1: 64.6
A2: Antimonio | B2: Antimonio (Sb) | C2: 0.813
A3: Arsénico | B3: Arsenico (As) | C3: 2.553
A4: Bario | B4: Bario (Ba) | C4: 5.135
A5: Berilio | B5: Berilio (Be) | C5: < 0,010
A6: Bismuto | B6: Bismuto (Bi) | C6: 0.5814
A7: Boro | B7: Boro (B) | C7: 1.96
A8: Cadmio | B8: Cadmio (Cd) | C8: 0.382
A9: Calcio | B9: Calcio (Ca) | C9: 1150
A10: Cobalto | B10: Cobalto (Co) | C10: 1.445
A11: Cobre | B11: Cobre (Cu) | C11: 32.34
A12: Cromo | B12: Cromo (Cr) | C12: < 2,082
A13: Estaño | B13: Estaño (Sn) | C13: < 0,067
A14: Estroncio | B14: Estroncio (Sr) | C14: 2.633
A15: Fósforo | B15: Fósforo (P) | C15: 215.6
A16: Hierro | B16: Hierro (Fe) | C16: 666.9
A17: Litio | B17: Litio (Li) | C17: < 0,09
A18: Magnesio | B18: Magnesio (Mg) | C18: 150.6
A19: Manganeso | B19: Manganeso (Mn) | C19: 123.5
A20: Mercurio | B20: Mercurio (Hg) | C20: < 0,021
A21: Molibdeno | B21: Molibdeno (Mo) | C21: 1.352
A22: Níquel | B22: Níquel (Ni) | C22: 2.621
A23: Plata | B23: Plata (Ag) | C23: 0.2869
A24: Plomo | B24: Plomo (Pb) | C24: 42.71
A25: Potasio | B25: Potasio (K) | C25: 50.6
A26: Selenio | B26: Selenio (Se) | C26: < 0,421
A27: Silicio | B27: Silicio (Si) | C27: 71.7
A28: Sodio | B28: Sodio (Na) | C28: < 191,7
A29: Talio | B29: Talio (Tl) | C29: < 0,008
A30: Titanio | B30: Titanio (Ti) | C30: 0.77
A31: Uranio | B31: Uranio (U) | C31: < 0,0071
A32: Vanadio | B32: Vanadio (V) | C32: < 0,071
A33: Zinc | B33: Zinc (Zn) | C33: 92.06

Sheet A.2.1. Promedio meteorologia
E1: Tabla A.2.1 Promedio de datos meteorológicos
D6: TÍTULO DEL ESTUDIO: | E6: EVALUACIÓN DE SEGUIMIENTO DE LA CALIDAD DEL AIRE EN EL ÁMBITO DE LA ZONA INDUSTRIAL DE VENTANILLA - MI PERÚ, UBICADO EN LOS DISTRITOS DE VENTANILLA Y MI PERÚ, PROVINCIA CONSTITUCIONAL DEL CALLAO, DURANTE JULIO DE 2020
D8: PUNTO DE MONITOREO: | E8: CA-VMP-6 | F8: CÓDIGO DE ACCIÓN: | G8: 0001-7-2020-411
D10: DATOS DEL EQUIPO
D12: EQUIPO: | E12: ESTACIÓN METEOROLÓGICA | F12: MARCA: | G12: DAVIS
D14: MODELO: | E14: VANTAGE PRO 2 | F14: SERIE: | G14: BB180411015
D16: DIA 1
A17: Fecha | B17: Hora | D17: Fecha y hora | E17: Presión atmosférica (mmHg) | F17: Temperatura ambiental (°C) | G17: Humedad relativa (%) | H17: Velocidad de Viento (m/s) | L17: P | M17: T | N17: HR | O17: WS
A18: 43881 | B18: 0.45833333 | K18: Mínimo | L18: =MIN(E18:E41,E46:E69,E74:E97,E102:E125,E130:E153) -> 0 | M18: =MIN(F18:F41,F46:F69,F74:F97,F102:F125,F130:F153) -> 0 | N18: =MIN(G18:G41,G46:G69,G74:G97,G102:G125,G130:G153) -> 0 | O18: =MIN(H18:H41,H46:H69,H74:H97,H102:H125,H130:H153) -> 0
A19: =A18 -> 43881 | B19: 0.5 | K19: Máximo | L19: =MAX(E18:E41,E46:E69,E74:E97,E102:E125,E130:E153) -> 0 | M19: =MAX(F18:F41,F46:F69,F74:F97,F102:F125,F130:F153) -> 0 | N19: =MAX(G18:G41,G46:G69,G74:G97,G102:G125,G130:G153) -> 0 | O19: =MAX(H18:H41,H46:H69,H74:H97,H102:H125,H130:H153) -> 0
A20: =A19 -> 43881 | B20: 0.54166667 | K20: Promedio | L20: =AVERAGE(E18:E41,E46:E69,E74:E97,E102:E125,E130:E153) -> #DIV/0! | M20: =AVERAGE(F18:F41,F46:F69,F74:F97,F102:F125,F130:F153) -> #DIV/0! | N20: =AVERAGE(G18:G41,G46:G69,G74:G97,G102:G125,G130:G153) -> #DIV/0! | O20: =AVERAGE(H18:H41,H46:H69,H74:H97,H102:H125,H130:H153) -> #DIV/0!
A21: =A20 -> 43881 | B21: 0.58333333 | K21: Desv Est | L21: =STDEV(E18:E41,E46:E69,E74:E97,E102:E125,E130:E153) -> #DIV/0! | M21: =STDEV(F18:F41,F46:F69,F74:F97,F102:F125,F130:F153) -> #DIV/0! | N21: =STDEV(G18:G41,G46:G69,G74:G97,G102:G125,G130:G153) -> #DIV/0! | O21: =STDEV(H18:H41,H46:H69,H74:H97,H102:H125,H130:H153) -> #DIV/0!
A22: =A21 -> 43881 | B22: 0.625 | K22: n | L22: =COUNT(E18:E41,E46:E69,E74:E97,E102:E125,E130:E153) -> 0 | M22: =COUNT(F18:F41,F46:F69,F74:F97,F102:F125,F130:F153) -> 0 | N22: =COUNT(G18:G41,G46:G69,G74:G97,G102:G125,G130:G153) -> 0 | O22: =COUNT(H18:H41,H46:H69,H74:H97,H102:H125,H130:H153) -> 0
A23: =A22 -> 43881 | B23: 0.66666667 | K23: SE | L23: =L21/SQRT(L22) -> #DIV/0! | M23: =M21/SQRT(M22) -> #DIV/0! | N23: =N21/SQRT(N22) -> #DIV/0! | O23: =O21/SQRT(O22) -> #DIV/0!
A24: =A23 -> 43881 | B24: 0.70833333
A25: =A24 -> 43881 | B25: 0.75
A26: =A25 -> 43881 | B26: 0.79166667
A27: =A26 -> 43881 | B27: 0.83333333
A28: =A27 -> 43881 | B28: 0.875
A29: =A28 -> 43881 | B29: 0.91666667
A30: =A29 -> 43881 | B30: 0.95833333
A31: =A30 -> 43881 | B31: 1
A32: =A31 -> 43881 | B32: 1.0416667
A33: =A32 -> 43881 | B33: 1.0833333
A34: =A33 -> 43881 | B34: 1.125
A35: =A34 -> 43881 | B35: 1.1666667
... A41: =A40 -> 43881 | B41: 1.4166667
D42: Promedio DIA 1 | E42: =AVERAGE(E18:E41) -> #DIV/0! | F42: =AVERAGE(F18:F41) -> #DIV/0! | G42: =AVERAGE(G18:G41) -> #DIV/0! | H42: =AVERAGE(H18:H41) -> #DIV/0!
D44: DIA 2
A45: Fecha | B45: Hora | D45: Fecha | E45: Presión atmosférica (mmHg) | F45: Temperatura ambiental (°C) | G45: Humedad relativa (%) | H45: Velocidad de Viento (m/s)
A46: =#REF!+4 -> #REF! | B46: 0.45833333
A47: =A46 -> #REF! | B47: 0.5
A48: =A47 -> #REF! | B48: 0.54166667
A49: =A48 -> #REF! | B49: 0.58333333
A50: =A49 -> #REF! | B50: 0.625
A51: =A50 -> #REF! | B51: 0.66666667
A52: =A51 -> #REF! | B52: 0.70833333
A53: =A52 -> #REF! | B53: 0.75
A54: =A53 -> #REF! | B54: 0.79166667
A55: =A54 -> #REF! | B55: 0.83333333
A56: =A55 -> #REF! | B56: 0.875
A57: =A56 -> #REF! | B57: 0.91666667
A58: =A57 -> #REF! | B58: 0.95833333
... A69: =A68 -> #REF! | B69: 1.4166667
D70: Promedio DIA 2 | E70: =AVERAGE(E46:E69) -> #DIV/0! | F70: =AVERAGE(F46:F69) -> #DIV/0! | G70: =AVERAGE(G46:G69) -> #DIV/0! | H70: =AVERAGE(H46:H69) -> #DIV/0!
D72: DIA 3
A73: Fecha | B73: Hora | D73: Fecha | E73: Presión atmosférica (mmHg) | F73: Temperatura ambiental (°C) | G73: Humedad relativa (%) | H73: Velocidad de Viento (m/s)
A74: =#REF!+1 -> #REF! | B74: 0.45833333
A75: =A74 -> #REF! | B75: 0.5
A76: =A75 -> #REF! | B76: 0.54166667
A77: =A76 -> #REF! | B77: 0.58333333
A78: =A77 -> #REF! | B78: 0.625
A79: =A78 -> #REF! | B79: 0.66666667
A80: =A79 -> #REF! | B80: 0.70833333
A81: =A80 -> #REF! | B81: 0.75
A82: =A81 -> #REF! | B82: 0.79166667
A83: =A82 -> #REF! | B83: 0.83333333
A84: =A83 -> #REF! | B84: 0.875
A85: =A84 -> #REF! | B85: 0.91666667
A86: =A85 -> #REF! | B86: 0.95833333
... A97: =A96 -> #REF! | B97: 1.4166667
D98: Promedio DIA 3 | E98: =AVERAGE(E74:E97) -> #DIV/0! | F98: =AVERAGE(F74:F97) -> #DIV/0! | G98: =AVERAGE(G74:G97) -> #DIV/0! | H98: =AVERAGE(H74:H97) -> #DIV/0!
D100: DIA 4
A101: Fecha | B101: Hora | D101: Fecha | E101: Presión atmosférica (mmHg) | F101: Temperatura ambiental (°C) | G101: Humedad relativa (%) | H101: Velocidad de Viento (m/s)
A102: =#REF!+1 -> #REF! | B102: 0.45833333
A103: =A102 -> #REF! | B103: 0.5
A104: =A103 -> #REF! | B104: 0.54166667
A105: =A104 -> #REF! | B105: 0.58333333
A106: =A105 -> #REF! | B106: 0.625
A107: =A106 -> #REF! | B107: 0.66666667
A108: =A107 -> #REF! | B108: 0.70833333
A109: =A108 -> #REF! | B109: 0.75
A110: =A109 -> #REF! | B110: 0.79166667
A111: =A110 -> #REF! | B111: 0.83333333
A112: =A111 -> #REF! | B112: 0.875
A113: =A112 -> #REF! | B113: 0.91666667
A114: =A113 -> #REF! | B114: 0.95833333
... A125: =A124 -> #REF! | B125: 1.4166667
D126: Promedio DIA 4 | E126: =AVERAGE(E102:E125) -> #DIV/0! | F126: =AVERAGE(F102:F125) -> #DIV/0! | G126: =AVERAGE(G102:G125) -> #DIV/0! | H126: =AVERAGE(H102:H125) -> #DIV/0!
D128: DIA 5
A129: Fecha | B129: Hora | D129: Fecha | E129: Presión atmosférica (mmHg) | F129: Temperatura ambiental (°C) | G129: Humedad relativa (%) | H129: Velocidad de Viento (m/s)
A130: =#REF!+1 -> #REF! | B130: 0.45833333
A131: =A130 -> #REF! | B131: 0.5
A132: =A131 -> #REF! | B132: 0.54166667
A133: =A132 -> #REF! | B133: 0.58333333
A134: =A133 -> #REF! | B134: 0.625
A135: =A134 -> #REF! | B135: 0.66666667
A136: =A135 -> #REF! | B136: 0.70833333
A137: =A136 -> #REF! | B137: 0.75
A138: =A137 -> #REF! | B138: 0.79166667
A139: =A138 -> #REF! | B139: 0.83333333
A140: =A139 -> #REF! | B140: 0.875
A141: =A140 -> #REF! | B141: 0.91666667
A142: =A141 -> #REF! | B142: 0.95833333
... A153: =A152 -> #REF! | B153: 1.4166667
D154: Promedio DIA 5 | E154: =AVERAGE(E130:E153) -> #DIV/0! | F154: =AVERAGE(F130:F153) -> #DIV/0! | G154: =AVERAGE(G130:G153) -> #DIV/0! | H154: =AVERAGE(H130:H153) -> #DIV/0!

Sheet A.2.2. Promedio diarios (T y P)
F2: Tabla A.2.2. Promedios diarios de temperatura y presión para el cálculo de concentración
B7: TÍTULO DEL ESTUDIO: | D7: ='A.2.1. Promedio meteorologia'!E6 -> EVALUACIÓN DE SEGUIMIENTO DE LA CALIDAD DEL AIRE EN EL ÁMBITO DE LA ZONA INDUSTRIAL DE VENTANILLA - MI PERÚ, UBICADO EN LOS DISTRITOS DE VENTANILLA Y MI PERÚ, PROVINCIA CONSTITUCIONAL DEL CALLAO, DURANTE JULIO DE 2020
B9: PUNTO DE MONITOREO: | D9: =+'A.2.1. Promedio meteorologia'!E8 -> CA-VMP-6 | F9: CÓDIGO DE ACCIÓN: | H9: =+'A.2.1. Promedio meteorologia'!G8 -> 0001-7-2020-411 | J9: DÍAS DE MONITOREO: | N9: 5
B11: MEDICIONES PROMEDIO (DATOS DÍARIOS)
B13: DÍA 1 | C13: INICIO: | F13: FINAL: | I13: PERIODO : | J13: =G13-D13 -> 0 | L13: horas | M13: =$J13*60*24 -> 0 | N13: min
B15: Datos horarios registrados: | E15: =J13 -> 0 | F15: horas
B17: Temperatura (°C): | E17: ='A.2.1. Promedio meteorologia'!F42 -> #DIV/0! | F17: Presión (mm Hg): | H17: ='A.2.1. Promedio meteorologia'!E42 -> #DIV/0!
B20: DÍA 2 | C20: INICIO: | F20: FINAL: | I20: PERIODO : | J20: =G20-D20 -> 0 | L20: horas | M20: =$J20*60*24 -> 0 | N20: min
B22: Datos horarios registrados: | E22: =J20 -> 0 | F22: horas
B24: Temperatura (°C): | E24: ='A.2.1. Promedio meteorologia'!F70 -> #DIV/0! | F24: Presión (mm Hg): | H24: ='A.2.1. Promedio meteorologia'!E70 -> #DIV/0!
B27: DÍA 3 | C27: INICIO: | F27: FINAL: | I27: PERIODO : | J27: =G27-D27 -> 0 | L27: horas | M27: =$J27*60*24 -> 0 | N27: min
B29: Datos horarios registrados: | E29: =J27 -> 0 | F29: horas
B31: Temperatura (°C): | E31: ='A.2.1. Promedio meteorologia'!F98 -> #DIV/0! | F31: Presión (mm Hg): | H31: ='A.2.1. Promedio meteorologia'!E98 -> #DIV/0!
B34: DÍA 4 | C34: INICIO: | F34: FINAL: | I34: PERIODO : | J34: =G34-D34 -> 0 | L34: horas | M34: =$J34*60*24 -> 0 | N34: min
B36: Datos horarios registrados: | E36: =J34 -> 0 | F36: horas
B38: Temperatura (°C): | E38: ='A.2.1. Promedio meteorologia'!F126 -> #DIV/0! | F38: Presión (mm Hg): | H38: ='A.2.1. Promedio meteorologia'!E126 -> #DIV/0!
B41: DÍA 5 | C41: INICIO: | F41: FINAL: | I41: PERIODO : | J41: =G41-D41 -> 0 | L41: horas | M41: =$J41*60*24 -> 0 | N41: min
B43: Datos horarios registrados: | E43: =J41 -> 0 | F43: horas
B45: Temperatura (°C): | E45: ='A.2.1. Promedio meteorologia'!F154 -> #DIV/0! | F45: Presión (mm Hg): | H45: ='A.2.1. Promedio meteorologia'!E154 -> #DIV/0!
B48: OBSERVACIONES:

Sheet A.2.3. Flujo promedio
D2: Tabla A.2.3. Flujo de muestreo promedio para muestreadores de alto volumen
B7: TÍTULO DEL ESTUDIO: | D7: =+'A.2.1. Promedio meteorologia'!E6 -> EVALUACIÓN DE SEGUIMIENTO DE LA CALIDAD DEL AIRE EN EL ÁMBITO DE LA ZONA INDUSTRIAL DE VENTANILLA - MI PERÚ, UBICADO EN LOS DISTRITOS DE VENTANILLA Y MI PERÚ, PROVINCIA CONSTITUCIONAL DEL CALLAO, DURANTE JULIO DE 2020
B9: ESTACIÓN DE MONITOREO: | D9: ='A.2.2. Promedio diarios (T y P)'!D9:D9 -> CA-VMP-6 | F9: CÓDIGO DE ACCIÓN: | H9: =+'A.2.2. Promedio diarios (T y P)'!H9 -> 0001-7-2020-411 | I9: CANTIDAD DE DÍAS | J9: =+'A.2.2. Promedio diarios (T y P)'!N9 -> 5
B11: DATOS DE LOS EQUIPOS
B13: Barómetro | D13: MARCA: | E13: - | F13: MODELO: | G13: - | H13: SERIE: | I13: -
B15: Venturi PM-10 | D15: MARCA: | F15: THERMO SCIENTIFIC
D16: MODELO: | F16: HI VOL
D17: SERIE: | F17: P9328X
B19: CÁLCULOS
B21: PM-10
B22: DÍA 1 | C22: Fecha Inicio: | E22: =+'A.2.2. Promedio diarios (T y P)'!D13 -> 0 | G22: Fecha Final: | I22: =+'A.2.2. Promedio diarios (T y P)'!G13 -> 0 | M22: ∆ Flujo: | N22: =AVERAGE(M24,M32,M40,M48,M56) -> 0.67
B24: Presión inicial: | D24: 20.2 | E24: pulg H2O | G24: Presión final: | I24: 21.4 | J24: pulg H2O | M24: =I24-D24 -> 1.2
B26: PRESIÓN ATMOSFÉRICA | F26: Ta (°C) | G26: T (°C) inferior | H26: T (°C) superior | I26: Flujo de muestreo, en m3/min (Qa)
B27: Δh (pulg H2O) | C27: Pf (mm Hg) | D27: Pa (mm Hg) | E27: Po/Pa | G27: =+H27-2 -> #DIV/0! | H27: =EVEN(F28) -> #DIV/0!
B28: =AVERAGE(D24,I24) -> 20.8 | C28: =25.4*B28/13.61 -> 38.818516 | D28: =+'A.2.2. Promedio diarios (T y P)'!H17 -> #DIV/0! | E28: =1-(C28/D28) -> #DIV/0! | F28: =+'A.2.2. Promedio diarios (T y P)'!E17 -> #DIV/0! | G28: 1.15 | H28: 1.153 | I28: =-(H28-G28)/(H27-G27)*(H27-F28)+H28 -> #DIV/0!
B30: DÍA 2 | C30: Fecha Inicio: | E30: =+'A.2.2. Promedio diarios (T y P)'!D20 -> 0 | G30: Fecha Final: | I30: =+'A.2.2. Promedio diarios (T y P)'!G20 -> 0
B32: Presión inicial: | D32: 21.3 | E32: pulg H2O | G32: Presión final: | I32: 21.6 | J32: pulg H2O | M32: =I32-D32 -> 0.3
B34: PRESIÓN ATMOSFÉRICA | F34: Ta (°C) | G34: T (°C) inferior | H34: T (°C) superior | I34: Flujo de muestreo, en m3/min (Qa)
B35: Δh (pulg H2O) | C35: Pf (mm Hg) | D35: Pa (mm Hg) | E35: Po/Pa | G35: =+H35-2 -> #DIV/0! | H35: =EVEN(F36) -> #DIV/0!
B36: =AVERAGE(D32,I32) -> 21.45 | C36: =25.4*B36/13.61 -> 40.031594 | D36: =+'A.2.2. Promedio diarios (T y P)'!H24 -> #DIV/0! | E36: =1-(C36/D36) -> #DIV/0! | F36: =+'A.2.2. Promedio diarios (T y P)'!E24 -> #DIV/0! | G36: 1.147 | H36: 1.151 | I36: =-(H36-G36)/(H35-G35)*(H35-F36)+H36 -> #DIV/0!
B38: DÍA 3 | C38: Fecha Inicio: | E38: =+'A.2.2. Promedio diarios (T y P)'!D27 -> 0 | G38: Fecha Final: | I38: =+'A.2.2. Promedio diarios (T y P)'!G27 -> 0
B40: Presión inicial: | D40: 20.9 | E40: pulg H2O | G40: Presión final: | I40: 21.5 | J40: pulg H2O | M40: =I40-D40 -> 0.6
B42: PRESIÓN ATMOSFÉRICA | F42: Ta (°C) | G42: T (°C) inferior | H42: T (°C) superior | I42: Flujo de muestreo, en m3/min (Qa)
B43: Δh (pulg H2O) | C43: Pf (mm Hg) | D43: Pa (mm Hg) | E43: Po/Pa | G43: =+H43-2 -> #DIV/0! | H43: =EVEN(F44) -> #DIV/0!
B44: =AVERAGE(D40,I40) -> 21.2 | C44: =25.4*B44/13.61 -> 39.565026 | D44: =+'A.2.2. Promedio diarios (T y P)'!H31 -> #DIV/0! | E44: =1-(C44/D44) -> #DIV/0! | F44: =+'A.2.2. Promedio diarios (T y P)'!E31 -> #DIV/0! | G44: 1.148 | H44: 1.152 | I44: =-(H44-G44)/(H43-G43)*(H43-F44)+H44 -> #DIV/0!
B46: DÍA 4 | C46: Fecha Inicio: | E46: =+'A.2.2. Promedio diarios (T y P)'!D34 -> 0 | G46: Fecha Final: | I46: =+'A.2.2. Promedio diarios (T y P)'!G34 -> 0
B48: Presión inicial: | D48: 21.7 | E48: pulg H2O | G48: Presión final: | I48: 22.25 | J48: pulg H2O | M48: =I48-D48 -> 0.55
B50: PRESIÓN ATMOSFÉRICA | F50: Ta (°C) | G50: T (°C) inferior | H50: T (°C) superior | I50: Flujo de muestreo, en m3/min (Qa)
B51: Δh (pulg H2O) | C51: Pf (mm Hg) | D51: Pa (mm Hg) | E51: Po/Pa | G51: =+H51-2 -> #DIV/0! | H51: =EVEN(F52) -> #DIV/0!
B52: =AVERAGE(D48,I48) -> 21.975 | C52: =25.4*B52/13.61 -> 41.011389 | D52: =+'A.2.2. Promedio diarios (T y P)'!H38 -> #DIV/0! | E52: =1-(C52/D52) -> #DIV/0! | F52: =+'A.2.2. Promedio diarios (T y P)'!E38 -> #DIV/0! | G52: 1.146 | H52: 1.149 | I52: =-(H52-G52)/(H51-G51)*(H51-F52)+H52 -> #DIV/0!
B54: DÍA 5 | C54: Fecha Inicio: | E54: =+'A.2.2. Promedio diarios (T y P)'!D41 -> 0 | G54: Fecha Final: | I54: =+'A.2.2. Promedio diarios (T y P)'!G41 -> 0
B56: Presión inicial: | D56: 21.6 | E56: pulg H2O | G56: Presión final: | I56: 22.3 | J56: pulg H2O | M56: =I56-D56 -> 0.7
B58: PRESIÓN ATMOSFÉRICA | F58: Ta (°C) | G58: T (°C) inferior | H58: T (°C) superior | I58: Flujo de muestreo, en m3/min (Qa)
B59: Δh (pulg H2O) | C59: Pf (mm Hg) | D59: Pa (mm Hg) | E59: Po/Pa | G59: =+H59-2 -> #DIV/0! | H59: =EVEN(F60) -> #DIV/0!
B60: =AVERAGE(D56,I56) -> 21.95 | C60: =25.4*B60/13.61 -> 40.964732 | D60: =+'A.2.2. Promedio diarios (T y P)'!H45 -> #DIV/0! | E60: =1-(C60/D60) -> #DIV/0! | F60: =+'A.2.2. Promedio diarios (T y P)'!E45 -> #DIV/0! | G60: 1.146 | H60: 1.149 | I60: =-(H60-G60)/(H59-G59)*(H59-F60)+H60 -> #DIV/0!
B62: DÍA 6 | C62: Fecha Inicio: | E62: =+'A.2.2. Promedio diarios (T y P)'!#REF! -> #REF! | G62: Fecha Final: | I62: =+'A.2.2. Promedio diarios (T y P)'!#REF! -> #REF!
B64: Presión inicial: | E64: pulg H2O | G64: Presión final: | J64: pulg H2O
B66: PRESIÓN ATMOSFÉRICA | F66: Ta (°C) | G66: T (°C) inferior | H66: T (°C) superior | I66: Flujo de muestreo, en m3/min (Qa)
B67: Δh (pulg H2O) | C67: Pf (mm Hg) | D67: Pa (mm Hg) | E67: Po/Pa | G67: =+H67-2 -> #REF! | H67: =EVEN(F68) -> #REF!
B68: =AVERAGE(D64,I64) -> #DIV/0! | C68: =25.4*B68/13.61 -> #DIV/0! | D68: =+'A.2.2. Promedio diarios (T y P)'!#REF! -> #REF! | E68: =1-(C68/D68) -> #DIV/0! | F68: =+'A.2.2. Promedio diarios (T y P)'!#REF! -> #REF! | I68: =-(H68-G68)/(H67-G67)*(H67-F68)+H68 -> #REF!
B70: DÍA 7 | C70: Fecha Inicio: | E70: =+'A.2.2. Promedio diarios (T y P)'!#REF! -> #REF! | G70: Fecha Final: | I70: =+'A.2.2. Promedio diarios (T y P)'!#REF! -> #REF!
B72: Presión inicial: | E72: pulg H2O | G72: Presión final: | J72: pulg H2O
B74: PRESIÓN ATMOSFÉRICA | F74: Ta (°C) | G74: T (°C) inferior | H74: T (°C) superior | I74: Flujo de muestreo, en m3/min (Qa)
B75: Δh (pulg H2O) | C75: Pf (mm Hg) | D75: Pa (mm Hg) | E75: Po/Pa | G75: =+H75-2 -> #REF! | H75: =EVEN(F76) -> #REF!
B76: =AVERAGE(D72,I72) -> #DIV/0! | C76: =25.4*B76/13.61 -> #DIV/0! | D76: =+'A.2.2. Promedio diarios (T y P)'!#REF! -> #REF! | E76: =1-(C76/D76) -> #DIV/0! | F76: =+'A.2.2. Promedio diarios (T y P)'!#REF! -> #REF! | I76: =-(H76-G76)/(H75-G75)*(H75-F76)+H76 -> #REF!
B78: DÍA 8 | C78: Fecha Inicio: | E78: =+'A.2.2. Promedio diarios (T y P)'!#REF! -> #REF! | G78: Fecha Final: | I78: =+'A.2.2. Promedio diarios (T y P)'!#REF! -> #REF!
B80: Presión inicial: | E80: pulg H2O | G80: Presión final: | J80: pulg H2O
B82: PRESIÓN ATMOSFÉRICA | F82: Ta (°C) | G82: T (°C) inferior | H82: T (°C) superior | I82: Flujo prom (m3/min)
B83: Δh (pulg H2O) | C83: Pf (mm Hg) | D83: Pa (mm Hg) | E83: Po/Pa | G83: =+H83-2 -> #REF! | H83: =EVEN(F84) -> #REF!
B84: =AVERAGE(D80,I80) -> #DIV/0! | C84: =25.4*B84/13.61 -> #DIV/0! | D84: =+'A.2.2. Promedio diarios (T y P)'!#REF! -> #REF! | E84: =1-(C84/D84) -> #DIV/0! | F84: =+'A.2.2. Promedio diarios (T y P)'!#REF! -> #REF! | I84: =-(H84-G84)/(H83-G83)*(H83-F84)+H84 -> #REF!
B86: DÍA 9 | C86: Fecha Inicio: | E86: =+'A.2.2. Promedio diarios (T y P)'!#REF! -> #REF! | G86: Fecha Final: | I86: =+'A.2.2. Promedio diarios (T y P)'!#REF! -> #REF!
B88: Presión inicial: | E88: pulg H2O | G88: Presión final: | J88: pulg H2O
B90: PRESIÓN ATMOSFÉRICA | F90: Ta (°C) | G90: T (°C) inferior | H90: T (°C) superior | I90: Flujo prom (m3/min)
B91: Δh (pulg H2O) | C91: Pf (mm Hg) | D91: Pa (mm Hg) | E91: Po/Pa | G91: =+H91-2 -> #REF! | H91: =EVEN(F92) -> #REF!
B92: =AVERAGE(D88,I88) -> #DIV/0! | C92: =25.4*B92/13.61 -> #DIV/0! | D92: =+'A.2.2. Promedio diarios (T y P)'!#REF! -> #REF! | E92: =1-(C92/D92) -> #DIV/0! | F92: =+'A.2.2. Promedio diarios (T y P)'!#REF! -> #REF! | I92: =-(H92-G92)/(H91-G91)*(H91-F92)+H92 -> #REF!
B94: DÍA 10 | C94: Fecha Inicio: | E94: =+'A.2.2. Promedio diarios (T y P)'!#REF! -> #REF! | G94: Fecha Final: | I94: =+'A.2.2. Promedio diarios (T y P)'!#REF! -> #REF!
B96: Presión inicial: | E96: pulg H2O | G96: Presión final: | J96: pulg H2O
B98: PRESIÓN ATMOSFÉRICA | F98: Ta (°C) | G98: T (°C) inferior | H98: T (°C) superior | I98: Flujo prom (m3/min)
B99: Δh (pulg H2O) | C99: Pf (mm Hg) | D99: Pa (mm Hg) | E99: Po/Pa | G99: =+H99-2 -> #REF! | H99: =EVEN(F100) -> #REF!
B100: =AVERAGE(D96,I96) -> #DIV/0! | C100: =25.4*B100/13.61 -> #DIV/0! | D100: =+'A.2.2. Promedio diarios (T y P)'!#REF! -> #REF! | E100: =1-(C100/D100) -> #DIV/0! | F100: =+'A.2.2. Promedio diarios (T y P)'!#REF! -> #REF! | I100: =-(H100-G100)/(H99-G99)*(H99-F100)+H100 -> #REF!
B102: DÍA 11 | C102: Fecha Inicio: | E102: =+'A.2.2. Promedio diarios (T y P)'!#REF! -> #REF! | G102: Fecha Final: | I102: =+'A.2.2. Promedio diarios (T y P)'!#REF! -> #REF!
B104: Presión inicial: | E104: pulg H2O | G104: Presión final: | J104: pulg H2O
B106: PRESIÓN ATMOSFÉRICA | F106: Ta (°C) | G106: T (°C) inferior | H106: T (°C) superior | I106: Flujo prom (m3/min)
B107: Δh (pulg H2O) | C107: Pf (mm Hg) | D107: Pa (mm Hg) | E107: Po/Pa | G107: =+H107-2 -> #REF! | H107: =EVEN(F108) -> #REF!
B108: =AVERAGE(D104,I104) -> #DIV/0! | C108: =25.4*B108/13.61 -> #DIV/0! | D108: =+'A.2.2. Promedio diarios (T y P)'!#REF! -> #REF! | E108: =1-(C108/D108) -> #DIV/0! | F108: =+'A.2.2. Promedio diarios (T y P)'!#REF! -> #REF! | I108: =-(H108-G108)/(H107-G107)*(H107-F108)+H108 -> #REF!
B110: DÍA 12 | C110: Fecha Inicio: | E110: =+'A.2.2. Promedio diarios (T y P)'!#REF! -> #REF! | G110: Fecha Final: | I110: =+'A.2.2. Promedio diarios (T y P)'!#REF! -> #REF!
B112: Presión inicial: | E112: pulg H2O | G112: Presión final: | J112: pulg H2O
B114: PRESIÓN ATMOSFÉRICA | F114: Ta (°C) | G114: T (°C) inferior | H114: T (°C) superior | I114: Flujo prom (m3/min)
B115: Δh (pulg H2O) | C115: Pf (mm Hg) | D115: Pa (mm Hg) | E115: Po/Pa | G115: =+H115-2 -> #REF! | H115: =EVEN(F116) -> #REF!
B116: =AVERAGE(D112,I112) -> #DIV/0! | C116: =25.4*B116/13.61 -> #DIV/0! | D116: =+'A.2.2. Promedio diarios (T y P)'!#REF! -> #REF! | E116: =1-(C116/D116) -> #DIV/0! | F116: =+'A.2.2. Promedio diarios (T y P)'!#REF! -> #REF! | I116: =-(H116-G116)/(H115-G115)*(H115-F116)+H116 -> #REF!
B118: DÍA 13 | C118: Fecha Inicio: | E118: =+'A.2.2. Promedio diarios (T y P)'!#REF! -> #REF! | G118: Fecha Final: | I118: =+'A.2.2. Promedio diarios (T y P)'!#REF! -> #REF!
B120: Presión inicial: | E120: pulg H2O | G120: Presión final: | J120: pulg H2O
B122: PRESIÓN ATMOSFÉRICA | F122: Ta (°C) | G122: T (°C) inferior | H122: T (°C) superior | I122: Flujo prom (m3/min)
B123: Δh (pulg H2O) | C123: Pf (mm Hg) | D123: Pa (mm Hg) | E123: Po/Pa | G123: =+H123-2 -> #REF! | H123: =EVEN(F124) -> #REF!
B124: =AVERAGE(D120,I120) -> #DIV/0! | C124: =25.4*B124/13.61 -> #DIV/0! | D124: =+'A.2.2. Promedio diarios (T y P)'!#REF! -> #REF! | E124: =1-(C124/D124) -> #DIV/0! | F124: =+'A.2.2. Promedio diarios (T y P)'!#REF! -> #REF! | I124: =-(H124-G124)/(H123-G123)*(H123-F124)+H124 -> #REF!
B126: DÍA 14 | C126: Fecha Inicio: | E126: =+'A.2.2. Promedio diarios (T y P)'!#REF! -> #REF! | G126: Fecha Final: | I126: =+'A.2.2. Promedio diarios (T y P)'!#REF! -> #REF!
B128: Presión inicial: | E128: pulg H2O | G128: Presión final: | J128: pulg H2O
B130: PRESIÓN ATMOSFÉRICA | F130: Ta (°C) | G130: T (°C) inferior | H130: T (°C) superior | I130: Flujo prom (m3/min)
B131: Δh (pulg H2O) | C131: Pf (mm Hg) | D131: Pa (mm Hg) | E131: Po/Pa | G131: =+H131-2 -> #REF! | H131: =EVEN(F132) -> #REF!
B132: =AVERAGE(D128,I128) -> #DIV/0! | C132: =25.4*B132/13.61 -> #DIV/0! | D132: =+'A.2.2. Promedio diarios (T y P)'!#REF! -> #REF! | E132: =1-(C132/D132) -> #DIV/0! | F132: =+'A.2.2. Promedio diarios (T y P)'!#REF! -> #REF! | I132: =-(H132-G132)/(H131-G131)*(H131-F132)+H132 -> #REF!
B134: DÍA 15 | C134: Fecha Inicio: | E134: =+'A.2.2. Promedio diarios (T y P)'!#REF! -> #REF! | G134: Fecha Final: | I134: =+'A.2.2. Promedio diarios (T y P)'!#REF! -> #REF!
B136: Presión inicial: | E136: pulg H2O | G136: Presión final: | J136: pulg H2O
B138: PRESIÓN ATMOSFÉRICA | F138: Ta (°C) | G138: T (°C) inferior | H138: T (°C) superior | I138: Flujo prom (m3/min)
B139: Δh (pulg H2O) | C139: Pf (mm Hg) | D139: Pa (mm Hg) | E139: Po/Pa | G139: =+H139-2 -> #REF! | H139: =EVEN(F140) -> #REF!
B140: =AVERAGE(D136,I136) -> #DIV/0! | C140: =25.4*B140/13.61 -> #DIV/0! | D140: =+'A.2.2. Promedio diarios (T y P)'!#REF! -> #REF! | E140: =1-(C140/D140) -> #DIV/0! | F140: =+'A.2.2. Promedio diarios (T y P)'!#REF! -> #REF! | I140: =-(H140-G140)/(H139-G139)*(H139-F140)+H140 -> #REF!
B142: OBSERVACIONES:
B143: "-" : No aplica.

Sheet A.2.4. Cálculo PM10 y VM
E2: Tabla A.2.4. Concentración de PM10 y el volumen muestreado de metales - alto volumen
B7: TÍTULO DEL ESTUDIO: | E7: =+'A.2.1. Promedio meteorologia'!E6 -> EVALUACIÓN DE SEGUIMIENTO DE LA CALIDAD DEL AIRE EN EL ÁMBITO DE LA ZONA INDUSTRIAL DE VENTANILLA - MI PERÚ, UBICADO EN LOS DISTRITOS DE VENTANILLA Y MI PERÚ, PROVINCIA CONSTITUCIONAL DEL CALLAO, DURANTE JULIO DE 2020
B9: ESTACIÓN DE MONITOREO: | E9: ='A.2.1. Promedio meteorologia'!E8 -> CA-VMP-6 | H9: CÓDIGO DE ACCIÓN: | J9: ='A.2.1. Promedio meteorologia'!G8 -> 0001-7-2020-411
B11: N° | C11: Parámetro | D11: N° Filtro | E11: Fecha Inicio | F11: Fecha Final | G11: Tiempo o periodo de muestreo en minutos (t) | I11: Flujo de muestreo, en m3/min (Qa) | K11: Volumen de muestreo en m3 (Va)* | L11: ΔPeso (µg) ** | M11: Concentración de partículas (µg/m3)
B12: 1 | C12: PM10 | D12: 431014 | E12: =+'A.2.2. Promedio diarios (T y P)'!D13 -> 0 | F12: =+'A.2.2. Promedio diarios (T y P)'!G13 -> 0 | G12: =+'A.2.2. Promedio diarios (T y P)'!M13 -> 0 | I12: =+'A.2.3. Flujo promedio'!I28 -> #DIV/0! | K12: =+I12*G12 -> #DIV/0! | L12: 97400 | M12: =IF(L12="","",L12/K12) -> #DIV/0!
B13: 2 | D13: 431015 | E13: =+'A.2.2. Promedio diarios (T y P)'!D20 -> 0 | F13: =+'A.2.2. Promedio diarios (T y P)'!G20 -> 0 | G13: =+'A.2.2. Promedio diarios (T y P)'!M20 -> 0 | I13: ='A.2.3. Flujo promedio'!I36:J36 -> #DIV/0! | K13: =+I13*G13 -> #DIV/0! | L13: 76000 | M13: =IF(L13="","",L13/K13) -> #DIV/0!
B14: 3 | D14: 431016 | E14: =+'A.2.2. Promedio diarios (T y P)'!D27 -> 0 | F14: =+'A.2.2. Promedio diarios (T y P)'!G27 -> 0 | G14: =+'A.2.2. Promedio diarios (T y P)'!M27 -> 0 | I14: ='A.2.3. Flujo promedio'!I44:J44 -> #DIV/0! | K14: =+I14*G14 -> #DIV/0! | L14: 92300 | M14: =IF(L14="","",L14/K14) -> #DIV/0!
B15: 4 | D15: 431017 | E15: =+'A.2.2. Promedio diarios (T y P)'!D34 -> 0 | F15: =+'A.2.2. Promedio diarios (T y P)'!G34 -> 0 | G15: =+'A.2.2. Promedio diarios (T y P)'!M34 -> 0 | I15: ='A.2.3. Flujo promedio'!I52:J52 -> #DIV/0! | K15: =+I15*G15 -> #DIV/0! | L15: 118200 | M15: =IF(L15="","",L15/K15) -> #DIV/0!
B16: 5 | D16: 431018 | E16: =+'A.2.2. Promedio diarios (T y P)'!D41 -> 0 | F16: =+'A.2.2. Promedio diarios (T y P)'!G41 -> 0 | G16: =+'A.2.2. Promedio diarios (T y P)'!M41 -> 0 | I16: ='A.2.3. Flujo promedio'!I60:J60 -> #DIV/0! | K16: =+I16*G16 -> #DIV/0! | L16: 122400 | M16: =IF(L16="","",L16/K16) -> #DIV/0!
B17: 6 | E17: =+'A.2.2. Promedio diarios (T y P)'!#REF! -> #REF! | F17: =+'A.2.2. Promedio diarios (T y P)'!#REF! -> #REF! | G17: =+'A.2.2. Promedio diarios (T y P)'!#REF! -> #REF! | I17: =+#REF! -> #REF! | K17: =+I17*G17 -> #REF! | M17: =IF(L17="","",L17/K17)
B18: 7 | E18: =+'A.2.2. Promedio diarios (T y P)'!#REF! -> #REF! | F18: =+'A.2.2. Promedio diarios (T y P)'!#REF! -> #REF! | G18: =+'A.2.2. Promedio diarios (T y P)'!#REF! -> #REF! | I18: =+#REF! -> #REF! | K18: =+I18*G18 -> #REF! | M18: =IF(L18="","",L18/K18)
B19: 8 | E19: =+'A.2.2. Promedio diarios (T y P)'!#REF! -> #REF! | F19: =+'A.2.2. Promedio diarios (T y P)'!#REF! -> #REF! | G19: =+'A.2.2. Promedio diarios (T y P)'!#REF! -> #REF! | I19: =+#REF! -> #REF! | K19: =+I19*G19 -> #REF! | M19: =IF(L19="","",L19/K19)
B20: 9 | E20: =+'A.2.2. Promedio diarios (T y P)'!#REF! -> #REF! | F20: =+'A.2.2. Promedio diarios (T y P)'!#REF! -> #REF! | G20: =+'A.2.2. Promedio diarios (T y P)'!#REF! -> #REF! | I20: =+#REF! -> #REF! | K20: =+I20*G20 -> #REF! | M20: =IF(L20="","",L20/K20)
B21: 10 | E21: =+'A.2.2. Promedio diarios (T y P)'!#REF! -> #REF! | F21: =+'A.2.2. Promedio diarios (T y P)'!G9 -> 0 | G21: =+'A.2.2. Promedio diarios (T y P)'!#REF! -> #REF! | I21: =+#REF! -> #REF! | K21: =+I21*G21 -> #REF! | M21: =IF(L21="","",L21/K21)
B22: 11 | E22: =+'A.2.2. Promedio diarios (T y P)'!#REF! -> #REF! | F22: =+'A.2.2. Promedio diarios (T y P)'!#REF! -> #REF! | G22: =+'A.2.2. Promedio diarios (T y P)'!#REF! -> #REF! | I22: =+#REF! -> #REF! | K22: =+I22*G22 -> #REF! | M22: =IF(L22="","",L22/K22)
B23: 12 | E23: =+'A.2.2. Promedio diarios (T y P)'!#REF! -> #REF! | F23: =+'A.2.2. Promedio diarios (T y P)'!#REF! -> #REF! | G23: =+'A.2.2. Promedio diarios (T y P)'!#REF! -> #REF! | I23: =+#REF! -> #REF! | K23: =+I23*G23 -> #REF! | M23: =IF(L23="","",L23/K23)
B24: 13 | E24: =+'A.2.2. Promedio diarios (T y P)'!#REF! -> #REF! | F24: =+'A.2.2. Promedio diarios (T y P)'!#REF! -> #REF! | G24: =+'A.2.2. Promedio diarios (T y P)'!#REF! -> #REF! | I24: =+#REF! -> #REF! | K24: =+I24*G24 -> #REF! | M24: =IF(L24="","",L24/K24)
B25: 14 | E25: =+'A.2.2. Promedio diarios (T y P)'!#REF! -> #REF! | F25: =+'A.2.2. Promedio diarios (T y P)'!#REF! -> #REF! | G25: =+'A.2.2. Promedio diarios (T y P)'!#REF! -> #REF! | I25: =+#REF! -> #REF! | K25: =+I25*G25 -> #REF! | M25: =IF(L25="","",L25/K25)
B26: 15 | E26: =+'A.2.2. Promedio diarios (T y P)'!#REF! -> #REF! | F26: =+'A.2.2. Promedio diarios (T y P)'!#REF! -> #REF! | G26: =+'A.2.2. Promedio diarios (T y P)'!#REF! -> #REF! | I26: =+#REF! -> #REF! | K26: =+I26*G26 -> #REF! | M26: =IF(L26="","",L26/K26)
B28: OBSERVACIONES:
B29: (*) En el caso del material particulado y las sustancias que deben analizarse en la fase de partículas (metales, iones, carbonáceas, otros), el volumen de muestreo se debe expresar en las condiciones ambientales (volumen actual) en términos de temperatura ambiental y presión atmosférica promedio, medidas durante el período de muestreo. (Sección L.1.3 Cálculo de concentraciones señalada en el Protocolo de Monitoreo de la Calidad del aire del MINAM - D.S. N° 010-2019-MINAM). (**) Fuente: Informe de Ensayo N.° 13036/2020, 13042/2020 y 14275/2020 del laboratorio ALS LS Perú S.A.C. "-" : No aplica.

Sheet A.2.5. Cálculo PM 2.5
E2: Tabla A.2.6. Concentración de PM2,5 - bajo volumen
B7: DESCRIPCIÓN: | E7: =+'A.2.1. Promedio meteorologia'!E6 -> EVALUACIÓN DE SEGUIMIENTO DE LA CALIDAD DEL AIRE EN EL ÁMBITO DE LA ZONA INDUSTRIAL DE VENTANILLA - MI PERÚ, UBICADO EN LOS DISTRITOS DE VENTANILLA Y MI PERÚ, PROVINCIA CONSTITUCIONAL DEL CALLAO, DURANTE JULIO DE 2020
B9: ESTACIÓN DE MONITOREO: | E9: =+'A.2.4. Cálculo PM10 y VM'!E9:F9 -> CA-VMP-6 | H9: CÓDIGO DE ACCIÓN: | J9: =+'A.2.3. Flujo promedio'!H9 -> 0001-7-2020-411
B11: N° | C11: Parámetro | D11: N° Filtro | E11: Fecha Inicio | F11: Fecha Final | G11: Tiempo o periodo de muestreo en minutos (t) | I11: Flujo de muestreo, en L/min (Q)* | J11: Volumen de muestreo (m3)* | L11: ΔPeso (µg) ** | M11: Concentración de partículas (µg/m3)
B12: 1 | C12: PM2,5 | D12: - | E12: - | F12: - | G12: - | I12: - | J12: - | L12: - | M12: -
B13: 2 | D13: - | E13: - | F13: - | G13: - | I13: - | J13: - | L13: - | M13: -
B14: 3 | D14: - | E14: - | F14: - | G14: - | I14: - | J14: - | L14: - | M14: -
B15: 4 | D15: - | E15: - | F15: - | G15: - | I15: - | J15: - | L15: - | M15: -
B16: 5 | D16: - | E16: - | F16: - | G16: - | I16: - | J16: - | L16: - | M16: -
B17: 6 | G17: =(F17-E17)*60*24 -> 0 | K17: 23.51 | M17: =IF(L17="","",L17/K17)
B18: 7 | G18: =(F18-E18)*60*24 -> 0 | K18: 23.51 | M18: =IF(L18="","",L18/K18)
B19: 8 | G19: =(F19-E19)*60*24 -> 0 | K19: 23.52 | M19: =IF(L19="","",L19/K19)
B20: 9 | G20: =(F20-E20)*60*24 -> 0 | M20: =IF(L20="","",L20/K20)
B21: 10 | G21: =(F21-E21)*60*24 -> 0 | M21: =IF(L21="","",L21/K21)
B22: 11 | G22: =(F22-E22)*60*24 -> 0 | M22: =IF(L22="","",L22/K22)
B23: 12 | G23: =(F23-E23)*60*24 -> 0 | M23: =IF(L23="","",L23/K23)
B24: 13 | G24: =(F24-E24)*60*24 -> 0 | M24: =IF(L24="","",L24/K24)
B25: 14 | G25: =(F25-E25)*60*24 -> 0 | M25: =IF(L25="","",L25/K25)
B26: 15 | G26: =(F26-E26)*60*24 -> 0 | M26: =IF(L26="","",L26/K26)
B28: OBSERVACIONES:
B29: (*) El flujo y volumen de muestreo para material particulado PM2,5 son registrados por el equipo muestreador de bajo volumen. "-" : No aplica.

Sheet A.2.6. Conc. de Metales PM 10
E2: Tabla A.2.5. Concentraciones de metales en PM10 a temperatura ambiente
B7: TÍTULO DEL ESTUDIO: | E7: =+'A.2.1. Promedio meteorologia'!E6 -> EVALUACIÓN DE SEGUIMIENTO DE LA CALIDAD DEL AIRE EN EL ÁMBITO DE LA ZONA INDUSTRIAL DE VENTANILLA - MI PERÚ, UBICADO EN LOS DISTRITOS DE VENTANILLA Y MI PERÚ, PROVINCIA CONSTITUCIONAL DEL CALLAO, DURANTE JULIO DE 2020
B9: ESTACIÓN DE MONITOREO: | E9: =+'A.2.1. Promedio meteorologia'!E8 -> CA-VMP-6 | G9: CÓDIGO DE ACCIÓN: | I9: ='A.2.1. Promedio meteorologia'!G8 -> 0001-7-2020-411
B11: RESULTADOS DE LABORATORIO
B12: Metal medido en PM10 | D12: Unidad | E12: Fecha
E13: ='A.2.4. Cálculo PM10 y VM'!$E12 -> 0 | F13: ='A.2.4. Cálculo PM10 y VM'!$E13 -> 0 | G13: ='A.2.4. Cálculo PM10 y VM'!$E14 -> 0 | H13: ='A.2.4. Cálculo PM10 y VM'!$E15 -> 0 | I13: ='A.2.4. Cálculo PM10 y VM'!$E16 -> 0 | J13: ='A.2.4. Cálculo PM10 y VM'!$E17 -> #REF! | K13: ='A.2.4. Cálculo PM10 y VM'!$E18 -> #REF! | L13: ='A.2.4. Cálculo PM10 y VM'!$E19 -> #REF! | M13: ='A.2.4. Cálculo PM10 y VM'!$E20 -> #REF! | N13: ='A.2.4. Cálculo PM10 y VM'!$E21 -> #REF! | O13: ='A.2.4. Cálculo PM10 y VM'!$E22 -> #REF! | P13: ='A.2.4. Cálculo PM10 y VM'!$E23 -> #REF! | Q13: ='A.2.4. Cálculo PM10 y VM'!$E24 -> #REF! | R13: ='A.2.4. Cálculo PM10 y VM'!$E25 -> #REF! | S13: ='A.2.4. Cálculo PM10 y VM'!$E26 -> #REF!
B14: Aluminio | C14: Al | D14: µg/mtra | E14: 874.6 | F14: 629.1 | G14: 652.1 | H14: 892 | I14: 847
B15: Antimonio | C15: Sb | D15: µg/mtra | E15: 7.363 | F15: 2.634 | G15: 3.459 | H15: 13.15 | I15: 15.43
B16: Arsénico | C16: As | D16: µg/mtra | E16: 6.409 | F16: 10.42 | G16: 7.33 | H16: 9.694 | I16: 10.3
B17: Bario | C17: Ba | D17: µg/mtra | E17: 31.61 | F17: 18.76 | G17: 22.94 | H17: 27.94 | I17: 35.55
B18: Berilio | C18: Be | D18: µg/mtra | E18: < 0,010 | F18: < 0,010 | G18: < 0,010 | H18: < 0,010 | I18: < 0,010
B19: Bismuto | C19: Bi | D19: µg/mtra | E19: 0.827 | F19: 0.5467 | G19: 0.4976 | H19: 0.7177 | I19: 0.9212
B20: Boro | C20: B | D20: µg/mtra | E20: 4.2 | F20: 3.37 | G20: 5.83 | H20: 5.31 | I20: 4.66
B21: Cadmio | C21: Cd | D21: µg/mtra | E21: 2.606 | F21: 0.982 | G21: 1.711 | H21: 2.4 | I21: 2.508
B22: Calcio | C22: Ca | D22: µg/mtra | E22: 3550 | F22: 3724 | G22: 3165 | H22: 3805 | I22: 4707
B23: Cobalto | C23: Co | D23: µg/mtra | E23: 1.229 | F23: 0.941 | G23: 0.832 | H23: 1.176 | I23: 1.47
B24: Cobre | C24: Cu | D24: µg/mtra | E24: 129.9 | F24: 71.47 | G24: 64.26 | H24: 105.7 | I24: 160.8
B25: Cromo | C25: Cr | D25: µg/mtra | E25: < 2,082 | F25: < 2,082 | G25: < 2,082 | H25: < 2,082 | I25: < 2,082
B26: Estaño | C26: Sn | D26: µg/mtra | E26: 5.458 | F26: 2.107 | G26: 4.044 | H26: 5.96 | I26: 8.295
B27: Estroncio | C27: Sr | D27: µg/mtra | E27: 13.96 | F27: 13.7 | G27: 12.97 | H27: 16.7 | I27: 16.22
B28: Fósforo | C28: P | D28: µg/mtra | E28: 349.2 | F28: 333.8 | G28: 438.6 | H28: 391.6 | I28: 566.1
B29: Hierro | C29: Fe | D29: µg/mtra | E29: 1570 | F29: 1060 | G29: 1115 | H29: 1572 | I29: 1600
B30: Litio | C30: Li | D30: µg/mtra | E30: 0.77 | F30: 0.47 | G30: 0.71 | H30: 0.85 | I30: 0.65
B31: Magnesio | C31: Mg | D31: µg/mtra | E31: 961 | F31: 1076 | G31: 947.7 | H31: 1270 | I31: 1268
B32: Manganeso | C32: Mn | D32: µg/mtra | E32: 39.18 | F32: 27.31 | G32: 31.31 | H32: 38.74 | I32: 41.76
B33: Mercurio | C33: Hg | D33: µg/mtra | E33: < 0,021 | F33: < 0,021 | G33: 0.171 | H33: < 0,021 | I33: 0.364
B34: Molibdeno | C34: Mo | D34: µg/mtra | E34: 3.665 | F34: 3.336 | G34: 3.094 | H34: 3.995 | I34: 4.275
B35: Níquel | C35: Ni | D35: µg/mtra | E35: 8.379 | F35: 4.468 | G35: 3.776 | H35: 4.355 | I35: 6.317
B36: Plata | C36: Ag | D36: µg/mtra | E36: 0.3351 | F36: 0.253 | G36: 0.2028 | H36: 0.251 | I36: 0.4812
B37: Plomo | C37: Pb | D37: µg/mtra | E37: 137 | F37: 26.86 | G37: 44.37 | H37: 195.6 | I37: 205.7
B38: Potasio | C38: K | D38: µg/mtra | E38: 565 | F38: 478.5 | G38: 502.6 | H38: 618.2 | I38: 594.3
B39: Selenio | C39: Se | D39: µg/mtra | E39: 4.368 | F39: 2.203 | G39: 4.095 | H39: 3.676 | I39: 4.861
B40: Silicio | C40: Si | D40: µg/mtra | E40: 1173 | F40: 978.3 | G40: 1377 | H40: 1405 | I40: 1168
B41: Sodio | C41: Na | D41: µg/mtra | E41: 3612 | F41: 5643 | G41: 4879 | H41: 5796 | I41: 5998
B42: Talio | C42: Tl | D42: µg/mtra | E42: 0.22 | F42: < 0,008 | G42: < 0,008 | H42: 0.294 | I42: 0.181
B43: Titanio | C43: Ti | D43: µg/mtra | E43: 42 | F43: 31.34 | G43: 32.62 | H43: 43 | I43: 43.02
B44: Uranio | C44: U | D44: µg/mtra | E44: < 0,0071 | F44: < 0,0071 | G44: < 0,0071 | H44: < 0,0071 | I44: 0.1751
B45: Vanadio | C45: V | D45: µg/mtra | E45: 5.569 | F45: 4.207 | G45: 3.983 | H45: 5.22 | I45: 6.395
B46: Zinc | C46: Zn | D46: µg/mtra | E46: 215.1 | F46: 107.3 | G46: 123.8 | H46: 155 | I46: 326.9
B48: <: Debajo del límite de detección
B49: Fuente: Informe de Ensayo N.° 35995/2020 del laboratorio ALS LS Perú S.A.C.
B51: CONCENTRACIÓN DE METALES
B52: Metal medido en PM10 | D52: Unidad | E52: =E12 -> Fecha
E53: ='A.2.4. Cálculo PM10 y VM'!$E12 -> 0 | F53: ='A.2.4. Cálculo PM10 y VM'!$E13 -> 0 | G53: ='A.2.4. Cálculo PM10 y VM'!$E14 -> 0 | H53: ='A.2.4. Cálculo PM10 y VM'!$E15 -> 0 | I53: ='A.2.4. Cálculo PM10 y VM'!$E16 -> 0 | J53: ='A.2.4. Cálculo PM10 y VM'!$E17 -> #REF! | K53: ='A.2.4. Cálculo PM10 y VM'!$E18 -> #REF! | L53: ='A.2.4. Cálculo PM10 y VM'!$E19 -> #REF! | M53: ='A.2.4. Cálculo PM10 y VM'!$E20 -> #REF! | N53: ='A.2.4. Cálculo PM10 y VM'!$E21 -> #REF! | O53: ='A.2.4. Cálculo PM10 y VM'!$E22 -> #REF! | P53: ='A.2.4. Cálculo PM10 y VM'!$E23 -> #REF! | Q53: ='A.2.4. Cálculo PM10 y VM'!$E24 -> #REF! | R53: ='A.2.4. Cálculo PM10 y VM'!$E25 -> #REF! | S53: ='A.2.4. Cálculo PM10 y VM'!$E26 -> #REF!
B54: Volumen de muestreo, en m3 (Va) | E54: ='A.2.4. Cálculo PM10 y VM'!K12 -> #DIV/0! | F54: ='A.2.4. Cálculo PM10 y VM'!K13 -> #DIV/0! | G54: ='A.2.4. Cálculo PM10 y VM'!K14 -> #DIV/0! | H54: ='A.2.4. Cálculo PM10 y VM'!K15 -> #DIV/0! | I54: ='A.2.4. Cálculo PM10 y VM'!K16 -> #DIV/0! | J54: ='A.2.4. Cálculo PM10 y VM'!#REF! -> #REF! | K54: ='A.2.4. Cálculo PM10 y VM'!#REF! -> #REF! | L54: ='A.2.4. Cálculo PM10 y VM'!#REF! -> #REF! | M54: ='A.2.4. Cálculo PM10 y VM'!#REF! -> #REF! | N54: ='A.2.4. Cálculo PM10 y VM'!#REF! -> #REF! | O54: ='A.2.4. Cálculo PM10 y VM'!#REF! -> #REF! | P54: ='A.2.4. Cálculo PM10 y VM'!#REF! -> #REF! | Q54: ='A.2.4. Cálculo PM10 y VM'!#REF! -> #REF! | ... S54: ='A.2.4. Cálculo PM10 y VM'!#REF! -> #REF! | V54: ECA Mensual: | W54: Promedio: | X54: Estado: | Y54: Cantidad:
B55: Aluminio | C55: Al | D55: µg/m3 | E55: =IF(ISNUMBER(FIND("<",E14)),"N.D.",PRODUCT(E14,1/E$54)) -> #DIV/0! | F55: =IF(ISNUMBER(FIND("<",F14)),"N.D.",PRODUCT(F14,1/F$54)) -> #DIV/0! | G55: =IF(ISNUMBER(FIND("<",G14)),"N.D.",PRODUCT(G14,1/G$54)) -> #DIV/0! | H55: =IF(ISNUMBER(FIND("<",H14)),"N.D.",PRODUCT(H14,1/H$54)) -> #DIV/0! | I55: =IF(ISNUMBER(FIND("<",I14)),"N.D.",PRODUCT(I14,1/I$54)) -> #DIV/0! | J55: =IF(ISNUMBER(FIND("<",J14)),"N.D.",PRODUCT(J14,1/J$54)) -> #REF! | K55: =IF(ISNUMBER(FIND("<",K14)),"N.D.",PRODUCT(K14,1/K$54)) -> #REF! | L55: =IF(ISNUMBER(FIND("<",L14)),"N.D.",PRODUCT(L14,1/L$54)) -> #REF! | ... S55: =IF(ISNUMBER(FIND("<",S14)),"N.D.",PRODUCT(S14,1/S$54)) -> #REF!
B56: Antimonio | C56: Sb | D56: µg/m3 | E56: =IF(ISNUMBER(FIND("<",E15)),"N.D.",PRODUCT(E15,1/E$54)) -> #DIV/0! | F56: =IF(ISNUMBER(FIND("<",F15)),"N.D.",PRODUCT(F15,1/F$54)) -> #DIV/0! | G56: =IF(ISNUMBER(FIND("<",G15)),"N.D.",PRODUCT(G15,1/G$54)) -> #DIV/0! | H56: =IF(ISNUMBER(FIND("<",H15)),"N.D.",PRODUCT(H15,1/H$54)) -> #DIV/0! | I56: =IF(ISNUMBER(FIND("<",I15)),"N.D.",PRODUCT(I15,1/I$54)) -> #DIV/0! | J56: =IF(ISNUMBER(FIND("<",J15)),"N.D.",PRODUCT(J15,1/J$54)) -> #REF! | K56: =IF(ISNUMBER(FIND("<",K15)),"N.D.",PRODUCT(K15,1/K$54)) -> #REF! | L56: =IF(ISNUMBER(FIND("<",L15)),"N.D.",PRODUCT(L15,1/L$54)) -> #REF! | ... S56: =IF(ISNUMBER(FIND("<",S15)),"N.D.",PRODUCT(S15,1/S$54)) -> #REF!
B57: Arsénico | C57: As | D57: µg/m3 | E57: =IF(ISNUMBER(FIND("<",E16)),"N.D.",PRODUCT(E16,1/E$54)) -> #DIV/0! | F57: =IF(ISNUMBER(FIND("<",F16)),"N.D.",PRODUCT(F16,1/F$54)) -> #DIV/0! | G57: =IF(ISNUMBER(FIND("<",G16)),"N.D.",PRODUCT(G16,1/G$54)) -> #DIV/0! | H57: =IF(ISNUMBER(FIND("<",H16)),"N.D.",PRODUCT(H16,1/H$54)) -> #DIV/0! | I57: =IF(ISNUMBER(FIND("<",I16)),"N.D.",PRODUCT(I16,1/I$54)) -> #DIV/0! | J57: =IF(ISNUMBER(FIND("<",J16)),"N.D.",PRODUCT(J16,1/J$54)) -> #REF! | K57: =IF(ISNUMBER(FIND("<",K16)),"N.D.",PRODUCT(K16,1/K$54)) -> #REF! | L57: =IF(ISNUMBER(FIND("<",L16)),"N.D.",PRODUCT(L16,1/L$54)) -> #REF! | ... S57: =IF(ISNUMBER(FIND("<",S16)),"N.D.",PRODUCT(S16,1/S$54)) -> #REF!
B58: Bario | C58: Ba | D58: µg/m3 | E58: =IF(ISNUMBER(FIND("<",E17)),"N.D.",PRODUCT(E17,1/E$54)) -> #DIV/0! | F58: =IF(ISNUMBER(FIND("<",F17)),"N.D.",PRODUCT(F17,1/F$54)) -> #DIV/0! | G58: =IF(ISNUMBER(FIND("<",G17)),"N.D.",PRODUCT(G17,1/G$54)) -> #DIV/0! | H58: =IF(ISNUMBER(FIND("<",H17)),"N.D.",PRODUCT(H17,1/H$54)) -> #DIV/0! | I58: =IF(ISNUMBER(FIND("<",I17)),"N.D.",PRODUCT(I17,1/I$54)) -> #DIV/0! | J58: =IF(ISNUMBER(FIND("<",J17)),"N.D.",PRODUCT(J17,1/J$54)) -> #REF! | K58: =IF(ISNUMBER(FIND("<",K17)),"N.D.",PRODUCT(K17,1/K$54)) -> #REF! | L58: =IF(ISNUMBER(FIND("<",L17)),"N.D.",PRODUCT(L17,1/L$54)) -> #REF! | ... S58: =IF(ISNUMBER(FIND("<",S17)),"N.D.",PRODUCT(S17,1/S$54)) -> #REF!
B59: Berilio | C59: Be | D59: µg/m3 | E59: =IF(ISNUMBER(FIND("<",E18)),"N.D.",PRODUCT(E18,1/E$54)) -> N.D. | F59: =IF(ISNUMBER(FIND("<",F18)),"N.D.",PRODUCT(F18,1/F$54)) -> N.D. | G59: =IF(ISNUMBER(FIND("<",G18)),"N.D.",PRODUCT(G18,1/G$54)) -> N.D. | H59: =IF(ISNUMBER(FIND("<",H18)),"N.D.",PRODUCT(H18,1/H$54)) -> N.D. | I59: =IF(ISNUMBER(FIND("<",I18)),"N.D.",PRODUCT(I18,1/I$54)) -> N.D. | J59: =IF(ISNUMBER(FIND("<",J18)),"N.D.",PRODUCT(J18,1/J$54)) -> #REF! | K59: =IF(ISNUMBER(FIND("<",K18)),"N.D.",PRODUCT(K18,1/K$54)) -> #REF! | L59: =IF(ISNUMBER(FIND("<",L18)),"N.D.",PRODUCT(L18,1/L$54)) -> #REF! | ... S59: =IF(ISNUMBER(FIND("<",S18)),"N.D.",PRODUCT(S18,1/S$54)) -> #REF!
B60: Bismuto | C60: Bi | D60: µg/m3 | E60: =IF(ISNUMBER(FIND("<",E19)),"N.D.",PRODUCT(E19,1/E$54)) -> #DIV/0! | F60: =IF(ISNUMBER(FIND("<",F19)),"N.D.",PRODUCT(F19,1/F$54)) -> #DIV/0! | G60: =IF(ISNUMBER(FIND("<",G19)),"N.D.",PRODUCT(G19,1/G$54)) -> #DIV/0! | H60: =IF(ISNUMBER(FIND("<",H19)),"N.D.",PRODUCT(H19,1/H$54)) -> #DIV/0! | I60: =IF(ISNUMBER(FIND("<",I19)),"N.D.",PRODUCT(I19,1/I$54)) -> #DIV/0! | J60: =IF(ISNUMBER(FIND("<",J19)),"N.D.",PRODUCT(J19,1/J$54)) -> #REF! | K60: =IF(ISNUMBER(FIND("<",K19)),"N.D.",PRODUCT(K19,1/K$54)) -> #REF! | L60: =IF(ISNUMBER(FIND("<",L19)),"N.D.",PRODUCT(L19,1/L$54)) -> #REF! | ... S60: =IF(ISNUMBER(FIND("<",S19)),"N.D.",PRODUCT(S19,1/S$54)) -> #REF!
B61: Boro | C61: B | D61: µg/m3 | E61: =IF(ISNUMBER(FIND("<",E20)),"N.D.",PRODUCT(E20,1/E$54)) -> #DIV/0! | F61: =IF(ISNUMBER(FIND("<",F20)),"N.D.",PRODUCT(F20,1/F$54)) -> #DIV/0! | G61: =IF(ISNUMBER(FIND("<",G20)),"N.D.",PRODUCT(G20,1/G$54)) -> #DIV/0! | H61: =IF(ISNUMBER(FIND("<",H20)),"N.D.",PRODUCT(H20,1/H$54)) -> #DIV/0! | I61: =IF(ISNUMBER(FIND("<",I20)),"N.D.",PRODUCT(I20,1/I$54)) -> #DIV/0! | J61: =IF(ISNUMBER(FIND("<",J20)),"N.D.",PRODUCT(J20,1/J$54)) -> #REF! | K61: =IF(ISNUMBER(FIND("<",K20)),"N.D.",PRODUCT(K20,1/K$54)) -> #REF! | L61: =IF(ISNUMBER(FIND("<",L20)),"N.D.",PRODUCT(L20,1/L$54)) -> #REF! | ... S61: =IF(ISNUMBER(FIND("<",S20)),"N.D.",PRODUCT(S20,1/S$54)) -> #REF!
B62: Cadmio | C62: Cd | D62: µg/m3 | E62: =IF(ISNUMBER(FIND("<",E21)),"N.D.",PRODUCT(E21,1/E$54)) -> #DIV/0! | F62: =IF(ISNUMBER(FIND("<",F21)),"N.D.",PRODUCT(F21,1/F$54)) -> #DIV/0! | G62: =IF(ISNUMBER(FIND("<",G21)),"N.D.",PRODUCT(G21,1/G$54)) -> #DIV/0! | H62: =IF(ISNUMBER(FIND("<",H21)),"N.D.",PRODUCT(H21,1/H$54)) -> #DIV/0! | I62: =IF(ISNUMBER(FIND("<",I21)),"N.D.",PRODUCT(I21,1/I$54)) -> #DIV/0! | J62: =IF(ISNUMBER(FIND("<",J21)),"N.D.",PRODUCT(J21,1/J$54)) -> #REF! | K62: =IF(ISNUMBER(FIND("<",K21)),"N.D.",PRODUCT(K21,1/K$54)) -> #REF! | L62: =IF(ISNUMBER(FIND("<",L21)),"N.D.",PRODUCT(L21,1/L$54)) -> #REF! | ... S62: =IF(ISNUMBER(FIND("<",S21)),"N.D.",PRODUCT(S21,1/S$54)) -> #REF! | V62: 0.05 | W62: =AVERAGE(E62:I62) -> #DIV/0! | X62: =IF(W62>V62,"Supera","No Supera") -> #DIV/0! | Y62: =COUNTIF(E62:J62,">0,05") -> 0 | Z62: =W62/V62 -> #DIV/0!
B63: Calcio | C63: Ca | D63: µg/m3 | E63: =IF(ISNUMBER(FIND("<",E22)),"N.D.",PRODUCT(E22,1/E$54)) -> #DIV/0! | F63: =IF(ISNUMBER(FIND("<",F22)),"N.D.",PRODUCT(F22,1/F$54)) -> #DIV/0! | G63: =IF(ISNUMBER(FIND("<",G22)),"N.D.",PRODUCT(G22,1/G$54)) -> #DIV/0! | H63: =IF(ISNUMBER(FIND("<",H22)),"N.D.",PRODUCT(H22,1/H$54)) -> #DIV/0! | I63: =IF(ISNUMBER(FIND("<",I22)),"N.D.",PRODUCT(I22,1/I$54)) -> #DIV/0! | J63: =IF(ISNUMBER(FIND("<",J22)),"N.D.",PRODUCT(J22,1/J$54)) -> #REF! | K63: =IF(ISNUMBER(FIND("<",K22)),"N.D.",PRODUCT(K22,1/K$54)) -> #REF! | L63: =IF(ISNUMBER(FIND("<",L22)),"N.D.",PRODUCT(L22,1/L$54)) -> #REF! | ... S63: =IF(ISNUMBER(FIND("<",S22)),"N.D.",PRODUCT(S22,1/S$54)) -> #REF!
B64: Cobalto | C64: Co | D64: µg/m3 | E64: =IF(ISNUMBER(FIND("<",E23)),"N.D.",PRODUCT(E23,1/E$54)) -> #DIV/0! | F64: =IF(ISNUMBER(FIND("<",F23)),"N.D.",PRODUCT(F23,1/F$54)) -> #DIV/0! | G64: =IF(ISNUMBER(FIND("<",G23)),"N.D.",PRODUCT(G23,1/G$54)) -> #DIV/0! | H64: =IF(ISNUMBER(FIND("<",H23)),"N.D.",PRODUCT(H23,1/H$54)) -> #DIV/0! | I64: =IF(ISNUMBER(FIND("<",I23)),"N.D.",PRODUCT(I23,1/I$54)) -> #DIV/0! | J64: =IF(ISNUMBER(FIND("<",J23)),"N.D.",PRODUCT(J23,1/J$54)) -> #REF! | K64: =IF(ISNUMBER(FIND("<",K23)),"N.D.",PRODUCT(K23,1/K$54)) -> #REF! | L64: =IF(ISNUMBER(FIND("<",L23)),"N.D.",PRODUCT(L23,1/L$54)) -> #REF! | ... S64: =IF(ISNUMBER(FIND("<",S23)),"N.D.",PRODUCT(S23,1/S$54)) -> #REF!
B65: Cobre | C65: Cu | D65: µg/m3 | E65: =IF(ISNUMBER(FIND("<",E24)),"N.D.",PRODUCT(E24,1/E$54)) -> #DIV/0! | F65: =IF(ISNUMBER(FIND("<",F24)),"N.D.",PRODUCT(F24,1/F$54)) -> #DIV/0! | G65: =IF(ISNUMBER(FIND("<",G24)),"N.D.",PRODUCT(G24,1/G$54)) -> #DIV/0! | H65: =IF(ISNUMBER(FIND("<",H24)),"N.D.",PRODUCT(H24,1/H$54)) -> #DIV/0! | I65: =IF(ISNUMBER(FIND("<",I24)),"N.D.",PRODUCT(I24,1/I$54)) -> #DIV/0! | J65: =IF(ISNUMBER(FIND("<",J24)),"N.D.",PRODUCT(J24,1/J$54)) -> #REF! | K65: =IF(ISNUMBER(FIND("<",K24)),"N.D.",PRODUCT(K24,1/K$54)) -> #REF! | L65: =IF(ISNUMBER(FIND("<",L24)),"N.D.",PRODUCT(L24,1/L$54)) -> #REF! | ... S65: =IF(ISNUMBER(FIND("<",S24)),"N.D.",PRODUCT(S24,1/S$54)) -> #REF!
B66: Cromo | C66: Cr | D66: µg/m3 | E66: =IF(ISNUMBER(FIND("<",E25)),"N.D.",PRODUCT(E25,1/E$54)) -> N.D. | F66: =IF(ISNUMBER(FIND("<",F25)),"N.D.",PRODUCT(F25,1/F$54)) -> N.D. | G66: =IF(ISNUMBER(FIND("<",G25)),"N.D.",PRODUCT(G25,1/G$54)) -> N.D. | H66: =IF(ISNUMBER(FIND("<",H25)),"N.D.",PRODUCT(H25,1/H$54)) -> N.D. | I66: =IF(ISNUMBER(FIND("<",I25)),"N.D.",PRODUCT(I25,1/I$54)) -> N.D. | J66: =IF(ISNUMBER(FIND("<",J25)),"N.D.",PRODUCT(J25,1/J$54)) -> #REF! | K66: =IF(ISNUMBER(FIND("<",K25)),"N.D.",PRODUCT(K25,1/K$54)) -> #REF! | L66: =IF(ISNUMBER(FIND("<",L25)),"N.D.",PRODUCT(L25,1/L$54)) -> #REF! | ... S66: =IF(ISNUMBER(FIND("<",S25)),"N.D.",PRODUCT(S25,1/S$54)) -> #REF!
B67: Estaño | C67: Sn | D67: µg/m3 | E67: =IF(ISNUMBER(FIND("<",E26)),"N.D.",PRODUCT(E26,1/E$54)) -> #DIV/0! | F67: =IF(ISNUMBER(FIND("<",F26)),"N.D.",PRODUCT(F26,1/F$54)) -> #DIV/0! | G67: =IF(ISNUMBER(FIND("<",G26)),"N.D.",PRODUCT(G26,1/G$54)) -> #DIV/0! | H67: =IF(ISNUMBER(FIND("<",H26)),"N.D.",PRODUCT(H26,1/H$54)) -> #DIV/0! | I67: =IF(ISNUMBER(FIND("<",I26)),"N.D.",PRODUCT(I26,1/I$54)) -> #DIV/0! | J67: =IF(ISNUMBER(FIND("<",J26)),"N.D.",PRODUCT(J26,1/J$54)) -> #REF! | K67: =IF(ISNUMBER(FIND("<",K26)),"N.D.",PRODUCT(K26,1/K$54)) -> #REF! | L67: =IF(ISNUMBER(FIND("<",L26)),"N.D.",PRODUCT(L26,1/L$54)) -> #REF! | ... S67: =IF(ISNUMBER(FIND("<",S26)),"N.D.",PRODUCT(S26,1/S$54)) -> #REF!
B68: Estroncio | C68: Sr | D68: µg/m3 | E68: =IF(ISNUMBER(FIND("<",E27)),"N.D.",PRODUCT(E27,1/E$54)) -> #DIV/0! | F68: =IF(ISNUMBER(FIND("<",F27)),"N.D.",PRODUCT(F27,1/F$54)) -> #DIV/0! | G68: =IF(ISNUMBER(FIND("<",G27)),"N.D.",PRODUCT(G27,1/G$54)) -> #DIV/0! | H68: =IF(ISNUMBER(FIND("<",H27)),"N.D.",PRODUCT(H27,1/H$54)) -> #DIV/0! | I68: =IF(ISNUMBER(FIND("<",I27)),"N.D.",PRODUCT(I27,1/I$54)) -> #DIV/0! | J68: =IF(ISNUMBER(FIND("<",J27)),"N.D.",PRODUCT(J27,1/J$54)) -> #REF! | K68: =IF(ISNUMBER(FIND("<",K27)),"N.D.",PRODUCT(K27,1/K$54)) -> #REF! | L68: =IF(ISNUMBER(FIND("<",L27)),"N.D.",PRODUCT(L27,1/L$54)) -> #REF! | ... S68: =IF(ISNUMBER(FIND("<",S27)),"N.D.",PRODUCT(S27,1/S$54)) -> #REF!
B69: Fósforo | C69: P | D69: µg/m3 | E69: =IF(ISNUMBER(FIND("<",E28)),"N.D.",PRODUCT(E28,1/E$54)) -> #DIV/0! | F69: =IF(ISNUMBER(FIND("<",F28)),"N.D.",PRODUCT(F28,1/F$54)) -> #DIV/0! | G69: =IF(ISNUMBER(FIND("<",G28)),"N.D.",PRODUCT(G28,1/G$54)) -> #DIV/0! | H69: =IF(ISNUMBER(FIND("<",H28)),"N.D.",PRODUCT(H28,1/H$54)) -> #DIV/0! | I69: =IF(ISNUMBER(FIND("<",I28)),"N.D.",PRODUCT(I28,1/I$54)) -> #DIV/0! | J69: =IF(ISNUMBER(FIND("<",J28)),"N.D.",PRODUCT(J28,1/J$54)) -> #REF! | K69: =IF(ISNUMBER(FIND("<",K28)),"N.D.",PRODUCT(K28,1/K$54)) -> #REF! | L69: =IF(ISNUMBER(FIND("<",L28)),"N.D.",PRODUCT(L28,1/L$54)) -> #REF! | ... S69: =IF(ISNUMBER(FIND("<",S28)),"N.D.",PRODUCT(S28,1/S$54)) -> #REF!
B70: Hierro | C70: Fe | D70: µg/m3 | E70: =IF(ISNUMBER(FIND("<",E29)),"N.D.",PRODUCT(E29,1/E$54)) -> #DIV/0! | F70: =IF(ISNUMBER(FIND("<",F29)),"N.D.",PRODUCT(F29,1/F$54)) -> #DIV/0! | G70: =IF(ISNUMBER(FIND("<",G29)),"N.D.",PRODUCT(G29,1/G$54)) -> #DIV/0! | H70: =IF(ISNUMBER(FIND("<",H29)),"N.D.",PRODUCT(H29,1/H$54)) -> #DIV/0! | I70: =IF(ISNUMBER(FIND("<",I29)),"N.D.",PRODUCT(I29,1/I$54)) -> #DIV/0! | J70: =IF(ISNUMBER(FIND("<",J29)),"N.D.",PRODUCT(J29,1/J$54)) -> #REF! | K70: =IF(ISNUMBER(FIND("<",K29)),"N.D.",PRODUCT(K29,1/K$54)) -> #REF! | L70: =IF(ISNUMBER(FIND("<",L29)),"N.D.",PRODUCT(L29,1/L$54)) -> #REF! | ... S70: =IF(ISNUMBER(FIND("<",S29)),"N.D.",PRODUCT(S29,1/S$54)) -> #REF!
B71: Litio | C71: Li | D71: µg/m3 | E71: =IF(ISNUMBER(FIND("<",E30)),"N.D.",PRODUCT(E30,1/E$54)) -> #DIV/0! | F71: =IF(ISNUMBER(FIND("<",F30)),"N.D.",PRODUCT(F30,1/F$54)) -> #DIV/0! | G71: =IF(ISNUMBER(FIND("<",G30)),"N.D.",PRODUCT(G30,1/G$54)) -> #DIV/0! | H71: =IF(ISNUMBER(FIND("<",H30)),"N.D.",PRODUCT(H30,1/H$54)) -> #DIV/0! | I71: =IF(ISNUMBER(FIND("<",I30)),"N.D.",PRODUCT(I30,1/I$54)) -> #DIV/0! | J71: =IF(ISNUMBER(FIND("<",J30)),"N.D.",PRODUCT(J30,1/J$54)) -> #REF! | K71: =IF(ISNUMBER(FIND("<",K30)),"N.D.",PRODUCT(K30,1/K$54)) -> #REF! | L71: =IF(ISNUMBER(FIND("<",L30)),"N.D.",PRODUCT(L30,1/L$54)) -> #REF! | ... S71: =IF(ISNUMBER(FIND("<",S30)),"N.D.",PRODUCT(S30,1/S$54)) -> #REF!
B72: Magnesio | C72: Mg | D72: µg/m3 | E72: =IF(ISNUMBER(FIND("<",E31)),"N.D.",PRODUCT(E31,1/E$54)) -> #DIV/0! | F72: =IF(ISNUMBER(FIND("<",F31)),"N.D.",PRODUCT(F31,1/F$54)) -> #DIV/0! | G72: =IF(ISNUMBER(FIND("<",G31)),"N.D.",PRODUCT(G31,1/G$54)) -> #DIV/0! | H72: =IF(ISNUMBER(FIND("<",H31)),"N.D.",PRODUCT(H31,1/H$54)) -> #DIV/0! | I72: =IF(ISNUMBER(FIND("<",I31)),"N.D.",PRODUCT(I31,1/I$54)) -> #DIV/0! | J72: =IF(ISNUMBER(FIND("<",J31)),"N.D.",PRODUCT(J31,1/J$54)) -> #REF! | K72: =IF(ISNUMBER(FIND("<",K31)),"N.D.",PRODUCT(K31,1/K$54)) -> #REF! | L72: =IF(ISNUMBER(FIND("<",L31)),"N.D.",PRODUCT(L31,1/L$54)) -> #REF! | ... S72: =IF(ISNUMBER(FIND("<",S31)),"N.D.",PRODUCT(S31,1/S$54)) -> #REF!
B73: Manganeso | C73: Mn | D73: µg/m3 | E73: =IF(ISNUMBER(FIND("<",E32)),"N.D.",PRODUCT(E32,1/E$54)) -> #DIV/0! | F73: =IF(ISNUMBER(FIND("<",F32)),"N.D.",PRODUCT(F32,1/F$54)) -> #DIV/0! | G73: =IF(ISNUMBER(FIND("<",G32)),"N.D.",PRODUCT(G32,1/G$54)) -> #DIV/0! | H73: =IF(ISNUMBER(FIND("<",H32)),"N.D.",PRODUCT(H32,1/H$54)) -> #DIV/0! | I73: =IF(ISNUMBER(FIND("<",I32)),"N.D.",PRODUCT(I32,1/I$54)) -> #DIV/0! | J73: =IF(ISNUMBER(FIND("<",J32)),"N.D.",PRODUCT(J32,1/J$54)) -> #REF! | K73: =IF(ISNUMBER(FIND("<",K32)),"N.D.",PRODUCT(K32,1/K$54)) -> #REF! | L73: =IF(ISNUMBER(FIND("<",L32)),"N.D.",PRODUCT(L32,1/L$54)) -> #REF! | ... S73: =IF(ISNUMBER(FIND("<",S32)),"N.D.",PRODUCT(S32,1/S$54)) -> #REF!
B74: Mercurio | C74: Hg | D74: µg/m3 | E74: =IF(ISNUMBER(FIND("<",E33)),"N.D.",PRODUCT(E33,1/E$54)) -> N.D. | F74: =IF(ISNUMBER(FIND("<",F33)),"N.D.",PRODUCT(F33,1/F$54)) -> N.D. | G74: =IF(ISNUMBER(FIND("<",G33)),"N.D.",PRODUCT(G33,1/G$54)) -> #DIV/0! | H74: =IF(ISNUMBER(FIND("<",H33)),"N.D.",PRODUCT(H33,1/H$54)) -> N.D. | I74: =IF(ISNUMBER(FIND("<",I33)),"N.D.",PRODUCT(I33,1/I$54)) -> #DIV/0! | J74: =IF(ISNUMBER(FIND("<",J33)),"N.D.",PRODUCT(J33,1/J$54)) -> #REF! | K74: =IF(ISNUMBER(FIND("<",K33)),"N.D.",PRODUCT(K33,1/K$54)) -> #REF! | L74: =IF(ISNUMBER(FIND("<",L33)),"N.D.",PRODUCT(L33,1/L$54)) -> #REF! | ... S74: =IF(ISNUMBER(FIND("<",S33)),"N.D.",PRODUCT(S33,1/S$54)) -> #REF!
... B77: Plata | C77: Ag | D77: µg/m3 | E77: =IF(ISNUMBER(FIND("<",E36)),"N.D.",PRODUCT(E36,1/E$54)) -> #DIV/0! | F77: =IF(ISNUMBER(FIND("<",F36)),"N.D.",PRODUCT(F36,1/F$54)) -> #DIV/0! | G77: =IF(ISNUMBER(FIND("<",G36)),"N.D.",PRODUCT(G36,1/G$54)) -> #DIV/0! | H77: =IF(ISNUMBER(FIND("<",H36)),"N.D.",PRODUCT(H36,1/H$54)) -> #DIV/0! | I77: =IF(ISNUMBER(FIND("<",I36)),"N.D.",PRODUCT(I36,1/I$54)) -> #DIV/0! | J77: =IF(ISNUMBER(FIND("<",J36)),"N.D.",PRODUCT(J36,1/J$54)) -> #REF! | K77: =IF(ISNUMBER(FIND("<",K36)),"N.D.",PRODUCT(K36,1/K$54)) -> #REF! | L77: =IF(ISNUMBER(FIND("<",L36)),"N.D.",PRODUCT(L36,1/L$54)) -> #REF! | ... S77: =IF(ISNUMBER(FIND("<",S36)),"N.D.",PRODUCT(S36,1/S$54)) -> #REF!
B78: Plomo | C78: Pb | D78: µg/m3 | E78: =IF(ISNUMBER(FIND("<",E37)),"N.D.",PRODUCT(E37,1/E$54)) -> #DIV/0! | F78: =IF(ISNUMBER(FIND("<",F37)),"N.D.",PRODUCT(F37,1/F$54)) -> #DIV/0! | G78: =IF(ISNUMBER(FIND("<",G37)),"N.D.",PRODUCT(G37,1/G$54)) -> #DIV/0! | H78: =IF(ISNUMBER(FIND("<",H37)),"N.D.",PRODUCT(H37,1/H$54)) -> #DIV/0! | I78: =IF(ISNUMBER(FIND("<",I37)),"N.D.",PRODUCT(I37,1/I$54)) -> #DIV/0! | J78: =IF(ISNUMBER(FIND("<",J37)),"N.D.",PRODUCT(J37,1/J$54)) -> #REF! | K78: =IF(ISNUMBER(FIND("<",K37)),"N.D.",PRODUCT(K37,1/K$54)) -> #REF! | L78: =IF(ISNUMBER(FIND("<",L37)),"N.D.",PRODUCT(L37,1/L$54)) -> #REF! | ... S78: =IF(ISNUMBER(FIND("<",S37)),"N.D.",PRODUCT(S37,1/S$54)) -> #REF! | V78: 1.5 | W78: =AVERAGE(E78:I78) -> #DIV/0! | X78: =IF(W78>V78,"Supera","No Supera") -> #DIV/0! | Y78: =COUNTIF(E78:J78,">1,5") -> 0 | Z78: =W78/V78 -> #DIV/0!
B79: Potasio | C79: K | D79: µg/m3 | E79: =IF(ISNUMBER(FIND("<",E38)),"N.D.",PRODUCT(E38,1/E$54)) -> #DIV/0! | F79: =IF(ISNUMBER(FIND("<",F38)),"N.D.",PRODUCT(F38,1/F$54)) -> #DIV/0! | G79: =IF(ISNUMBER(FIND("<",G38)),"N.D.",PRODUCT(G38,1/G$54)) -> #DIV/0! | H79: =IF(ISNUMBER(FIND("<",H38)),"N.D.",PRODUCT(H38,1/H$54)) -> #DIV/0! | I79: =IF(ISNUMBER(FIND("<",I38)),"N.D.",PRODUCT(I38,1/I$54)) -> #DIV/0! | J79: =IF(ISNUMBER(FIND("<",J38)),"N.D.",PRODUCT(J38,1/J$54)) -> #REF! | K79: =IF(ISNUMBER(FIND("<",K38)),"N.D.",PRODUCT(K38,1/K$54)) -> #REF! | L79: =IF(ISNUMBER(FIND("<",L38)),"N.D.",PRODUCT(L38,1/L$54)) -> #REF! | ... S79: =IF(ISNUMBER(FIND("<",S38)),"N.D.",PRODUCT(S38,1/S$54)) -> #REF!
B80: Selenio | C80: Se | D80: µg/m3 | E80: =IF(ISNUMBER(FIND("<",E39)),"N.D.",PRODUCT(E39,1/E$54)) -> #DIV/0! | F80: =IF(ISNUMBER(FIND("<",F39)),"N.D.",PRODUCT(F39,1/F$54)) -> #DIV/0! | G80: =IF(ISNUMBER(FIND("<",G39)),"N.D.",PRODUCT(G39,1/G$54)) -> #DIV/0! | H80: =IF(ISNUMBER(FIND("<",H39)),"N.D.",PRODUCT(H39,1/H$54)) -> #DIV/0! | I80: =IF(ISNUMBER(FIND("<",I39)),"N.D.",PRODUCT(I39,1/I$54)) -> #DIV/0! | J80: =IF(ISNUMBER(FIND("<",J39)),"N.D.",PRODUCT(J39,1/J$54)) -> #REF! | K80: =IF(ISNUMBER(FIND("<",K39)),"N.D.",PRODUCT(K39,1/K$54)) -> #REF! | L80: =IF(ISNUMBER(FIND("<",L39)),"N.D.",PRODUCT(L39,1/L$54)) -> #REF! | ... S80: =IF(ISNUMBER(FIND("<",S39)),"N.D.",PRODUCT(S39,1/S$54)) -> #REF!
B81: Silicio | C81: Si | D81: µg/m3 | E81: =IF(ISNUMBER(FIND("<",E40)),"N.D.",PRODUCT(E40,1/E$54)) -> #DIV/0! | F81: =IF(ISNUMBER(FIND("<",F40)),"N.D.",PRODUCT(F40,1/F$54)) -> #DIV/0! | G81: =IF(ISNUMBER(FIND("<",G40)),"N.D.",PRODUCT(G40,1/G$54)) -> #DIV/0! | H81: =IF(ISNUMBER(FIND("<",H40)),"N.D.",PRODUCT(H40,1/H$54)) -> #DIV/0! | I81: =IF(ISNUMBER(FIND("<",I40)),"N.D.",PRODUCT(I40,1/I$54)) -> #DIV/0! | J81: =IF(ISNUMBER(FIND("<",J40)),"N.D.",PRODUCT(J40,1/J$54)) -> #REF! | K81: =IF(ISNUMBER(FIND("<",K40)),"N.D.",PRODUCT(K40,1/K$54)) -> #REF! | L81: =IF(ISNUMBER(FIND("<",L40)),"N.D.",PRODUCT(L40,1/L$54)) -> #REF! | ... S81: =IF(ISNUMBER(FIND("<",S40)),"N.D.",PRODUCT(S40,1/S$54)) -> #REF!
B82: Sodio | C82: Na | D82: µg/m3 | E82: =IF(ISNUMBER(FIND("<",E41)),"N.D.",PRODUCT(E41,1/E$54)) -> #DIV/0! | F82: =IF(ISNUMBER(FIND("<",F41)),"N.D.",PRODUCT(F41,1/F$54)) -> #DIV/0! | G82: =IF(ISNUMBER(FIND("<",G41)),"N.D.",PRODUCT(G41,1/G$54)) -> #DIV/0! | H82: =IF(ISNUMBER(FIND("<",H41)),"N.D.",PRODUCT(H41,1/H$54)) -> #DIV/0! | I82: =IF(ISNUMBER(FIND("<",I41)),"N.D.",PRODUCT(I41,1/I$54)) -> #DIV/0! | J82: =IF(ISNUMBER(FIND("<",J41)),"N.D.",PRODUCT(J41,1/J$54)) -> #REF! | K82: =IF(ISNUMBER(FIND("<",K41)),"N.D.",PRODUCT(K41,1/K$54)) -> #REF! | L82: =IF(ISNUMBER(FIND("<",L41)),"N.D.",PRODUCT(L41,1/L$54)) -> #REF! | ... S82: =IF(ISNUMBER(FIND("<",S41)),"N.D.",PRODUCT(S41,1/S$54)) -> #REF!
B83: Talio | C83: Tl | D83: µg/m3 | E83: =IF(ISNUMBER(FIND("<",E42)),"N.D.",PRODUCT(E42,1/E$54)) -> #DIV/0! | F83: =IF(ISNUMBER(FIND("<",F42)),"N.D.",PRODUCT(F42,1/F$54)) -> N.D. | G83: =IF(ISNUMBER(FIND("<",G42)),"N.D.",PRODUCT(G42,1/G$54)) -> N.D. | H83: =IF(ISNUMBER(FIND("<",H42)),"N.D.",PRODUCT(H42,1/H$54)) -> #DIV/0! | I83: =IF(ISNUMBER(FIND("<",I42)),"N.D.",PRODUCT(I42,1/I$54)) -> #DIV/0! | J83: =IF(ISNUMBER(FIND("<",J42)),"N.D.",PRODUCT(J42,1/J$54)) -> #REF! | K83: =IF(ISNUMBER(FIND("<",K42)),"N.D.",PRODUCT(K42,1/K$54)) -> #REF! | L83: =IF(ISNUMBER(FIND("<",L42)),"N.D.",PRODUCT(L42,1/L$54)) -> #REF! | ... S83: =IF(ISNUMBER(FIND("<",S42)),"N.D.",PRODUCT(S42,1/S$54)) -> #REF!
B84: Titanio | C84: Ti | D84: µg/m3 | E84: =IF(ISNUMBER(FIND("<",E43)),"N.D.",PRODUCT(E43,1/E$54)) -> #DIV/0! | F84: =IF(ISNUMBER(FIND("<",F43)),"N.D.",PRODUCT(F43,1/F$54)) -> #DIV/0! | G84: =IF(ISNUMBER(FIND("<",G43)),"N.D.",PRODUCT(G43,1/G$54)) -> #DIV/0! | H84: =IF(ISNUMBER(FIND("<",H43)),"N.D.",PRODUCT(H43,1/H$54)) -> #DIV/0! | I84: =IF(ISNUMBER(FIND("<",I43)),"N.D.",PRODUCT(I43,1/I$54)) -> #DIV/0! | J84: =IF(ISNUMBER(FIND("<",J43)),"N.D.",PRODUCT(J43,1/J$54)) -> #REF! | K84: =IF(ISNUMBER(FIND("<",K43)),"N.D.",PRODUCT(K43,1/K$54)) -> #REF! | L84: =IF(ISNUMBER(FIND("<",L43)),"N.D.",PRODUCT(L43,1/L$54)) -> #REF! | ... S84: =IF(ISNUMBER(FIND("<",S43)),"N.D.",PRODUCT(S43,1/S$54)) -> #REF!
B85: Uranio | C85: U | D85: µg/m3 | E85: =IF(ISNUMBER(FIND("<",E44)),"N.D.",PRODUCT(E44,1/E$54)) -> N.D. | F85: =IF(ISNUMBER(FIND("<",F44)),"N.D.",PRODUCT(F44,1/F$54)) -> N.D. | G85: =IF(ISNUMBER(FIND("<",G44)),"N.D.",PRODUCT(G44,1/G$54)) -> N.D. | H85: =IF(ISNUMBER(FIND("<",H44)),"N.D.",PRODUCT(H44,1/H$54)) -> N.D. | I85: =IF(ISNUMBER(FIND("<",I44)),"N.D.",PRODUCT(I44,1/I$54)) -> #DIV/0!
B86: Vanadio | C86: V | D86: µg/m3 | E86: =IF(ISNUMBER(FIND("<",E45)),"N.D.",PRODUCT(E45,1/E$54)) -> #DIV/0! | F86: =IF(ISNUMBER(FIND("<",F45)),"N.D.",PRODUCT(F45,1/F$54)) -> #DIV/0! | G86: =IF(ISNUMBER(FIND("<",G45)),"N.D.",PRODUCT(G45,1/G$54)) -> #DIV/0! | H86: =IF(ISNUMBER(FIND("<",H45)),"N.D.",PRODUCT(H45,1/H$54)) -> #DIV/0! | I86: =IF(ISNUMBER(FIND("<",I45)),"N.D.",PRODUCT(I45,1/I$54)) -> #DIV/0! | J86: =IF(ISNUMBER(FIND("<",J45)),"N.D.",PRODUCT(J45,1/J$54)) -> #REF! | K86: =IF(ISNUMBER(FIND("<",K45)),"N.D.",PRODUCT(K45,1/K$54)) -> #REF! | L86: =IF(ISNUMBER(FIND("<",L45)),"N.D.",PRODUCT(L45,1/L$54)) -> #REF! | ... S86: =IF(ISNUMBER(FIND("<",S45)),"N.D.",PRODUCT(S45,1/S$54)) -> #REF!
B87: Zinc | C87: Zn | D87: µg/m3 | E87: =IF(ISNUMBER(FIND("<",E46)),"N.D.",PRODUCT(E46,1/E$54)) -> #DIV/0! | F87: =IF(ISNUMBER(FIND("<",F46)),"N.D.",PRODUCT(F46,1/F$54)) -> #DIV/0! | G87: =IF(ISNUMBER(FIND("<",G46)),"N.D.",PRODUCT(G46,1/G$54)) -> #DIV/0! | H87: =IF(ISNUMBER(FIND("<",H46)),"N.D.",PRODUCT(H46,1/H$54)) -> #DIV/0! | I87: =IF(ISNUMBER(FIND("<",I46)),"N.D.",PRODUCT(I46,1/I$54)) -> #DIV/0! | J87: =IF(ISNUMBER(FIND("<",J46)),"N.D.",PRODUCT(J46,1/J$54)) -> #REF! | K87: =IF(ISNUMBER(FIND("<",K46)),"N.D.",PRODUCT(K46,1/K$54)) -> #REF! | L87: =IF(ISNUMBER(FIND("<",L46)),"N.D.",PRODUCT(L46,1/L$54)) -> #REF! | ... S87: =IF(ISNUMBER(FIND("<",S46)),"N.D.",PRODUCT(S46,1/S$54)) -> #REF!
B89: N.D.: | C89: No detectable

Sheet A.2.7. Cálculo Vol E
E2: Tabla A.2.7. Volumen muestreado para metales en PM10 a temperatura de 10°C
B7: DESCRIPCIÓN: | E7: =+'A.2.1. Promedio meteorologia'!E6 -> EVALUACIÓN DE SEGUIMIENTO DE LA CALIDAD DEL AIRE EN EL ÁMBITO DE LA ZONA INDUSTRIAL DE VENTANILLA - MI PERÚ, UBICADO EN LOS DISTRITOS DE VENTANILLA Y MI PERÚ, PROVINCIA CONSTITUCIONAL DEL CALLAO, DURANTE JULIO DE 2020
B9: ESTACIÓN DE MONITOREO: | E9: =+'A.2.4. Cálculo PM10 y VM'!E9:F9 -> CA-VMP-6 | H9: CÓDIGO DE ACCIÓN: | J9: =+'A.2.3. Flujo promedio'!H9 -> 0001-7-2020-411
B11: N° | C11: Parámetro | D11: N° Filtro | E11: Fecha Inicio | F11: Fecha Final | G11: Periodo (minutos) | H11: Temperatura ambiental (°C) | I11: Presión ambiental (mm Hg) | J11: Po/Pa | K11: Flujo de muestreo (m3/min) | L11: Volumen muestreado real (m3) | M11: Volumen muestreado a 10°C (m3)
B12: 1 | C12: Metales en PM10 | D12: ='A.2.4. Cálculo PM10 y VM'!D12 -> 431014 | E12: ='A.2.4. Cálculo PM10 y VM'!E12 -> 0 | F12: ='A.2.4. Cálculo PM10 y VM'!F12 -> 0 | G12: =(F12-E12)*60*24 -> 0 | H12: ='A.2.1. Promedio meteorologia'!$F$42 -> #DIV/0! | I12: ='A.2.1. Promedio meteorologia'!$E$42 -> #DIV/0! | J12: ='A.2.3. Flujo promedio'!E28 -> #DIV/0! | K12: ='A.2.3. Flujo promedio'!I28 -> #DIV/0! | L12: =+K12*G12 -> #DIV/0! | M12: =((K12*(I12/760)*(283.15/(H12+273.15))*G12)) -> #DIV/0!
B13: 2 | D13: ='A.2.4. Cálculo PM10 y VM'!D13 -> 431015 | E13: ='A.2.4. Cálculo PM10 y VM'!E13 -> 0 | F13: ='A.2.4. Cálculo PM10 y VM'!F13 -> 0 | G13: =(F13-E13)*60*24 -> 0 | H13: ='A.2.1. Promedio meteorologia'!$F$70 -> #DIV/0! | I13: ='A.2.1. Promedio meteorologia'!$E$70 -> #DIV/0! | J13: ='A.2.3. Flujo promedio'!E36 -> #DIV/0! | K13: ='A.2.3. Flujo promedio'!I36 -> #DIV/0! | L13: =+K13*G13 -> #DIV/0! | M13: =((K13*(I13/760)*(283.15/(H13+273.15))*G13)) -> #DIV/0!
B14: 3 | D14: ='A.2.4. Cálculo PM10 y VM'!D14 -> 431016 | E14: ='A.2.4. Cálculo PM10 y VM'!E14 -> 0 | F14: ='A.2.4. Cálculo PM10 y VM'!F14 -> 0 | G14: =(F14-E14)*60*24 -> 0 | H14: ='A.2.1. Promedio meteorologia'!$F$98 -> #DIV/0! | I14: ='A.2.1. Promedio meteorologia'!$E$98 -> #DIV/0! | J14: ='A.2.3. Flujo promedio'!E44 -> #DIV/0! | K14: ='A.2.3. Flujo promedio'!I44 -> #DIV/0! | L14: =+K14*G14 -> #DIV/0! | M14: =((K14*(I14/760)*(283.15/(H14+273.15))*G14)) -> #DIV/0!
B15: 4 | D15: ='A.2.4. Cálculo PM10 y VM'!D15 -> 431017 | E15: ='A.2.4. Cálculo PM10 y VM'!E15 -> 0 | F15: ='A.2.4. Cálculo PM10 y VM'!F15 -> 0 | G15: =(F15-E15)*60*24 -> 0 | H15: ='A.2.1. Promedio meteorologia'!$F$126 -> #DIV/0! | I15: ='A.2.1. Promedio meteorologia'!$E$126 -> #DIV/0! | J15: ='A.2.3. Flujo promedio'!E52 -> #DIV/0! | K15: ='A.2.3. Flujo promedio'!I52 -> #DIV/0! | L15: =+K15*G15 -> #DIV/0! | M15: =((K15*(I15/760)*(283.15/(H15+273.15))*G15)) -> #DIV/0!
B16: 5 | D16: ='A.2.4. Cálculo PM10 y VM'!D16 -> 431018 | E16: ='A.2.4. Cálculo PM10 y VM'!E16 -> 0 | F16: ='A.2.4. Cálculo PM10 y VM'!F16 -> 0 | G16: =(F16-E16)*60*24 -> 0 | H16: ='A.2.1. Promedio meteorologia'!$F$154 -> #DIV/0! | I16: ='A.2.1. Promedio meteorologia'!$E$154 -> #DIV/0! | J16: ='A.2.3. Flujo promedio'!E60 -> #DIV/0! | K16: ='A.2.3. Flujo promedio'!I60 -> #DIV/0! | L16: =+K16*G16 -> #DIV/0! | M16: =((K16*(I16/760)*(283.15/(H16+273.15))*G16)) -> #DIV/0!
B17: 6 | G17: =(F17-E17)*60*24 -> 0 | K17: 23.51 | M17: =IF(L17="","",L17/K17)
B18: 7 | G18: =(F18-E18)*60*24 -> 0 | K18: 23.51 | M18: =IF(L18="","",L18/K18)
B19: 8 | G19: =(F19-E19)*60*24 -> 0 | K19: 23.52 | M19: =IF(L19="","",L19/K19)
B20: 9 | G20: =(F20-E20)*60*24 -> 0 | M20: =IF(L20="","",L20/K20)
B21: 10 | G21: =(F21-E21)*60*24 -> 0 | M21: =IF(L21="","",L21/K21)
B22: 11 | G22: =(F22-E22)*60*24 -> 0 | M22: =IF(L22="","",L22/K22)
B23: 12 | G23: =(F23-E23)*60*24 -> 0 | M23: =IF(L23="","",L23/K23)
B24: 13 | G24: =(F24-E24)*60*24 -> 0 | M24: =IF(L24="","",L24/K24)
B25: 14 | G25: =(F25-E25)*60*24 -> 0 | M25: =IF(L25="","",L25/K25)
B26: 15 | G26: =(F26-E26)*60*24 -> 0 | M26: =IF(L26="","",L26/K26)
B28: OBSERVACIONES:
B29: (1) El cálculo de volumen muestrado para metales en PM10, se realizó en base a las condiciones de temperatura 10°C (283,15 °K) y presión estándar (760 mmHg ó 1013,25 mBar), establecidas en la Norma referencial ONTARIO’S AMBIENT AIR QUALITY CRITERIA. "-" : No aplica.

Sheet A.2.8. Conc. Metales 10°C
E2: Tabla A.2.8. Concentraciones de metales en PM10 a temperatura de 10°C
B7: TÍTULO DEL ESTUDIO: | E7: =+'A.2.1. Promedio meteorologia'!E6 -> EVALUACIÓN DE SEGUIMIENTO DE LA CALIDAD DEL AIRE EN EL ÁMBITO DE LA ZONA INDUSTRIAL DE VENTANILLA - MI PERÚ, UBICADO EN LOS DISTRITOS DE VENTANILLA Y MI PERÚ, PROVINCIA CONSTITUCIONAL DEL CALLAO, DURANTE JULIO DE 2020
B9: ESTACIÓN DE MONITOREO: | E9: =+'A.2.1. Promedio meteorologia'!E8 -> CA-VMP-6 | G9: CÓDIGO DE ACCIÓN: | I9: =+'A.2.3. Flujo promedio'!H9 -> 0001-7-2020-411
B11: RESULTADOS DE LABORATORIO
B12: Metal medido en PM10 | D12: Unidad | E12: Fecha
E13: ='A.2.4. Cálculo PM10 y VM'!$E12 -> 0 | F13: ='A.2.4. Cálculo PM10 y VM'!$E13 -> 0 | G13: ='A.2.4. Cálculo PM10 y VM'!$E14 -> 0 | H13: ='A.2.4. Cálculo PM10 y VM'!$E15 -> 0 | I13: ='A.2.4. Cálculo PM10 y VM'!$E16 -> 0 | J13: ='A.2.4. Cálculo PM10 y VM'!$E17 -> #REF! | K13: ='A.2.4. Cálculo PM10 y VM'!$E18 -> #REF! | L13: ='A.2.4. Cálculo PM10 y VM'!$E19 -> #REF! | M13: ='A.2.4. Cálculo PM10 y VM'!$E20 -> #REF! | N13: ='A.2.4. Cálculo PM10 y VM'!$E21 -> #REF! | O13: ='A.2.4. Cálculo PM10 y VM'!$E22 -> #REF! | P13: ='A.2.4. Cálculo PM10 y VM'!$E23 -> #REF! | Q13: ='A.2.4. Cálculo PM10 y VM'!$E24 -> #REF! | R13: ='A.2.4. Cálculo PM10 y VM'!$E25 -> #REF! | S13: ='A.2.4. Cálculo PM10 y VM'!$E26 -> #REF!
B14: Aluminio | C14: Al | D14: µg/mtra | E14: 874.6 | F14: 629.1 | G14: 652.1 | H14: 892 | I14: 847
B15: Antimonio | C15: Sb | D15: µg/mtra | E15: 7.363 | F15: 2.634 | G15: 3.459 | H15: 13.15 | I15: 15.43
B16: Arsénico | C16: As | D16: µg/mtra | E16: 6.409 | F16: 10.42 | G16: 7.33 | H16: 9.694 | I16: 10.3
B17: Bario | C17: Ba | D17: µg/mtra | E17: 31.61 | F17: 18.76 | G17: 22.94 | H17: 27.94 | I17: 35.55
B18: Berilio | C18: Be | D18: µg/mtra | E18: < 0,010 | F18: < 0,010 | G18: < 0,010 | H18: < 0,010 | I18: < 0,010
B19: Bismuto | C19: Bi | D19: µg/mtra | E19: 0.827 | F19: 0.5467 | G19: 0.4976 | H19: 0.7177 | I19: 0.9212
B20: Boro | C20: B | D20: µg/mtra | E20: 4.2 | F20: 3.37 | G20: 5.83 | H20: 5.31 | I20: 4.66
B21: Cadmio | C21: Cd | D21: µg/mtra | E21: 2.606 | F21: 0.982 | G21: 1.711 | H21: 2.4 | I21: 2.508
B22: Calcio | C22: Ca | D22: µg/mtra | E22: 3550 | F22: 3724 | G22: 3165 | H22: 3805 | I22: 4707
B23: Cobalto | C23: Co | D23: µg/mtra | E23: 1.229 | F23: 0.941 | G23: 0.832 | H23: 1.176 | I23: 1.47
B24: Cobre | C24: Cu | D24: µg/mtra | E24: 129.9 | F24: 71.47 | G24: 64.26 | H24: 105.7 | I24: 160.8
B25: Cromo | C25: Cr | D25: µg/mtra | E25: < 2,082 | F25: < 2,082 | G25: < 2,082 | H25: < 2,082 | I25: < 2,082
B26: Estaño | C26: Sn | D26: µg/mtra | E26: 5.458 | F26: 2.107 | G26: 4.044 | H26: 5.96 | I26: 8.295
B27: Estroncio | C27: Sr | D27: µg/mtra | E27: 13.96 | F27: 13.7 | G27: 12.97 | H27: 16.7 | I27: 16.22
B28: Fósforo | C28: P | D28: µg/mtra | E28: 349.2 | F28: 333.8 | G28: 438.6 | H28: 391.6 | I28: 566.1
B29: Hierro | C29: Fe | D29: µg/mtra | E29: 1570 | F29: 1060 | G29: 1115 | H29: 1572 | I29: 1600
B30: Litio | C30: Li | D30: µg/mtra | E30: 0.77 | F30: 0.47 | G30: 0.71 | H30: 0.85 | I30: 0.65
B31: Magnesio | C31: Mg | D31: µg/mtra | E31: 961 | F31: 1076 | G31: 947.7 | H31: 1270 | I31: 1268
B32: Manganeso | C32: Mn | D32: µg/mtra | E32: 39.18 | F32: 27.31 | G32: 31.31 | H32: 38.74 | I32: 41.76
B33: Mercurio | C33: Hg | D33: µg/mtra | E33: < 0,021 | F33: < 0,021 | G33: 0.171 | H33: < 0,021 | I33: 0.364
B34: Molibdeno | C34: Mo | D34: µg/mtra | E34: 3.665 | F34: 3.336 | G34: 3.094 | H34: 3.995 | I34: 4.275
B35: Níquel | C35: Ni | D35: µg/mtra | E35: 8.379 | F35: 4.468 | G35: 3.776 | H35: 4.355 | I35: 6.317
B36: Plata | C36: Ag | D36: µg/mtra | E36: 0.3351 | F36: 0.253 | G36: 0.2028 | H36: 0.251 | I36: 0.4812
B37: Plomo | C37: Pb | D37: µg/mtra | E37: 137 | F37: 26.86 | G37: 44.37 | H37: 195.6 | I37: 205.7
B38: Potasio | C38: K | D38: µg/mtra | E38: 565 | F38: 478.5 | G38: 502.6 | H38: 618.2 | I38: 594.3
B39: Selenio | C39: Se | D39: µg/mtra | E39: 4.368 | F39: 2.203 | G39: 4.095 | H39: 3.676 | I39: 4.861
B40: Silicio | C40: Si | D40: µg/mtra | E40: 1173 | F40: 978.3 | G40: 1377 | H40: 1405 | I40: 1168
B41: Sodio | C41: Na | D41: µg/mtra | E41: 3612 | F41: 5643 | G41: 4879 | H41: 5796 | I41: 5998
B42: Talio | C42: Tl | D42: µg/mtra | E42: 0.22 | F42: < 0,008 | G42: < 0,008 | H42: 0.294 | I42: 0.181
B43: Titanio | C43: Ti | D43: µg/mtra | E43: 42 | F43: 31.34 | G43: 32.62 | H43: 43 | I43: 43.02
B44: Uranio | C44: U | D44: µg/mtra | E44: < 0,0071 | F44: < 0,0071 | G44: < 0,0071 | H44: < 0,0071 | I44: 0.1751
B45: Vanadio | C45: V | D45: µg/mtra | E45: 5.569 | F45: 4.207 | G45: 3.983 | H45: 5.22 | I45: 6.395
B46: Zinc | C46: Zn | D46: µg/mtra | E46: 215.1 | F46: 107.3 | G46: 123.8 | H46: 155 | I46: 326.9
B48: <: Debajo del límite de detección | C48: Debajo del límite de detección
B49: Fuente: Informe de Ensayo N.° 35995/2020 del laboratorio ALS LS Perú S.A.C.
B51: CONCENTRACIÓN DE METALES
B52: Metal medido en PM10 | D52: Unidad | E52: =E12 -> Fecha
E53: ='A.2.4. Cálculo PM10 y VM'!$E12 -> 0 | F53: ='A.2.4. Cálculo PM10 y VM'!$E13 -> 0 | G53: ='A.2.4. Cálculo PM10 y VM'!$E14 -> 0 | H53: ='A.2.4. Cálculo PM10 y VM'!$E15 -> 0 | I53: ='A.2.4. Cálculo PM10 y VM'!$E16 -> 0 | J53: ='A.2.4. Cálculo PM10 y VM'!$E17 -> #REF! | K53: ='A.2.4. Cálculo PM10 y VM'!$E18 -> #REF! | L53: ='A.2.4. Cálculo PM10 y VM'!$E19 -> #REF! | M53: ='A.2.4. Cálculo PM10 y VM'!$E20 -> #REF! | N53: ='A.2.4. Cálculo PM10 y VM'!$E21 -> #REF! | O53: ='A.2.4. Cálculo PM10 y VM'!$E22 -> #REF! | P53: ='A.2.4. Cálculo PM10 y VM'!$E23 -> #REF! | Q53: ='A.2.4. Cálculo PM10 y VM'!$E24 -> #REF! | R53: ='A.2.4. Cálculo PM10 y VM'!$E25 -> #REF! | S53: ='A.2.4. Cálculo PM10 y VM'!$E26 -> #REF!
B54: Volumen de muestreo, en m3 (Va) | E54: ='A.2.7. Cálculo Vol E'!M12 -> #DIV/0! | F54: ='A.2.7. Cálculo Vol E'!M13 -> #DIV/0! | G54: ='A.2.7. Cálculo Vol E'!M14 -> #DIV/0! | H54: ='A.2.7. Cálculo Vol E'!M15 -> #DIV/0! | I54: ='A.2.7. Cálculo Vol E'!M16 -> #DIV/0! | J54: ='A.2.4. Cálculo PM10 y VM'!#REF! -> #REF! | K54: ='A.2.4. Cálculo PM10 y VM'!#REF! -> #REF! | L54: ='A.2.4. Cálculo PM10 y VM'!#REF! -> #REF! | M54: ='A.2.4. Cálculo PM10 y VM'!#REF! -> #REF! | N54: ='A.2.4. Cálculo PM10 y VM'!#REF! -> #REF! | O54: ='A.2.4. Cálculo PM10 y VM'!#REF! -> #REF! | P54: ='A.2.4. Cálculo PM10 y VM'!#REF! -> #REF! | Q54: ='A.2.4. Cálculo PM10 y VM'!#REF! -> #REF! | ... S54: ='A.2.4. Cálculo PM10 y VM'!#REF! -> #REF! | V54: Maximo: | W54: Estado: | X54: Cantidad:
B55: Aluminio | C55: Al | D55: µg/m3 | E55: =IF(ISNUMBER(FIND("<",E14)),"N.D.",PRODUCT(E14,1/E$54)) -> #DIV/0! | F55: =IF(ISNUMBER(FIND("<",F14)),"N.D.",PRODUCT(F14,1/F$54)) -> #DIV/0! | G55: =IF(ISNUMBER(FIND("<",G14)),"N.D.",PRODUCT(G14,1/G$54)) -> #DIV/0! | H55: =IF(ISNUMBER(FIND("<",H14)),"N.D.",PRODUCT(H14,1/H$54)) -> #DIV/0! | I55: =IF(ISNUMBER(FIND("<",I14)),"N.D.",PRODUCT(I14,1/I$54)) -> #DIV/0! | J55: =IF(ISNUMBER(FIND("<",J14)),"N.D.",PRODUCT(J14,1/J$54)) -> #REF! | K55: =IF(ISNUMBER(FIND("<",K14)),"N.D.",PRODUCT(K14,1/K$54)) -> #REF! | L55: =IF(ISNUMBER(FIND("<",L14)),"N.D.",PRODUCT(L14,1/L$54)) -> #REF! | ... S55: =IF(ISNUMBER(FIND("<",S14)),"N.D.",PRODUCT(S14,1/S$54)) -> #REF! | U55: - | V55: =MAX(E55:I55) -> #DIV/0! | W55: =IF(V55>U55,"Supera","No Supera") -> #DIV/0!
B56: Antimonio | C56: Sb | D56: µg/m3 | E56: =IF(ISNUMBER(FIND("<",E15)),"N.D.",PRODUCT(E15,1/E$54)) -> #DIV/0! | F56: =IF(ISNUMBER(FIND("<",F15)),"N.D.",PRODUCT(F15,1/F$54)) -> #DIV/0! | G56: =IF(ISNUMBER(FIND("<",G15)),"N.D.",PRODUCT(G15,1/G$54)) -> #DIV/0! | H56: =IF(ISNUMBER(FIND("<",H15)),"N.D.",PRODUCT(H15,1/H$54)) -> #DIV/0! | I56: =IF(ISNUMBER(FIND("<",I15)),"N.D.",PRODUCT(I15,1/I$54)) -> #DIV/0! | J56: =IF(ISNUMBER(FIND("<",J15)),"N.D.",PRODUCT(J15,1/J$54)) -> #REF! | K56: =IF(ISNUMBER(FIND("<",K15)),"N.D.",PRODUCT(K15,1/K$54)) -> #REF! | L56: =IF(ISNUMBER(FIND("<",L15)),"N.D.",PRODUCT(L15,1/L$54)) -> #REF! | ... S56: =IF(ISNUMBER(FIND("<",S15)),"N.D.",PRODUCT(S15,1/S$54)) -> #REF! | U56: 25 | V56: =MAX(E56:I56) -> #DIV/0! | W56: =IF(V56>U56,"Supera","No Supera") -> #DIV/0!
B57: Arsénico | C57: As | D57: µg/m3 | E57: =IF(ISNUMBER(FIND("<",E16)),"N.D.",PRODUCT(E16,1/E$54)) -> #DIV/0! | F57: =IF(ISNUMBER(FIND("<",F16)),"N.D.",PRODUCT(F16,1/F$54)) -> #DIV/0! | G57: =IF(ISNUMBER(FIND("<",G16)),"N.D.",PRODUCT(G16,1/G$54)) -> #DIV/0! | H57: =IF(ISNUMBER(FIND("<",H16)),"N.D.",PRODUCT(H16,1/H$54)) -> #DIV/0! | I57: =IF(ISNUMBER(FIND("<",I16)),"N.D.",PRODUCT(I16,1/I$54)) -> #DIV/0! | J57: =IF(ISNUMBER(FIND("<",J16)),"N.D.",PRODUCT(J16,1/J$54)) -> #REF! | K57: =IF(ISNUMBER(FIND("<",K16)),"N.D.",PRODUCT(K16,1/K$54)) -> #REF! | L57: =IF(ISNUMBER(FIND("<",L16)),"N.D.",PRODUCT(L16,1/L$54)) -> #REF! | ... S57: =IF(ISNUMBER(FIND("<",S16)),"N.D.",PRODUCT(S16,1/S$54)) -> #REF! | U57: 0.3 | V57: =MAX(E57:I57) -> #DIV/0! | W57: =IF(V57>U57,"Supera","No Supera") -> #DIV/0!
B58: Bario | C58: Ba | D58: µg/m3 | E58: =IF(ISNUMBER(FIND("<",E17)),"N.D.",PRODUCT(E17,1/E$54)) -> #DIV/0! | F58: =IF(ISNUMBER(FIND("<",F17)),"N.D.",PRODUCT(F17,1/F$54)) -> #DIV/0! | G58: =IF(ISNUMBER(FIND("<",G17)),"N.D.",PRODUCT(G17,1/G$54)) -> #DIV/0! | H58: =IF(ISNUMBER(FIND("<",H17)),"N.D.",PRODUCT(H17,1/H$54)) -> #DIV/0! | I58: =IF(ISNUMBER(FIND("<",I17)),"N.D.",PRODUCT(I17,1/I$54)) -> #DIV/0! | J58: =IF(ISNUMBER(FIND("<",J17)),"N.D.",PRODUCT(J17,1/J$54)) -> #REF! | K58: =IF(ISNUMBER(FIND("<",K17)),"N.D.",PRODUCT(K17,1/K$54)) -> #REF! | L58: =IF(ISNUMBER(FIND("<",L17)),"N.D.",PRODUCT(L17,1/L$54)) -> #REF! | ... S58: =IF(ISNUMBER(FIND("<",S17)),"N.D.",PRODUCT(S17,1/S$54)) -> #REF! | U58: - | V58: =MAX(E58:I58) -> #DIV/0! | W58: =IF(V58>U58,"Supera","No Supera") -> #DIV/0!
B59: Berilio | C59: Be | D59: µg/m3 | E59: =IF(ISNUMBER(FIND("<",E18)),"N.D.",PRODUCT(E18,1/E$54)) -> N.D. | F59: =IF(ISNUMBER(FIND("<",F18)),"N.D.",PRODUCT(F18,1/F$54)) -> N.D. | G59: =IF(ISNUMBER(FIND("<",G18)),"N.D.",PRODUCT(G18,1/G$54)) -> N.D. | H59: =IF(ISNUMBER(FIND("<",H18)),"N.D.",PRODUCT(H18,1/H$54)) -> N.D. | I59: =IF(ISNUMBER(FIND("<",I18)),"N.D.",PRODUCT(I18,1/I$54)) -> N.D. | J59: =IF(ISNUMBER(FIND("<",J18)),"N.D.",PRODUCT(J18,1/J$54)) -> #REF! | K59: =IF(ISNUMBER(FIND("<",K18)),"N.D.",PRODUCT(K18,1/K$54)) -> #REF! | L59: =IF(ISNUMBER(FIND("<",L18)),"N.D.",PRODUCT(L18,1/L$54)) -> #REF! | ... S59: =IF(ISNUMBER(FIND("<",S18)),"N.D.",PRODUCT(S18,1/S$54)) -> #REF! | U59: 0.01 | V59: =MAX(E59:I59) -> 0 | W59: =IF(V59>U59,"Supera","No Supera") -> No Supera
B60: Bismuto | C60: Bi | D60: µg/m3 | E60: =IF(ISNUMBER(FIND("<",E19)),"N.D.",PRODUCT(E19,1/E$54)) -> #DIV/0! | F60: =IF(ISNUMBER(FIND("<",F19)),"N.D.",PRODUCT(F19,1/F$54)) -> #DIV/0! | G60: =IF(ISNUMBER(FIND("<",G19)),"N.D.",PRODUCT(G19,1/G$54)) -> #DIV/0! | H60: =IF(ISNUMBER(FIND("<",H19)),"N.D.",PRODUCT(H19,1/H$54)) -> #DIV/0! | I60: =IF(ISNUMBER(FIND("<",I19)),"N.D.",PRODUCT(I19,1/I$54)) -> #DIV/0! | J60: =IF(ISNUMBER(FIND("<",J19)),"N.D.",PRODUCT(J19,1/J$54)) -> #REF! | K60: =IF(ISNUMBER(FIND("<",K19)),"N.D.",PRODUCT(K19,1/K$54)) -> #REF! | L60: =IF(ISNUMBER(FIND("<",L19)),"N.D.",PRODUCT(L19,1/L$54)) -> #REF! | ... S60: =IF(ISNUMBER(FIND("<",S19)),"N.D.",PRODUCT(S19,1/S$54)) -> #REF! | U60: - | V60: =MAX(E60:I60) -> #DIV/0! | W60: =IF(V60>U60,"Supera","No Supera") -> #DIV/0!
B61: Boro | C61: B | D61: µg/m3 | E61: =IF(ISNUMBER(FIND("<",E20)),"N.D.",PRODUCT(E20,1/E$54)) -> #DIV/0! | F61: =IF(ISNUMBER(FIND("<",F20)),"N.D.",PRODUCT(F20,1/F$54)) -> #DIV/0! | G61: =IF(ISNUMBER(FIND("<",G20)),"N.D.",PRODUCT(G20,1/G$54)) -> #DIV/0! | H61: =IF(ISNUMBER(FIND("<",H20)),"N.D.",PRODUCT(H20,1/H$54)) -> #DIV/0! | I61: =IF(ISNUMBER(FIND("<",I20)),"N.D.",PRODUCT(I20,1/I$54)) -> #DIV/0! | J61: =IF(ISNUMBER(FIND("<",J20)),"N.D.",PRODUCT(J20,1/J$54)) -> #REF! | K61: =IF(ISNUMBER(FIND("<",K20)),"N.D.",PRODUCT(K20,1/K$54)) -> #REF! | L61: =IF(ISNUMBER(FIND("<",L20)),"N.D.",PRODUCT(L20,1/L$54)) -> #REF! | ... S61: =IF(ISNUMBER(FIND("<",S20)),"N.D.",PRODUCT(S20,1/S$54)) -> #REF! | U61: 120 | V61: =MAX(E61:I61) -> #DIV/0! | W61: =IF(V61>U61,"Supera","No Supera") -> #DIV/0!
B62: Cadmio | C62: Cd | D62: µg/m3 | E62: =IF(ISNUMBER(FIND("<",E21)),"N.D.",PRODUCT(E21,1/E$54)) -> #DIV/0! | F62: =IF(ISNUMBER(FIND("<",F21)),"N.D.",PRODUCT(F21,1/F$54)) -> #DIV/0! | G62: =IF(ISNUMBER(FIND("<",G21)),"N.D.",PRODUCT(G21,1/G$54)) -> #DIV/0! | H62: =IF(ISNUMBER(FIND("<",H21)),"N.D.",PRODUCT(H21,1/H$54)) -> #DIV/0! | I62: =IF(ISNUMBER(FIND("<",I21)),"N.D.",PRODUCT(I21,1/I$54)) -> #DIV/0! | J62: =IF(ISNUMBER(FIND("<",J21)),"N.D.",PRODUCT(J21,1/J$54)) -> #REF! | K62: =IF(ISNUMBER(FIND("<",K21)),"N.D.",PRODUCT(K21,1/K$54)) -> #REF! | L62: =IF(ISNUMBER(FIND("<",L21)),"N.D.",PRODUCT(L21,1/L$54)) -> #REF! | ... S62: =IF(ISNUMBER(FIND("<",S21)),"N.D.",PRODUCT(S21,1/S$54)) -> #REF! | U62: 0.025 | V62: =MAX(E62:I62) -> #DIV/0! | W62: =IF(V62>U62,"Supera","No Supera") -> #DIV/0! | X62: =COUNTIF(E62:I62,">0,025") -> 0 | Y62: =E62/$U$62 -> #DIV/0! | Z62: =F62/$U$62 -> #DIV/0! | AA62: =G62/$U$62 -> #DIV/0! | AB62: =H62/$U$62 -> #DIV/0! | AC62: =I62/$U$62 -> #DIV/0! | AD62: =MAX(Y62:AC62) -> #DIV/0!
B63: Calcio | C63: Ca | D63: µg/m3 | E63: =IF(ISNUMBER(FIND("<",E22)),"N.D.",PRODUCT(E22,1/E$54)) -> #DIV/0! | F63: =IF(ISNUMBER(FIND("<",F22)),"N.D.",PRODUCT(F22,1/F$54)) -> #DIV/0! | G63: =IF(ISNUMBER(FIND("<",G22)),"N.D.",PRODUCT(G22,1/G$54)) -> #DIV/0! | H63: =IF(ISNUMBER(FIND("<",H22)),"N.D.",PRODUCT(H22,1/H$54)) -> #DIV/0! | I63: =IF(ISNUMBER(FIND("<",I22)),"N.D.",PRODUCT(I22,1/I$54)) -> #DIV/0! | J63: =IF(ISNUMBER(FIND("<",J22)),"N.D.",PRODUCT(J22,1/J$54)) -> #REF! | K63: =IF(ISNUMBER(FIND("<",K22)),"N.D.",PRODUCT(K22,1/K$54)) -> #REF! | L63: =IF(ISNUMBER(FIND("<",L22)),"N.D.",PRODUCT(L22,1/L$54)) -> #REF! | ... S63: =IF(ISNUMBER(FIND("<",S22)),"N.D.",PRODUCT(S22,1/S$54)) -> #REF! | U63: - | V63: =MAX(E63:I63) -> #DIV/0! | W63: =IF(V63>U63,"Supera","No Supera") -> #DIV/0!
B64: Cobalto | C64: Co | D64: µg/m3 | E64: =IF(ISNUMBER(FIND("<",E23)),"N.D.",PRODUCT(E23,1/E$54)) -> #DIV/0! | F64: =IF(ISNUMBER(FIND("<",F23)),"N.D.",PRODUCT(F23,1/F$54)) -> #DIV/0! | G64: =IF(ISNUMBER(FIND("<",G23)),"N.D.",PRODUCT(G23,1/G$54)) -> #DIV/0! | H64: =IF(ISNUMBER(FIND("<",H23)),"N.D.",PRODUCT(H23,1/H$54)) -> #DIV/0! | I64: =IF(ISNUMBER(FIND("<",I23)),"N.D.",PRODUCT(I23,1/I$54)) -> #DIV/0! | J64: =IF(ISNUMBER(FIND("<",J23)),"N.D.",PRODUCT(J23,1/J$54)) -> #REF! | K64: =IF(ISNUMBER(FIND("<",K23)),"N.D.",PRODUCT(K23,1/K$54)) -> #REF! | L64: =IF(ISNUMBER(FIND("<",L23)),"N.D.",PRODUCT(L23,1/L$54)) -> #REF! | ... S64: =IF(ISNUMBER(FIND("<",S23)),"N.D.",PRODUCT(S23,1/S$54)) -> #REF! | U64: 0.1 | V64: =MAX(E64:I64) -> #DIV/0! | W64: =IF(V64>U64,"Supera","No Supera") -> #DIV/0!
B65: Cobre | C65: Cu | D65: µg/m3 | E65: =IF(ISNUMBER(FIND("<",E24)),"N.D.",PRODUCT(E24,1/E$54)) -> #DIV/0! | F65: =IF(ISNUMBER(FIND("<",F24)),"N.D.",PRODUCT(F24,1/F$54)) -> #DIV/0! | G65: =IF(ISNUMBER(FIND("<",G24)),"N.D.",PRODUCT(G24,1/G$54)) -> #DIV/0! | H65: =IF(ISNUMBER(FIND("<",H24)),"N.D.",PRODUCT(H24,1/H$54)) -> #DIV/0! | I65: =IF(ISNUMBER(FIND("<",I24)),"N.D.",PRODUCT(I24,1/I$54)) -> #DIV/0! | J65: =IF(ISNUMBER(FIND("<",J24)),"N.D.",PRODUCT(J24,1/J$54)) -> #REF! | K65: =IF(ISNUMBER(FIND("<",K24)),"N.D.",PRODUCT(K24,1/K$54)) -> #REF! | L65: =IF(ISNUMBER(FIND("<",L24)),"N.D.",PRODUCT(L24,1/L$54)) -> #REF! | ... S65: =IF(ISNUMBER(FIND("<",S24)),"N.D.",PRODUCT(S24,1/S$54)) -> #REF! | U65: 50 | V65: =MAX(E65:I65) -> #DIV/0! | W65: =IF(V65>U65,"Supera","No Supera") -> #DIV/0!
B66: Cromo | C66: Cr | D66: µg/m3 | E66: =IF(ISNUMBER(FIND("<",E25)),"N.D.",PRODUCT(E25,1/E$54)) -> N.D. | F66: =IF(ISNUMBER(FIND("<",F25)),"N.D.",PRODUCT(F25,1/F$54)) -> N.D. | G66: =IF(ISNUMBER(FIND("<",G25)),"N.D.",PRODUCT(G25,1/G$54)) -> N.D. | H66: =IF(ISNUMBER(FIND("<",H25)),"N.D.",PRODUCT(H25,1/H$54)) -> N.D. | I66: =IF(ISNUMBER(FIND("<",I25)),"N.D.",PRODUCT(I25,1/I$54)) -> N.D. | J66: =IF(ISNUMBER(FIND("<",J25)),"N.D.",PRODUCT(J25,1/J$54)) -> #REF! | K66: =IF(ISNUMBER(FIND("<",K25)),"N.D.",PRODUCT(K25,1/K$54)) -> #REF! | L66: =IF(ISNUMBER(FIND("<",L25)),"N.D.",PRODUCT(L25,1/L$54)) -> #REF! | ... S66: =IF(ISNUMBER(FIND("<",S25)),"N.D.",PRODUCT(S25,1/S$54)) -> #REF! | U66: 0.5 | V66: =MAX(E66:I66) -> 0 | W66: =IF(V66>U66,"Supera","No Supera") -> No Supera
B67: Estaño | C67: Sn | D67: µg/m3 | E67: =IF(ISNUMBER(FIND("<",E26)),"N.D.",PRODUCT(E26,1/E$54)) -> #DIV/0! | F67: =IF(ISNUMBER(FIND("<",F26)),"N.D.",PRODUCT(F26,1/F$54)) -> #DIV/0! | G67: =IF(ISNUMBER(FIND("<",G26)),"N.D.",PRODUCT(G26,1/G$54)) -> #DIV/0! | H67: =IF(ISNUMBER(FIND("<",H26)),"N.D.",PRODUCT(H26,1/H$54)) -> #DIV/0! | I67: =IF(ISNUMBER(FIND("<",I26)),"N.D.",PRODUCT(I26,1/I$54)) -> #DIV/0! | J67: =IF(ISNUMBER(FIND("<",J26)),"N.D.",PRODUCT(J26,1/J$54)) -> #REF! | K67: =IF(ISNUMBER(FIND("<",K26)),"N.D.",PRODUCT(K26,1/K$54)) -> #REF! | L67: =IF(ISNUMBER(FIND("<",L26)),"N.D.",PRODUCT(L26,1/L$54)) -> #REF! | ... S67: =IF(ISNUMBER(FIND("<",S26)),"N.D.",PRODUCT(S26,1/S$54)) -> #REF! | U67: 10 | V67: =MAX(E67:I67) -> #DIV/0! | W67: =IF(V67>U67,"Supera","No Supera") -> #DIV/0!
B68: Estroncio | C68: Sr | D68: µg/m3 | E68: =IF(ISNUMBER(FIND("<",E27)),"N.D.",PRODUCT(E27,1/E$54)) -> #DIV/0! | F68: =IF(ISNUMBER(FIND("<",F27)),"N.D.",PRODUCT(F27,1/F$54)) -> #DIV/0! | G68: =IF(ISNUMBER(FIND("<",G27)),"N.D.",PRODUCT(G27,1/G$54)) -> #DIV/0! | H68: =IF(ISNUMBER(FIND("<",H27)),"N.D.",PRODUCT(H27,1/H$54)) -> #DIV/0! | I68: =IF(ISNUMBER(FIND("<",I27)),"N.D.",PRODUCT(I27,1/I$54)) -> #DIV/0! | J68: =IF(ISNUMBER(FIND("<",J27)),"N.D.",PRODUCT(J27,1/J$54)) -> #REF! | K68: =IF(ISNUMBER(FIND("<",K27)),"N.D.",PRODUCT(K27,1/K$54)) -> #REF! | L68: =IF(ISNUMBER(FIND("<",L27)),"N.D.",PRODUCT(L27,1/L$54)) -> #REF! | ... S68: =IF(ISNUMBER(FIND("<",S27)),"N.D.",PRODUCT(S27,1/S$54)) -> #REF! | U68: 120 | V68: =MAX(E68:I68) -> #DIV/0! | W68: =IF(V68>U68,"Supera","No Supera") -> #DIV/0!
B69: Fósforo | C69: P | D69: µg/m3 | E69: =IF(ISNUMBER(FIND("<",E28)),"N.D.",PRODUCT(E28,1/E$54)) -> #DIV/0! | F69: =IF(ISNUMBER(FIND("<",F28)),"N.D.",PRODUCT(F28,1/F$54)) -> #DIV/0! | G69: =IF(ISNUMBER(FIND("<",G28)),"N.D.",PRODUCT(G28,1/G$54)) -> #DIV/0! | H69: =IF(ISNUMBER(FIND("<",H28)),"N.D.",PRODUCT(H28,1/H$54)) -> #DIV/0! | I69: =IF(ISNUMBER(FIND("<",I28)),"N.D.",PRODUCT(I28,1/I$54)) -> #DIV/0! | J69: =IF(ISNUMBER(FIND("<",J28)),"N.D.",PRODUCT(J28,1/J$54)) -> #REF! | K69: =IF(ISNUMBER(FIND("<",K28)),"N.D.",PRODUCT(K28,1/K$54)) -> #REF! | L69: =IF(ISNUMBER(FIND("<",L28)),"N.D.",PRODUCT(L28,1/L$54)) -> #REF! | ... S69: =IF(ISNUMBER(FIND("<",S28)),"N.D.",PRODUCT(S28,1/S$54)) -> #REF! | U69: - | V69: =MAX(E69:I69) -> #DIV/0! | W69: =IF(V69>U69,"Supera","No Supera") -> #DIV/0!
B70: Hierro | C70: Fe | D70: µg/m3 | E70: =IF(ISNUMBER(FIND("<",E29)),"N.D.",PRODUCT(E29,1/E$54)) -> #DIV/0! | F70: =IF(ISNUMBER(FIND("<",F29)),"N.D.",PRODUCT(F29,1/F$54)) -> #DIV/0! | G70: =IF(ISNUMBER(FIND("<",G29)),"N.D.",PRODUCT(G29,1/G$54)) -> #DIV/0! | H70: =IF(ISNUMBER(FIND("<",H29)),"N.D.",PRODUCT(H29,1/H$54)) -> #DIV/0! | I70: =IF(ISNUMBER(FIND("<",I29)),"N.D.",PRODUCT(I29,1/I$54)) -> #DIV/0! | J70: =IF(ISNUMBER(FIND("<",J29)),"N.D.",PRODUCT(J29,1/J$54)) -> #REF! | K70: =IF(ISNUMBER(FIND("<",K29)),"N.D.",PRODUCT(K29,1/K$54)) -> #REF! | L70: =IF(ISNUMBER(FIND("<",L29)),"N.D.",PRODUCT(L29,1/L$54)) -> #REF! | ... S70: =IF(ISNUMBER(FIND("<",S29)),"N.D.",PRODUCT(S29,1/S$54)) -> #REF! | U70: 4 | V70: =MAX(E70:I70) -> #DIV/0! | W70: =IF(V70>U70,"Supera","No Supera") -> #DIV/0! | X70: =COUNTIF(E70:I70,">4") -> 0 | Y70: =E70/$U$70 -> #DIV/0! | Z70: =F70/$U$70 -> #DIV/0! | AA70: =G70/$U$70 -> #DIV/0! | AB70: =H70/$U$70 -> #DIV/0! | AC70: =I70/$U$70 -> #DIV/0! | AD70: =MAX(Y70:AC70) -> #DIV/0!
B71: Litio | C71: Li | D71: µg/m3 | E71: =IF(ISNUMBER(FIND("<",E30)),"N.D.",PRODUCT(E30,1/E$54)) -> #DIV/0! | F71: =IF(ISNUMBER(FIND("<",F30)),"N.D.",PRODUCT(F30,1/F$54)) -> #DIV/0! | G71: =IF(ISNUMBER(FIND("<",G30)),"N.D.",PRODUCT(G30,1/G$54)) -> #DIV/0! | H71: =IF(ISNUMBER(FIND("<",H30)),"N.D.",PRODUCT(H30,1/H$54)) -> #DIV/0! | I71: =IF(ISNUMBER(FIND("<",I30)),"N.D.",PRODUCT(I30,1/I$54)) -> #DIV/0! | J71: =IF(ISNUMBER(FIND("<",J30)),"N.D.",PRODUCT(J30,1/J$54)) -> #REF! | K71: =IF(ISNUMBER(FIND("<",K30)),"N.D.",PRODUCT(K30,1/K$54)) -> #REF! | L71: =IF(ISNUMBER(FIND("<",L30)),"N.D.",PRODUCT(L30,1/L$54)) -> #REF! | ... S71: =IF(ISNUMBER(FIND("<",S30)),"N.D.",PRODUCT(S30,1/S$54)) -> #REF! | U71: - | V71: =MAX(E71:I71) -> #DIV/0! | W71: =IF(V71>U71,"Supera","No Supera") -> #DIV/0!
B72: Magnesio | C72: Mg | D72: µg/m3 | E72: =IF(ISNUMBER(FIND("<",E31)),"N.D.",PRODUCT(E31,1/E$54)) -> #DIV/0! | F72: =IF(ISNUMBER(FIND("<",F31)),"N.D.",PRODUCT(F31,1/F$54)) -> #DIV/0! | G72: =IF(ISNUMBER(FIND("<",G31)),"N.D.",PRODUCT(G31,1/G$54)) -> #DIV/0! | H72: =IF(ISNUMBER(FIND("<",H31)),"N.D.",PRODUCT(H31,1/H$54)) -> #DIV/0! | I72: =IF(ISNUMBER(FIND("<",I31)),"N.D.",PRODUCT(I31,1/I$54)) -> #DIV/0! | J72: =IF(ISNUMBER(FIND("<",J31)),"N.D.",PRODUCT(J31,1/J$54)) -> #REF! | K72: =IF(ISNUMBER(FIND("<",K31)),"N.D.",PRODUCT(K31,1/K$54)) -> #REF! | L72: =IF(ISNUMBER(FIND("<",L31)),"N.D.",PRODUCT(L31,1/L$54)) -> #REF! | ... S72: =IF(ISNUMBER(FIND("<",S31)),"N.D.",PRODUCT(S31,1/S$54)) -> #REF! | U72: - | V72: =MAX(E72:I72) -> #DIV/0! | W72: =IF(V72>U72,"Supera","No Supera") -> #DIV/0!
B73: Manganeso | C73: Mn | D73: µg/m3 | E73: =IF(ISNUMBER(FIND("<",E32)),"N.D.",PRODUCT(E32,1/E$54)) -> #DIV/0! | F73: =IF(ISNUMBER(FIND("<",F32)),"N.D.",PRODUCT(F32,1/F$54)) -> #DIV/0! | G73: =IF(ISNUMBER(FIND("<",G32)),"N.D.",PRODUCT(G32,1/G$54)) -> #DIV/0! | H73: =IF(ISNUMBER(FIND("<",H32)),"N.D.",PRODUCT(H32,1/H$54)) -> #DIV/0! | I73: =IF(ISNUMBER(FIND("<",I32)),"N.D.",PRODUCT(I32,1/I$54)) -> #DIV/0! | J73: =IF(ISNUMBER(FIND("<",J32)),"N.D.",PRODUCT(J32,1/J$54)) -> #REF! | K73: =IF(ISNUMBER(FIND("<",K32)),"N.D.",PRODUCT(K32,1/K$54)) -> #REF! | L73: =IF(ISNUMBER(FIND("<",L32)),"N.D.",PRODUCT(L32,1/L$54)) -> #REF! | ... S73: =IF(ISNUMBER(FIND("<",S32)),"N.D.",PRODUCT(S32,1/S$54)) -> #REF! | U73: 0.2 | V73: =MAX(E73:I73) -> #DIV/0! | W73: =IF(V73>U73,"Supera","No Supera") -> #DIV/0!
B74: Mercurio | C74: Hg | D74: µg/m3 | E74: =IF(ISNUMBER(FIND("<",E33)),"N.D.",PRODUCT(E33,1/E$54)) -> N.D. | F74: =IF(ISNUMBER(FIND("<",F33)),"N.D.",PRODUCT(F33,1/F$54)) -> N.D. | G74: =IF(ISNUMBER(FIND("<",G33)),"N.D.",PRODUCT(G33,1/G$54)) -> #DIV/0! | H74: =IF(ISNUMBER(FIND("<",H33)),"N.D.",PRODUCT(H33,1/H$54)) -> N.D. | I74: =IF(ISNUMBER(FIND("<",I33)),"N.D.",PRODUCT(I33,1/I$54)) -> #DIV/0! | J74: =IF(ISNUMBER(FIND("<",J33)),"N.D.",PRODUCT(J33,1/J$54)) -> #REF! | K74: =IF(ISNUMBER(FIND("<",K33)),"N.D.",PRODUCT(K33,1/K$54)) -> #REF! | L74: =IF(ISNUMBER(FIND("<",L33)),"N.D.",PRODUCT(L33,1/L$54)) -> #REF! | ... S74: =IF(ISNUMBER(FIND("<",S33)),"N.D.",PRODUCT(S33,1/S$54)) -> #REF! | U74: 2 | V74: =MAX(E74:I74) -> #DIV/0! | W74: =IF(V74>U74,"Supera","No Supera") -> #DIV/0!
B75: Molibdeno | C75: Mo | D75: µg/m3 | E75: =IF(ISNUMBER(FIND("<",E34)),"N.D.",PRODUCT(E34,1/E$54)) -> #DIV/0! | F75: =IF(ISNUMBER(FIND("<",F34)),"N.D.",PRODUCT(F34,1/F$54)) -> #DIV/0! | G75: =IF(ISNUMBER(FIND("<",G34)),"N.D.",PRODUCT(G34,1/G$54)) -> #DIV/0! | H75: =IF(ISNUMBER(FIND("<",H34)),"N.D.",PRODUCT(H34,1/H$54)) -> #DIV/0! | I75: =IF(ISNUMBER(FIND("<",I34)),"N.D.",PRODUCT(I34,1/I$54)) -> #DIV/0! | J75: =IF(ISNUMBER(FIND("<",J34)),"N.D.",PRODUCT(J34,1/J$54)) -> #REF! | K75: =IF(ISNUMBER(FIND("<",K34)),"N.D.",PRODUCT(K34,1/K$54)) -> #REF! | L75: =IF(ISNUMBER(FIND("<",L34)),"N.D.",PRODUCT(L34,1/L$54)) -> #REF! | ... S75: =IF(ISNUMBER(FIND("<",S34)),"N.D.",PRODUCT(S34,1/S$54)) -> #REF! | U75: 120 | V75: =MAX(E75:I75) -> #DIV/0! | W75: =IF(V75>U75,"Supera","No Supera") -> #DIV/0!
B76: Níquel | C76: Ni | D76: µg/m3 | E76: =IF(ISNUMBER(FIND("<",E35)),"N.D.",PRODUCT(E35,1/E$54)) -> #DIV/0! | F76: =IF(ISNUMBER(FIND("<",F35)),"N.D.",PRODUCT(F35,1/F$54)) -> #DIV/0! | G76: =IF(ISNUMBER(FIND("<",G35)),"N.D.",PRODUCT(G35,1/G$54)) -> #DIV/0! | H76: =IF(ISNUMBER(FIND("<",H35)),"N.D.",PRODUCT(H35,1/H$54)) -> #DIV/0! | I76: =IF(ISNUMBER(FIND("<",I35)),"N.D.",PRODUCT(I35,1/I$54)) -> #DIV/0! | J76: =IF(ISNUMBER(FIND("<",J35)),"N.D.",PRODUCT(J35,1/J$54)) -> #REF! | K76: =IF(ISNUMBER(FIND("<",K35)),"N.D.",PRODUCT(K35,1/K$54)) -> #REF! | L76: =IF(ISNUMBER(FIND("<",L35)),"N.D.",PRODUCT(L35,1/L$54)) -> #REF! | ... S76: =IF(ISNUMBER(FIND("<",S35)),"N.D.",PRODUCT(S35,1/S$54)) -> #REF! | U76: 0.1 | V76: =MAX(E76:I76) -> #DIV/0! | W76: =IF(V76>U76,"Supera","No Supera") -> #DIV/0!
B77: Plata | C77: Ag | D77: µg/m3 | E77: =IF(ISNUMBER(FIND("<",E36)),"N.D.",PRODUCT(E36,1/E$54)) -> #DIV/0! | F77: =IF(ISNUMBER(FIND("<",F36)),"N.D.",PRODUCT(F36,1/F$54)) -> #DIV/0! | G77: =IF(ISNUMBER(FIND("<",G36)),"N.D.",PRODUCT(G36,1/G$54)) -> #DIV/0! | H77: =IF(ISNUMBER(FIND("<",H36)),"N.D.",PRODUCT(H36,1/H$54)) -> #DIV/0! | I77: =IF(ISNUMBER(FIND("<",I36)),"N.D.",PRODUCT(I36,1/I$54)) -> #DIV/0! | J77: =IF(ISNUMBER(FIND("<",J36)),"N.D.",PRODUCT(J36,1/J$54)) -> #REF! | K77: =IF(ISNUMBER(FIND("<",K36)),"N.D.",PRODUCT(K36,1/K$54)) -> #REF! | L77: =IF(ISNUMBER(FIND("<",L36)),"N.D.",PRODUCT(L36,1/L$54)) -> #REF! | ... S77: =IF(ISNUMBER(FIND("<",S36)),"N.D.",PRODUCT(S36,1/S$54)) -> #REF! | U77: 1 | V77: =MAX(E77:I77) -> #DIV/0! | W77: =IF(V77>U77,"Supera","No Supera") -> #DIV/0!
B78: Plomo | C78: Pb | D78: µg/m3 | E78: =IF(ISNUMBER(FIND("<",E37)),"N.D.",PRODUCT(E37,1/E$54)) -> #DIV/0! | F78: =IF(ISNUMBER(FIND("<",F37)),"N.D.",PRODUCT(F37,1/F$54)) -> #DIV/0! | G78: =IF(ISNUMBER(FIND("<",G37)),"N.D.",PRODUCT(G37,1/G$54)) -> #DIV/0! | H78: =IF(ISNUMBER(FIND("<",H37)),"N.D.",PRODUCT(H37,1/H$54)) -> #DIV/0! | I78: =IF(ISNUMBER(FIND("<",I37)),"N.D.",PRODUCT(I37,1/I$54)) -> #DIV/0! | J78: =IF(ISNUMBER(FIND("<",J37)),"N.D.",PRODUCT(J37,1/J$54)) -> #REF! | K78: =IF(ISNUMBER(FIND("<",K37)),"N.D.",PRODUCT(K37,1/K$54)) -> #REF! | L78: =IF(ISNUMBER(FIND("<",L37)),"N.D.",PRODUCT(L37,1/L$54)) -> #REF! | ... S78: =IF(ISNUMBER(FIND("<",S37)),"N.D.",PRODUCT(S37,1/S$54)) -> #REF! | U78: 0.5 | V78: =MAX(E78:I78) -> #DIV/0! | W78: =IF(V78>U78,"Supera","No Supera") -> #DIV/0! | X78: =COUNTIF(E78:I78,">0,5") -> 0 | Y78: =E78/$U$78 -> #DIV/0! | Z78: =F78/$U$78 -> #DIV/0! | AA78: =G78/$U$78 -> #DIV/0! | AB78: =H78/$U$78 -> #DIV/0! | AC78: =I78/$U$78 -> #DIV/0! | AD78: =MAX(Y78:AC78) -> #DIV/0!
B79: Potasio | C79: K | D79: µg/m3 | E79: =IF(ISNUMBER(FIND("<",E38)),"N.D.",PRODUCT(E38,1/E$54)) -> #DIV/0! | F79: =IF(ISNUMBER(FIND("<",F38)),"N.D.",PRODUCT(F38,1/F$54)) -> #DIV/0! | G79: =IF(ISNUMBER(FIND("<",G38)),"N.D.",PRODUCT(G38,1/G$54)) -> #DIV/0! | H79: =IF(ISNUMBER(FIND("<",H38)),"N.D.",PRODUCT(H38,1/H$54)) -> #DIV/0! | I79: =IF(ISNUMBER(FIND("<",I38)),"N.D.",PRODUCT(I38,1/I$54)) -> #DIV/0! | J79: =IF(ISNUMBER(FIND("<",J38)),"N.D.",PRODUCT(J38,1/J$54)) -> #REF! | K79: =IF(ISNUMBER(FIND("<",K38)),"N.D.",PRODUCT(K38,1/K$54)) -> #REF! | L79: =IF(ISNUMBER(FIND("<",L38)),"N.D.",PRODUCT(L38,1/L$54)) -> #REF! | ... S79: =IF(ISNUMBER(FIND("<",S38)),"N.D.",PRODUCT(S38,1/S$54)) -> #REF! | U79: - | V79: =MAX(E79:I79) -> #DIV/0! | W79: =IF(V79>U79,"Supera","No Supera") -> #DIV/0!
B80: Selenio | C80: Se | D80: µg/m3 | E80: =IF(ISNUMBER(FIND("<",E39)),"N.D.",PRODUCT(E39,1/E$54)) -> #DIV/0! | F80: =IF(ISNUMBER(FIND("<",F39)),"N.D.",PRODUCT(F39,1/F$54)) -> #DIV/0! | G80: =IF(ISNUMBER(FIND("<",G39)),"N.D.",PRODUCT(G39,1/G$54)) -> #DIV/0! | H80: =IF(ISNUMBER(FIND("<",H39)),"N.D.",PRODUCT(H39,1/H$54)) -> #DIV/0! | I80: =IF(ISNUMBER(FIND("<",I39)),"N.D.",PRODUCT(I39,1/I$54)) -> #DIV/0! | J80: =IF(ISNUMBER(FIND("<",J39)),"N.D.",PRODUCT(J39,1/J$54)) -> #REF! | K80: =IF(ISNUMBER(FIND("<",K39)),"N.D.",PRODUCT(K39,1/K$54)) -> #REF! | L80: =IF(ISNUMBER(FIND("<",L39)),"N.D.",PRODUCT(L39,1/L$54)) -> #REF! | ... S80: =IF(ISNUMBER(FIND("<",S39)),"N.D.",PRODUCT(S39,1/S$54)) -> #REF! | U80: 10 | V80: =MAX(E80:I80) -> #DIV/0! | W80: =IF(V80>U80,"Supera","No Supera") -> #DIV/0!
B81: Silicio | C81: Si | D81: µg/m3 | E81: =IF(ISNUMBER(FIND("<",E40)),"N.D.",PRODUCT(E40,1/E$54)) -> #DIV/0! | F81: =IF(ISNUMBER(FIND("<",F40)),"N.D.",PRODUCT(F40,1/F$54)) -> #DIV/0! | G81: =IF(ISNUMBER(FIND("<",G40)),"N.D.",PRODUCT(G40,1/G$54)) -> #DIV/0! | H81: =IF(ISNUMBER(FIND("<",H40)),"N.D.",PRODUCT(H40,1/H$54)) -> #DIV/0! | I81: =IF(ISNUMBER(FIND("<",I40)),"N.D.",PRODUCT(I40,1/I$54)) -> #DIV/0! | J81: =IF(ISNUMBER(FIND("<",J40)),"N.D.",PRODUCT(J40,1/J$54)) -> #REF! | K81: =IF(ISNUMBER(FIND("<",K40)),"N.D.",PRODUCT(K40,1/K$54)) -> #REF! | L81: =IF(ISNUMBER(FIND("<",L40)),"N.D.",PRODUCT(L40,1/L$54)) -> #REF! | ... S81: =IF(ISNUMBER(FIND("<",S40)),"N.D.",PRODUCT(S40,1/S$54)) -> #REF! | U81: - | V81: =MAX(E81:I81) -> #DIV/0! | W81: =IF(V81>U81,"Supera","No Supera") -> #DIV/0!
B82: Sodio | C82: Na | D82: µg/m3 | E82: =IF(ISNUMBER(FIND("<",E41)),"N.D.",PRODUCT(E41,1/E$54)) -> #DIV/0! | F82: =IF(ISNUMBER(FIND("<",F41)),"N.D.",PRODUCT(F41,1/F$54)) -> #DIV/0! | G82: =IF(ISNUMBER(FIND("<",G41)),"N.D.",PRODUCT(G41,1/G$54)) -> #DIV/0! | H82: =IF(ISNUMBER(FIND("<",H41)),"N.D.",PRODUCT(H41,1/H$54)) -> #DIV/0! | I82: =IF(ISNUMBER(FIND("<",I41)),"N.D.",PRODUCT(I41,1/I$54)) -> #DIV/0! | J82: =IF(ISNUMBER(FIND("<",J41)),"N.D.",PRODUCT(J41,1/J$54)) -> #REF! | K82: =IF(ISNUMBER(FIND("<",K41)),"N.D.",PRODUCT(K41,1/K$54)) -> #REF! | L82: =IF(ISNUMBER(FIND("<",L41)),"N.D.",PRODUCT(L41,1/L$54)) -> #REF! | ... S82: =IF(ISNUMBER(FIND("<",S41)),"N.D.",PRODUCT(S41,1/S$54)) -> #REF! | U82: - | V82: =MAX(E82:I82) -> #DIV/0! | W82: =IF(V82>U82,"Supera","No Supera") -> #DIV/0!
B83: Talio | C83: Tl | D83: µg/m3 | E83: =IF(ISNUMBER(FIND("<",E42)),"N.D.",PRODUCT(E42,1/E$54)) -> #DIV/0! | F83: =IF(ISNUMBER(FIND("<",F42)),"N.D.",PRODUCT(F42,1/F$54)) -> N.D. | G83: =IF(ISNUMBER(FIND("<",G42)),"N.D.",PRODUCT(G42,1/G$54)) -> N.D. | H83: =IF(ISNUMBER(FIND("<",H42)),"N.D.",PRODUCT(H42,1/H$54)) -> #DIV/0! | I83: =IF(ISNUMBER(FIND("<",I42)),"N.D.",PRODUCT(I42,1/I$54)) -> #DIV/0! | J83: =IF(ISNUMBER(FIND("<",J42)),"N.D.",PRODUCT(J42,1/J$54)) -> #REF! | K83: =IF(ISNUMBER(FIND("<",K42)),"N.D.",PRODUCT(K42,1/K$54)) -> #REF! | L83: =IF(ISNUMBER(FIND("<",L42)),"N.D.",PRODUCT(L42,1/L$54)) -> #REF! | ... S83: =IF(ISNUMBER(FIND("<",S42)),"N.D.",PRODUCT(S42,1/S$54)) -> #REF! | U83: - | V83: =MAX(E83:I83) -> #DIV/0! | W83: =IF(V83>U83,"Supera","No Supera") -> #DIV/0!
B84: Titanio | C84: Ti | D84: µg/m3 | E84: =IF(ISNUMBER(FIND("<",E43)),"N.D.",PRODUCT(E43,1/E$54)) -> #DIV/0! | F84: =IF(ISNUMBER(FIND("<",F43)),"N.D.",PRODUCT(F43,1/F$54)) -> #DIV/0! | G84: =IF(ISNUMBER(FIND("<",G43)),"N.D.",PRODUCT(G43,1/G$54)) -> #DIV/0! | H84: =IF(ISNUMBER(FIND("<",H43)),"N.D.",PRODUCT(H43,1/H$54)) -> #DIV/0! | I84: =IF(ISNUMBER(FIND("<",I43)),"N.D.",PRODUCT(I43,1/I$54)) -> #DIV/0! | J84: =IF(ISNUMBER(FIND("<",J43)),"N.D.",PRODUCT(J43,1/J$54)) -> #REF! | K84: =IF(ISNUMBER(FIND("<",K43)),"N.D.",PRODUCT(K43,1/K$54)) -> #REF! | L84: =IF(ISNUMBER(FIND("<",L43)),"N.D.",PRODUCT(L43,1/L$54)) -> #REF! | ... S84: =IF(ISNUMBER(FIND("<",S43)),"N.D.",PRODUCT(S43,1/S$54)) -> #REF! | U84: 120 | V84: =MAX(E84:I84) -> #DIV/0! | W84: =IF(V84>U84,"Supera","No Supera") -> #DIV/0!
B85: Uranio | C85: U | D85: µg/m3 | E85: =IF(ISNUMBER(FIND("<",E44)),"N.D.",PRODUCT(E44,1/E$54)) -> N.D. | F85: =IF(ISNUMBER(FIND("<",F44)),"N.D.",PRODUCT(F44,1/F$54)) -> N.D. | G85: =IF(ISNUMBER(FIND("<",G44)),"N.D.",PRODUCT(G44,1/G$54)) -> N.D. | H85: =IF(ISNUMBER(FIND("<",H44)),"N.D.",PRODUCT(H44,1/H$54)) -> N.D. | I85: =IF(ISNUMBER(FIND("<",I44)),"N.D.",PRODUCT(I44,1/I$54)) -> #DIV/0! | U85: 0.15 | V85: =MAX(E85:I85) -> #DIV/0! | W85: =IF(V85>U85,"Supera","No Supera") -> #DIV/0!
B86: Vanadio | C86: V | D86: µg/m3 | E86: =IF(ISNUMBER(FIND("<",E45)),"N.D.",PRODUCT(E45,1/E$54)) -> #DIV/0! | F86: =IF(ISNUMBER(FIND("<",F45)),"N.D.",PRODUCT(F45,1/F$54)) -> #DIV/0! | G86: =IF(ISNUMBER(FIND("<",G45)),"N.D.",PRODUCT(G45,1/G$54)) -> #DIV/0! | H86: =IF(ISNUMBER(FIND("<",H45)),"N.D.",PRODUCT(H45,1/H$54)) -> #DIV/0! | I86: =IF(ISNUMBER(FIND("<",I45)),"N.D.",PRODUCT(I45,1/I$54)) -> #DIV/0! | J86: =IF(ISNUMBER(FIND("<",J45)),"N.D.",PRODUCT(J45,1/J$54)) -> #REF! | K86: =IF(ISNUMBER(FIND("<",K45)),"N.D.",PRODUCT(K45,1/K$54)) -> #REF! | L86: =IF(ISNUMBER(FIND("<",L45)),"N.D.",PRODUCT(L45,1/L$54)) -> #REF! | ... S86: =IF(ISNUMBER(FIND("<",S45)),"N.D.",PRODUCT(S45,1/S$54)) -> #REF! | U86: 2 | V86: =MAX(E86:I86) -> #DIV/0! | W86: =IF(V86>U86,"Supera","No Supera") -> #DIV/0!
B87: Zinc | C87: Zn | D87: µg/m3 | E87: =IF(ISNUMBER(FIND("<",E46)),"N.D.",PRODUCT(E46,1/E$54)) -> #DIV/0! | F87: =IF(ISNUMBER(FIND("<",F46)),"N.D.",PRODUCT(F46,1/F$54)) -> #DIV/0! | G87: =IF(ISNUMBER(FIND("<",G46)),"N.D.",PRODUCT(G46,1/G$54)) -> #DIV/0! | H87: =IF(ISNUMBER(FIND("<",H46)),"N.D.",PRODUCT(H46,1/H$54)) -> #DIV/0! | I87: =IF(ISNUMBER(FIND("<",I46)),"N.D.",PRODUCT(I46,1/I$54)) -> #DIV/0! | J87: =IF(ISNUMBER(FIND("<",J46)),"N.D.",PRODUCT(J46,1/J$54)) -> #REF! | K87: =IF(ISNUMBER(FIND("<",K46)),"N.D.",PRODUCT(K46,1/K$54)) -> #REF! | L87: =IF(ISNUMBER(FIND("<",L46)),"N.D.",PRODUCT(L46,1/L$54)) -> #REF! | ... S87: =IF(ISNUMBER(FIND("<",S46)),"N.D.",PRODUCT(S46,1/S$54)) -> #REF! | U87: 120 | V87: =MAX(E87:I87) -> #DIV/0! | W87: =IF(V87>U87,"Supera","No Supera") -> #DIV/0!
B89: OBSERVACIONES:
B90: (1) La concentración de metales en PM10, se realizó en base a las condiciones de temperatura T= 10°C (283.15 °K) y presión estándar (760 mmHg ó 1013,25 mBar). N.D. : No detectable.

Sheet Resumen
B2: Fecha Inicio | C2: Fecha Final | D2: PM10 (µg/m3) | F2: Pb en PM10 (24 horas) | H2: Cd en PM10 (24 horas) | I2: a 10°C | J2: =IF(F3>F13,"CORRECTO Pb","ERROR") -> #DIV/0!
B3: ='A.2.4. Cálculo PM10 y VM'!E12 -> 0 | C3: ='A.2.4. Cálculo PM10 y VM'!F12 -> 0 | D3: ='A.2.4. Cálculo PM10 y VM'!M12 -> #DIV/0! | F3: ='A.2.8. Conc. Metales 10°C'!E78 -> #DIV/0! | H3: ='A.2.8. Conc. Metales 10°C'!E62 -> #DIV/0! | J3: =IF(H3>H13,"CORRECTO Cd","ERROR") -> #DIV/0!
B4: ='A.2.4. Cálculo PM10 y VM'!E13 -> 0 | C4: ='A.2.4. Cálculo PM10 y VM'!F13 -> 0 | D4: ='A.2.4. Cálculo PM10 y VM'!M13 -> #DIV/0! | F4: ='A.2.8. Conc. Metales 10°C'!F78 -> #DIV/0! | H4: ='A.2.8. Conc. Metales 10°C'!F62 -> #DIV/0!
B5: ='A.2.4. Cálculo PM10 y VM'!E14 -> 0 | C5: ='A.2.4. Cálculo PM10 y VM'!F14 -> 0 | D5: ='A.2.4. Cálculo PM10 y VM'!M14 -> #DIV/0! | F5: ='A.2.8. Conc. Metales 10°C'!G78 -> #DIV/0! | H5: ='A.2.8. Conc. Metales 10°C'!G62 -> #DIV/0!
B6: ='A.2.4. Cálculo PM10 y VM'!E15 -> 0 | C6: ='A.2.4. Cálculo PM10 y VM'!F15 -> 0 | D6: ='A.2.4. Cálculo PM10 y VM'!M15 -> #DIV/0! | F6: ='A.2.8. Conc. Metales 10°C'!H78 -> #DIV/0! | H6: ='A.2.8. Conc. Metales 10°C'!H62 -> #DIV/0!
B7: ='A.2.4. Cálculo PM10 y VM'!E16 -> 0 | C7: ='A.2.4. Cálculo PM10 y VM'!F16 -> 0 | D7: ='A.2.4. Cálculo PM10 y VM'!M16 -> #DIV/0! | F7: ='A.2.8. Conc. Metales 10°C'!I78 -> #DIV/0! | H7: ='A.2.8. Conc. Metales 10°C'!I62 -> #DIV/0!
B9: Promedios: | D9: =AVERAGE(D3:D7) -> #DIV/0! | F9: =AVERAGE(F3:F7) -> #DIV/0! | H9: =AVERAGE(H3:H7) -> #DIV/0!
D10: AAQC 24 horas: | F10: 0.5 | H10: 0.025
B12: Fecha Inicio | C12: Fecha Final | D12: PM2,5 (µg/m3) | F12: Pb en PM10 (mensual) | H12: Cd en PM10 (mensual) | I12: a T de muestreo
B13: ='A.2.5. Cálculo PM 2.5'!E12 -> - | C13: ='A.2.5. Cálculo PM 2.5'!F12 -> - | D13: ='A.2.5. Cálculo PM 2.5'!M12 -> - | F13: ='A.2.6. Conc. de Metales PM 10'!E78 -> #DIV/0! | H13: ='A.2.6. Conc. de Metales PM 10'!E62 -> #DIV/0!
B14: ='A.2.5. Cálculo PM 2.5'!E13 -> - | C14: ='A.2.5. Cálculo PM 2.5'!F13 -> - | D14: ='A.2.5. Cálculo PM 2.5'!M13 -> - | F14: ='A.2.6. Conc. de Metales PM 10'!F78 -> #DIV/0! | H14: ='A.2.6. Conc. de Metales PM 10'!F62 -> #DIV/0!
B15: ='A.2.5. Cálculo PM 2.5'!E14 -> - | C15: ='A.2.5. Cálculo PM 2.5'!F14 -> - | D15: ='A.2.5. Cálculo PM 2.5'!M14 -> - | F15: ='A.2.6. Conc. de Metales PM 10'!G78 -> #DIV/0! | H15: ='A.2.6. Conc. de Metales PM 10'!G62 -> #DIV/0!
B16: ='A.2.5. Cálculo PM 2.5'!E15 -> - | C16: ='A.2.5. Cálculo PM 2.5'!F15 -> - | D16: ='A.2.5. Cálculo PM 2.5'!M15 -> - | F16: ='A.2.6. Conc. de Metales PM 10'!H78 -> #DIV/0! | H16: ='A.2.6. Conc. de Metales PM 10'!H62 -> #DIV/0!
B17: ='A.2.5. Cálculo PM 2.5'!E16 -> - | C17: ='A.2.5. Cálculo PM 2.5'!F16 -> - | D17: ='A.2.5. Cálculo PM 2.5'!M16 -> - | F17: ='A.2.6. Conc. de Metales PM 10'!I78 -> #DIV/0! | H17: ='A.2.6. Conc. de Metales PM 10'!I62 -> #DIV/0!
B19: Promedios: | D19: =AVERAGE(D13:D17) -> #DIV/0! | F19: =AVERAGE(F13:F17) -> #DIV/0! | H19: =AVERAGE(H13:H17) -> #DIV/0!
D20: ECA Mensual: | F20: 1.5 | H20: ---

Sheet Fórmula EPA
A1: De acuerdo a Compendium EPA Method IO-2.1 SAMPLING OF AMBIENT AIR FOR TOTAL SUSPENDED PARTICULATE MATTER (SPM) AND PM10 USING HIGH VOLUME (HV) SAMPLER
A2: 1.- Calcular el flujo promedio del periodo de muestreo corregido a las condiciones estándar
A7: Dónde:
A8: Qa (m³/min): | B8: Velocidad del flujo del volumen real
A9: Qstd (m³/min std): | B9: Velocidad del flujo del volumen estándar
A10: Pstd (mm Hg): | B10: Presión barométrica estándar según EPA (760 mm Hg)
A11: Pa (mm Hg): | B11: Presión barométrica ambiental
A12: Ta (°K): | B12: Temperatura ambiental
A13: Tstd: | B13: Temperatura estándar según EPA (298 °K)
A16: 2.- Calcular el volumen total de aire muestreado
A19: Dónde:
A20: Vstd (m³std): | B20: Volumen total de aire muestreado en condiciones estándar
A21: Qstd (m³/min std): | B21: Velocidad del flujo del volumen estándar
A22: t (min): | B22: Tiempo de muestreo
A25: 3.- Calcular la concentración de material particulado
A30: Dónde:
A31: PM10 (µg/m3 std): | B31: Concentración de PM-10
A32: Wf, Wi (g): | B32: Pesos final e inicial de partículas de PM-10 colectadas en el filtro
A33: 10E6: | B33: Conversión de g a µg
A34: Vstd (m³std): | B34: Volumen total de aire muestreado en condiciones estándar
