Workbook

Sheet PM10_CA-ILO-01
F2: Tabla 3.1. Concentraciones horarias de PM₁₀
B6: TÍTULO DEL ESTUDIO: | F6: Evaluación de seguimiento de la calidad del aire en la I.E. Francisco Bolognesi, distrito Ilo, provincia Ilo, departamento Moquegua, en febrero 2022
B8: ESTACIÓN DE MONITOREO: | F8: CA-ILO-01 | Q8: CÓDIGO DE ACCIÓN:
B10: DATOS DEL EQUIPO
B12: EQUIPO: | F12: Monitor automático de partículas | Q12: MARCA: | V12: GRIMM AEROSOL TECHNIK
B14: MODELO: | F14: EDM180 | Q14: SERIE: | V14: 18A19094
B16: Hora\Día | C16: 1 | D16: 2 | E16: 3 | F16: 4 | G16: 5 | H16: 6 | I16: 7 | J16: 8 | K16: 9 | L16: 10 | M16: 11 | N16: 12 | O16: 13 | P16: 14 | Q16: 15 | R16: 16 | S16: 17 | T16: 18 | U16: 19 | V16: 20 | W16: 21 | X16: 22 | Y16: 23 | Z16: 24 | AA16: 25 | AB16: 26 | AC16: 27 | AD16: 28 | AE16: 29 | AF16: 30 | AG16: 31
B17: 0 | C17: 15.4 | D17: 22 | E17: 27.2 | F17: 9.3 | G17: 10.9 | H17: 20.3 | I17: 6.4 | J17: 17.4 | K17: 11.1 | L17: 8.2 | M17: 11.4 | N17: 12.3 | O17: 42.9 | P17: 10 | Q17: 12.1 | R17: 9.5 | S17: 13.2 | T17: 9.4 | U17: 24.5 | V17: 10.6 | W17: 25.2 | X17: 48.2 | Y17: 20.7 | Z17: 8.9 | AA17: 15.8 | AB17: 10.1 | AC17: 14.5 | AD17: 19.9
B18: 0.041666667 | C18: 5.4 | D18: 16.9 | E18: 39.6 | F18: 15.2 | G18: 13.2 | H18: 37.2 | I18: 5.8 | J18: 30.4 | K18: 17.3 | L18: 10.3 | M18: 15.4 | N18: 7.1 | O18: 70 | P18: 14.8 | Q18: 21.2 | R18: 8.1 | S18: 37.4 | T18: 10 | U18: 36.7 | V18: 9.1 | W18: 8.1 | X18: 60.1 | Y18: 28.4 | Z18: 8.3 | AA18: 16.3 | AB18: 14.4 | AC18: 13 | AD18: 18.1
B19: 0.083333333 | C19: 4.7 | D19: 32 | E19: 23.4 | F19: 10.3 | G19: 40.2 | H19: 28.9 | I19: 6.8 | J19: 25.9 | K19: 31.1 | L19: 35 | M19: 47.3 | N19: 7.5 | O19: 37.2 | P19: 23.2 | Q19: 35.8 | R19: 10.4 | S19: 33.4 | T19: 11.7 | U19: 29.4 | V19: 8.8 | W19: 6.8 | X19: 26.3 | Y19: 26.7 | Z19: 7 | AA19: 10.6 | AB19: 12.3 | AC19: 22.3 | AD19: 20.9
B20: 0.125 | C20: 7.4 | D20: 24.6 | E20: 17.2 | F20: 8.4 | G20: 13.2 | H20: 21.2 | I20: 7.6 | J20: 23.9 | K20: 45.8 | L20: 39.4 | M20: 36.3 | N20: 8.5 | O20: 19.8 | P20: 36.5 | Q20: 33.4 | R20: 7.8 | S20: 31.4 | T20: 17.6 | U20: 21.1 | V20: 9.6 | W20: 5.3 | X20: 39.5 | Y20: 30 | Z20: 5.9 | AA20: 9.3 | AB20: 26 | AC20: 27.8 | AD20: 27.5
B21: 0.16666667 | C21: 18.9 | D21: 10.9 | E21: 27.1 | F21: 9.3 | G21: 15.6 | H21: 14.7 | I21: 12 | J21: 27.6 | K21: 27.5 | L21: 27.5 | M21: 19.8 | N21: 16.2 | O21: 8.9 | P21: 20.4 | Q21: 21.9 | R21: 7.7 | S21: 45.3 | T21: 22.5 | U21: 20.5 | V21: 68.8 | W21: 5.9 | X21: 52.9 | Y21: 27.9 | Z21: 9.4 | AA21: 6.9 | AB21: 19.4 | AC21: 24.8 | AD21: 27.3
B22: 0.20833333 | C22: 23 | D22: 11.1 | E22: 27.6 | F22: 11.6 | G22: 17.9 | H22: 18.2 | I22: 36.7 | J22: 22 | K22: 29.2 | L22: 24.6 | M22: 17 | N22: 16.9 | O22: 16.1 | P22: 21.7 | Q22: 18.1 | R22: 9.4 | S22: 33.4 | T22: 28.5 | U22: 26.4 | V22: 49 | W22: 13.6 | X22: 25.3 | Y22: 18.4 | Z22: 9.3 | AA22: 8.6 | AB22: 19.1 | AC22: 30.1 | AD22: 16.8
B23: 0.25 | C23: 16.1 | D23: 12.3 | E23: 47.4 | F23: 22.9 | G23: 15.8 | H23: 23 | I23: 37.1 | J23: 23.1 | K23: 51.8 | L23: 26.1 | M23: 20.8 | N23: 14.8 | O23: 25.3 | P23: 25.7 | Q23: 15.3 | R23: 28 | S23: 31.6 | T23: 79.9 | U23: 27.3 | V23: 37 | W23: 42.7 | X23: 23.9 | Y23: 12 | Z23: 17.7 | AA23: 17.7 | AB23: 21.7 | AC23: 27.6 | AD23: 25.7
B24: 0.29166667 | C24: 22.3 | D24: 17.7 | E24: 34.3 | F24: 32.4 | G24: 14.4 | H24: 20 | I24: 22 | J24: 17.5 | K24: 37.8 | L24: 29 | M24: 32.1 | N24: 22 | O24: 36.8 | P24: 23.3 | Q24: 27.6 | R24: 21.9 | S24: 26.6 | T24: 42.5 | U24: 30 | V24: 37.1 | W24: 23.4 | X24: 13.2 | Y24: 16.1 | Z24: 25.8 | AA24: 19.9 | AB24: 19.9 | AC24: 23.5 | AD24: 20.6
B25: 0.33333333 | C25: 15.1 | D25: 22.5 | E25: 34.3 | F25: 17.2 | G25: 17.6 | H25: 21 | I25: 18.6 | J25: 15.2 | K25: 30.1 | L25: 35.9 | M25: 39 | N25: 38.8 | O25: 20.5 | P25: 19.2 | Q25: 15.7 | R25: 21.7 | S25: 23.2 | T25: 29 | U25: 29.6 | V25: 21.7 | W25: 20.3 | X25: 13.3 | Y25: 27.9 | Z25: 21.3 | AA25: 15.4 | AB25: 18.3 | AC25: 27.1 | AD25: 18.3
B26: 0.375 | C26: 17.4 | D26: 35.9 | E26: 21.9 | F26: 12.8 | G26: 16.9 | H26: 14.4 | I26: 18.1 | J26: 14.8 | K26: 30.7 | L26: 26.3 | M26: 32.4 | N26: 36.6 | O26: 13.3 | P26: 14.2 | Q26: 11.3 | R26: 16.1 | S26: 20.4 | T26: 31.3 | U26: 18.8 | V26: 13.8 | W26: 14.4 | X26: 19.8 | Y26: 18.6 | Z26: 26.9 | AA26: 12.6 | AB26: 17 | AC26: 55.5 | AD26: 17.3
B27: 0.41666667 | C27: 16.5 | D27: 27.1 | E27: 8.4 | F27: 14.9 | G27: 13.3 | H27: 12.5 | I27: 17.3 | J27: 13.3 | K27: 18.7 | L27: 10.6 | M27: 24.3 | N27: 22.7 | O27: 9 | P27: 16.5 | Q27: 10.3 | R27: 16 | S27: 15.7 | T27: 21.2 | U27: 23 | V27: 11.3 | W27: 12.6 | X27: 16.6 | Y27: 11 | Z27: 23.9 | AA27: 9.7 | AB27: 11.6 | AC27: 41.8 | AD27: 17.3
B28: 0.45833333 | C28: 13.3 | D28: 16.2 | E28: 11.2 | F28: 13.7 | G28: 19.8 | H28: 10.3 | I28: 14.1 | J28: 11.4 | K28: 16.7 | L28: ID | M28: 26.9 | N28: 27.1 | O28: 8 | P28: 13.6 | Q28: 9 | R28: 11.7 | S28: 14.7 | T28: 11.1 | U28: 19.5 | V28: 19.9 | W28: 15.5 | X28: 15.2 | Y28: 10.8 | Z28: 14.9 | AA28: 10.9 | AB28: 12.6 | AC28: 53.6 | AD28: 24
B29: 0.5 | C29: 10.9 | D29: 12 | E29: 11.9 | F29: 13.2 | G29: 10 | H29: 9.4 | I29: 20.4 | J29: 11.9 | K29: 13 | L29: 12.1 | M29: 27.6 | N29: 25.9 | O29: 7.9 | P29: 10.3 | Q29: 9.5 | R29: 14.1 | S29: 11.5 | T29: 11 | U29: 19.4 | V29: 25.7 | W29: 11.9 | X29: 12.2 | Y29: 11.4 | Z29: 17 | AA29: 7.9 | AB29: 11 | AC29: 30.4 | AD29: 11.4
B30: 0.54166667 | C30: 17.8 | D30: 12.1 | E30: 11.3 | F30: 15.4 | G30: 12.6 | H30: 9 | I30: 23.9 | J30: 12.2 | K30: 12.8 | L30: 12.8 | M30: 30.5 | N30: 19.1 | O30: 9.1 | P30: 10.8 | Q30: 10.8 | R30: 16.2 | S30: 8.7 | T30: 10.1 | U30: 12.3 | V30: 18.3 | W30: 9.7 | X30: 11.8 | Y30: 12.1 | Z30: 25.2 | AA30: 6.5 | AB30: 8.4 | AC30: 18.7 | AD30: 11.5
B31: 0.58333333 | C31: 25.6 | D31: 9.5 | E31: 8.9 | F31: 14.9 | G31: 11.5 | H31: 7.6 | I31: 15 | J31: 11 | K31: 14.1 | L31: 13.1 | M31: 31.3 | N31: 11.9 | O31: 15.3 | P31: 11.5 | Q31: 9 | R31: 16.4 | S31: 9.7 | T31: 9.2 | U31: 12.5 | V31: 11.7 | W31: 10.3 | X31: 12.2 | Y31: 13.6 | Z31: 31.7 | AA31: 6.7 | AB31: 12.9 | AC31: 20.6 | AD31: 14.6
B32: 0.625 | C32: 32.1 | D32: 9.7 | E32: 8.5 | F32: 13.9 | G32: 12.4 | H32: 8.9 | I32: 13.1 | J32: 11.4 | K32: 14.8 | L32: 10.8 | M32: 23.9 | N32: 8.1 | O32: 15 | P32: 8.3 | Q32: 10.3 | R32: 11.1 | S32: 10.6 | T32: 13.1 | U32: 13.9 | V32: 11 | W32: 8.7 | X32: 12.2 | Y32: 10.6 | Z32: 28 | AA32: 7.8 | AB32: 12.1 | AC32: 18.4 | AD32: 11.5
B33: 0.66666667 | C33: 57.2 | D33: 8 | E33: 8.7 | F33: 12.8 | G33: 11 | H33: 8.6 | I33: 9.9 | J33: 10.3 | K33: 15.3 | L33: 11.4 | M33: 20.3 | N33: 7.4 | O33: 15.4 | P33: 9.1 | Q33: 8.9 | R33: 10 | S33: 9.9 | T33: 12.5 | U33: 9.1 | V33: 9.9 | W33: 9.5 | X33: 10.5 | Y33: 10.2 | Z33: 25 | AA33: 7.7 | AB33: 13.6 | AC33: 13.9 | AD33: 10.7
B34: 0.70833333 | C34: 34.2 | D34: 8 | E34: 9.1 | F34: 12.8 | G34: 10.3 | H34: 6.7 | I34: 8.8 | J34: 10.2 | K34: 17.1 | L34: 9.6 | M34: 16 | N34: 8.6 | O34: 9.3 | P34: 8.5 | Q34: 9.1 | R34: 10.8 | S34: 11.8 | T34: 13.4 | U34: 15.7 | V34: 8.4 | W34: 8.9 | X34: 12.1 | Y34: 10.2 | Z34: 16.8 | AA34: 9.1 | AB34: 11.7 | AC34: 9.9 | AD34: 13
B35: 0.75 | C35: 19.6 | D35: 9.3 | E35: 10.8 | F35: 14.2 | G35: 10.6 | H35: 9.3 | I35: 8.9 | J35: 11.3 | K35: 13.5 | L35: 11 | M35: 12.9 | N35: 9.1 | O35: 8.1 | P35: 10.2 | Q35: 9.5 | R35: 12.6 | S35: 13 | T35: 12.5 | U35: 11.4 | V35: 6.7 | W35: 10.2 | X35: 11.2 | Y35: 8.6 | Z35: 14 | AA35: 7.8 | AB35: 11.2 | AC35: 11.5 | AD35: 15.2
B36: 0.79166667 | C36: 13.3 | D36: 8.5 | E36: 10.5 | F36: 10.5 | G36: 11.9 | H36: 8.3 | I36: 8.1 | J36: 18.3 | K36: 11.1 | L36: 12 | M36: 11.4 | N36: 10.2 | O36: 7.3 | P36: 9 | Q36: 9 | R36: 11 | S36: 11.7 | T36: 12.6 | U36: 19 | V36: 8.2 | W36: 8.8 | X36: 8.6 | Y36: 8 | Z36: 9.2 | AA36: 8.1 | AB36: 11.5 | AC36: 10.7 | AD36: 15.2
B37: 0.83333333 | C37: 11.4 | D37: 19 | E37: 16.1 | F37: 14.1 | G37: 12.8 | H37: 9.8 | I37: 8.9 | J37: 23.1 | K37: 14 | L37: 11.7 | M37: 12.9 | N37: 37.1 | O37: 8.6 | P37: 8.7 | Q37: 9.2 | R37: 16.1 | S37: 17.3 | T37: 13.1 | U37: 16.8 | V37: 8.4 | W37: 9.6 | X37: 8.6 | Y37: 9.6 | Z37: 8.1 | AA37: 9.2 | AB37: 13.7 | AC37: 11.4 | AD37: 17.1
B38: 0.875 | C38: 9.5 | D38: 13.1 | E38: 11.9 | F38: 16 | G38: 12.4 | H38: 9.4 | I38: 12 | J38: 12.5 | K38: 11 | L38: 11.3 | M38: 11.2 | N38: 15.9 | O38: 8.3 | P38: 9.8 | Q38: 11.5 | R38: 12.8 | S38: 19 | T38: 12.5 | U38: 28.1 | V38: 8.1 | W38: 11.2 | X38: 9.5 | Y38: 7.9 | Z38: 9.1 | AA38: 9 | AB38: 17.6 | AC38: 12.6 | AD38: 15.5
B39: 0.91666667 | C39: 8.5 | D39: 10.5 | E39: 8.1 | F39: 10.9 | G39: 11.8 | H39: 6.9 | I39: 12.6 | J39: 9.3 | K39: 9.3 | L39: 10.8 | M39: 34.9 | N39: 11.3 | O39: 10.6 | P39: 11.3 | Q39: 11.1 | R39: 9.9 | S39: 22.6 | T39: 10.3 | U39: 21.3 | V39: 8.5 | W39: 11.8 | X39: 15.2 | Y39: 6.9 | Z39: 8.5 | AA39: 8.8 | AB39: 17 | AC39: 15.6 | AD39: 19.9
B40: 0.95833333 | C40: 12.5 | D40: 14.8 | E40: 13.1 | F40: 9.6 | G40: 9.2 | H40: 7.7 | I40: 12.7 | J40: 10.3 | K40: 8.4 | L40: 10.6 | M40: 30.7 | N40: 27.9 | O40: 10.4 | P40: 9.1 | Q40: 8.6 | R40: 13.7 | S40: 12.7 | T40: 13.7 | U40: 20.9 | V40: 23.5 | W40: 42.3 | X40: 21 | Y40: 8 | Z40: 13.4 | AA40: 9.8 | AB40: 13.9 | AC40: 21.8 | AD40: 16.8
B41: Promedio de PM₁₀ en 24 h | C41: 17.8 | D41: 16 | E41: 18.7 | F41: 14 | G41: 14.4 | H41: 14.3 | I41: 14.9 | J41: 16.4 | K41: 20.9 | L41: 17.8 | M41: 24.4 | N41: 17.6 | O41: 18 | P41: 14.8 | Q41: 14.5 | R41: 13.5 | S41: 20.2 | T41: 19.1 | U41: 21.1 | V41: 18.5 | W41: 14.4 | X41: 20.8 | Y41: 15.2 | Z41: 16.1 | AA41: 10.5 | AB41: 14.9 | AC41: 23.2 | AD41: 17.8
B42: ECA aire de PM₁₀ | C42: 100 µg/m³ en periodo de 24 horas
B44: ID: Insuficiencia de data

Sheet PM2.5_CA-ILO-01
F2: Tabla 3.2. Concentraciones horarias de PM₂,₅
B6: TÍTULO DEL ESTUDIO: | F6: ='PM10_CA-ILO-01'!F6 -> Evaluación de seguimiento de la calidad del aire en la I.E. Francisco Bolognesi, distrito Ilo, provincia Ilo, departamento Moquegua, en febrero 2022
B8: ESTACIÓN DE MONITOREO: | F8: CA-ILO-01 | Q8: CÓDIGO DE ACCIÓN:
B10: DATOS DEL EQUIPO
B12: EQUIPO: | F12: Monitor automático de partículas | Q12: MARCA: | V12: GRIMM AEROSOL TECHNIK
B14: MODELO: | F14: EDM180 | Q14: SERIE: | V14: 18A19094
B16: Hora\Día | C16: 1 | D16: 2 | E16: 3 | F16: 4 | G16: 5 | H16: 6 | I16: 7 | J16: 8 | K16: 9 | L16: 10 | M16: 11 | N16: 12 | O16: 13 | P16: 14 | Q16: 15 | R16: 16 | S16: 17 | T16: 18 | U16: 19 | V16: 20 | W16: 21 | X16: 22 | Y16: 23 | Z16: 24 | AA16: 25 | AB16: 26 | AC16: 27 | AD16: 28 | AE16: 29 | AF16: 30 | AG16: 31
B17: 0 | C17: 7.5 | D17: 10.9 | E17: 14 | F17: 7.1 | G17: 7.8 | H17: 12.5 | I17: 4.3 | J17: 10.8 | K17: 8.4 | L17: 5.8 | M17: 7 | N17: 7.7 | O17: 26.9 | P17: 7.4 | Q17: 9.1 | R17: 7.6 | S17: 9.3 | T17: 7.2 | U17: 16.7 | V17: 6 | W17: 17.3 | X17: 30.9 | Y17: 15.7 | Z17: 6.8 | AA17: 8.1 | AB17: 7 | AC17: 8.8 | AD17: 13.2
B18: 0.041666667 | C18: 3.9 | D18: 10.2 | E18: 22.1 | F18: 9.3 | G18: 8.6 | H18: 22.3 | I18: 4.2 | J18: 18 | K18: 12.1 | L18: 6.8 | M18: 8.9 | N18: 5.6 | O18: 46.3 | P18: 9.7 | Q18: 13.3 | R18: 6.5 | S18: 23.9 | T18: 7.5 | U18: 24.6 | V18: 5.3 | W18: 5.4 | X18: 41 | Y18: 19.9 | Z18: 6.5 | AA18: 8.6 | AB18: 9.3 | AC18: 8.4 | AD18: 11.2
B19: 0.083333333 | C19: 3.7 | D19: 19.3 | E19: 13.8 | F19: 7.5 | G19: 22.3 | H19: 19.2 | I19: 4.8 | J19: 16.3 | K19: 20.1 | L19: 21.1 | M19: 26.1 | N19: 5.7 | O19: 27.5 | P19: 15.3 | Q19: 21.9 | R19: 7.8 | S19: 22 | T19: 8.3 | U19: 20.3 | V19: 5 | W19: 5 | X19: 19.5 | Y19: 18.9 | Z19: 5.6 | AA19: 6.8 | AB19: 8.6 | AC19: 14.3 | AD19: 12
B20: 0.125 | C20: 5 | D20: 14.6 | E20: 10.8 | F20: 6.4 | G20: 9.1 | H20: 15.2 | I20: 5.5 | J20: 15.6 | K20: 24.6 | L20: 21.9 | M20: 20.7 | N20: 6.3 | O20: 12.3 | P20: 22.3 | Q20: 20 | R20: 6.1 | S20: 19.9 | T20: 13.1 | U20: 14.8 | V20: 5.7 | W20: 4.1 | X20: 25.7 | Y20: 21 | Z20: 4.9 | AA20: 6.6 | AB20: 19.2 | AC20: 16.8 | AD20: 18.1
B21: 0.16666667 | C21: 11.2 | D21: 7.3 | E21: 15.8 | F21: 6.7 | G21: 11.2 | H21: 9.7 | I21: 7.3 | J21: 17.6 | K21: 18.6 | L21: 16.6 | M21: 11.9 | N21: 9.5 | O21: 6.4 | P21: 13 | Q21: 13.1 | R21: 5.7 | S21: 29.7 | T21: 15.3 | U21: 15.2 | V21: 32.2 | W21: 4.2 | X21: 37.5 | Y21: 20.1 | Z21: 7 | AA21: 4.9 | AB21: 14.1 | AC21: 15.3 | AD21: 18.3
B22: 0.20833333 | C22: 9.9 | D22: 7.4 | E22: 16.4 | F22: 7.8 | G22: 12.8 | H22: 9.2 | I22: 23.7 | J22: 14.9 | K22: 18.8 | L22: 12.3 | M22: 9.9 | N22: 8.7 | O22: 11 | P22: 15.6 | Q22: 11.2 | R22: 5.6 | S22: 21.2 | T22: 17.6 | U22: 18.1 | V22: 23 | W22: 6.9 | X22: 18.9 | Y22: 13.5 | Z22: 6.2 | AA22: 5.3 | AB22: 14 | AC22: 19.5 | AD22: 11.8
B23: 0.25 | C23: 6.6 | D23: 7.2 | E23: 27.2 | F23: 12.9 | G23: 10.6 | H23: 13 | I23: 12.9 | J23: 15.6 | K23: 26.6 | L23: 11.4 | M23: 11.1 | N23: 7.1 | O23: 16 | P23: 18.5 | Q23: 9.4 | R23: 11 | S23: 20.5 | T23: 45.5 | U23: 19 | V23: 18.9 | W23: 17.1 | X23: 17.3 | Y23: 8.3 | Z23: 8.6 | AA23: 10.6 | AB23: 15.4 | AC23: 16 | AD23: 14.5
B24: 0.29166667 | C24: 11.2 | D24: 8.5 | E24: 21.7 | F24: 17.2 | G24: 9.1 | H24: 12.8 | I24: 8.4 | J24: 11.9 | K24: 20.1 | L24: 13.3 | M24: 17.8 | N24: 9.5 | O24: 24.6 | P24: 13.9 | Q24: 15.7 | R24: 10.8 | S24: 17.2 | T24: 25.8 | U24: 19.2 | V24: 19.4 | W24: 15 | X24: 8.6 | Y24: 9.1 | Z24: 11.5 | AA24: 11.7 | AB24: 12.4 | AC24: 13.3 | AD24: 12.2
B25: 0.33333333 | C25: 8.2 | D25: 10.4 | E25: 18.3 | F25: 9.8 | G25: 10.3 | H25: 13.9 | I25: 10 | J25: 10.5 | K25: 17.3 | L25: 15.7 | M25: 15.4 | N25: 21.1 | O25: 14.6 | P25: 11 | Q25: 10 | R25: 11.4 | S25: 12.4 | T25: 16.8 | U25: 17.4 | V25: 13.8 | W25: 12.8 | X25: 8.3 | Y25: 15.3 | Z25: 12.4 | AA25: 7.9 | AB25: 8.9 | AC25: 14.7 | AD25: 9.6
B26: 0.375 | C26: 7.7 | D26: 13.7 | E26: 11.6 | F26: 7 | G26: 9.7 | H26: 9.4 | I26: 9.1 | J26: 9.8 | K26: 18 | L26: 13.1 | M26: 12.8 | N26: 16.2 | O26: 7.5 | P26: 7.7 | Q26: 6.6 | R26: 8.9 | S26: 12.2 | T26: 16.4 | U26: 12.7 | V26: 9.7 | W26: 8.7 | X26: 10.2 | Y26: 10.7 | Z26: 12.5 | AA26: 6 | AB26: 7.8 | AC26: 25.8 | AD26: 9.5
B27: 0.41666667 | C27: 6.4 | D27: 10.8 | E27: 5.1 | F27: 7.6 | G27: 8.1 | H27: 8 | I27: 7.7 | J27: 8.8 | K27: 14.6 | L27: 6.7 | M27: 9.9 | N27: 11.1 | O27: 5.3 | P27: 8.1 | Q27: 5.9 | R27: 7.8 | S27: 8.5 | T27: 11.9 | U27: 14.2 | V27: 7.9 | W27: 5.8 | X27: 9.2 | Y27: 6.7 | Z27: 9.3 | AA27: 4.9 | AB27: 6.5 | AC27: 18.3 | AD27: 8.9
B28: 0.45833333 | C28: 5 | D28: 6.5 | E28: 5.2 | F28: 6.7 | G28: 9.3 | H28: 6.6 | I28: 7.1 | J28: 7.1 | K28: 12.3 | L28: ID | M28: 10 | N28: 11 | O28: 5.1 | P28: 7.9 | Q28: 5.5 | R28: 6.4 | S28: 6.8 | T28: 7.1 | U28: 13.5 | V28: 8.8 | W28: 6.7 | X28: 8.4 | Y28: 6.8 | Z28: 6.6 | AA28: 5 | AB28: 6.9 | AC28: 18.6 | AD28: 13.3
B29: 0.5 | C29: 4.9 | D29: 5.6 | E29: 5.4 | F29: 6.7 | G29: 6.1 | H29: 5.6 | I29: 8.9 | J29: 7.6 | K29: 9.9 | L29: 6.7 | M29: 10.1 | N29: 10.4 | O29: 5 | P29: 6 | Q29: 6.2 | R29: 6.5 | S29: 6.3 | T29: 7 | U29: 9.8 | V29: 9.3 | W29: 5.6 | X29: 8.3 | Y29: 6.5 | Z29: 6.7 | AA29: 4.5 | AB29: 6.3 | AC29: 13 | AD29: 7
B30: 0.54166667 | C30: 6.2 | D30: 5.4 | E30: 6.4 | F30: 7 | G30: 6.7 | H30: 5.6 | I30: 9.7 | J30: 8 | K30: 9.6 | L30: 6.4 | M30: 10.8 | N30: 8.2 | O30: 4.9 | P30: 6 | Q30: 7.1 | R30: 6.8 | S30: 5.6 | T30: 6.4 | U30: 6.3 | V30: 8 | W30: 5.1 | X30: 8 | Y30: 6.5 | Z30: 8.7 | AA30: 4.2 | AB30: 5.4 | AC30: 8.5 | AD30: 6.6
B31: 0.58333333 | C31: 8.2 | D31: 4.8 | E31: 5.3 | F31: 6.9 | G31: 6.2 | H31: 5.1 | I31: 7 | J31: 7 | K31: 9.5 | L31: 6.5 | M31: 11.4 | N31: 6.7 | O31: 6.5 | P31: 5.9 | Q31: 5.7 | R31: 7 | S31: 5.5 | T31: 6.2 | U31: 6.6 | V31: 5.9 | W31: 6.3 | X31: 7.9 | Y31: 6.5 | Z31: 10.2 | AA31: 4.3 | AB31: 6.3 | AC31: 9.4 | AD31: 7.4
B32: 0.625 | C32: 12 | D32: 5 | E32: 5.2 | F32: 6.6 | G32: 6.5 | H32: 5.8 | I32: 6.4 | J32: 6.6 | K32: 9.2 | L32: 6 | M32: 9.8 | N32: 5.3 | O32: 6.5 | P32: 5.1 | Q32: 6 | R32: 6.4 | S32: 6 | T32: 8.2 | U32: 7.1 | V32: 5 | W32: 6.2 | X32: 7.9 | Y32: 5.6 | Z32: 9.3 | AA32: 4.5 | AB32: 6.1 | AC32: 8.7 | AD32: 6.5
B33: 0.66666667 | C33: 23.1 | D33: 4.9 | E33: 5.6 | F33: 7.1 | G33: 6.5 | H33: 5.5 | I33: 5.6 | J33: 6.3 | K33: 10 | L33: 6.3 | M33: 9 | N33: 4.8 | O33: 7 | P33: 5.7 | Q33: 5.8 | R33: 6.5 | S33: 6.2 | T33: 9 | U33: 5.6 | V33: 5 | W33: 6.2 | X33: 6.7 | Y33: 5.7 | Z33: 8.1 | AA33: 4.4 | AB33: 6.8 | AC33: 8 | AD33: 6.5
B34: 0.70833333 | C34: 14.7 | D34: 5.2 | E34: 5.9 | F34: 8.1 | G34: 6.2 | H34: 4.4 | I34: 5.5 | J34: 6.6 | K34: 11.5 | L34: 5.4 | M34: 7.6 | N34: 5.8 | O34: 5.6 | P34: 5.9 | Q34: 6.1 | R34: 7.1 | S34: 7.3 | T34: 9.7 | U34: 7.5 | V34: 5.3 | W34: 5.9 | X34: 6.8 | Y34: 5.7 | Z34: 7.6 | AA34: 5 | AB34: 5.9 | AC34: 7.4 | AD34: 7.8
B35: 0.75 | C35: 9.7 | D35: 5.8 | E35: 6.8 | F35: 9.6 | G35: 7.1 | H35: 6.2 | I35: 6 | J35: 7.7 | K35: 8.5 | L35: 6 | M35: 6.8 | N35: 6.4 | O35: 5.4 | P35: 8.1 | Q35: 6.5 | R35: 8 | S35: 7.5 | T35: 9.4 | U35: 6.2 | V35: 4.7 | W35: 6.7 | X35: 7 | Y35: 5.7 | Z35: 7.7 | AA35: 5.2 | AB35: 6.3 | AC35: 9.1 | AD35: 10
B36: 0.79166667 | C36: 8.1 | D36: 5.6 | E36: 7.3 | F36: 7.4 | G36: 9 | H36: 5.5 | I36: 5.8 | J36: 15.1 | K36: 7.1 | L36: 6.9 | M36: 7.2 | N36: 7.4 | O36: 5.6 | P36: 7 | Q36: 6.5 | R36: 6.7 | S36: 7.1 | T36: 9.7 | U36: 9.1 | V36: 6 | W36: 6.6 | X36: 6.1 | Y36: 5.9 | Z36: 5.3 | AA36: 5.7 | AB36: 7.5 | AC36: 8.3 | AD36: 8.6
B37: 0.83333333 | C37: 7.5 | D37: 13.1 | E37: 10.3 | F37: 9.7 | G37: 9.5 | H37: 6.7 | I37: 6.4 | J37: 19.3 | K37: 9.2 | L37: 6.3 | M37: 8.2 | N37: 28.1 | O37: 6.2 | P37: 7.1 | Q37: 7 | R37: 11.7 | S37: 9.6 | T37: 9.9 | U37: 9.7 | V37: 6.5 | W37: 7.3 | X37: 6.4 | Y37: 7.8 | Z37: 5 | AA37: 6 | AB37: 8.6 | AC37: 8.3 | AD37: 9.6
B38: 0.875 | C38: 6.8 | D38: 6.9 | E38: 8 | F38: 10.8 | G38: 9.1 | H38: 6.7 | I38: 8.3 | J38: 9.8 | K38: 7.2 | L38: 6.3 | M38: 7.2 | N38: 11 | O38: 6.2 | P38: 7.9 | Q38: 8.6 | R38: 8.6 | S38: 9.9 | T38: 10.1 | U38: 13.4 | V38: 6.1 | W38: 7.2 | X38: 7.2 | Y38: 6.5 | Z38: 5.8 | AA38: 6 | AB38: 10.3 | AC38: 9.2 | AD38: 9.8
B39: 0.91666667 | C39: 5.8 | D39: 6.3 | E39: 5.6 | F39: 7.5 | G39: 8.6 | H39: 4.7 | I39: 8.6 | J39: 7.2 | K39: 6.5 | L39: 6.2 | M39: 18.9 | N39: 7.7 | O39: 7.7 | P39: 8.7 | Q39: 8.6 | R39: 7 | S39: 11.5 | T39: 7.9 | U39: 12.5 | V39: 5.5 | W39: 8.4 | X39: 11 | Y39: 5.8 | Z39: 5.6 | AA39: 5.9 | AB39: 10.9 | AC39: 11.6 | AD39: 11.6
B40: 0.95833333 | C40: 6.9 | D40: 8.7 | E40: 10.2 | F40: 7.1 | G40: 6.5 | H40: 4.6 | I40: 8.3 | J40: 7.6 | K40: 5.9 | L40: 5.9 | M40: 16.6 | N40: 19.2 | O40: 7.6 | P40: 7.4 | Q40: 6.8 | R40: 8.8 | S40: 8.5 | T40: 9.4 | U40: 10.6 | V40: 14.7 | W40: 26.4 | X40: 15.6 | Y40: 6.5 | Z40: 7.5 | AA40: 6.6 | AB40: 9.3 | AC40: 14.7 | AD40: 10.2
B41: Promedio de PM₂,₅ en 24 h | C41: 8.3 | D41: 8.5 | E41: 11 | F41: 8.4 | G41: 9 | H41: 9.1 | I41: 8 | J41: 11.1 | K41: 13.2 | L41: 9.5 | M41: 11.9 | N41: 10 | O41: 11.6 | P41: 9.6 | Q41: 9.3 | R41: 7.8 | S41: 12.3 | T41: 12.3 | U41: 12.9 | V41: 9.9 | W41: 8.6 | X41: 13.9 | Y41: 10 | Z41: 7.7 | AA41: 6.2 | AB41: 9.2 | AC41: 12.8 | AD41: 10.6
B42: ECA aire de PM₂,₅ | C42: 50 µg/m³ en periodo de 24 horas
B44: ID: Insuficiencia de data

Sheet SO2_CA-ILO-01
F2: Tabla 3.3. Concentraciones horarias de SO₂
B6: TÍTULO DEL ESTUDIO: | F6: ='PM10_CA-ILO-01'!F6 -> Evaluación de seguimiento de la calidad del aire en la I.E. Francisco Bolognesi, distrito Ilo, provincia Ilo, departamento Moquegua, en febrero 2022
B8: ESTACIÓN DE MONITOREO: | F8: CA-ILO-01 | Q8: CÓDIGO DE ACCIÓN:
B10: DATOS DEL EQUIPO
B12: EQUIPO: | F12: Analizador de dióxido de azufre | Q12: MARCA: | V12: THERMO SCIENTIFIC
B14: MODELO: | F14: 43i | Q14: SERIE: | V14: 1200416204
B16: Hora\Día | C16: 1 | D16: 2 | E16: 3 | F16: 4 | G16: 5 | H16: 6 | I16: 7 | J16: 8 | K16: 9 | L16: 10 | M16: 11 | N16: 12 | O16: 13 | P16: 14 | Q16: 15 | R16: 16 | S16: 17 | T16: 18 | U16: 19 | V16: 20 | W16: 21 | X16: 22 | Y16: 23 | Z16: 24 | AA16: 25 | AB16: 26 | AC16: 27 | AD16: 28 | AE16: 29 | AF16: 30 | AG16: 31
B17: 0 | C17: 41.37 | D17: 23.61 | E17: 26.86 | F17: 16.69 | G17: 16.58 | H17: 47.79 | I17: 16.35 | J17: 16.53 | K17: 16.32 | L17: 16.58 | M17: 16.82 | N17: 27.22 | O17: 40.06 | P17: 16.69 | Q17: 16.69 | R17: 16.58 | S17: 41.5 | T17: 16.87 | U17: 20.23 | V17: 18.42 | W17: 50.57 | X17: 59.95 | Y17: 27.8 | Z17: 17.24 | AA17: 22.98 | AB17: 14.44 | AC17: 43.39 | AD17: 17.19
B18: 0.041666667 | C18: 17.19 | D18: 22.69 | E18: 24.92 | F18: 20.57 | G18: 16.79 | H18: 86.17 | I18: 16.45 | J18: 16.64 | K18: 16.53 | L18: 29.74 | M18: 17.19 | N18: 17.4 | O18: 62.28 | P18: 18.97 | Q18: 23.29 | R18: 16.61 | S18: 109.33 | T18: 17.21 | U18: 22.45 | V18: 17.24 | W18: 27.09 | X18: 158.35 | Y18: 39.64 | Z18: 17.4 | AA18: 26.33 | AB18: 20.44 | AC18: 17.84 | AD18: 18.47
B19: 0.083333333 | C19: 16.85 | D19: 59.74 | E19: 39.59 | F19: 16.87 | G19: 25.91 | H19: 110.54 | I19: 16.45 | J19: 17.03 | K19: 17.11 | L19: 105.38 | M19: 33.9 | N19: 17.11 | O19: 220.89 | P19: 20.02 | Q19: 40.85 | R19: 16.64 | S19: 86.15 | T19: 17.03 | U19: 23.16 | V19: 17 | W19: 17.5 | X19: 83.26 | Y19: 53.16 | Z19: 17.24 | AA19: 14.54 | AB19: 17.27 | AC19: 15.14 | AD19: 16.24
B20: 0.125 | C20: 21.67 | D20: 40.69 | E20: 48.65 | F20: 16.53 | G20: 16.87 | H20: 145.31 | I20: 16.45 | J20: 18.34 | K20: 33.64 | L20: 126.28 | M20: 35.53 | N20: 17.13 | O20: 50.88 | P20: 18.58 | Q20: 37.62 | R20: 16.58 | S20: 98.25 | T20: 17.11 | U20: 24.94 | V20: 20.2 | W20: 17.08 | X20: 32.09 | Y20: 116.98 | Z20: 17.21 | AA20: 14.2 | AB20: 87.53 | AC20: 15.64 | AD20: 17.87
B21: 0.16666667 | C21: 45.56 | D21: 20.2 | E21: 54 | F21: 16.61 | G21: 16.61 | H21: 67.41 | I21: 19.94 | J21: 18.71 | K21: 36.34 | L21: 116.12 | M21: 27.64 | N21: 28.17 | O21: 20.62 | P21: 22.85 | Q21: 66.5 | R21: 16.61 | S21: 89.79 | T21: 16.87 | U21: 102.21 | V21: 23.79 | W21: 16.98 | X21: 52.85 | Y21: 102.08 | Z21: 23.55 | AA21: 14.02 | AB21: 53.5 | AC21: 32.96 | AD21: 21.72
B22: 0.20833333 | C22: 45.54 | D22: 17.71 | E22: 27.46 | F22: 16.64 | G22: 16.48 | H22: 28.69 | I22: 18.63 | J22: 16.9 | K22: 33.75 | L22: 30.21 | M22: 17.19 | N22: 20.38 | O22: 89.66 | P22: 17.4 | Q22: 54.97 | R22: 16.72 | S22: 42.92 | T22: 17.71 | U22: 66.6 | V22: 26.67 | W22: 19.52 | X22: 39.14 | Y22: 41.71 | Z22: 18.34 | AA22: 14.17 | AB22: 97.96 | AC22: 78.57 | AD22: 20.65
B23: 0.25 | C23: 20.12 | D23: 17.13 | E23: 34.43 | F23: 25.15 | G23: 16.45 | H23: 24.47 | I23: 20.51 | J23: 16.74 | K23: 29.37 | L23: 20.15 | M23: 34.01 | N23: 17.32 | O23: 92.85 | P23: 17.34 | Q23: 19.26 | R23: 16.56 | S23: 121.15 | T23: 69.9 | U23: 23.34 | V23: 48.86 | W23: 43.05 | X23: 31.2 | Y23: 19.41 | Z23: 18.63 | AA23: 19.57 | AB23: 72.52 | AC23: 33.72 | AD23: 15.75
B24: 0.29166667 | C24: 72.5 | D24: 17.06 | E24: 72.26 | F24: 32.36 | G24: 16.48 | H24: 17.61 | I24: 17.87 | J24: 16.74 | K24: 24.5 | L24: 28.61 | M24: 118.19 | N24: 17 | O24: 83.68 | P24: 17.19 | Q24: 19.52 | R24: 16.82 | S24: 86.15 | T24: 129.3 | U24: 44.46 | V24: 63.69 | W24: 94.14 | X24: 18.65 | Y24: 18.84 | Z24: 19.94 | AA24: 24.03 | AB24: 51.22 | AC24: 15.43 | AD24: 14.8
B25: 0.33333333 | C25: 51.82 | D25: 17.19 | E25: 53.58 | F25: 17.45 | G25: 16.56 | H25: 17.63 | I25: 27.38 | J25: 16.66 | K25: 25.78 | L25: 36.18 | M25: 18.03 | N25: 59.08 | O25: 60.05 | P25: 17.79 | Q25: 17.69 | R25: 16.9 | S25: 43.31 | T25: 73.73 | U25: 56.88 | V25: 158.82 | W25: 92.72 | X25: 18.03 | Y25: 19.1 | Z25: 25.62 | AA25: 15.54 | AB25: 18.31 | AC25: 15.27 | AD25: 14.65
B26: 0.375 | C26: 30.63 | D26: 17.24 | E26: 29.08 | F26: ID | G26: 16.69 | H26: 16.9 | I26: 19.13 | J26: 16.77 | K26: 26.57 | L26: 25.96 | M26: 17.13 | N26: 25.73 | O26: 22.95 | P26: 17.97 | Q26: 17.4 | R26: 16.85 | S26: 41.74 | T26: 59 | U26: 50.3 | V26: 65.84 | W26: 28.85 | X26: 17.69 | Y26: 19.05 | Z26: 18.16 | AA26: 15.09 | AB26: 15.62 | AC26: 14.86 | AD26: 14.72
B27: 0.41666667 | C27: 17.34 | D27: 16.95 | E27: 17.24 | F27: 16.72 | G27: 16.66 | H27: 16.66 | I27: 16.61 | J27: 16.48 | K27: 21.46 | L27: 17.48 | M27: 17.06 | N27: 17.45 | O27: 18.26 | P27: 17.34 | Q27: 17.34 | R27: 16.79 | S27: 20.51 | T27: 30.39 | U27: 52.71 | V27: 26.04 | W27: 17.87 | X27: 17.69 | Y27: 18.05 | Z27: 17.53 | AA27: 14.67 | AB27: 15.27 | AC27: 14.78 | AD27: 14.91
B28: 0.45833333 | C28: 17.03 | D28: 16.87 | E28: 17.16 | F28: 16.87 | G28: 16.51 | H28: 16.53 | I28: 16.87 | J28: 16.69 | K28: 19.73 | L28: 17.03 | M28: 16.95 | N28: 17.19 | O28: 17.84 | P28: 17.11 | Q28: 17.32 | R28: 16.79 | S28: 17.5 | T28: 19.2 | U28: 63.61 | V28: 23.71 | W28: 17.29 | X28: 18.21 | Y28: 17.87 | Z28: 17.4 | AA28: 14.8 | AB28: 14.8 | AC28: 14.59 | AD28: 17.55
B29: 0.5 | C29: 17.06 | D29: 16.85 | E29: 17.03 | F29: 16.77 | G29: 16.53 | H29: 16.58 | I29: 16.72 | J29: 16.51 | K29: 18.34 | L29: 17.08 | M29: 16.93 | N29: 17.03 | O29: 17.66 | P29: 17.03 | Q29: 17.03 | R29: 16.82 | S29: 17.37 | T29: 18.68 | U29: 23.97 | V29: 17.76 | W29: 17.13 | X29: 18.55 | Y29: 17.63 | Z29: 17.55 | AA29: 14.75 | AB29: 14.7 | AC29: 14.78 | AD29: 14.7
B30: 0.54166667 | C30: 17 | D30: 16.74 | E30: 17.08 | F30: 16.85 | G30: 16.69 | H30: 16.51 | I30: 16.74 | J30: 16.51 | K30: 17.69 | L30: 16.85 | M30: 16.85 | N30: 16.95 | O30: 17.63 | P30: 17.08 | Q30: 16.93 | R30: 16.72 | S30: 17.37 | T30: 17.61 | U30: 17.95 | V30: 17.74 | W30: 17.16 | X30: 17.84 | Y30: 17.82 | Z30: 17.45 | AA30: 14.28 | AB30: 14.62 | AC30: 14.72 | AD30: 14.7
B31: 0.58333333 | C31: 16.74 | D31: 16.72 | E31: 17.16 | F31: 16.61 | G31: 16.45 | H31: 16.58 | I31: 16.74 | J31: 16.51 | K31: 17.34 | L31: 17.08 | M31: 16.93 | N31: 17 | O31: 17.37 | P31: 17.13 | Q31: 16.9 | R31: 16.79 | S31: 17.06 | T31: 17.48 | U31: 17.82 | V31: 17.69 | W31: 17.08 | X31: 17.76 | Y31: 17.84 | Z31: ID | AA31: 14.41 | AB31: 14.41 | AC31: 14.54 | AD31: 14.54
B32: 0.625 | C32: 16.98 | D32: 16.95 | E32: 16.98 | F32: 16.69 | G32: 16.51 | H32: 16.58 | I32: 16.61 | J32: 16.48 | K32: 16.77 | L32: 16.9 | M32: ID | N32: 16.98 | O32: 17.29 | P32: 17.03 | Q32: 16.87 | R32: 16.64 | S32: 17.11 | T32: 17.84 | U32: 17.42 | V32: 17.37 | W32: 17.27 | X32: 17.71 | Y32: 17.66 | Z32: 14.04 | AA32: 14.54 | AB32: 14.57 | AC32: 14.75 | AD32: 14.57
B33: 0.66666667 | C33: 16.93 | D33: 16.82 | E33: 17 | F33: 16.53 | G33: 16.48 | H33: 16.64 | I33: 16.77 | J33: 16.45 | K33: 16.82 | L33: 16.79 | M33: 17.24 | N33: 16.95 | O33: 17.16 | P33: 16.93 | Q33: 16.72 | R33: 16.69 | S33: 17.16 | T33: 17.66 | U33: 17.16 | V33: 17.34 | W33: 17.21 | X33: 17.21 | Y33: 17.71 | Z33: 13.91 | AA33: 14.31 | AB33: 14.67 | AC33: 14.67 | AD33: 14.54
B34: 0.70833333 | C34: 16.95 | D34: 16.79 | E34: 16.82 | F34: 16.93 | G34: 16.58 | H34: 16.51 | I34: 16.51 | J34: 16.51 | K34: 16.9 | L34: 16.77 | M34: 16.95 | N34: 16.95 | O34: 17.08 | P34: 17 | Q34: 16.95 | R34: 16.74 | S34: 16.87 | T34: 17.42 | U34: 17.24 | V34: 17.45 | W34: 17.24 | X34: 17.24 | Y34: 17.55 | Z34: 13.86 | AA34: 14.36 | AB34: 14.46 | AC34: 14.54 | AD34: 14.57
B35: 0.75 | C35: 16.95 | D35: 16.69 | E35: 16.79 | F35: 16.82 | G35: 16.69 | H35: 16.64 | I35: 16.64 | J35: 16.66 | K35: 16.61 | L35: 16.77 | M35: 16.79 | N35: 16.95 | O35: 17 | P35: 16.79 | Q35: 16.77 | R35: 16.79 | S35: 17.11 | T35: 17.24 | U35: 17.27 | V35: 17.27 | W35: 17.24 | X35: 17.11 | Y35: 17.5 | Z35: 14.2 | AA35: 14.31 | AB35: 14.31 | AC35: 14.51 | AD35: 14.54
B36: 0.79166667 | C36: 16.85 | D36: 16.72 | E36: 16.66 | F36: 16.93 | G36: 16.56 | H36: 16.48 | I36: 16.69 | J36: 17.55 | K36: 16.58 | L36: 16.74 | M36: 16.64 | N36: 16.77 | O36: 16.98 | P36: 16.77 | Q36: 16.95 | R36: 16.77 | S36: 17.11 | T36: 17.13 | U36: 17.74 | V36: 17.55 | W36: 17.37 | X36: 17.16 | Y36: 17.55 | Z36: 14.02 | AA36: 14.41 | AB36: 14.51 | AC36: 14.54 | AD36: 14.44
B37: 0.83333333 | C37: 16.82 | D37: 16.9 | E37: 16.72 | F37: 16.53 | G37: 16.56 | H37: 16.61 | I37: 16.45 | J37: 18.21 | K37: 16.56 | L37: 16.79 | M37: 16.56 | N37: 18.55 | O37: 16.9 | P37: 16.77 | Q37: 16.74 | R37: 16.79 | S37: 17.79 | T37: 17.32 | U37: 18.73 | V37: 17.06 | W37: 17.21 | X37: 17.19 | Y37: 17.42 | Z37: 13.91 | AA37: 14.41 | AB37: 14.44 | AC37: 14.41 | AD37: 14.2
B38: 0.875 | C38: 16.77 | D38: 16.64 | E38: 16.48 | F38: 16.58 | G38: 16.51 | H38: 16.3 | I38: 16.53 | J38: 16.61 | K38: 16.61 | L38: 16.77 | M38: 16.79 | N38: 17.34 | O38: 16.82 | P38: 16.82 | Q38: 16.69 | R38: 16.74 | S38: 17.71 | T38: 17.21 | U38: 19.15 | V38: 17.21 | W38: 17.03 | X38: 16.95 | Y38: 17.42 | Z38: 14.04 | AA38: 14.36 | AB38: 58.69 | AC38: 14.49 | AD38: 14.36
B39: 0.91666667 | C39: 16.85 | D39: 16.58 | E39: 16.58 | F39: 16.48 | G39: 16.43 | H39: 16.43 | I39: 16.45 | J39: 16.51 | K39: 16.61 | L39: 16.87 | M39: 35.89 | N39: 17 | O39: 16.82 | P39: 16.72 | Q39: 16.58 | R39: 16.61 | S39: 17.45 | T39: 17.13 | U39: 18.47 | V39: 17.13 | W39: 17.06 | X39: 21.2 | Y39: 17.45 | Z39: 13.99 | AA39: 14.2 | AB39: 110.77 | AC39: 14.59 | AD39: 26.04
B40: 0.95833333 | C40: 18.79 | D40: 29.61 | E40: 16.79 | F40: 16.4 | G40: 16.45 | H40: 16.45 | I40: 16.48 | J40: 16.4 | K40: 16.56 | L40: 16.74 | M40: 41.68 | N40: 20.41 | O40: 16.74 | P40: 16.77 | Q40: 16.72 | R40: 19.47 | S40: 17.58 | T40: 16.93 | U40: 20.3 | V40: 37.2 | W40: 27.98 | X40: 24.73 | Y40: 17.19 | Z40: 20.54 | AA40: 15.22 | AB40: 88.11 | AC40: 20.41 | AD40: 21.72
B41: Promedio de SO₂ en 24 h | C41: 25.1 | D41: 20.9 | E41: 27 | F41: 17.9 | G41: 17 | H41: 33.1 | I41: 17.6 | J41: 16.9 | K41: 21 | L41: 32.2 | M41: 26 | N41: 20.4 | O41: 41.1 | P41: 17.6 | Q41: 22.9 | R41: 16.8 | S41: 41.9 | T41: 28.9 | U41: 32.3 | V41: 30.8 | W41: 27.5 | X41: 32 | Y41: 29.4 | Z41: 17.2 | AA41: 16 | AB41: 36.1 | AC41: 20.5 | AD41: 16.6
B42: ECA aire de SO₂ | C42: 250 µg/m³ en periodo de 24 horas
B44: ID: Insuficiencia de data

Sheet SO2_m3h_CA-ILO-01
F2: Tabla 3.4. Concentraciones horarias de SO₂
B6: TÍTULO DEL ESTUDIO: | F6: ='PM10_CA-ILO-01'!F6 -> Evaluación de seguimiento de la calidad del aire en la I.E. Francisco Bolognesi, distrito Ilo, provincia Ilo, departamento Moquegua, en febrero 2022
B8: ESTACIÓN DE MONITOREO: | F8: CA-ILO-01 | Q8: CÓDIGO DE ACCIÓN:
B10: DATOS DEL EQUIPO
B12: EQUIPO: | F12: Analizador de dióxido de azufre | Q12: MARCA: | V12: THERMO SCIENTIFIC
B14: MODELO: | F14: 43i | Q14: SERIE: | V14: 1200416204
B16: Hora\Día | C16: 1 | D16: 2 | E16: 3 | F16: 4 | G16: 5 | H16: 6 | I16: 7 | J16: 8 | K16: 9 | L16: 10 | M16: 11 | N16: 12 | O16: 13 | P16: 14 | Q16: 15 | R16: 16 | S16: 17 | T16: 18 | U16: 19 | V16: 20 | W16: 21 | X16: 22 | Y16: 23 | Z16: 24 | AA16: 25 | AB16: 26 | AC16: 27 | AD16: 28 | AE16: 29 | AF16: 30 | AG16: 31
B17: 0 | C17: 28.77 | D17: 19.75 | E17: 24.35 | F17: 16.69 | G17: 16.49 | H17: 26.89 | I17: 16.41 | J17: 16.49 | K17: 16.41 | L17: 16.58 | M17: 16.81 | N17: 34.93 | O17: 25.82 | P17: 16.75 | Q17: 16.73 | R17: 16.63 | S17: 25.86 | T17: 17.3 | U17: 18.1 | V17: 19.06 | W17: 34.97 | X17: 35 | Y17: 24.58 | Z17: 17.29 | AA17: 19.17 | AB17: 14.62 | AC17: 80.76 | AD17: 17.4
B18: 0.041666667 | C18: 28.11 | D18: 21.7 | E18: 27.13 | F18: 18.02 | G18: 16.59 | H18: 50.14 | I18: 16.42 | J18: 16.55 | K18: 16.42 | L18: 20.96 | M18: 16.92 | N18: 28.77 | O18: 40.92 | P18: 17.47 | Q18: 18.92 | R18: 16.64 | S18: 56.77 | T18: 17.22 | U18: 19.87 | V18: 18.65 | W18: 38.29 | X18: 82.09 | Y18: 30.72 | Z18: 17.28 | AA18: 23.28 | AB18: 16.7 | AC18: 49.78 | AD18: 18.69
B19: 0.083333333 | C19: 25.14 | D19: 35.35 | E19: 30.46 | F19: 18.04 | G19: 19.76 | H19: 81.5 | I19: 16.42 | J19: 16.73 | K19: 16.65 | L19: 50.57 | M19: 22.64 | N19: 20.58 | O19: 107.74 | P19: 18.56 | Q19: 26.94 | R19: 16.61 | S19: 78.99 | T19: 17.04 | U19: 21.95 | V19: 17.55 | W19: 31.72 | X19: 100.52 | Y19: 40.2 | Z19: 17.29 | AA19: 21.28 | AB19: 17.38 | AC19: 25.46 | AD19: 17.3
B20: 0.125 | C20: 18.57 | D20: 41.04 | E20: 37.72 | F20: 17.99 | G20: 19.86 | H20: 114.01 | I20: 16.45 | J20: 17.34 | K20: 22.43 | L20: 87.13 | M20: 28.87 | N20: 17.21 | O20: 111.35 | P20: 19.19 | Q20: 33.92 | R20: 16.61 | S20: 97.91 | T20: 17.12 | U20: 23.52 | V20: 18.15 | W20: 20.56 | X20: 91.23 | Y20: 69.93 | Z20: 17.28 | AA20: 18.36 | AB20: 41.75 | AC20: 16.21 | AD20: 17.53
B21: 0.16666667 | C21: 28.03 | D21: 40.21 | E21: 47.41 | F21: 16.67 | G21: 19.8 | H21: 107.75 | I21: 17.61 | J21: 18.03 | K21: 29.03 | L21: 115.93 | M21: 32.36 | N21: 20.8 | O21: 97.46 | P21: 20.48 | Q21: 48.32 | R21: 16.61 | S21: 91.4 | T21: 17 | U21: 50.1 | V21: 20.33 | W21: 17.19 | X21: 56.07 | Y21: 90.74 | Z21: 19.33 | AA21: 14.25 | AB21: 52.77 | AC21: 21.25 | AD21: 18.61
B22: 0.20833333 | C22: 37.59 | D22: 26.2 | E22: 43.37 | F22: 16.59 | G22: 16.65 | H22: 80.47 | I22: 18.34 | J22: 17.98 | K22: 34.58 | L22: 90.87 | M22: 26.79 | N22: 21.89 | O22: 53.72 | P22: 19.61 | Q22: 53.03 | R22: 16.64 | S22: 76.99 | T22: 17.23 | U22: 64.58 | V22: 23.55 | W22: 17.86 | X22: 41.36 | Y22: 86.92 | Z22: 19.7 | AA22: 14.13 | AB22: 79.66 | AC22: 42.39 | AD22: 20.08
B23: 0.25 | C23: 37.07 | D23: 18.35 | E23: 38.63 | F23: 19.47 | G23: 16.51 | H23: 40.19 | I23: 19.69 | J23: 17.45 | K23: 33.15 | L23: 55.49 | M23: 26.28 | N23: 21.96 | O23: 67.71 | P23: 19.2 | Q23: 46.91 | R23: 16.63 | S23: 84.62 | T23: 34.83 | U23: 64.05 | V23: 33.11 | W23: 26.52 | X23: 41.06 | Y23: 54.4 | Z23: 20.17 | AA23: 15.92 | AB23: 74.66 | AC23: 48.42 | AD23: 19.37
B24: 0.29166667 | C24: 46.05 | D24: 17.3 | E24: 44.72 | F24: 24.72 | G24: 16.47 | H24: 23.59 | I24: 19 | J24: 16.79 | K24: 29.21 | L24: 26.32 | M24: 56.46 | N24: 18.23 | O24: 88.73 | P24: 17.31 | Q24: 31.25 | R24: 16.7 | S24: 83.41 | T24: 72.3 | U24: 44.8 | V24: 46.41 | W24: 52.24 | X24: 29.66 | Y24: 26.65 | Z24: 18.97 | AA24: 19.26 | AB24: 73.9 | AC24: 42.57 | AD24: 17.07
B25: 0.33333333 | C25: 48.15 | D25: 17.13 | E25: 53.42 | F25: 24.99 | G25: 16.5 | H25: 19.9 | I25: 21.92 | J25: 16.71 | K25: 26.55 | L25: 28.31 | M25: 56.74 | N25: 31.13 | O25: 78.86 | P25: 17.44 | Q25: 18.82 | R25: 16.76 | S25: 83.54 | T25: 90.98 | U25: 41.56 | V25: 90.46 | W25: 76.64 | X25: 22.63 | Y25: 19.12 | Z25: 21.4 | AA25: 19.71 | AB25: 47.35 | AC25: 21.47 | AD25: 15.07
B26: 0.375 | C26: 51.65 | D26: 17.16 | E26: 51.64 | F26: ID | G26: 16.58 | H26: 17.38 | I26: 21.46 | J26: 16.72 | K26: 25.62 | L26: 30.25 | M26: 51.12 | N26: 33.94 | O26: 55.56 | P26: 17.65 | Q26: 18.2 | R26: 16.86 | S26: 57.07 | T26: 87.34 | U26: 50.55 | V26: 96.12 | W26: 71.9 | X26: 18.12 | Y26: 19 | Z26: 21.24 | AA26: 18.22 | AB26: 28.38 | AC26: 15.19 | AD26: 14.72
B27: 0.41666667 | C27: 33.26 | D27: 17.13 | E27: 33.3 | F27: ID | G27: 16.64 | H27: 17.06 | I27: 21.04 | J27: 16.64 | K27: 24.6 | L27: 26.54 | M27: 17.41 | N27: 34.09 | O27: 33.75 | P27: 17.7 | Q27: 17.48 | R27: 16.85 | S27: 35.19 | T27: 54.37 | U27: 53.3 | V27: 83.57 | W27: 46.48 | X27: 17.8 | Y27: 18.73 | Z27: 20.44 | AA27: 15.1 | AB27: 16.4 | AC27: 14.97 | AD27: 14.76
B28: 0.45833333 | C28: 21.67 | D28: 17.02 | E28: 21.16 | F28: ID | G28: 16.62 | H28: 16.7 | I28: 17.54 | J28: 16.65 | K28: 22.59 | L28: 20.16 | M28: 17.05 | N28: 20.12 | O28: 19.68 | P28: 17.47 | Q28: 17.35 | R28: 16.81 | S28: 26.58 | T28: 36.2 | U28: 55.54 | V28: 38.53 | W28: 21.34 | X28: 17.86 | Y28: 18.32 | Z28: 17.7 | AA28: 14.85 | AB28: 15.23 | AC28: 14.74 | AD28: 15.73
B29: 0.5 | C29: 17.14 | D29: 16.89 | E29: 17.14 | F29: 16.79 | G29: 16.57 | H29: 16.59 | I29: 16.73 | J29: 16.56 | K29: 19.84 | L29: 17.2 | M29: 16.98 | N29: 17.22 | O29: 17.92 | P29: 17.16 | Q29: 17.23 | R29: 16.8 | S29: 18.46 | T29: 22.76 | U29: 46.76 | V29: 22.5 | W29: 17.43 | X29: 18.15 | Y29: 17.85 | Z29: 17.49 | AA29: 14.74 | AB29: 14.92 | AC29: 14.72 | AD29: 15.72
B30: 0.54166667 | C30: 17.03 | D30: 16.82 | E30: 17.09 | F30: 16.83 | G30: 16.58 | H30: 16.54 | I30: 16.78 | J30: 16.57 | K30: 18.59 | L30: 16.99 | M30: 16.91 | N30: 17.06 | O30: 17.71 | P30: 17.07 | Q30: 17.09 | R30: 16.78 | S30: 17.41 | T30: 18.5 | U30: 35.18 | V30: 19.74 | W30: 17.19 | X30: 18.2 | Y30: 17.77 | Z30: 17.47 | AA30: 14.61 | AB30: 14.71 | AC30: 14.7 | AD30: 15.65
B31: 0.58333333 | C31: 16.93 | D31: 16.77 | E31: 17.09 | F31: 16.74 | G31: 16.56 | H31: 16.56 | I31: 16.73 | J31: 16.51 | K31: 17.79 | L31: 17 | M31: 16.9 | N31: 16.99 | O31: 17.55 | P31: 17.08 | Q31: 16.95 | R31: 16.78 | S31: 17.27 | T31: 17.92 | U31: 19.91 | V31: 17.73 | W31: 17.12 | X31: 18.05 | Y31: 17.76 | Z31: ID | AA31: 14.48 | AB31: 14.58 | AC31: 14.68 | AD31: 14.65
B32: 0.625 | C32: 16.91 | D32: 16.8 | E32: 17.07 | F32: 16.72 | G32: 16.55 | H32: 16.56 | I32: 16.7 | J32: 16.5 | K32: 17.27 | L32: 16.94 | M32: ID | N32: 16.98 | O32: 17.43 | P32: 17.08 | Q32: 16.9 | R32: 16.72 | S32: 17.18 | T32: 17.64 | U32: 17.73 | V32: 17.6 | W32: 17.17 | X32: 17.77 | Y32: 17.77 | Z32: ID | AA32: 14.41 | AB32: 14.53 | AC32: 14.67 | AD32: 14.6
B33: 0.66666667 | C33: 16.88 | D33: 16.83 | E33: 17.05 | F33: 16.61 | G33: 16.48 | H33: 16.6 | I33: 16.71 | J33: 16.48 | K33: 16.98 | L33: 16.92 | M33: ID | N33: 16.98 | O33: 17.27 | P33: 17.03 | Q33: 16.83 | R33: 16.71 | S33: 17.11 | T33: 17.66 | U33: 17.47 | V33: 17.47 | W33: 17.19 | X33: 17.56 | Y33: 17.74 | Z33: ID | AA33: 14.42 | AB33: 14.55 | AC33: 14.65 | AD33: 14.55
B34: 0.70833333 | C34: 16.95 | D34: 16.85 | E34: 16.93 | F34: 16.72 | G34: 16.52 | H34: 16.58 | I34: 16.63 | J34: 16.48 | K34: 16.83 | L34: 16.82 | M34: ID | N34: 16.96 | O34: 17.18 | P34: 16.99 | Q34: 16.85 | R34: 16.69 | S34: 17.05 | T34: 17.64 | U34: 17.27 | V34: 17.39 | W34: 17.24 | X34: 17.39 | Y34: 17.64 | Z34: 13.94 | AA34: 14.4 | AB34: 14.57 | AC34: 14.65 | AD34: 14.56
B35: 0.75 | C35: 16.94 | D35: 16.77 | E35: 16.87 | F35: 16.76 | G35: 16.58 | H35: 16.6 | I35: 16.64 | J35: 16.54 | K35: 16.78 | L35: 16.78 | M35: 16.99 | N35: 16.95 | O35: 17.08 | P35: 16.91 | Q35: 16.81 | R35: 16.74 | S35: 17.05 | T35: 17.44 | U35: 17.22 | V35: 17.35 | W35: 17.23 | X35: 17.19 | Y35: 17.59 | Z35: 13.99 | AA35: 14.33 | AB35: 14.48 | AC35: 14.57 | AD35: 14.55
B36: 0.79166667 | C36: 16.92 | D36: 16.73 | E36: 16.76 | F36: 16.89 | G36: 16.61 | H36: 16.54 | I36: 16.61 | J36: 16.91 | K36: 16.7 | L36: 16.76 | M36: 16.79 | N36: 16.89 | O36: 17.02 | P36: 16.85 | Q36: 16.89 | R36: 16.77 | S36: 17.03 | T36: 17.26 | U36: 17.42 | V36: 17.42 | W36: 17.28 | X36: 17.17 | Y36: 17.53 | Z36: 14.03 | AA36: 14.36 | AB36: 14.43 | AC36: 14.53 | AD36: 14.52
B37: 0.83333333 | C37: 16.87 | D37: 16.77 | E37: 16.72 | F37: 16.76 | G37: 16.6 | H37: 16.58 | I37: 16.59 | J37: 17.47 | K37: 16.58 | L37: 16.77 | M37: 16.66 | N37: 17.42 | O37: 16.96 | P37: 16.78 | Q37: 16.82 | R37: 16.78 | S37: 17.34 | T37: 17.23 | U37: 17.91 | V37: 17.29 | W37: 17.27 | X37: 17.15 | Y37: 17.49 | Z37: 14.04 | AA37: 14.38 | AB37: 14.42 | AC37: 14.49 | AD37: 14.39
B38: 0.875 | C38: 16.81 | D38: 16.75 | E38: 16.62 | F38: 16.68 | G38: 16.54 | H38: 16.46 | I38: 16.56 | J38: 17.46 | K38: 16.58 | L38: 16.77 | M38: 16.66 | N38: 17.55 | O38: 16.9 | P38: 16.79 | Q38: 16.79 | R38: 16.77 | S38: 17.54 | T38: 17.22 | U38: 18.54 | V38: 17.27 | W38: 17.2 | X38: 17.1 | Y38: 17.46 | Z38: 13.99 | AA38: 14.39 | AB38: 29.21 | AC38: 14.48 | AD38: 14.33
B39: 0.91666667 | C39: 16.81 | D39: 16.71 | E39: 16.59 | F39: 16.53 | G39: 16.5 | H39: 16.45 | I39: 16.48 | J39: 17.11 | K39: 16.59 | L39: 16.81 | M39: 23.08 | N39: 17.63 | O39: 16.85 | P39: 16.77 | Q39: 16.67 | R39: 16.71 | S39: 17.65 | T39: 17.22 | U39: 18.78 | V39: 17.13 | W39: 17.1 | X39: 18.45 | Y39: 17.43 | Z39: 13.98 | AA39: 14.32 | AB39: 61.3 | AC39: 14.5 | AD39: 18.2
B40: 0.95833333 | C40: 17.47 | D40: 20.94 | E40: 16.62 | F40: 16.49 | G40: 16.46 | H40: 16.39 | I40: 16.49 | J40: 16.51 | K40: 16.59 | L40: 16.79 | M40: 31.45 | N40: 18.25 | O40: 16.79 | P40: 16.77 | Q40: 16.66 | R40: 17.61 | S40: 17.58 | T40: 17.09 | U40: 19.31 | V40: 23.85 | W40: 20.69 | X40: 20.96 | Y40: 17.35 | Z40: 16.19 | AA40: 14.59 | AB40: 85.86 | AC40: 16.5 | AD40: 20.71
B41: Estado de cuidado de SO₂ | C41: 500 µg/m³ en periodo de 3 horas móviles
B43: ID: Insuficiencia de data

Sheet H2S_CA-ILO-01
F2: Tabla 3.5. Concentraciones horarias de H₂S
B6: TÍTULO DEL ESTUDIO: | F6: ='PM10_CA-ILO-01'!F6 -> Evaluación de seguimiento de la calidad del aire en la I.E. Francisco Bolognesi, distrito Ilo, provincia Ilo, departamento Moquegua, en febrero 2022
B8: ESTACIÓN DE MONITOREO: | F8: CA-ILO-01 | Q8: CÓDIGO DE ACCIÓN:
B10: DATOS DEL EQUIPO
B12: EQUIPO: | F12: Analizador sulfuro de hidrógeno | Q12: MARCA: | V12: THERMO SCIENTIFIC
B14: MODELO: | F14: 450i | Q14: SERIE: | V14: CM19490141
B16: Hora\Día | C16: 1 | D16: 2 | E16: 3 | F16: 4 | G16: 5 | H16: 6 | I16: 7 | J16: 8 | K16: 9 | L16: 10 | M16: 11 | N16: 12 | O16: 13 | P16: 14 | Q16: 15 | R16: 16 | S16: 17 | T16: 18 | U16: 19 | V16: 20 | W16: 21 | X16: 22 | Y16: 23 | Z16: 24 | AA16: 25 | AB16: 26 | AC16: 27 | AD16: 28 | AE16: 29 | AF16: 30 | AG16: 31
B17: 0 | C17: 17.01 | D17: 21.21 | E17: 11.8 | F17: 6.7 | G17: 8.33 | H17: 9.63 | I17: 6.8 | J17: 7.24 | K17: 8.33 | L17: 8.53 | M17: 6.88 | N17: 7.91 | O17: 28.72 | P17: 9.49 | Q17: 9.45 | R17: 9.77 | S17: 10.65 | T17: 9.02 | U17: 49.91 | V17: 10.74 | W17: 36.4 | X17: 64.47 | Y17: 86.68 | Z17: 8.3 | AA17: 8.69 | AB17: 10.63 | AC17: 7.69 | AD17: 13.34
B18: 0.041666667 | C18: 7.16 | D18: 10.62 | E18: 21.53 | F18: 8.62 | G18: 10.74 | H18: 13.93 | I18: 6.66 | J18: 7.46 | K18: 8.38 | L18: 9.01 | M18: 7.2 | N18: 7.02 | O18: 99.55 | P18: 14.12 | Q18: 15.47 | R18: 9.76 | S18: 29.01 | T18: 9.83 | U18: 70.74 | V18: 9.62 | W18: 8.47 | X18: 55.24 | Y18: 126.24 | Z18: 8.28 | AA18: 8.45 | AB18: 24.81 | AC18: 7.7 | AD18: 8.48
B19: 0.083333333 | C19: 7.13 | D19: 49.01 | E19: 11.9 | F19: 6.82 | G19: 26.8 | H19: 10.12 | I19: 7.16 | J19: 8.95 | K19: 32.44 | L19: 18.5 | M19: 37.28 | N19: 7.05 | O19: 23.55 | P19: 61.54 | Q19: 52.64 | R19: 9.8 | S19: 48.87 | T19: 10.01 | U19: 32.25 | V19: 8.99 | W19: 7.9 | X19: 10.52 | Y19: 68.37 | Z19: 8.21 | AA19: 8.17 | AB19: 23.1 | AC19: 8.26 | AD19: 8.31
B20: 0.125 | C20: 7.44 | D20: 21.63 | E20: 8.47 | F20: 6.73 | G20: 7.08 | H20: 7.78 | I20: 7.19 | J20: 11.26 | K20: 42.42 | L20: 31.72 | M20: 17.07 | N20: 6.88 | O20: 11.37 | P20: 38.53 | Q20: 37.35 | R20: 9.83 | S20: 18.46 | T20: 10.3 | U20: 19.03 | V20: 9.4 | W20: 7.49 | X20: 8.97 | Y20: 63.02 | Z20: 8.02 | AA20: 7.98 | AB20: 19.74 | AC20: 13.12 | AD20: 11.13
B21: 0.16666667 | C21: 19.99 | D21: 7.73 | E21: 9.12 | F21: 6.73 | G21: 7.23 | H21: 7.06 | I21: 6.95 | J21: 15.11 | K21: 13.87 | L21: 14.14 | M21: 8.24 | N21: 7.19 | O21: 9.58 | P21: 14.16 | Q21: 11.26 | R21: 10.04 | S21: 80.06 | T21: 10.66 | U21: 15.8 | V21: 22.55 | W21: 7.62 | X21: 55.22 | Y21: 41.28 | Z21: 8.34 | AA21: 7.9 | AB21: 29.43 | AC21: 16 | AD21: 51.26
B22: 0.20833333 | C22: 8.8 | D22: 7.06 | E22: 7.98 | F22: 6.69 | G22: 7.62 | H22: 6.96 | I22: 7.17 | J22: 8.21 | K22: 12.55 | L22: 8.49 | M22: 7.37 | N22: 7.17 | O22: 9.52 | P22: 7.83 | Q22: 10.02 | R22: 9.79 | S22: 49.89 | T22: 22.37 | U22: 67.87 | V22: 34.01 | W22: 7.67 | X22: 16.11 | Y22: 13.08 | Z22: 7.87 | AA22: 7.99 | AB22: 28.38 | AC22: 24.74 | AD22: 12.37
B23: 0.25 | C23: 6.98 | D23: 7.03 | E23: 16.86 | F23: 11.41 | G23: 7.16 | H23: 7.03 | I23: 7.23 | J23: 9.15 | K23: 12.38 | L23: 8.33 | M23: 7.84 | N23: 6.87 | O23: 11.87 | P23: 7.78 | Q23: 9.29 | R23: 10.04 | S23: 29.4 | T23: 106.93 | U23: 86.4 | V23: 37.17 | W23: 8.3 | X23: 10.86 | Y23: 9.62 | Z23: 7.87 | AA23: 13.98 | AB23: 12.37 | AC23: 10.83 | AD23: 9.17
B24: 0.29166667 | C24: 18.31 | D24: 7.01 | E24: 25.95 | F24: 9.45 | G24: 7.24 | H24: 6.89 | I24: 6.7 | J24: 9.05 | K24: 9.79 | L24: 8.84 | M24: 8.44 | N24: 7.16 | O24: 22.64 | P24: 7.87 | Q24: 13.08 | R24: 10.11 | S24: 13.76 | T24: 37.61 | U24: 36.58 | V24: 17.86 | W24: 18.07 | X24: 8.15 | Y24: 8.94 | Z24: 9.8 | AA24: 30.08 | AB24: 9.33 | AC24: 9.95 | AD24: 9.38
B25: 0.33333333 | C25: 9.34 | D25: 7.03 | E25: 12.47 | F25: 6.89 | G25: 7.69 | H25: 6.82 | I25: 6.96 | J25: 8.98 | K25: 9.45 | L25: 8.78 | M25: 7.35 | N25: 7.8 | O25: 14.37 | P25: 7.74 | Q25: 9.49 | R25: 10.16 | S25: 9.22 | T25: 14.57 | U25: 22.64 | V25: 12.13 | W25: 10.66 | X25: 8.1 | Y25: 8.87 | Z25: 11.58 | AA25: 8.51 | AB25: 8.47 | AC25: 8.49 | AD25: 10.13
B26: 0.375 | C26: 7.28 | D26: 6.96 | E26: 8.9 | F26: 6.7 | G26: 8.74 | H26: 6.76 | I26: 6.91 | J26: 8.56 | K26: 8.83 | L26: 8.67 | M26: 6.92 | N26: 7.02 | O26: 9.34 | P26: 7.52 | Q26: 9.54 | R26: 9.92 | S26: 8.76 | T26: 11.37 | U26: 10.16 | V26: 8.6 | W26: 8.1 | X26: 8.15 | Y26: 8.7 | Z26: 7.9 | AA26: 7.84 | AB26: 8.23 | AC26: 7.52 | AD26: 10.11
B27: 0.41666667 | C27: 6.7 | D27: 7.08 | E27: 6.76 | F27: ID | G27: 7.46 | H27: 6.74 | I27: 6.67 | J27: 8.35 | K27: 8.58 | L27: 8.34 | M27: 6.78 | N27: 6.84 | O27: 9.24 | P27: 8.42 | Q27: 9.17 | R27: 9.59 | S27: 9.55 | T27: 9.69 | U27: 9.79 | V27: 8.56 | W27: 7.48 | X27: 8.05 | Y27: 8.58 | Z27: 7.35 | AA27: 7.02 | AB27: 7.67 | AC27: 7.33 | AD27: 9.42
B28: 0.45833333 | C28: 6.67 | D28: 6.81 | E28: 6.74 | F28: ID | G28: 6.73 | H28: 6.76 | I28: 6.62 | J28: 8.33 | K28: 8.55 | L28: 7.94 | M28: 6.78 | N28: 6.78 | O28: 8.88 | P28: 9.67 | Q28: 8.81 | R28: 9.52 | S28: 9.69 | T28: 8.98 | U28: 9.42 | V28: 8.49 | W28: 7.46 | X28: 7.7 | Y28: 8.42 | Z28: 7.38 | AA28: 7.13 | AB28: 7.42 | AC28: 7.35 | AD28: 9.77
B29: 0.5 | C29: 6.66 | D29: 6.91 | E29: 6.84 | F29: 7.12 | G29: 6.95 | H29: 7.02 | I29: 6.62 | J29: 8.35 | K29: 8.37 | L29: 7.98 | M29: 6.74 | N29: 7.23 | O29: 7.98 | P29: 9.79 | Q29: 9.02 | R29: 9.55 | S29: 9.47 | T29: 9.17 | U29: 9.19 | V29: 8.13 | W29: 7.44 | X29: 7.69 | Y29: 8.38 | Z29: 7.28 | AA29: 7.17 | AB29: 7.33 | AC29: 7.23 | AD29: 9.4
B30: 0.54166667 | C30: 6.52 | D30: 6.82 | E30: 6.84 | F30: 6.48 | G30: 6.96 | H30: 7.16 | I30: 6.6 | J30: 8.6 | K30: 8.31 | L30: 7.8 | M30: 6.76 | N30: 8.01 | O30: 8.7 | P30: 9.48 | Q30: 9.4 | R30: 9.51 | S30: 9.04 | T30: 9.51 | U30: 8.77 | V30: 8.01 | W30: 7.33 | X30: 7.66 | Y30: 8.3 | Z30: ID | AA30: 6.99 | AB30: 7.45 | AC30: 7.24 | AD30: 9.42
B31: 0.58333333 | C31: 6.6 | D31: 6.78 | E31: 6.8 | F31: 6.35 | G31: 6.76 | H31: 7.39 | I31: 6.53 | J31: 8.59 | K31: 8.3 | L31: 7.76 | M31: 6.84 | N31: 8.85 | O31: 9.31 | P31: 9.45 | Q31: 8.91 | R31: 9.62 | S31: 7.98 | T31: 9.44 | U31: 8.58 | V31: 8.19 | W31: 7.2 | X31: 7.63 | Y31: 8.3 | Z31: 8.47 | AA31: 7.16 | AB31: 7.48 | AC31: 7.21 | AD31: 9.41
B32: 0.625 | C32: 6.66 | D32: 6.7 | E32: 6.77 | F32: 6.35 | G32: 6.87 | H32: 7.01 | I32: 6.73 | J32: 8.58 | K32: 8.62 | L32: 7.98 | M32: ID | N32: 8.85 | O32: 9.62 | P32: 9.45 | Q32: 9.26 | R32: 9.66 | S32: 8.19 | T32: 7.69 | U32: 8.53 | V32: 8.2 | W32: 7.2 | X32: 7.58 | Y32: 8.24 | Z32: 7.53 | AA32: 7.21 | AB32: 7.41 | AC32: 7.38 | AD32: 8.7
B33: 0.66666667 | C33: 6.64 | D33: 6.82 | E33: 6.77 | F33: 6.55 | G33: 6.81 | H33: 7.06 | I33: 7.27 | J33: 8.73 | K33: 8.38 | L33: 8.1 | M33: 7.1 | N33: 8.85 | O33: 9.83 | P33: 9.62 | Q33: 9.31 | R33: 9.52 | S33: 9.05 | T33: 7.52 | U33: 8.58 | V33: 8.09 | W33: 7.33 | X33: 7.6 | Y33: 8.4 | Z33: 7.73 | AA33: 7.1 | AB33: 7.28 | AC33: 7.44 | AD33: 8.66
B34: 0.70833333 | C34: 6.69 | D34: 6.82 | E34: 6.81 | F34: 6.62 | G34: 7.95 | H34: 7.05 | I34: 7.33 | J34: 8.69 | K34: 8.44 | L34: 7.06 | M34: 7.05 | N34: 8.8 | O34: 9.65 | P34: 9.62 | Q34: 9.54 | R34: 9.67 | S34: 9.23 | T34: 7.7 | U34: 8.56 | V34: 8.17 | W34: 7.41 | X34: 7.88 | Y34: 8.23 | Z34: 7.41 | AA34: 7.06 | AB34: 7.33 | AC34: 7.24 | AD34: 9.3
B35: 0.75 | C35: 6.74 | D35: 6.8 | E35: 6.77 | F35: 6.7 | G35: 6.76 | H35: 6.81 | I35: 6.96 | J35: 8.72 | K35: 8.63 | L35: 6.82 | M35: 6.95 | N35: 8.9 | O35: 9.9 | P35: 9.62 | Q35: 9.42 | R35: 9.66 | S35: 9.23 | T35: 7.84 | U35: 8.63 | V35: 8.35 | W35: 7.45 | X35: 7.74 | Y35: 8.35 | Z35: 7.51 | AA35: 7.21 | AB35: 7.31 | AC35: 7.19 | AD35: 8.7
B36: 0.79166667 | C36: 6.82 | D36: 6.84 | E36: 6.8 | F36: 6.73 | G36: 6.71 | H36: 6.82 | I36: 6.7 | J36: 8.52 | K36: 8.74 | L36: 6.95 | M36: 6.99 | N36: 9.06 | O36: 9.63 | P36: 9.63 | Q36: 9.08 | R36: 9.6 | S36: 9.54 | T36: 7.96 | U36: 15.61 | V36: 8.28 | W36: 7.49 | X36: 7.71 | Y36: 8.56 | Z36: 7.58 | AA36: 7.19 | AB36: 7.45 | AC36: 7.35 | AD36: 8.78
B37: 0.83333333 | C37: 6.8 | D37: 6.76 | E37: 6.8 | F37: 6.76 | G37: 6.73 | H37: 6.62 | I37: 7.05 | J37: 8.78 | K37: 8.55 | L37: 6.91 | M37: 7.56 | N37: 9.15 | O37: 9.37 | P37: 9.55 | Q37: 9.91 | R37: 9.48 | S37: 10.87 | T37: 7.95 | U37: 34.61 | V37: 8.19 | W37: 7.42 | X37: 7.7 | Y37: 8.66 | Z37: 7.48 | AA37: 7.48 | AB37: 7.42 | AC37: 7.33 | AD37: 8.83
B38: 0.875 | C38: 6.89 | D38: 6.87 | E38: 6.71 | F38: 6.77 | G38: 6.89 | H38: 6.76 | I38: 7.2 | J38: 8.28 | K38: 8.63 | L38: 6.99 | M38: 7.49 | N38: 8.88 | O38: 9.38 | P38: 9.67 | Q38: 9.86 | R38: 9.66 | S38: 10.55 | T38: 7.81 | U38: 64.43 | V38: 8.02 | W38: 7.31 | X38: 7.77 | Y38: 8.63 | Z38: 7.35 | AA38: 7.84 | AB38: 8.69 | AC38: 7.41 | AD38: 9.35
B39: 0.91666667 | C39: 6.87 | D39: 6.88 | E39: 6.76 | F39: 7.42 | G39: 6.91 | H39: 6.82 | I39: 7.27 | J39: 8.28 | K39: 8.87 | L39: 7.03 | M39: 23.21 | N39: 10.05 | O39: 9.42 | P39: 9.7 | Q39: 9.94 | R39: 9.49 | S39: 12.95 | T39: 7.8 | U39: 29.91 | V39: 7.77 | W39: 7.3 | X39: 21.42 | Y39: 8.53 | Z39: 7.55 | AA39: 7.83 | AB39: 7.45 | AC39: 7.41 | AD39: 11.02
B40: 0.95833333 | C40: 6.96 | D40: 8.52 | E40: 6.7 | F40: 8.45 | G40: 6.87 | H40: 6.73 | I40: 7.8 | J40: 8.03 | K40: 8.53 | L40: 6.82 | M40: 12.43 | N40: 34.46 | O40: 9.33 | P40: 9.38 | Q40: 9.88 | R40: 12.09 | S40: 12.72 | T40: 8.97 | U40: 22.5 | V40: 26.84 | W40: 39.56 | X40: 49.89 | Y40: 8.38 | Z40: 7.92 | AA40: 9.6 | AB40: 7.52 | AC40: 31.71 | AD40: 9.55
B41: Promedio de H₂S en 24 h | C41: 8.5 | D41: 10.1 | E41: 9.6 | F41: 7.2 | G41: 8.2 | H41: 7.5 | I41: 7 | J41: 8.9 | K41: 11.6 | L41: 9.6 | M41: 9.9 | N41: 9 | O41: 15.4 | P41: 12.9 | Q41: 12.9 | R41: 9.8 | S41: 18.2 | T41: 15 | U41: 27.4 | V41: 12.7 | W41: 10.7 | X41: 17.1 | Y41: 23 | Z41: 8 | AA41: 8.9 | AB41: 11.7 | AC41: 10 | AD41: 11.4
B42: ECA aire de H₂S | C42: 150 µg/m³ en periodo de 24 horas
B44: ID: Insuficiencia de data

Sheet NO2_CA-ILO-01
F2: Tabla 3.6. Concentraciones horarias de NO₂
B6: TÍTULO DEL ESTUDIO: | F6: ='PM10_CA-ILO-01'!F6 -> Evaluación de seguimiento de la calidad del aire en la I.E. Francisco Bolognesi, distrito Ilo, provincia Ilo, departamento Moquegua, en febrero 2022
B8: ESTACIÓN DE MONITOREO: | F8: CA-ILO-01 | Q8: CÓDIGO DE ACCIÓN:
B10: DATOS DEL EQUIPO
B12: EQUIPO: | F12: Analizador dióxido de nitrógeno | Q12: MARCA: | V12: THERMO SCIENTIFIC
B14: MODELO: | F14: 42i | Q14: SERIE: | V14: 1192914962
B16: Hora\Día | C16: 1 | D16: 2 | E16: 3 | F16: 4 | G16: 5 | H16: 6 | I16: 7 | J16: 8 | K16: 9 | L16: 10 | M16: 11 | N16: 12 | O16: 13 | P16: 14 | Q16: 15 | R16: 16 | S16: 17 | T16: 18 | U16: 19 | V16: 20 | W16: 21 | X16: 22 | Y16: 23 | Z16: 24 | AA16: 25 | AB16: 26 | AC16: 27 | AD16: 28 | AE16: 29 | AF16: 30 | AG16: 31
B17: 0 | C17: 5.87 | D17: 6.6 | E17: 10.42 | F17: 3.44 | G17: 3.65 | H17: 7.56 | I17: 3.4 | J17: 3.93 | K17: 3.12 | L17: 3.99 | M17: 4.64 | N17: 7.09 | O17: 14.18 | P17: 2.95 | Q17: 4.06 | R17: 3.57 | S17: 5.32 | T17: 3.57 | U17: 12.05 | V17: 6.62 | W17: 12.3 | X17: 18.69 | Y17: 11.92 | Z17: 3.37 | AA17: 7.22 | AB17: 4.12 | AC17: 17.58 | AD17: 6.17
B18: 0.041666667 | C18: 2.59 | D18: 5.96 | E18: 18.01 | F18: 6.41 | G18: 3.52 | H18: 11.77 | I18: 3.42 | J18: 10.19 | K18: 2.88 | L18: 4.1 | M18: 6.2 | N18: 3.08 | O18: 17.31 | P18: 5.02 | Q18: 6.73 | R18: 2.91 | S18: 18.39 | T18: 3.63 | U18: 14.72 | V18: 4.49 | W18: 4.21 | X18: 18.99 | Y18: 15.34 | Z18: 3.12 | AA18: 6.13 | AB18: 8.91 | AC18: 5.32 | AD18: 5.21
B19: 0.083333333 | C19: 2.54 | D19: 10 | E19: 13.95 | F19: 3.23 | G19: 6.75 | H19: 11.84 | I19: 3.63 | J19: 12.9 | K19: 3.67 | L19: 10.42 | M19: 16.49 | N19: 2.78 | O19: 17.65 | P19: 6.64 | Q19: 15.49 | R19: 2.8 | S19: 14.81 | T19: 3.65 | U19: 18.86 | V19: 4.04 | W19: 3.05 | X19: 15.19 | Y19: 16.28 | Z19: 2.9 | AA19: 3.44 | AB19: 5.08 | AC19: 4.93 | AD19: 4.46
B20: 0.125 | C20: 3.14 | D20: 8.8 | E20: 9.93 | F20: 3.31 | G20: 3.4 | H20: 11.81 | I20: 3.37 | J20: 11.83 | K20: 6.19 | L20: 12.26 | M20: 18.72 | N20: 3.05 | O20: 8.8 | P20: 7.46 | Q20: 14.18 | R20: 2.63 | S20: 9.93 | T20: 4.1 | U20: 18.44 | V20: 4.81 | W20: 2.95 | X20: 10.6 | Y20: 15.72 | Z20: 2.82 | AA20: 3.5 | AB20: 15.94 | AC20: 6.47 | AD20: 7.52
B21: 0.16666667 | C21: 7.33 | D21: 3.99 | E21: 15.28 | F21: 4.29 | G21: 3.93 | H21: 7.86 | I21: 6.28 | J21: 9.53 | K21: 8.07 | L21: 12.82 | M21: 9.55 | N21: 7.24 | O21: 4.51 | P21: 7.39 | Q21: 12.03 | R21: 2.86 | S21: 11.3 | T21: 5.25 | U21: 22.05 | V21: 13.76 | W21: 3.63 | X21: 12.88 | Y21: 15.62 | Z21: 5.3 | AA21: 3.5 | AB21: 15.23 | AC21: 10.11 | AD21: 8.1
B22: 0.20833333 | C22: 11.96 | D22: 4.93 | E22: 14.27 | F22: 5.56 | G22: 3.87 | H22: 7.13 | I22: 18.61 | J22: 5.36 | K22: 12.35 | L22: 15.43 | M22: 6.99 | N22: 8.27 | O22: 8.25 | P22: 6.62 | Q22: 10.9 | R22: 3.97 | S22: 13.95 | T22: 8.07 | U22: 20.23 | V22: 16.32 | W22: 8.03 | X22: 9.85 | Y22: 10 | Z22: 5.7 | AA22: 4.7 | AB22: 16.32 | AC22: 14.66 | AD22: 11.54
B23: 0.25 | C23: 8.44 | D23: 5.38 | E23: 15.83 | F23: 9.32 | G23: 4.7 | H23: 8.38 | I23: 16.22 | J23: 6.11 | K23: 23.18 | L23: 9.1 | M23: 7.95 | N23: 7.09 | O23: 10.89 | P23: 7.31 | Q23: 7.97 | R23: 10.81 | S23: 19.27 | T23: 15.75 | U23: 16.24 | V23: 17.31 | W23: 14.98 | X23: 13.72 | Y23: 5.09 | Z23: 10.15 | AA23: 8.31 | AB23: 20.59 | AC23: 10.83 | AD23: 7.93
B24: 0.29166667 | C24: 10.79 | D24: 5.26 | E24: 12.22 | F24: 8.27 | G24: 4.55 | H24: 4.68 | I24: 7.58 | J24: 4.66 | K24: 13.12 | L24: 13.39 | M24: 10.75 | N24: 6.32 | O24: 13.48 | P24: 8.76 | Q24: 10.4 | R24: 7.29 | S24: 20.17 | T24: 15.25 | U24: 14.74 | V24: 10.98 | W24: 12.31 | X24: 6.62 | Y24: 4.79 | Z24: 10.38 | AA24: 8.8 | AB24: 19.14 | AC24: 4.68 | AD24: 9.21
B25: 0.33333333 | C25: 7.24 | D25: 3.89 | E25: 10.87 | F25: 4.4 | G25: 4.93 | H25: 4.34 | I25: 6.81 | J25: 3.97 | K25: 10.08 | L25: 13.59 | M25: 4.96 | N25: 8.95 | O25: 9.27 | P25: 5.64 | Q25: 5.49 | R25: 5.45 | S25: 9.32 | T25: 11.26 | U25: 10.96 | V25: 8.82 | W25: 10.36 | X25: 4.94 | Y25: 5.51 | Z25: 8.69 | AA25: 5.36 | AB25: 5.25 | AC25: 3.67 | AD25: 7.9
B26: 0.375 | C26: 6.07 | D26: 3.48 | E26: 8.05 | F26: 4.44 | G26: 4.47 | H26: 4.12 | I26: 5.79 | J26: 3.91 | K26: 9.29 | L26: 8.55 | M26: 4.04 | N26: 7.44 | O26: 4.17 | P26: 4.66 | Q26: 3.95 | R26: 4.42 | S26: 7.29 | T26: 9.66 | U26: 7.78 | V26: 5.08 | W26: 7.46 | X26: 4.79 | Y26: 6.32 | Z26: 4.34 | AA26: 4.27 | AB26: 4.1 | AC26: 3.42 | AD26: 7.14
B27: 0.41666667 | C27: 3.68 | D27: 3.55 | E27: 4.68 | F27: 5.92 | G27: 4.57 | H27: 4.23 | I27: 3.87 | J27: 4.59 | K27: 5.21 | L27: 5.25 | M27: 3.87 | N27: 4.31 | O27: 3.76 | P27: 4.42 | Q27: 3.72 | R27: 3.82 | S27: 5.56 | T27: 8.87 | U27: 7.75 | V27: 6 | W27: 3.99 | X27: 4.72 | Y27: 3.85 | Z27: 4.14 | AA27: 3.85 | AB27: 3.7 | AC27: 3.27 | AD27: 5.88
B28: 0.45833333 | C28: 3.52 | D28: 3.27 | E28: 4.85 | F28: ID | G28: 4.38 | H28: 3.5 | I28: 4.08 | J28: 3.84 | K28: 4.66 | L28: 4.57 | M28: 3.57 | N28: 3.68 | O28: 3.35 | P28: 4.15 | Q28: 3.84 | R28: 3.95 | S28: 3.68 | T28: 4.32 | U28: 8.61 | V28: 4.98 | W28: 3.97 | X28: 3.95 | Y28: 3.7 | Z28: 3.97 | AA28: 3.61 | AB28: 3.63 | AC28: 3.29 | AD28: 11.77
B29: 0.5 | C29: 3.78 | D29: 3.33 | E29: 4.61 | F29: VF | G29: 4.21 | H29: 3.63 | I29: 3.93 | J29: 3.84 | K29: 4.42 | L29: 4.4 | M29: 3.44 | N29: 3.91 | O29: 3.61 | P29: 3.78 | Q29: 3.67 | R29: 3.76 | S29: 3.89 | T29: 4.51 | U29: 7.93 | V29: 3.44 | W29: 3.91 | X29: 4.36 | Y29: 3.78 | Z29: 3.78 | AA29: 3.99 | AB29: 3.46 | AC29: 3.2 | AD29: 5.15
B30: 0.54166667 | C30: 3.29 | D30: 3.29 | E30: 3.42 | F30: ID | G30: 4.42 | H30: 3.91 | I30: 3.55 | J30: 3.5 | K30: 4.79 | L30: 3.72 | M30: 3.25 | N30: 3.4 | O30: 3.31 | P30: 3.5 | Q30: 3.38 | R30: 3.52 | S30: 3.78 | T30: 4.15 | U30: 5.53 | V30: 3.35 | W30: 3.53 | X30: 4.19 | Y30: 3.5 | Z30: 3.55 | AA30: 3.42 | AB30: 3.27 | AC30: 3.12 | AD30: 4.76
B31: 0.58333333 | C31: 3.16 | D31: 2.99 | E31: 3.87 | F31: 3.7 | G31: 3.72 | H31: 3.23 | I31: 3.33 | J31: 3.23 | K31: 4.66 | L31: 3.76 | M31: 3.35 | N31: 4.34 | O31: 3.35 | P31: 3.59 | Q31: 3.57 | R31: 3.55 | S31: 3.38 | T31: 4.74 | U31: 5.49 | V31: 3.18 | W31: 3.65 | X31: 4.53 | Y31: 3.4 | Z31: 3.21 | AA31: 3.44 | AB31: 3.48 | AC31: 3.16 | AD31: 3.99
B32: 0.625 | C32: 3.48 | D32: 3.25 | E32: 4.12 | F32: 3.4 | G32: 3.44 | H32: 3.25 | I32: 3.68 | J32: 3.16 | K32: 3.78 | L32: 3.99 | M32: ID | N32: 4.23 | O32: 3.12 | P32: 3.61 | Q32: 3.89 | R32: 3.82 | S32: 3.42 | T32: 6.34 | U32: 6.92 | V32: 2.99 | W32: 3.76 | X32: 4.15 | Y32: 3.63 | Z32: ID | AA32: 3.61 | AB32: 3.29 | AC32: 2.95 | AD32: 3.74
B33: 0.66666667 | C33: 3.55 | D33: 3.38 | E33: 3.95 | F33: 3.37 | G33: 3.63 | H33: 3.1 | I33: 3.46 | J33: 3.29 | K33: 4 | L33: 3.91 | M33: 3.72 | N33: 3.7 | O33: 2.95 | P33: 4.1 | Q33: 3.44 | R33: 3.72 | S33: 3.63 | T33: 5.55 | U33: 5.04 | V33: 3.06 | W33: 3.97 | X33: 3.76 | Y33: 3.63 | Z33: 3.63 | AA33: 3.72 | AB33: 3.87 | AC33: 2.99 | AD33: 4
B34: 0.70833333 | C34: 4.25 | D34: 4 | E34: 4.79 | F34: 4.32 | G34: 3.61 | H34: 3.37 | I34: 3.84 | J34: 3.95 | K34: 4.34 | L34: 4.14 | M34: 4.1 | N34: 3.97 | O34: 3.37 | P34: 4.47 | Q34: 3.85 | R34: 3.95 | S34: 4.49 | T34: 4.89 | U34: 9.42 | V34: 3.31 | W34: 4.1 | X34: 4.38 | Y34: 4.34 | Z34: 3.76 | AA34: 3.97 | AB34: 4.19 | AC34: 4 | AD34: 4.32
B35: 0.75 | C35: 5.36 | D35: 4.83 | E35: 5.02 | F35: 4.85 | G35: 4.68 | H35: 3.84 | I35: 4.61 | J35: 5 | K35: 5.08 | L35: 5.3 | M35: 4.66 | N35: 4.91 | O35: 3.84 | P35: 5.49 | Q35: 4.78 | R35: 5.56 | S35: 6.19 | T35: 9.93 | U35: 12.3 | V35: 4.08 | W35: 5.04 | X35: 5.4 | Y35: 4.62 | Z35: 5.73 | AA35: 5.04 | AB35: 4.83 | AC35: 4.55 | AD35: 6.37
B36: 0.79166667 | C36: 6.02 | D36: 5.3 | E36: 5.23 | F36: 5.45 | G36: 5.02 | H36: 4.47 | I36: 4.93 | J36: 5.79 | K36: 5.47 | L36: 5.94 | M36: 5.64 | N36: 5.19 | O36: 4.44 | P36: 4.81 | Q36: 5.23 | R36: 6.05 | S36: 7.37 | T36: 10.17 | U36: 14.14 | V36: 5.06 | W36: 5.49 | X36: 4.61 | Y36: 4.29 | Z36: 5.38 | AA36: 5.47 | AB36: 6.24 | AC36: 4.64 | AD36: 8.1
B37: 0.83333333 | C37: 5.64 | D37: 6.6 | E37: 6.2 | F37: 6.09 | G37: 5.28 | H37: 4.51 | I37: 5.08 | J37: 7.35 | K37: 6.35 | L37: 5.98 | M37: 6.5 | N37: 7.82 | O37: 4.94 | P37: 4.72 | Q37: 5 | R37: 6.45 | S37: 14.19 | T37: 13.76 | U37: 11.77 | V37: 5.13 | W37: 4.83 | X37: 4.59 | Y37: 4.57 | Z37: 5.4 | AA37: 6.05 | AB37: 6.54 | AC37: 5.3 | AD37: 8.93
B38: 0.875 | C38: 4.68 | D38: 6.79 | E38: 5.9 | F38: 6.94 | G38: 4.81 | H38: 4.44 | I38: 5.11 | J38: 4.31 | K38: 6.03 | L38: 5.98 | M38: 7.22 | N38: 6.58 | O38: 4.04 | P38: 4.55 | Q38: 4.79 | R38: 4.79 | S38: 12.75 | T38: 12.09 | U38: 17.43 | V38: 4.42 | W38: 5.36 | X38: 4.66 | Y38: 3.95 | Z38: 5.02 | AA38: 6.09 | AB38: 8.72 | AC38: 5.45 | AD38: 6.54
B39: 0.91666667 | C39: 3.63 | D39: 6.15 | E39: 4.46 | F39: 6.03 | G39: 4.66 | H39: 3.93 | I39: 4.31 | J39: 3.4 | K39: 5.73 | L39: 7.43 | M39: 9.36 | N39: 6.82 | O39: 4.25 | P39: 4.34 | Q39: 4.49 | R39: 4.51 | S39: 14.48 | T39: 12.48 | U39: 21.79 | V39: 4.62 | W39: 4.47 | X39: 8.74 | Y39: 3.68 | Z39: 4.68 | AA39: 5.17 | AB39: 11.64 | AC39: 4.36 | AD39: 8.59
B40: 0.95833333 | C40: 4.91 | D40: 8.2 | E40: 4.72 | F40: 3.82 | G40: 4.17 | H40: 3.87 | I40: 3.93 | J40: 3.37 | K40: 4.14 | L40: 5.28 | M40: 11.22 | N40: 12.24 | O40: 3.29 | P40: 3.85 | Q40: 3.91 | R40: 5.25 | S40: 9.79 | T40: 8.72 | U40: 22.13 | V40: 10.04 | W40: 11.19 | X40: 12.5 | Y40: 3.37 | Z40: 7.03 | AA40: 5.09 | AB40: 15.28 | AC40: 8.82 | AD40: 6.24
B41: ECA aire de NO₂ | C41: 200 µg/m³ en periodo de 1 hora
B43: VF: verificación del equipo
B44: ID: Insuficiencia de data

Sheet CO_CA-ILO-01
F2: Tabla 3.7. Concentraciones horarias de CO
B6: TÍTULO DEL ESTUDIO: | F6: ='PM10_CA-ILO-01'!F6 -> Evaluación de seguimiento de la calidad del aire en la I.E. Francisco Bolognesi, distrito Ilo, provincia Ilo, departamento Moquegua, en febrero 2022
B8: ESTACIÓN DE MONITOREO: | F8: CA-ILO-01 | Q8: CÓDIGO DE ACCIÓN:
B10: DATOS DEL EQUIPO
B12: EQUIPO: | F12: Analizador monóxido de carbono | Q12: MARCA: | V12: THERMO SCIENTIFIC
B14: MODELO: | F14: 48i | Q14: SERIE: | V14: 1193085163
B16: Hora\Día | C16: 1 | D16: 2 | E16: 3 | F16: 4 | G16: 5 | H16: 6 | I16: 7 | J16: 8 | K16: 9 | L16: 10 | M16: 11 | N16: 12 | O16: 13 | P16: 14 | Q16: 15 | R16: 16 | S16: 17 | T16: 18 | U16: 19 | V16: 20 | W16: 21 | X16: 22 | Y16: 23 | Z16: 24 | AA16: 25 | AB16: 26 | AC16: 27 | AD16: 28 | AE16: 29 | AF16: 30 | AG16: 31
B17: 0 | C17: 237.91 | D17: 270.88 | E17: 262.18 | F17: 237.16 | G17: 247.78 | H17: 267.94 | I17: 259.52 | J17: 276.71 | K17: 240.8 | L17: 225.35 | M17: 231.82 | N17: 230.13 | O17: 296.77 | P17: 227.93 | Q17: 254.94 | R17: 249.31 | S17: 256.69 | T17: 273.01 | U17: 265.42 | V17: 244.89 | W17: 268.77 | X17: 281.93 | Y17: 274.67 | Z17: 250.85 | AA17: 242.71 | AB17: 233.68 | AC17: 273.73 | AD17: 267.48
B18: 0.041666667 | C18: 223.34 | D18: 253.48 | E18: 278.69 | F18: 247.81 | G18: 246.11 | H18: 277.89 | I18: 250.33 | J18: 277.75 | K18: 240.9 | L18: 225.02 | M18: 250.32 | N18: 214.66 | O18: 340.25 | P18: 226.25 | Q18: 261.43 | R18: 242.96 | S18: 269.46 | T18: 268.01 | U18: 260.91 | V18: 226.79 | W18: 217.1 | X18: 281.47 | Y18: 280.06 | Z18: 241.37 | AA18: 239.41 | AB18: 247.33 | AC18: 240.81 | AD18: 269.09
B19: 0.083333333 | C19: 237.08 | D19: 262.99 | E19: 254.08 | F19: 234.61 | G19: 258.57 | H19: 287.09 | I19: 253.87 | J19: 275.69 | K19: 238.79 | L19: 258.82 | M19: 261.45 | N19: 198.88 | O19: 286.14 | P19: 242.41 | Q19: 304.7 | R19: 239.53 | S19: 267.19 | T19: 266.79 | U19: 322.94 | V19: 227.57 | W19: 217.2 | X19: 275.2 | Y19: 278.31 | Z19: 236.13 | AA19: 222.21 | AB19: 243.73 | AC19: 241.02 | AD19: 263.4
B20: 0.125 | C20: 256.04 | D20: 263.49 | E20: 266.39 | F20: 239 | G20: 247.18 | H20: 287.66 | I20: 258.31 | J20: 280.44 | K20: 247.23 | L20: 234.31 | M20: 262.61 | N20: 203.25 | O20: 272.68 | P20: 245.61 | Q20: 321.32 | R20: 239.34 | S20: 266.31 | T20: 289.09 | U20: 271.31 | V20: 226.33 | W20: 217.68 | X20: 263.61 | Y20: 273.49 | Z20: 241.73 | AA20: 222.54 | AB20: 263.92 | AC20: 252.28 | AD20: 272.94
B21: 0.16666667 | C21: 239.36 | D21: 239.27 | E21: 277.31 | F21: 244.2 | G21: 254.3 | H21: 271.81 | I21: 282.61 | J21: 277.47 | K21: 244.26 | L21: 253.89 | M21: 257.96 | N21: 241.15 | O21: 234.88 | P21: 246.42 | Q21: 296.42 | R21: 243.28 | S21: 265.73 | T21: 282.52 | U21: 248.1 | V21: 293.57 | W21: 222 | X21: 261.4 | Y21: 269.21 | Z21: 273.07 | AA21: 222.06 | AB21: 253.59 | AC21: 265.51 | AD21: 272.58
B22: 0.20833333 | C22: 280.47 | D22: 242.67 | E22: 267.88 | F22: 250.57 | G22: 249.34 | H22: 271.33 | I22: 352.31 | J22: 276.33 | K22: 253.52 | L22: 292.09 | M22: 246.21 | N22: 243.79 | O22: 249.45 | P22: 251.6 | Q22: 284.51 | R22: 250.31 | S22: 272.34 | T22: 284.15 | U22: 282.65 | V22: 342.3 | W22: 261.07 | X22: 262.3 | Y22: 267.89 | Z22: 265.33 | AA22: 229.37 | AB22: 274.21 | AC22: 291.82 | AD22: 280.32
B23: 0.25 | C23: 267.74 | D23: 247.5 | E23: 312.18 | F23: 278.12 | G23: 258.13 | H23: 289.26 | I23: 397.92 | J23: 286.26 | K23: 303.29 | L23: 276.93 | M23: 261.98 | N23: 234.98 | O23: 273.94 | P23: 264.22 | Q23: 295.19 | R23: 305.97 | S23: 324.82 | T23: 324.09 | U23: 284.27 | V23: 351.78 | W23: 351.5 | X23: 282.6 | Y23: 263.61 | Z23: 322.31 | AA23: 254.4 | AB23: 387.47 | AC23: 299.36 | AD23: 276.08
B24: 0.29166667 | C24: 284.95 | D24: 253.32 | E24: 287.87 | F24: 282.04 | G24: 262.61 | H24: 264.21 | I24: 326.75 | J24: 280.69 | K24: 288.12 | L24: 293.54 | M24: 262.99 | N24: 237.23 | O24: 299.8 | P24: 282.08 | Q24: 309.36 | R24: 280.91 | S24: 368.37 | T24: 335.82 | U24: 308.35 | V24: 291.17 | W24: 321 | X24: 289.56 | Y24: 271.15 | Z24: 328.89 | AA24: 294.04 | AB24: 359.5 | AC24: 262.49 | AD24: 283.14
B25: 0.33333333 | C25: 264.01 | D25: 263.82 | E25: 283.68 | F25: 256.76 | G25: 260.07 | H25: 263.11 | I25: 290.11 | J25: 280.76 | K25: 266.9 | L25: 284.98 | M25: 248.66 | N25: 257.42 | O25: 257.76 | P25: 258.35 | Q25: 261.83 | R25: 273.24 | S25: 286 | T25: 308.34 | U25: 287.89 | V25: 243.44 | W25: 278.3 | X25: 281.95 | Y25: 286.45 | Z25: 309.23 | AA25: 261.33 | AB25: 244.79 | AC25: 262.89 | AD25: 282
B26: 0.375 | C26: 252.13 | D26: 260.22 | E26: 268.2 | F26: 264.65 | G26: 256.85 | H26: 261.89 | I26: 290.4 | J26: 277.36 | K26: 263.92 | L26: 258.77 | M26: 244.11 | N26: 248.8 | O26: 234.36 | P26: 248.41 | Q26: 254.41 | R26: 263.98 | S26: 284.03 | T26: 284.42 | U26: 257.71 | V26: 250.21 | W26: 281.68 | X26: 290.84 | Y26: 272.79 | Z26: 266.77 | AA26: 253.78 | AB26: 243.36 | AC26: 264.35 | AD26: 286.96
B27: 0.41666667 | C27: 228.88 | D27: 253.72 | E27: 244.72 | F27: 236.74 | G27: 258.42 | H27: 262.6 | I27: 278.27 | J27: 276.84 | K27: 255.58 | L27: 234.58 | M27: 250.17 | N27: 233.99 | O27: 230.74 | P27: 243.74 | Q27: 248.43 | R27: 267.38 | S27: 263.68 | T27: 262.72 | U27: 260.83 | V27: 250.8 | W27: 231.18 | X27: 268.24 | Y27: 265.26 | Z27: 255.59 | AA27: 243.62 | AB27: 244.4 | AC27: 262.92 | AD27: 267.89
B28: 0.45833333 | C28: 229.11 | D28: 232.7 | E28: 241.18 | F28: 229.86 | G28: 260.28 | H28: 259.99 | I28: 272.6 | J28: 278.07 | K28: 260.87 | L28: 221.9 | M28: 245.82 | N28: 233.15 | O28: 229 | P28: 246.84 | Q28: 251.65 | R28: 259.26 | S28: 255.02 | T28: 235.24 | U28: 254.72 | V28: 251.22 | W28: 232.76 | X28: 264.42 | Y28: 265.25 | Z28: 258.17 | AA28: 240.41 | AB28: 252.62 | AC28: 265.48 | AD28: 285.08
B29: 0.5 | C29: 226.8 | D29: 228.67 | E29: 239.57 | F29: 224.47 | G29: 258.6 | H29: 264.06 | I29: 274.42 | J29: 280.25 | K29: 252.45 | L29: 221.72 | M29: 240.03 | N29: 234.4 | O29: 232.97 | P29: 240.25 | Q29: 253.47 | R29: 251.34 | S29: 257.75 | T29: 228.52 | U29: 247.12 | V29: 234.22 | W29: 237.75 | X29: 270.73 | Y29: 266.91 | Z29: ID | AA29: 244.6 | AB29: 254.51 | AC29: 267.05 | AD29: 241.37
B30: 0.54166667 | C30: 217.02 | D30: 228.72 | E30: 242.19 | F30: ID | G30: 260.05 | H30: 257.34 | I30: 278.76 | J30: 273.86 | K30: 249.09 | L30: 222.74 | M30: 240.15 | N30: 223.04 | O30: 235.54 | P30: 232.81 | Q30: 256.52 | R30: 230.97 | S30: 254.93 | T30: 226.53 | U30: 230.94 | V30: 237.66 | W30: 234.91 | X30: 266.77 | Y30: 264.07 | Z30: 205.37 | AA30: 243.47 | AB30: 252.83 | AC30: 263.05 | AD30: 230.97
B31: 0.58333333 | C31: 223.17 | D31: 229.47 | E31: 242.09 | F31: 218.91 | G31: 250.29 | H31: 255.67 | I31: 271.74 | J31: 239.38 | K31: 218.2 | L31: 227.55 | M31: 241.75 | N31: 231.22 | O31: 239.02 | P31: 224.64 | Q31: 255.13 | R31: 237.12 | S31: 250.39 | T31: 215.74 | U31: 222.63 | V31: 231.48 | W31: 249.27 | X31: 258.93 | Y31: 258.4 | Z31: 205.24 | AA31: 239.91 | AB31: 252.37 | AC31: 258.99 | AD31: 224.12
B32: 0.625 | C32: 239.91 | D32: 232.07 | E32: 239.8 | F32: 228.71 | G32: 247.18 | H32: 255.75 | I32: 276.6 | J32: 233.79 | K32: 209.14 | L32: 226.44 | M32: ID | N32: 231.06 | O32: 234.77 | P32: 229.84 | Q32: 251.62 | R32: 244.82 | S32: 251.92 | T32: 240.28 | U32: 226.85 | V32: 225.17 | W32: 252.33 | X32: 256.16 | Y32: 256.53 | Z32: 201.47 | AA32: 245.29 | AB32: 247.18 | AC32: 254.33 | AD32: 225.62
B33: 0.66666667 | C33: 254.23 | D33: 242.07 | E33: 244.13 | F33: 236.58 | G33: 248.27 | H33: 254.76 | I33: 269.25 | J33: 236.49 | K33: 223.08 | L33: 230.77 | M33: 216.96 | N33: 231.22 | O33: 235.82 | P33: 239.87 | Q33: 253.78 | R33: 254.78 | S33: 269.09 | T33: 254.3 | U33: 224.39 | V33: 231.56 | W33: 253.64 | X33: 255.6 | Y33: 260.59 | Z33: 208.1 | AA33: 249.62 | AB33: 247.95 | AC33: 258.7 | AD33: 224.23
B34: 0.70833333 | C34: 263.97 | D34: 244.39 | E34: 252.11 | F34: 250.16 | G34: 252.08 | H34: 250.31 | I34: 284.43 | J34: 243.9 | K34: 233.82 | L34: 236.46 | M34: 222.78 | N34: 243.44 | O34: 240.68 | P34: 265.75 | Q34: 261.33 | R34: 253.52 | S34: 267.08 | T34: 264.87 | U34: 235.03 | V34: 244.09 | W34: 262.76 | X34: 269.54 | Y34: 270.31 | Z34: 231.2 | AA34: 265.76 | AB34: 243.12 | AC34: 276.15 | AD34: 218.27
B35: 0.75 | C35: 276.82 | D35: 256.3 | E35: 271.19 | F35: 257.78 | G35: 265.86 | H35: 261.52 | I35: 288.89 | J35: 255.43 | K35: 242.4 | L35: 241.72 | M35: 230.17 | N35: 257.68 | O35: 247.85 | P35: 275.38 | Q35: 276.54 | R35: 268.64 | S35: 278.53 | T35: 264.56 | U35: 265.45 | V35: 256.71 | W35: 271.38 | X35: 278.6 | Y35: 275.03 | Z35: 234.88 | AA35: 262.05 | AB35: 249.53 | AC35: 293.33 | AD35: 239.45
B36: 0.79166667 | C36: 292.36 | D36: 261.03 | E36: 264.12 | F36: 269.7 | G36: 285.03 | H36: 273.26 | I36: 293.53 | J36: 283.45 | K36: 255.6 | L36: 246.03 | M36: 232.6 | N36: 262.97 | O36: 252.78 | P36: 275.63 | Q36: 274.26 | R36: 272.71 | S36: 293.04 | T36: 287.09 | U36: 265.26 | V36: 269.69 | W36: 283.04 | X36: 278.83 | Y36: 276.89 | Z36: 239.23 | AA36: 272.32 | AB36: 273.6 | AC36: 279.5 | AD36: 254.08
B37: 0.83333333 | C37: 274.17 | D37: 280.62 | E37: 271.81 | F37: 269.28 | G37: 276.75 | H37: 271.15 | I37: 290.48 | J37: 304.58 | K37: 257.4 | L37: 241.49 | M37: 230.91 | N37: 291.21 | O37: 256.04 | P37: 272.19 | Q37: 271.42 | R37: 276.95 | S37: 306.04 | T37: 330.34 | U37: 292.89 | V37: 270.38 | W37: 281.57 | X37: 282.28 | Y37: 284.03 | Z37: 237.15 | AA37: 268.3 | AB37: 275.46 | AC37: 281.67 | AD37: 258.62
B38: 0.875 | C38: 271.57 | D38: 275.46 | E38: 258.96 | F38: 277.31 | G38: 278.61 | H38: 271.86 | I38: 294.19 | J38: 268.31 | K38: 247.53 | L38: 250.57 | M38: 234.15 | N38: 279.44 | O38: 246.78 | P38: 270.81 | Q38: 275.13 | R38: 262.13 | S38: 321.79 | T38: 300.86 | U38: 368.09 | V38: 251.19 | W38: 283.47 | X38: 278.45 | Y38: 274.13 | Z38: 244.95 | AA38: 270.01 | AB38: 264.35 | AC38: 296.86 | AD38: 247.33
B39: 0.91666667 | C39: 253.7 | D39: 261.23 | E39: 247.43 | F39: 266.26 | G39: 266.82 | H39: 262.91 | I39: 282.46 | J39: 246.33 | K39: 238.91 | L39: 244.77 | M39: 241.26 | N39: 267.27 | O39: 243.25 | P39: 259.82 | Q39: 270.64 | R39: 263.34 | S39: 319.04 | T39: 281.4 | U39: 461.77 | V39: 225.11 | W39: 273.62 | X39: 280.86 | Y39: 264.65 | Z39: 235.03 | AA39: 248.58 | AB39: 277.51 | AC39: 279.12 | AD39: 247.41
B40: 0.95833333 | C40: 264.88 | D40: 265.86 | E40: 247.35 | F40: 253.39 | G40: 260.15 | H40: 260.65 | I40: 277.01 | J40: 242.88 | K40: 228.1 | L40: 233.52 | M40: 249.61 | N40: 291.23 | O40: 230.67 | P40: 256.74 | Q40: 257.78 | R40: 262.95 | S40: 281.47 | T40: 273.73 | U40: 350.58 | V40: 242.45 | W40: 283.13 | X40: 279.17 | Y40: 254.91 | Z40: 239.58 | AA40: 247.02 | AB40: 276.83 | AC40: 272.38 | AD40: 225.81
B41: ECA aire de CO | C41: 30000 µg/m³ en periodo de 1 hora
B43: ID: Insuficiencia de data

Sheet CO_m8h_CA-ILO-01
F2: Tabla 3.8. Concentraciones horarias de CO m8h
B6: TÍTULO DEL ESTUDIO: | F6: ='PM10_CA-ILO-01'!F6 -> Evaluación de seguimiento de la calidad del aire en la I.E. Francisco Bolognesi, distrito Ilo, provincia Ilo, departamento Moquegua, en febrero 2022
B8: ESTACIÓN DE MONITOREO: | F8: CA-ILO-01 | Q8: CÓDIGO DE ACCIÓN:
B10: DATOS DEL EQUIPO
B12: EQUIPO: | F12: Analizador monóxido de carbono | Q12: MARCA: | V12: THERMO SCIENTIFIC
B14: MODELO: | F14: 48i | Q14: SERIE: | V14: 1193085163
B16: Hora\Día | C16: 1 | D16: 2 | E16: 3 | F16: 4 | G16: 5 | H16: 6 | I16: 7 | J16: 8 | K16: 9 | L16: 10 | M16: 11 | N16: 12 | O16: 13 | P16: 14 | Q16: 15 | R16: 16 | S16: 17 | T16: 18 | U16: 19 | V16: 20 | W16: 21 | X16: 22 | Y16: 23 | Z16: 24 | AA16: 25 | AB16: 26 | AC16: 27 | AD16: 28 | AE16: 29 | AF16: 30 | AG16: 31
B17: 0 | C17: 251.23 | D17: 271.04 | E17: 263.38 | F17: 256.27 | G17: 261.46 | H17: 269.15 | I17: 263.9 | J17: 285.96 | K17: 260.71 | L17: 241.14 | M17: 240.8 | N17: 233.95 | O17: 273.75 | P17: 243.25 | Q17: 266.41 | R17: 267.05 | S17: 264.62 | T17: 292.5 | U17: 283.53 | V17: 310.5 | W17: 253.55 | X17: 277.61 | Y17: 277.8 | Z17: 268.85 | AA17: 238.09 | AB17: 258.46 | AC17: 266.77 | AD17: 280.81
B18: 0.041666667 | C18: 250.7 | D18: 269.73 | E18: 267.67 | F18: 255.73 | G18: 260.95 | H18: 272.38 | I18: 263.9 | J18: 285.13 | K18: 260.34 | L18: 240.04 | M18: 242.53 | N18: 232.94 | O18: 285.85 | P18: 241.44 | Q18: 265.87 | R18: 264.75 | S18: 266.61 | T18: 292.62 | U18: 283.04 | V18: 309.46 | W18: 250.17 | X18: 279.95 | Y18: 279.12 | Z18: 265.23 | AA18: 239.12 | AB18: 256.16 | AC18: 266.48 | AD18: 279.93
B19: 0.083333333 | C19: 250.83 | D19: 268 | E19: 267.39 | F19: 251.16 | G19: 261.05 | H19: 275.04 | I19: 262.94 | J19: 283.48 | K19: 258.26 | L19: 242.09 | M19: 245 | N19: 229.02 | O19: 289.41 | P19: 240.76 | Q19: 269.53 | R19: 260.13 | S19: 266.43 | T19: 291.15 | U19: 290.34 | V19: 304.73 | W19: 245.24 | X19: 280.43 | Y19: 279.08 | Z19: 260.37 | AA19: 237.53 | AB19: 253.87 | AC19: 265.41 | AD19: 276.19
B20: 0.125 | C20: 251.65 | D20: 264.4 | E20: 268.06 | F20: 248.02 | G20: 258.23 | H20: 275.36 | I20: 261.08 | J20: 281.84 | K20: 253.73 | L20: 239.43 | M20: 247.07 | N20: 225.36 | O20: 290.62 | P20: 239.87 | Q20: 275.24 | R20: 255.76 | S20: 265.63 | T20: 290.66 | U20: 288.36 | V20: 299.86 | W20: 238.73 | X20: 278 | Y20: 278.41 | Z20: 255.98 | AA20: 235.45 | AB20: 252.82 | AC20: 262.75 | AD20: 275.37
B21: 0.16666667 | C21: 247.13 | D21: 260.03 | E21: 267.65 | F21: 244.57 | G21: 256.36 | H21: 274.75 | I21: 262.51 | J21: 280.22 | K21: 246.19 | L21: 238.99 | M21: 249.13 | N21: 226.64 | O21: 283.58 | P21: 238.67 | Q21: 278.27 | R21: 252.25 | S21: 264.22 | T21: 287.71 | U21: 278.08 | V21: 299.95 | W21: 232.69 | X21: 275.48 | Y21: 276.78 | Z21: 254.6 | AA21: 233.56 | AB21: 250.98 | AC21: 261.5 | AD21: 274.23
B22: 0.20833333 | C22: 248.49 | D22: 256.42 | E22: 266.7 | F22: 243.52 | G22: 252.87 | H22: 273.84 | I22: 272.56 | J22: 277.98 | K22: 244.34 | L22: 244.56 | M22: 248.58 | N22: 227.84 | O22: 279.83 | P22: 239.27 | Q22: 279.98 | R22: 249.14 | S22: 265.5 | T22: 283.01 | U22: 275.81 | V22: 296.72 | W22: 233.92 | X22: 272.83 | Y22: 275.46 | Z22: 253.5 | AA22: 231.61 | AB22: 251.51 | AC22: 264.94 | AD22: 272.16
B23: 0.25 | C23: 250.36 | D23: 255.65 | E23: 273.07 | F23: 247.35 | G23: 251.85 | H23: 276.64 | I23: 289.44 | J23: 278.46 | K23: 251.46 | L23: 249.31 | M23: 250.73 | N23: 227.06 | O23: 280.67 | P23: 241.89 | Q23: 284.41 | R23: 253.56 | S23: 273.19 | T23: 283.64 | U23: 276.17 | V23: 282.98 | W23: 249.72 | X23: 273.96 | Y23: 273.3 | Z23: 260.71 | AA23: 234.04 | AB23: 268.87 | AC23: 267.67 | AD23: 271.78
B24: 0.29166667 | C24: 253.36 | D24: 254.2 | E24: 275.82 | F24: 251.69 | G24: 253 | H24: 277.15 | I24: 297.7 | J24: 278.92 | K24: 257.11 | L24: 257.49 | M24: 254.42 | N24: 225.51 | O24: 281.74 | P24: 248.32 | Q24: 290.98 | R24: 256.45 | S24: 286.36 | T24: 290.43 | U24: 280.49 | V24: 275.55 | W24: 259.54 | X24: 274.76 | Y24: 272.3 | Z24: 269.96 | AA24: 240.84 | AB24: 282.93 | AC24: 265.88 | AD24: 273.13
B25: 0.33333333 | C25: 256.62 | D25: 253.32 | E25: 278.51 | F25: 254.14 | G25: 254.54 | H25: 276.54 | I25: 301.53 | J25: 279.42 | K25: 260.38 | L25: 264.95 | M25: 256.52 | N25: 228.92 | O25: 276.86 | P25: 252.12 | Q25: 291.85 | R25: 259.44 | S25: 290.03 | T25: 294.85 | U25: 283.3 | V25: 275.37 | W25: 260.73 | X25: 274.76 | Y25: 273.77 | Z25: 277.26 | AA25: 243.17 | AB25: 284.32 | AC25: 264.52 | AD25: 274.94
B26: 0.375 | C26: 260.22 | D26: 254.16 | E26: 277.2 | F26: 256.24 | G26: 255.88 | H26: 274.54 | I26: 306.54 | J26: 279.38 | K26: 263.25 | L26: 269.17 | M26: 255.75 | N26: 233.19 | O26: 263.63 | P26: 254.89 | Q26: 290.97 | R26: 262.07 | S26: 291.85 | T26: 296.9 | U26: 282.9 | V26: 278.3 | W26: 268.8 | X26: 275.93 | Y26: 272.86 | Z26: 280.43 | AA26: 244.97 | AB26: 283.82 | AC26: 267.46 | AD26: 277.18
B27: 0.41666667 | C27: 259.2 | D27: 253 | E27: 276.03 | F27: 256.51 | G27: 255.86 | H27: 271.48 | I27: 309.59 | J27: 279.52 | K27: 265.35 | L27: 266.14 | M27: 254.34 | N27: 237.58 | O27: 256.7 | P27: 255.05 | Q27: 283.93 | R27: 265.55 | S27: 291.41 | T27: 296.39 | U27: 275.14 | V27: 281.2 | W27: 270.55 | X27: 275.06 | Y27: 271.23 | Z27: 282.86 | AA27: 247.64 | AB27: 283.91 | AC27: 270.2 | AD27: 277.74
B28: 0.45833333 | C28: 255.83 | D28: 249.15 | E28: 272.88 | F28: 255.37 | G28: 257.5 | H28: 268.02 | I28: 311.37 | J28: 279.22 | K28: 267.06 | L28: 264.58 | M28: 252.24 | N28: 241.31 | O28: 251.24 | P28: 255.21 | Q28: 275.22 | R28: 268.04 | S28: 290 | T28: 289.66 | U28: 273.06 | V28: 284.31 | W28: 272.44 | X28: 275.16 | Y28: 270.2 | Z28: 284.92 | AA28: 249.88 | AB28: 282.49 | AC28: 271.85 | AD28: 279.26
... B40: 0.95833333 | C40: 268.96 | D40: 260.87 | E40: 257.14 | F40: 260.06 | G40: 266.7 | H40: 263.3 | I40: 285.03 | J40: 260.17 | K40: 240.85 | L40: 240.67 | M40: 232.3 | N40: 265.56 | O40: 244.23 | P40: 264.52 | Q40: 267.61 | R40: 264.38 | S40: 292.01 | T40: 282.14 | U40: 307.93 | V40: 248.9 | W40: 274.08 | X40: 275.42 | Y40: 270.07 | Z40: 233.76 | AA40: 260.46 | AB40: 263.54 | AC40: 279.71 | AD40: 239.4
B41: ECA aire de CO m8h | C41: 10000 µg/m³ en periodo de 8 horas
B43: ID: Insuficiencia de data

Sheet MGT_CA-ILO-01
F2: Tabla 3.9. Concentraciones horarias de Mercurio Gaseoso Total (MGT)
B6: TÍTULO DEL ESTUDIO: | F6: ='PM10_CA-ILO-01'!F6 -> Evaluación de seguimiento de la calidad del aire en la I.E. Francisco Bolognesi, distrito Ilo, provincia Ilo, departamento Moquegua, en febrero 2022
B8: ESTACIÓN DE MONITOREO: | F8: CA-ILO-01 | Q8: CÓDIGO DE ACCIÓN:
B10: DATOS DEL EQUIPO
B12: EQUIPO: | F12: Analizador automático de Mercurio Gaseoso Total | Q12: MARCA: | V12: Mercury Instruments
B14: MODELO: | F14: UT-3000 | Q14: SERIE: | V14: 0919/2425
B16: Hora\Día | C16: 1 | D16: 2 | E16: 3 | F16: 4 | G16: 5 | H16: 6 | I16: 7 | J16: 8 | K16: 9 | L16: 10 | M16: 11 | N16: 12 | O16: 13 | P16: 14 | Q16: 15 | R16: 16 | S16: 17 | T16: 18 | U16: 19 | V16: 20 | W16: 21 | X16: 22 | Y16: 23 | Z16: 24 | AA16: 25 | AB16: 26 | AC16: 27 | AD16: 28 | AE16: 29 | AF16: 30 | AG16: 31
B17: 0 | C17: 0.291 | D17: 0.29 | E17: 0.289 | F17: 0.32 | G17: 0.33 | H17: 0.322 | I17: 0.322 | J17: 0.326 | K17: 0.318 | L17: 0.308 | M17: 0.314 | N17: 0.334 | O17: 0.332 | P17: 0.336 | Q17: 0.347 | R17: 0.343 | S17: 0.336 | T17: 0.337 | U17: 0.324 | V17: 0.342 | W17: 0.353 | X17: 0.353 | Y17: 0.349 | Z17: 0.355 | AA17: 0.378 | AB17: 0.38 | AC17: 0.391 | AD17: 0.367 | AE17: 0.38 | AF17: 0.376 | AG17: 0.312
B18: 0.041666667 | C18: 0.302 | D18: 0.286 | E18: 0.286 | F18: 0.319 | G18: 0.326 | H18: 0.326 | I18: 0.316 | J18: 0.327 | K18: 0.318 | L18: 0.31 | M18: 0.312 | N18: 0.329 | O18: 0.327 | P18: 0.327 | Q18: 0.346 | R18: 0.338 | S18: 0.331 | T18: 0.324 | U18: 0.324 | V18: 0.342 | W18: 0.348 | X18: 0.345 | Y18: 0.343 | Z18: 0.351 | AA18: 0.377 | AB18: 0.38 | AC18: 0.395 | AD18: 0.373 | AE18: 0.376 | AF18: 0.371 | AG18: 0.303
B19: 0.083333333 | C19: 0.301 | D19: 0.286 | E19: 0.289 | F19: 0.316 | G19: 0.326 | H19: 0.323 | I19: 0.315 | J19: 0.325 | K19: 0.316 | L19: 0.312 | M19: 0.312 | N19: 0.327 | O19: 0.327 | P19: 0.309 | Q19: 0.343 | R19: 0.336 | S19: 0.331 | T19: 0.32 | U19: 0.328 | V19: 0.34 | W19: 0.344 | X19: 0.348 | Y19: 0.335 | Z19: 0.346 | AA19: 0.374 | AB19: 0.374 | AC19: 0.394 | AD19: 0.378 | AE19: 0.373 | AF19: 0.366 | AG19: 0.297
B20: 0.125 | C20: 0.302 | D20: 0.28 | E20: 0.282 | F20: 0.314 | G20: 0.324 | H20: 0.324 | I20: 0.317 | J20: 0.323 | K20: 0.315 | L20: 0.301 | M20: 0.317 | N20: 0.323 | O20: 0.326 | P20: 0.297 | Q20: 0.338 | R20: 0.335 | S20: 0.326 | T20: 0.316 | U20: 0.326 | V20: 0.339 | W20: 0.343 | X20: 0.352 | Y20: 0.327 | Z20: 0.344 | AA20: 0.373 | AB20: 0.377 | AC20: 0.388 | AD20: 0.378 | AE20: 0.37 | AF20: 0.36 | AG20: 0.294
B21: 0.16666667 | C21: 0.304 | D21: 0.27 | E21: 0.28 | F21: 0.314 | G21: 0.323 | H21: 0.322 | I21: 0.315 | J21: 0.321 | K21: 0.311 | L21: 0.3 | M21: 0.321 | N21: 0.324 | O21: 0.325 | P21: 0.292 | Q21: 0.334 | R21: 0.335 | S21: 0.309 | T21: 0.312 | U21: 0.323 | V21: 0.337 | W21: 0.343 | X21: 0.354 | Y21: 0.318 | Z21: 0.341 | AA21: 0.375 | AB21: 0.377 | AC21: 0.38 | AD21: 0.377 | AE21: 0.362 | AF21: 0.359 | AG21: 0.293
B22: 0.20833333 | C22: 0.304 | D22: 0.266 | E22: 0.276 | F22: 0.313 | G22: 0.324 | H22: 0.32 | I22: 0.315 | J22: 0.322 | K22: 0.312 | L22: 0.3 | M22: 0.318 | N22: 0.322 | O22: 0.326 | P22: 0.296 | Q22: 0.333 | R22: 0.332 | S22: 0.294 | T22: 0.313 | U22: 0.319 | V22: 0.335 | W22: 0.336 | X22: 0.354 | Y22: 0.323 | Z22: 0.34 | AA22: 0.378 | AB22: 0.376 | AC22: 0.377 | AD22: 0.376 | AE22: 0.361 | AF22: 0.36 | AG22: 0.29
B23: 0.25 | C23: 0.319 | D23: 0.28 | E23: 0.284 | F23: 0.325 | G23: 0.332 | H23: 0.325 | I23: 0.325 | J23: 0.334 | K23: 0.316 | L23: 0.316 | M23: 0.332 | N23: 0.328 | O23: 0.335 | P23: 0.313 | Q23: 0.346 | R23: 0.338 | S23: 0.301 | T23: 0.317 | U23: 0.322 | V23: 0.343 | W23: 0.336 | X23: 0.359 | Y23: 0.342 | Z23: 0.358 | AA23: 0.379 | AB23: 0.378 | AC23: 0.389 | AD23: 0.38 | AE23: 0.362 | AF23: 0.358 | AG23: 0.304
B24: 0.29166667 | C24: 0.351 | D24: 0.342 | E24: 0.342 | F24: 0.348 | G24: 0.343 | H24: 0.338 | I24: 0.349 | J24: 0.357 | K24: 0.327 | L24: 0.351 | M24: 0.354 | N24: 0.344 | O24: 0.35 | P24: 0.373 | Q24: 0.375 | R24: 0.351 | S24: 0.35 | T24: 0.339 | U24: 0.351 | V24: 0.364 | W24: 0.371 | X24: 0.386 | Y24: 0.375 | Z24: 0.404 | AA24: 0.392 | AB24: 0.399 | AC24: 0.415 | AD24: 0.398 | AE24: 0.386 | AF24: 0.391 | AG24: 0.343
B25: 0.33333333 | C25: 0.397 | D25: 0.401 | E25: 0.413 | F25: 0.416 | G25: 0.364 | H25: 0.36 | I25: 0.395 | J25: 0.409 | K25: 0.342 | L25: 0.405 | M25: 0.406 | N25: 0.38 | O25: 0.376 | P25: 0.411 | Q25: 0.422 | R25: 0.368 | S25: 0.389 | T25: 0.38 | U25: 0.431 | V25: 0.41 | W25: 0.422 | X25: 0.445 | Y25: 0.428 | Z25: 0.456 | AA25: 0.431 | AB25: 0.423 | AC25: 0.441 | AD25: 0.429 | AE25: 0.44 | AF25: 0.456 | AG25: 0.401
B26: 0.375 | C26: 0.459 | D26: 0.471 | E26: 0.471 | F26: 0.469 | G26: 0.404 | H26: 0.373 | I26: 0.461 | J26: 0.475 | K26: 0.36 | L26: 0.481 | M26: 0.469 | N26: 0.432 | O26: 0.407 | P26: 0.444 | Q26: 0.473 | R26: 0.403 | S26: 0.476 | T26: 0.433 | U26: 0.509 | V26: 0.49 | W26: 0.468 | X26: 0.518 | Y26: 0.5 | Z26: 0.489 | AA26: 0.482 | AB26: 0.454 | AC26: 0.467 | AD26: 0.474 | AE26: 0.497 | AF26: 0.497 | AG26: 0.456
B27: 0.41666667 | C27: 0.495 | D27: 0.534 | E27: 0.499 | F27: 0.512 | G27: 0.456 | H27: 0.404 | I27: 0.508 | J27: 0.513 | K27: 0.392 | L27: 0.558 | M27: 0.529 | N27: 0.451 | O27: 0.47 | P27: 0.497 | Q27: 0.522 | R27: 0.465 | S27: 0.52 | T27: 0.497 | U27: 0.553 | V27: 0.638 | W27: 0.496 | X27: 0.554 | Y27: 0.555 | Z27: 0.489 | AA27: 0.492 | AB27: 0.502 | AC27: 0.487 | AD27: 0.528 | AE27: 0.53 | AF27: 0.532 | AG27: 0.506
B28: 0.45833333 | C28: 0.537 | D28: 0.53 | E28: 0.517 | F28: 0.536 | G28: 0.452 | H28: 0.426 | I28: 0.516 | J28: 0.528 | K28: 0.414 | L28: 0.582 | M28: 0.557 | N28: 0.479 | O28: 0.615 | P28: 0.525 | Q28: 0.544 | R28: 0.527 | S28: 0.52 | T28: 0.548 | U28: 0.54 | V28: 0.702 | W28: 0.533 | X28: 0.568 | Y28: 0.577 | Z28: 0.498 | AA28: 0.542 | AB28: 0.555 | AC28: 0.514 | AD28: 0.566 | AE28: 0.55 | AF28: 0.549 | AG28: 0.537
... B31: 0.58333333 | C31: 0.569 | D31: 0.577 | E31: 0.569 | F31: 0.574 | G31: 0.405 | H31: 0.401 | I31: 0.496 | J31: 0.598 | K31: 0.43 | L31: 0.615 | M31: 0.602 | N31: 0.52 | O31: 0.492 | P31: 0.605 | Q31: 0.584 | R31: 0.583 | S31: 0.58 | T31: 0.565 | U31: 0.499 | V31: 0.571 | W31: 0.556 | X31: 0.603 | Y31: 0.677 | Z31: 0.514 | AA31: 0.459 | AB31: 0.496 | AC31: 0.602 | AD31: 0.571 | AE31: 0.619 | AF31: 0.605 | AG31: 0.595
B32: 0.625 | C32: 0.556 | D32: 0.582 | E32: 0.576 | F32: 0.51 | G32: 0.386 | H32: 0.45 | I32: 0.451 | J32: 0.534 | K32: 0.431 | L32: 0.583 | M32: 0.605 | N32: 0.51 | O32: 0.459 | P32: 0.602 | Q32: 0.573 | R32: 0.59 | S32: 0.579 | T32: 0.515 | U32: 0.445 | V32: 0.51 | W32: 0.538 | X32: 0.621 | Y32: 0.66 | Z32: 0.53 | AA32: 0.448 | AB32: 0.472 | AC32: ID | AD32: 0.506 | AE32: 0.628 | AF32: 0.597 | AG32: 0.598
B33: 0.66666667 | C33: 0.545 | D33: 0.57 | E33: 0.556 | F33: 0.454 | G33: 0.374 | H33: 0.429 | I33: 0.421 | J33: 0.444 | K33: 0.415 | L33: 0.561 | M33: 0.57 | N33: 0.436 | O33: 0.424 | P33: 0.584 | Q33: 0.549 | R33: 0.526 | S33: 0.551 | T33: 0.447 | U33: 0.41 | V33: 0.453 | W33: 0.483 | X33: 0.564 | Y33: 0.643 | Z33: 0.518 | AA33: 0.404 | AB33: 0.456 | AC33: 0.616 | AD33: 0.465 | AE33: 0.651 | AF33: 0.587 | AG33: 0.592
B34: 0.70833333 | C34: 0.483 | D34: 0.483 | E34: 0.48 | F34: 0.42 | G34: 0.356 | H34: 0.385 | I34: 0.384 | J34: 0.394 | K34: 0.397 | L34: 0.492 | M34: 0.506 | N34: 0.39 | O34: 0.402 | P34: 0.529 | Q34: 0.51 | R34: 0.424 | S34: 0.438 | T34: 0.4 | U34: 0.388 | V34: 0.42 | W34: 0.44 | X34: 0.458 | Y34: 0.571 | Z34: 0.462 | AA34: 0.392 | AB34: 0.434 | AC34: 0.497 | AD34: 0.447 | AE34: 0.6 | AF34: 0.541 | AG34: 0.543
B35: 0.75 | C35: 0.368 | D35: 0.386 | E35: 0.377 | F35: 0.373 | G35: 0.344 | H35: 0.351 | I35: 0.36 | J35: 0.364 | K35: 0.419 | L35: 0.4 | M35: 0.411 | N35: 0.363 | O35: 0.377 | P35: 0.432 | Q35: 0.416 | R35: 0.379 | S35: 0.377 | T35: 0.371 | U35: 0.374 | V35: 0.399 | W35: 0.407 | X35: 0.401 | Y35: 0.464 | Z35: 0.419 | AA35: 0.383 | AB35: 0.414 | AC35: 0.433 | AD35: 0.414 | AE35: 0.536 | AF35: 0.454 | AG35: 0.449
B36: 0.79166667 | C36: 0.324 | D36: 0.325 | E36: 0.328 | F36: 0.349 | G36: 0.335 | H36: 0.334 | I36: 0.345 | J36: 0.341 | K36: 0.348 | L36: 0.355 | M36: 0.357 | N36: 0.349 | O36: 0.364 | P36: 0.367 | Q36: 0.358 | R36: 0.359 | S36: 0.352 | T36: 0.356 | U36: 0.365 | V36: 0.375 | W36: 0.379 | X36: 0.378 | Y36: 0.405 | Z36: 0.4 | AA36: 0.38 | AB36: 0.407 | AC36: 0.408 | AD36: 0.403 | AE36: 0.44 | AF36: 0.378 | AG36: 0.376
B37: 0.83333333 | C37: 0.322 | D37: 0.31 | E37: 0.317 | F37: 0.345 | G37: 0.332 | H37: 0.328 | I37: 0.341 | J37: 0.331 | K37: 0.333 | L37: 0.338 | M37: 0.344 | N37: 0.342 | O37: 0.351 | P37: 0.348 | Q37: 0.351 | R37: 0.35 | S37: 0.347 | T37: 0.35 | U37: 0.361 | V37: 0.36 | W37: 0.372 | X37: 0.37 | Y37: 0.39 | Z37: 0.392 | AA37: 0.381 | AB37: 0.406 | AC37: 0.396 | AD37: 0.396 | AE37: 0.402 | AF37: 0.352 | AG37: 0.358
B38: 0.875 | C38: 0.311 | D38: 0.3 | E38: 0.313 | F38: 0.34 | G38: 0.327 | H38: 0.326 | I38: 0.335 | J38: 0.322 | K38: 0.327 | L38: 0.327 | M38: 0.337 | N38: 0.336 | O38: 0.342 | P38: 0.34 | Q38: 0.351 | R38: 0.344 | S38: 0.343 | T38: 0.348 | U38: 0.353 | V38: 0.357 | W38: 0.371 | X38: 0.366 | Y38: 0.378 | Z38: 0.389 | AA38: 0.38 | AB38: 0.394 | AC38: 0.392 | AD38: 0.39 | AE38: 0.393 | AF38: 0.34 | AG38: 0.347
B39: 0.91666667 | C39: 0.302 | D39: 0.298 | E39: 0.314 | F39: 0.336 | G39: 0.326 | H39: 0.325 | I39: 0.333 | J39: 0.321 | K39: 0.323 | L39: 0.317 | M39: 0.34 | N39: 0.333 | O39: 0.337 | P39: 0.345 | Q39: 0.35 | R39: 0.339 | S39: 0.343 | T39: 0.341 | U39: 0.342 | V39: 0.36 | W39: 0.369 | X39: 0.36 | Y39: 0.37 | Z39: 0.383 | AA39: 0.377 | AB39: 0.386 | AC39: 0.387 | AD39: 0.386 | AE39: 0.389 | AF39: 0.329 | AG39: 0.336
B40: 0.95833333 | C40: 0.291 | D40: 0.292 | E40: 0.317 | F40: 0.332 | G40: 0.322 | H40: 0.323 | I40: 0.327 | J40: 0.321 | K40: 0.314 | L40: 0.312 | M40: 0.337 | N40: 0.332 | O40: 0.336 | P40: 0.346 | Q40: 0.346 | R40: 0.336 | S40: 0.34 | T40: 0.331 | U40: 0.343 | V40: 0.357 | W40: 0.36 | X40: 0.352 | Y40: 0.358 | Z40: 0.378 | AA40: 0.378 | AB40: 0.387 | AC40: 0.37 | AD40: 0.381 | AE40: 0.383 | AF40: 0.32 | AG40: 0.326
B41: Promedio de MGT en 24 h | C41: 0.397 | D41: 0.393 | E41: 0.394 | F41: 0.402 | G41: 0.362 | H41: 0.36 | I41: 0.386 | J41: 0.402 | K41: 0.358 | L41: 0.418 | M41: 0.421 | N41: 0.389 | O41: 0.396 | P41: 0.419 | Q41: 0.427 | R41: 0.41 | S41: 0.411 | T41: 0.402 | U41: 0.401 | V41: 0.437 | W41: 0.422 | X41: 0.442 | Y41: 0.456 | Z41: 0.423 | AA41: 0.416 | AB41: 0.431 | AC41: 0.447 | AD41: 0.441 | AE41: 0.466 | AF41: 0.446 | AG41: 0.416
B42: ECA aire de MGT | C42: 2000 ng/m³ en periodo de 24 horas
B44: ID: Insuficiencia de data

Sheet Met_CA-ILO-01
D2: Tabla 3.10. Datos Meteorológicos
C6: TÍTULO DEL ESTUDIO: | D6: ='PM10_CA-ILO-01'!F6 -> Evaluación de seguimiento de la calidad del aire en la I.E. Francisco Bolognesi, distrito Ilo, provincia Ilo, departamento Moquegua, en febrero 2022
C8: ESTACIÓN DE MONITOREO: | D8: CA-ILO-01 | F8: CÓDIGO DE ACCIÓN: | H8: No Aplica
C10: DATOS DEL EQUIPO
C12: EQUIPO: | D12: Estación meteorológica | G12: MARCA: | H12: Diversas
C14: SENSOR: | D14: Velocidad y dirección de viento | G14: SERIE: | H14: WM174403
C15: SENSOR: | D15: Temperatura y humedad relativa | G15: SERIE: | H15: 1665884185
C16: SENSOR: | D16: Presión barométrica | G16: SERIE: | H16: BPA11351
C17: SENSOR: | D17: Precipitación | G17: SERIE: | H17: TB00015747
C18: SENSOR: | D18: Radiación solar | G18: SERIE: | H18: 193237
C20: FECHA Y HORA | D20: Presión atmosférica (hPa) | E20: Precipitación (mm) | F20: Temperatura ambiental (°C) | G20: Humedad relativa (%) | H20: Velocidad de Viento (m/s) | I20: Dirección de Viento (°) | J20: Radiación Solar (W/m²)
C21: 44593 | D21: 1006.3 | E21: 0 | F21: 21.5 | G21: 63.8 | H21: 1.9 | I21: 159.1 | J21: 0
C22: 44593.042 | D22: 1005.8 | E22: 0 | F22: 21.8 | G22: 60.1 | H22: 3.9 | I22: 169 | J22: 0
C23: 44593.083 | D23: 1005.5 | E23: 0 | F23: 21.5 | G23: 64.9 | H23: 3.6 | I23: 154.9 | J23: 0
C24: 44593.125 | D24: 1005.2 | E24: 0 | F24: 21.4 | G24: 65.2 | H24: 2.6 | I24: 152.6 | J24: 0
C25: 44593.167 | D25: 1005.4 | E25: 0 | F25: 20.4 | G25: 69.7 | H25: 0.9 | I25: 41 | J25: 0
C26: 44593.208 | D26: 1006 | E26: 0 | F26: 20.4 | G26: 69.3 | H26: 0.6 | I26: 78.5 | J26: 2.9
C27: 44593.25 | D27: 1006.5 | E27: 0 | F27: 21.6 | G27: 59.8 | H27: 2.2 | I27: 150.4 | J27: 107.4
C28: 44593.292 | D28: 1006.6 | E28: 0 | F28: 21.7 | G28: 65.4 | H28: 1 | I28: 325.8 | J28: 378.6
C29: 44593.333 | D29: 1006.2 | E29: 0 | F29: 22.5 | G29: 62.9 | H29: 2.2 | I29: 341.4 | J29: 631
C30: 44593.375 | D30: 1005.7 | E30: 0 | F30: 23.7 | G30: 55.2 | H30: 4 | I30: 251.2 | J30: 826.3
C31: 44593.417 | D31: 1005.2 | E31: 0 | F31: 25 | G31: 48.9 | H31: 5.3 | I31: 178.8 | J31: 958.8
C32: 44593.458 | D32: 1004.6 | E32: 0 | F32: 25.6 | G32: 49 | H32: 5.9 | I32: 184.4 | J32: 680.4
... C439: 44610.417 | D439: 1002.7 | E439: 0 | F439: 24.9 | G439: 63.4 | H439: 2 | I439: 291.9 | J439: 902.3
C440: 44610.458 | D440: ID | E440: ID | F440: ID | G440: ID | H440: ID | I440: ID | J440: ID
C441: 44610.5 | D441: 1001.8 | E441: 0 | F441: 26.7 | G441: 55 | H441: 4.7 | I441: 194.3 | J441: 576.5
C442: 44610.542 | D442: 1001.5 | E442: 0 | F442: 26.7 | G442: 55.6 | H442: 4.3 | I442: 198.3 | J442: 897.1
C443: 44610.583 | D443: 1001.4 | E443: 0 | F443: 26.1 | G443: 58.5 | H443: 4.2 | I443: 208.5 | J443: 730.8
C444: 44610.625 | D444: 1001.9 | E444: 0 | F444: 24.7 | G444: 67.6 | H444: 2.7 | I444: 276.8 | J444: 540.4
C445: 44610.667 | D445: 1002 | E445: 0 | F445: 23.4 | G445: 75.7 | H445: 1.8 | I445: 308.9 | J445: 482.9
C446: 44610.708 | D446: 1002.3 | E446: 0 | F446: 22.5 | G446: 79.2 | H446: 1.4 | I446: 295.6 | J446: 173.6
C447: 44610.75 | D447: 1003.5 | E447: 0 | F447: 21.9 | G447: 81.1 | H447: 1.1 | I447: 325.9 | J447: 8.7
C448: 44610.792 | D448: 1004.7 | E448: 0 | F448: 21.9 | G448: 81.6 | H448: 0.6 | I448: 308.5 | J448: 0
C449: 44610.833 | D449: 1005.4 | E449: 0 | F449: 22.1 | G449: 81 | H449: 0.6 | I449: 302.9 | J449: 0
C450: 44610.875 | D450: 1006 | E450: 0 | F450: 21.5 | G450: 83.7 | H450: 0.4 | I450: 301.6 | J450: 0
C451: 44610.917 | D451: 1006.1 | E451: 0 | F451: 21.5 | G451: 84.6 | H451: 0.6 | I451: 305.1 | J451: 0
C452: 44610.958 | D452: 1005.7 | E452: 0 | F452: 22.5 | G452: 77.9 | H452: 1.2 | I452: 225.1 | J452: 0
... C692: 44620.958 | D692: 1005.9 | E692: 0 | F692: 22.2 | G692: 64.7 | H692: 2.1 | I692: 156.4 | J692: 0
C766: ID: Insuficiencia de data

Sheet Regresion
A1: Po/Pa | B1: 2 | D1: 4 | G1: Po/Pa | H1: 4 | I1: 6 | N1: Po/Pa | O1: 6 | P1: 8
A2: 0.912 | B2: =ROUND(1.2636*A2-0.0719,3) -> 1.081 | D2: =ROUND(1.2636*A2-0.0681,3) -> 1.084 | G2: 0.912 | H2: =ROUND(1.2636*G2-0.0681,3) -> 1.084 | I2: =ROUND(1.2364*G2-0.0391,3) -> 1.088 | N2: 0.922 | O2: =1.2364*N2-0.0391 -> 1.1008608 | P2: =1.2636*N2-0.0611 -> 1.1039392
A3: 0.93 | B3: 1.103 | D3: 1.107 | G3: 0.93 | H3: 1.107 | I3: 1.111 | N3: 0.93 | O3: 1.111 | P3: 1.114
A4: 0.931 | B4: 1.105 | D4: 1.108 | G4: 0.931 | H4: 1.108 | I4: 1.112 | N4: 0.931 | O4: 1.112 | P4: 1.115
A5: 0.932 | B5: 1.106 | D5: 1.11 | G5: 0.932 | H5: 1.11 | I5: 1.113 | N5: 0.932 | O5: 1.113 | P5: 1.117
A6: 0.933 | B6: 1.107 | D6: 1.111 | G6: 0.933 | H6: 1.111 | I6: 1.114 | N6: 0.933 | O6: 1.114 | P6: 1.118
A7: 0.934 | B7: 1.108 | D7: 1.112 | G7: 0.934 | H7: 1.112 | I7: 1.116 | N7: 0.934 | O7: 1.116 | P7: 1.119
A8: 0.935 | B8: 1.11 | D8: 1.113 | G8: 0.935 | H8: 1.113 | I8: 1.117 | N8: 0.935 | O8: 1.117 | P8: 1.12
A9: 0.936 | B9: 1.111 | D9: 1.115 | G9: 0.936 | H9: 1.115 | I9: 1.118 | N9: 0.936 | O9: 1.118 | P9: 1.122
A10: 0.937 | B10: 1.112 | D10: 1.116 | G10: 0.937 | H10: 1.116 | I10: 1.119 | N10: 0.937 | O10: 1.119 | P10: 1.123
A11: 0.938 | B11: 1.113 | D11: 1.117 | G11: 0.938 | H11: 1.117 | I11: 1.121 | N11: 0.938 | O11: 1.121 | P11: 1.124
A12: 0.939 | B12: 1.115 | D12: 1.118 | G12: 0.939 | H12: 1.118 | I12: 1.122 | N12: 0.939 | O12: 1.122 | P12: 1.125
A13: 0.94 | B13: 1.116 | D13: 1.12 | G13: 0.94 | H13: 1.12 | I13: 1.123 | N13: 0.94 | O13: 1.123 | P13: 1.127

Sheet Hoja2
A1: Aluminio | B1: Aluminio (Al) | C1: 64.6
A2: Antimonio | B2: Antimonio (Sb) | C2: 0.813
A3: Arsénico | B3: Arsenico (As) | C3: 2.553
A4: Bario | B4: Bario (Ba) | C4: 5.135
A5: Berilio | B5: Berilio (Be) | C5: < 0,010
A6: Bismuto | B6: Bismuto (Bi) | C6: 0.5814
A7: Boro | B7: Boro (B) | C7: 1.96
A8: Cadmio | B8: Cadmio (Cd) | C8: 0.382
A9: Calcio | B9: Calcio (Ca) | C9: 1150
A10: Cobalto | B10: Cobalto (Co) | C10: 1.445
A11: Cobre | B11: Cobre (Cu) | C11: 32.34
A12: Cromo | B12: Cromo (Cr) | C12: < 2,082
A13: Estaño | B13: Estaño (Sn) | C13: < 0,067
A14: Estroncio | B14: Estroncio (Sr) | C14: 2.633
A15: Fósforo | B15: Fósforo (P) | C15: 215.6
A16: Hierro | B16: Hierro (Fe) | C16: 666.9
A17: Litio | B17: Litio (Li) | C17: < 0,09
A18: Magnesio | B18: Magnesio (Mg) | C18: 150.6
A19: Manganeso | B19: Manganeso (Mn) | C19: 123.5
A20: Mercurio | B20: Mercurio (Hg) | C20: < 0,021
A21: Molibdeno | B21: Molibdeno (Mo) | C21: 1.352
A22: Níquel | B22: Níquel (Ni) | C22: 2.621
A23: Plata | B23: Plata (Ag) | C23: 0.2869
A24: Plomo | B24: Plomo (Pb) | C24: 42.71
A25: Potasio | B25: Potasio (K) | C25: 50.6
A26: Selenio | B26: Selenio (Se) | C26: < 0,421
A27: Silicio | B27: Silicio (Si) | C27: 71.7
A28: Sodio | B28: Sodio (Na) | C28: < 191,7
A29: Talio | B29: Talio (Tl) | C29: < 0,008
A30: Titanio | B30: Titanio (Ti) | C30: 0.77
A31: Uranio | B31: Uranio (U) | C31: < 0,0071
A32: Vanadio | B32: Vanadio (V) | C32: < 0,071
A33: Zinc | B33: Zinc (Zn) | C33: 92.06

Sheet A.2.1. Promedio meteorologia
E1: Tabla A.2.1 Promedio de datos meteorológicos
D6: TÍTULO DEL ESTUDIO: | E6: EVALUACIÓN DE SEGUIMIENTO DE LA CALIDAD DEL AIRE EN EL ÁMBITO DE LA ZONA INDUSTRIAL DE VENTANILLA - MI PERÚ, UBICADO EN LOS DISTRITOS DE VENTANILLA Y MI PERÚ, PROVINCIA CONSTITUCIONAL DEL CALLAO, DURANTE JULIO DE 2020
D8: PUNTO DE MONITOREO: | E8: CA-VMP-6 | F8: CÓDIGO DE ACCIÓN: | G8: 0001-7-2020-411
D10: DATOS DEL EQUIPO
D12: EQUIPO: | E12: ESTACIÓN METEOROLÓGICA | F12: MARCA: | G12: DAVIS
D14: MODELO: | E14: VANTAGE PRO 2 | F14: SERIE: | G14: BB180411015
D16: DIA 1
A17: Fecha | B17: Hora | D17: Fecha y hora | E17: Presión atmosférica (mmHg) | F17: Temperatura ambiental (°C) | G17: Humedad relativa (%) | H17: Velocidad de Viento (m/s) | L17: P | M17: T | N17: HR | O17: WS
A18: 43881 | B18: 0.45833333 | K18: Mínimo | L18: =MIN(E18:E41,E46:E69,E74:E97,E102:E125,E130:E153) -> 0 | M18: =MIN(F18:F41,F46:F69,F74:F97,F102:F125,F130:F153) -> 0 | N18: =MIN(G18:G41,G46:G69,G74:G97,G102:G125,G130:G153) -> 0 | O18: =MIN(H18:H41,H46:H69,H74:H97,H102:H125,H130:H153) -> 0
A19: =A18 -> 43881 | B19: 0.5 | K19: Máximo | L19: =MAX(E18:E41,E46:E69,E74:E97,E102:E125,E130:E153) -> 0 | M19: =MAX(F18:F41,F46:F69,F74:F97,F102:F125,F130:F153) -> 0 | N19: =MAX(G18:G41,G46:G69,G74:G97,G102:G125,G130:G153) -> 0 | O19: =MAX(H18:H41,H46:H69,H74:H97,H102:H125,H130:H153) -> 0
A20: =A19 -> 43881 | B20: 0.54166667 | K20: Promedio | L20: =AVERAGE(E18:E41,E46:E69,E74:E97,E102:E125,E130:E153) -> #DIV/0! | M20: =AVERAGE(F18:F41,F46:F69,F74:F97,F102:F125,F130:F153) -> #DIV/0! | N20: =AVERAGE(G18:G41,G46:G69,G74:G97,G102:G125,G130:G153) -> #DIV/0! | O20: =AVERAGE(H18:H41,H46:H69,H74:H97,H102:H125,H130:H153) -> #DIV/0!
A21: =A20 -> 43881 | B21: 0.58333333 | K21: Desv Est | L21: =STDEV(E18:E41,E46:E69,E74:E97,E102:E125,E130:E153) -> #DIV/0! | M21: =STDEV(F18:F41,F46:F69,F74:F97,F102:F125,F130:F153) -> #DIV/0! | N21: =STDEV(G18:G41,G46:G69,G74:G97,G102:G125,G130:G153) -> #DIV/0! | O21: =STDEV(H18:H41,H46:H69,H74:H97,H102:H125,H130:H153) -> #DIV/0!
A22: =A21 -> 43881 | B22: 0.625 | K22: n | L22: =COUNT(E18:E41,E46:E69,E74:E97,E102:E125,E130:E153) -> 0 | M22: =COUNT(F18:F41,F46:F69,F74:F97,F102:F125,F130:F153) -> 0 | N22: =COUNT(G18:G41,G46:G69,G74:G97,G102:G125,G130:G153) -> 0 | O22: =COUNT(H18:H41,H46:H69,H74:H97,H102:H125,H130:H153) -> 0
A23: =A22 -> 43881 | B23: 0.66666667 | K23: SE | L23: =L21/SQRT(L22) -> #DIV/0! | M23: =M21/SQRT(M22) -> #DIV/0! | N23: =N21/SQRT(N22) -> #DIV/0! | O23: =O21/SQRT(O22) -> #DIV/0!
A24: =A23 -> 43881 | B24: 0.70833333
A25: =A24 -> 43881 | B25: 0.75
A26: =A25 -> 43881 | B26: 0.79166667
A27: =A26 -> 43881 | B27: 0.83333333
A28: =A27 -> 43881 | B28: 0.875
A29: =A28 -> 43881 | B29: 0.91666667
A30: =A29 -> 43881 | B30: 0.95833333
A31: =A30 -> 43881 | B31: 1
A32: =A31 -> 43881 | B32: 1.0416667
A33: =A32 -> 43881 | B33: 1.0833333
A34: =A33 -> 43881 | B34: 1.125
A35: =A34 -> 43881 | B35: 1.1666667
... A41: =A40 -> 43881 | B41: 1.4166667
D42: Promedio DIA 1 | E42: =AVERAGE(E18:E41) -> #DIV/0! | F42: =AVERAGE(F18:F41) -> #DIV/0! | G42: =AVERAGE(G18:G41) -> #DIV/0! | H42: =AVERAGE(H18:H41) -> #DIV/0!
D44: DIA 2
A45: Fecha | B45: Hora | D45: Fecha | E45: Presión atmosférica (mmHg) | F45: Temperatura ambiental (°C) | G45: Humedad relativa (%) | H45: Velocidad de Viento (m/s)
A46: =#REF!+4 -> #REF! | B46: 0.45833333
A47: =A46 -> #REF! | B47: 0.5
A48: =A47 -> #REF! | B48: 0.54166667
A49: =A48 -> #REF! | B49: 0.58333333
A50: =A49 -> #REF! | B50: 0.625
A51: =A50 -> #REF! | B51: 0.66666667
A52: =A51 -> #REF! | B52: 0.70833333
A53: =A52 -> #REF! | B53: 0.75
A54: =A53 -> #REF! | B54: 0.79166667
A55: =A54 -> #REF! | B55: 0.83333333
A56: =A55 -> #REF! | B56: 0.875
A57: =A56 -> #REF! | B57: 0.91666667
A58: =A57 -> #REF! | B58: 0.95833333
... A69: =A68 -> #REF! | B69: 1.4166667
D70: Promedio DIA 2 | E70: =AVERAGE(E46:E69) -> #DIV/0! | F70: =AVERAGE(F46:F69) -> #DIV/0! | G70: =AVERAGE(G46:G69) -> #DIV/0! | H70: =AVERAGE(H46:H69) -> #DIV/0!
D72: DIA 3
A73: Fecha | B73: Hora | D73: Fecha | E73: Presión atmosférica (mmHg) | F73: Temperatura ambiental (°C) | G73: Humedad relativa (%) | H73: Velocidad de Viento (m/s)
A74: =#REF!+1 -> #REF! | B74: 0.45833333
A75: =A74 -> #REF! | B75: 0.5
A76: =A75 -> #REF! | B76: 0.54166667
A77: =A76 -> #REF! | B77: 0.58333333
A78: =A77 -> #REF! | B78: 0.625
A79: =A78 -> #REF! | B79: 0.66666667
A80: =A79 -> #REF! | B80: 0.70833333
A81: =A80 -> #REF! | B81: 0.75
A82: =A81 -> #REF! | B82: 0.79166667
A83: =A82 -> #REF! | B83: 0.83333333
A84: =A83 -> #REF! | B84: 0.875
A85: =A84 -> #REF! | B85: 0.91666667
A86: =A85 -> #REF! | B86: 0.95833333
... A97: =A96 -> #REF! | B97: 1.4166667
D98: Promedio DIA 3 | E98: =AVERAGE(E74:E97) -> #DIV/0! | F98: =AVERAGE(F74:F97) -> #DIV/0! | G98: =AVERAGE(G74:G97) -> #DIV/0! | H98: =AVERAGE(H74:H97) -> #DIV/0!
D100: DIA 4
A101: Fecha | B101: Hora | D101: Fecha | E101: Presión atmosférica (mmHg) | F101: Temperatura ambiental (°C) | G101: Humedad relativa (%) | H101: Velocidad de Viento (m/s)
A102: =#REF!+1 -> #REF! | B102: 0.45833333
A103: =A102 -> #REF! | B103: 0.5
A104: =A103 -> #REF! | B104: 0.54166667
A105: =A104 -> #REF! | B105: 0.58333333
A106: =A105 -> #REF! | B106: 0.625
A107: =A106 -> #REF! | B107: 0.66666667
A108: =A107 -> #REF! | B108: 0.70833333
A109: =A108 -> #REF! | B109: 0.75
A110: =A109 -> #REF! | B110: 0.79166667
A111: =A110 -> #REF! | B111: 0.83333333
A112: =A111 -> #REF! | B112: 0.875
A113: =A112 -> #REF! | B113: 0.91666667
A114: =A113 -> #REF! | B114: 0.95833333
... A125: =A124 -> #REF! | B125: 1.4166667
D126: Promedio DIA 4 | E126: =AVERAGE(E102:E125) -> #DIV/0! | F126: =AVERAGE(F102:F125) -> #DIV/0! | G126: =AVERAGE(G102:G125) -> #DIV/0! | H126: =AVERAGE(H102:H125) -> #DIV/0!
D128: DIA 5
A129: Fecha | B129: Hora | D129: Fecha | E129: Presión atmosférica (mmHg) | F129: Temperatura ambiental (°C) | G129: Humedad relativa (%) | H129: Velocidad de Viento (m/s)
A130: =#REF!+1 -> #REF! | B130: 0.45833333
A131: =A130 -> #REF! | B131: 0.5
A132: =A131 -> #REF! | B132: 0.54166667
A133: =A132 -> #REF! | B133: 0.58333333
A134: =A133 -> #REF! | B134: 0.625
A135: =A134 -> #REF! | B135: 0.66666667
A136: =A135 -> #REF! | B136: 0.70833333
A137: =A136 -> #REF! | B137: 0.75
A138: =A137 -> #REF! | B138: 0.79166667
A139: =A138 -> #REF! | B139: 0.83333333
A140: =A139 -> #REF! | B140: 0.875
A141: =A140 -> #REF! | B141: 0.91666667
A142: =A141 -> #REF! | B142: 0.95833333
... A153: =A152 -> #REF! | B153: 1.4166667
D154: Promedio DIA 5 | E154: =AVERAGE(E130:E153) -> #DIV/0! | F154: =AVERAGE(F130:F153) -> #DIV/0! | G154: =AVERAGE(G130:G153) -> #DIV/0! | H154: =AVERAGE(H130:H153) -> #DIV/0!

Sheet A.2.2. Promedio diarios (T y P)
F2: Tabla A.2.2. Promedios diarios de temperatura y presión para el cálculo de concentración
B7: TÍTULO DEL ESTUDIO: | D7: ='A.2.1. Promedio meteorologia'!E6 -> EVALUACIÓN DE SEGUIMIENTO DE LA CALIDAD DEL AIRE EN EL ÁMBITO DE LA ZONA INDUSTRIAL DE VENTANILLA - MI PERÚ, UBICADO EN LOS DISTRITOS DE VENTANILLA Y MI PERÚ, PROVINCIA CONSTITUCIONAL DEL CALLAO, DURANTE JULIO DE 2020
B9: PUNTO DE MONITOREO: | D9: =+'A.2.1. Promedio meteorologia'!E8 -> CA-VMP-6 | F9: CÓDIGO DE ACCIÓN: | H9: =+'A.2.1. Promedio meteorologia'!G8 -> 0001-7-2020-411 | J9: DÍAS DE MONITOREO: | N9: 5
B11: MEDICIONES PROMEDIO (DATOS DÍARIOS)
B13: DÍA 1 | C13: INICIO: | F13: FINAL: | I13: PERIODO : | J13: =G13-D13 -> 0 | L13: horas | M13: =$J13*60*24 -> 0 | N13: min
B15: Datos horarios registrados: | E15: =J13 -> 0 | F15: horas
B17: Temperatura (°C): | E17: ='A.2.1. Promedio meteorologia'!F42 -> #DIV/0! | F17: Presión (mm Hg): | H17: ='A.2.1. Promedio meteorologia'!E42 -> #DIV/0!
B20: DÍA 2 | C20: INICIO: | F20: FINAL: | I20: PERIODO : | J20: =G20-D20 -> 0 | L20: horas | M20: =$J20*60*24 -> 0 | N20: min
B22: Datos horarios registrados: | E22: =J20 -> 0 | F22: horas
B24: Temperatura (°C): | E24: ='A.2.1. Promedio meteorologia'!F70 -> #DIV/0! | F24: Presión (mm Hg): | H24: ='A.2.1. Promedio meteorologia'!E70 -> #DIV/0!
B27: DÍA 3 | C27: INICIO: | F27: FINAL: | I27: PERIODO : | J27: =G27-D27 -> 0 | L27: horas | M27: =$J27*60*24 -> 0 | N27: min
B29: Datos horarios registrados: | E29: =J27 -> 0 | F29: horas
B31: Temperatura (°C): | E31: ='A.2.1. Promedio meteorologia'!F98 -> #DIV/0! | F31: Presión (mm Hg): | H31: ='A.2.1. Promedio meteorologia'!E98 -> #DIV/0!
B34: DÍA 4 | C34: INICIO: | F34: FINAL: | I34: PERIODO : | J34: =G34-D34 -> 0 | L34: horas | M34: =$J34*60*24 -> 0 | N34: min
B36: Datos horarios registrados: | E36: =J34 -> 0 | F36: horas
B38: Temperatura (°C): | E38: ='A.2.1. Promedio meteorologia'!F126 -> #DIV/0! | F38: Presión (mm Hg): | H38: ='A.2.1. Promedio meteorologia'!E126 -> #DIV/0!
B41: DÍA 5 | C41: INICIO: | F41: FINAL: | I41: PERIODO : | J41: =G41-D41 -> 0 | L41: horas | M41: =$J41*60*24 -> 0 | N41: min
B43: Datos horarios registrados: | E43: =J41 -> 0 | F43: horas
B45: Temperatura (°C): | E45: ='A.2.1. Promedio meteorologia'!F154 -> #DIV/0! | F45: Presión (mm Hg): | H45: ='A.2.1. Promedio meteorologia'!E154 -> #DIV/0!
B48: OBSERVACIONES:

Sheet A.2.3. Flujo promedio
D2: Tabla A.2.3. Flujo de muestreo promedio para muestreadores de alto volumen
B7: TÍTULO DEL ESTUDIO: | D7: =+'A.2.1. Promedio meteorologia'!E6 -> EVALUACIÓN DE SEGUIMIENTO DE LA CALIDAD DEL AIRE EN EL ÁMBITO DE LA ZONA INDUSTRIAL DE VENTANILLA - MI PERÚ, UBICADO EN LOS DISTRITOS DE VENTANILLA Y MI PERÚ, PROVINCIA CONSTITUCIONAL DEL CALLAO, DURANTE JULIO DE 2020
B9: ESTACIÓN DE MONITOREO: | D9: ='A.2.2. Promedio diarios (T y P)'!D9:D9 -> CA-VMP-6 | F9: CÓDIGO DE ACCIÓN: | H9: =+'A.2.2. Promedio diarios (T y P)'!H9 -> 0001-7-2020-411 | I9: CANTIDAD DE DÍAS | J9: =+'A.2.2. Promedio diarios (T y P)'!N9 -> 5
B11: DATOS DE LOS EQUIPOS
B13: Barómetro | D13: MARCA: | E13: - | F13: MODELO: | G13: - | H13: SERIE: | I13: -
B15: Venturi PM-10 | D15: MARCA: | F15: THERMO SCIENTIFIC
D16: MODELO: | F16: HI VOL
D17: SERIE: | F17: P9328X
B19: CÁLCULOS
B21: PM-10
B22: DÍA 1 | C22: Fecha Inicio: | E22: =+'A.2.2. Promedio diarios (T y P)'!D13 -> 0 | G22: Fecha Final: | I22: =+'A.2.2. Promedio diarios (T y P)'!G13 -> 0 | M22: ∆ Flujo: | N22: =AVERAGE(M24,M32,M40,M48,M56) -> 0.67
B24: Presión inicial: | D24: 20.2 | E24: pulg H2O | G24: Presión final: | I24: 21.4 | J24: pulg H2O | M24: =I24-D24 -> 1.2
B26: PRESIÓN ATMOSFÉRICA | F26: Ta (°C) | G26: T (°C) inferior | H26: T (°C) superior | I26: Flujo de muestreo, en m3/min (Qa)
B27: Δh (pulg H2O) | C27: Pf (mm Hg) | D27: Pa (mm Hg) | E27: Po/Pa | G27: =+H27-2 -> #DIV/0! | H27: =EVEN(F28) -> #DIV/0!
B28: =AVERAGE(D24,I24) -> 20.8 | C28: =25.4*B28/13.61 -> 38.818516 | D28: =+'A.2.2. Promedio diarios (T y P)'!H17 -> #DIV/0! | E28: =1-(C28/D28) -> #DIV/0! | F28: =+'A.2.2. Promedio diarios (T y P)'!E17 -> #DIV/0! | G28: 1.15 | H28: 1.153 | I28: =-(H28-G28)/(H27-G27)*(H27-F28)+H28 -> #DIV/0!
B30: DÍA 2 | C30: Fecha Inicio: | E30: =+'A.2.2. Promedio diarios (T y P)'!D20 -> 0 | G30: Fecha Final: | I30: =+'A.2.2. Promedio diarios (T y P)'!G20 -> 0
B32: Presión inicial: | D32: 21.3 | E32: pulg H2O | G32: Presión final: | I32: 21.6 | J32: pulg H2O | M32: =I32-D32 -> 0.3
B34: PRESIÓN ATMOSFÉRICA | F34: Ta (°C) | G34: T (°C) inferior | H34: T (°C) superior | I34: Flujo de muestreo, en m3/min (Qa)
B35: Δh (pulg H2O) | C35: Pf (mm Hg) | D35: Pa (mm Hg) | E35: Po/Pa | G35: =+H35-2 -> #DIV/0! | H35: =EVEN(F36) -> #DIV/0!
B36: =AVERAGE(D32,I32) -> 21.45 | C36: =25.4*B36/13.61 -> 40.031594 | D36: =+'A.2.2. Promedio diarios (T y P)'!H24 -> #DIV/0! | E36: =1-(C36/D36) -> #DIV/0! | F36: =+'A.2.2. Promedio diarios (T y P)'!E24 -> #DIV/0! | G36: 1.147 | H36: 1.151 | I36: =-(H36-G36)/(H35-G35)*(H35-F36)+H36 -> #DIV/0!
B38: DÍA 3 | C38: Fecha Inicio: | E38: =+'A.2.2. Promedio diarios (T y P)'!D27 -> 0 | G38: Fecha Final: | I38: =+'A.2.2. Promedio diarios (T y P)'!G27 -> 0
B40: Presión inicial: | D40: 20.9 | E40: pulg H2O | G40: Presión final: | I40: 21.5 | J40: pulg H2O | M40: =I40-D40 -> 0.6
B42: PRESIÓN ATMOSFÉRICA | F42: Ta (°C) | G42: T (°C) inferior | H42: T (°C) superior | I42: Flujo de muestreo, en m3/min (Qa)
B43: Δh (pulg H2O) | C43: Pf (mm Hg) | D43: Pa (mm Hg) | E43: Po/Pa | G43: =+H43-2 -> #DIV/0! | H43: =EVEN(F44) -> #DIV/0!
B44: =AVERAGE(D40,I40) -> 21.2 | C44: =25.4*B44/13.61 -> 39.565026 | D44: =+'A.2.2. Promedio diarios (T y P)'!H31 -> #DIV/0! | E44: =1-(C44/D44) -> #DIV/0! | F44: =+'A.2.2. Promedio diarios (T y P)'!E31 -> #DIV/0! | G44: 1.148 | H44: 1.152 | I44: =-(H44-G44)/(H43-G43)*(H43-F44)+H44 -> #DIV/0!
B46: DÍA 4 | C46: Fecha Inicio: | E46: =+'A.2.2. Promedio diarios (T y P)'!D34 -> 0 | G46: Fecha Final: | I46: =+'A.2.2. Promedio diarios (T y P)'!G34 -> 0
B48: Presión inicial: | D48: 21.7 | E48: pulg H2O | G48: Presión final: | I48: 22.25 | J48: pulg H2O | M48: =I48-D48 -> 0.55
B50: PRESIÓN ATMOSFÉRICA | F50: Ta (°C) | G50: T (°C) inferior | H50: T (°C) superior | I50: Flujo de muestreo, en m3/min (Qa)
B51: Δh (pulg H2O) | C51: Pf (mm Hg) | D51: Pa (mm Hg) | E51: Po/Pa | G51: =+H51-2 -> #DIV/0! | H51: =EVEN(F52) -> #DIV/0!
B52: =AVERAGE(D48,I48) -> 21.975 | C52: =25.4*B52/13.61 -> 41.011389 | D52: =+'A.2.2. Promedio diarios (T y P)'!H38 -> #DIV/0! | E52: =1-(C52/D52) -> #DIV/0! | F52: =+'A.2.2. Promedio diarios (T y P)'!E38 -> #DIV/0! | G52: 1.146 | H52: 1.149 | I52: =-(H52-G52)/(H51-G51)*(H51-F52)+H52 -> #DIV/0!
B54: DÍA 5 | C54: Fecha Inicio: | E54: =+'A.2.2. Promedio diarios (T y P)'!D41 -> 0 | G54: Fecha Final: | I54: =+'A.2.2. Promedio diarios (T y P)'!G41 -> 0
B56: Presión inicial: | D56: 21.6 | E56: pulg H2O | G56: Presión final: | I56: 22.3 | J56: pulg H2O | M56: =I56-D56 -> 0.7
B58: PRESIÓN ATMOSFÉRICA | F58: Ta (°C) | G58: T (°C) inferior | H58: T (°C) superior | I58: Flujo de muestreo, en m3/min (Qa)
B59: Δh (pulg H2O) | C59: Pf (mm Hg) | D59: Pa (mm Hg) | E59: Po/Pa | G59: =+H59-2 -> #DIV/0! | H59: =EVEN(F60) -> #DIV/0!
B60: =AVERAGE(D56,I56) -> 21.95 | C60: =25.4*B60/13.61 -> 40.964732 | D60: =+'A.2.2. Promedio diarios (T y P)'!H45 -> #DIV/0! | E60: =1-(C60/D60) -> #DIV/0! | F60: =+'A.2.2. Promedio diarios (T y P)'!E45 -> #DIV/0! | G60: 1.146 | H60: 1.149 | I60: =-(H60-G60)/(H59-G59)*(H59-F60)+H60 -> #DIV/0!
B62: DÍA 6 | C62: Fecha Inicio: | E62: =+'A.2.2. Promedio diarios (T y P)'!#REF! -> #REF! | G62: Fecha Final: | I62: =+'A.2.2. Promedio diarios (T y P)'!#REF! -> #REF!
B64: Presión inicial: | E64: pulg H2O | G64: Presión final: | J64: pulg H2O
B66: PRESIÓN ATMOSFÉRICA | F66: Ta (°C) | G66: T (°C) inferior | H66: T (°C) superior | I66: Flujo de muestreo, en m3/min (Qa)
B67: Δh (pulg H2O) | C67: Pf (mm Hg) | D67: Pa (mm Hg) | E67: Po/Pa | G67: =+H67-2 -> #REF! | H67: =EVEN(F68) -> #REF!
B68: =AVERAGE(D64,I64) -> #DIV/0! | C68: =25.4*B68/13.61 -> #DIV/0! | D68: =+'A.2.2. Promedio diarios (T y P)'!#REF! -> #REF! | E68: =1-(C68/D68) -> #DIV/0! | F68: =+'A.2.2. Promedio diarios (T y P)'!#REF! -> #REF! | I68: =-(H68-G68)/(H67-G67)*(H67-F68)+H68 -> #REF!
B70: DÍA 7 | C70: Fecha Inicio: | E70: =+'A.2.2. Promedio diarios (T y P)'!#REF! -> #REF! | G70: Fecha Final: | I70: =+'A.2.2. Promedio diarios (T y P)'!#REF! -> #REF!
B72: Presión inicial: | E72: pulg H2O | G72: Presión final: | J72: pulg H2O
B74: PRESIÓN ATMOSFÉRICA | F74: Ta (°C) | G74: T (°C) inferior | H74: T (°C) superior | I74: Flujo de muestreo, en m3/min (Qa)
B75: Δh (pulg H2O) | C75: Pf (mm Hg) | D75: Pa (mm Hg) | E75: Po/Pa | G75: =+H75-2 -> #REF! | H75: =EVEN(F76) -> #REF!
B76: =AVERAGE(D72,I72) -> #DIV/0! | C76: =25.4*B76/13.61 -> #DIV/0! | D76: =+'A.2.2. Promedio diarios (T y P)'!#REF! -> #REF! | E76: =1-(C76/D76) -> #DIV/0! | F76: =+'A.2.2. Promedio diarios (T y P)'!#REF! -> #REF! | I76: =-(H76-G76)/(H75-G75)*(H75-F76)+H76 -> #REF!
B78: DÍA 8 | C78: Fecha Inicio: | E78: =+'A.2.2. Promedio diarios (T y P)'!#REF! -> #REF! | G78: Fecha Final: | I78: =+'A.2.2. Promedio diarios (T y P)'!#REF! -> #REF!
B80: Presión inicial: | E80: pulg H2O | G80: Presión final: | J80: pulg H2O
B82: PRESIÓN ATMOSFÉRICA | F82: Ta (°C) | G82: T (°C) inferior | H82: T (°C) superior | I82: Flujo prom (m3/min)
B83: Δh (pulg H2O) | C83: Pf (mm Hg) | D83: Pa (mm Hg) | E83: Po/Pa | G83: =+H83-2 -> #REF! | H83: =EVEN(F84) -> #REF!
B84: =AVERAGE(D80,I80) -> #DIV/0! | C84: =25.4*B84/13.61 -> #DIV/0! | D84: =+'A.2.2. Promedio diarios (T y P)'!#REF! -> #REF! | E84: =1-(C84/D84) -> #DIV/0! | F84: =+'A.2.2. Promedio diarios (T y P)'!#REF! -> #REF! | I84: =-(H84-G84)/(H83-G83)*(H83-F84)+H84 -> #REF!
B86: DÍA 9 | C86: Fecha Inicio: | E86: =+'A.2.2. Promedio diarios (T y P)'!#REF! -> #REF! | G86: Fecha Final: | I86: =+'A.2.2. Promedio diarios (T y P)'!#REF! -> #REF!
B88: Presión inicial: | E88: pulg H2O | G88: Presión final: | J88: pulg H2O
B90: PRESIÓN ATMOSFÉRICA | F90: Ta (°C) | G90: T (°C) inferior | H90: T (°C) superior | I90: Flujo prom (m3/min)
B91: Δh (pulg H2O) | C91: Pf (mm Hg) | D91: Pa (mm Hg) | E91: Po/Pa | G91: =+H91-2 -> #REF! | H91: =EVEN(F92) -> #REF!
B92: =AVERAGE(D88,I88) -> #DIV/0! | C92: =25.4*B92/13.61 -> #DIV/0! | D92: =+'A.2.2. Promedio diarios (T y P)'!#REF! -> #REF! | E92: =1-(C92/D92) -> #DIV/0! | F92: =+'A.2.2. Promedio diarios (T y P)'!#REF! -> #REF! | I92: =-(H92-G92)/(H91-G91)*(H91-F92)+H92 -> #REF!
B94: DÍA 10 | C94: Fecha Inicio: | E94: =+'A.2.2. Promedio diarios (T y P)'!#REF! -> #REF! | G94: Fecha Final: | I94: =+'A.2.2. Promedio diarios (T y P)'!#REF! -> #REF!
B96: Presión inicial: | E96: pulg H2O | G96: Presión final: | J96: pulg H2O
B98: PRESIÓN ATMOSFÉRICA | F98: Ta (°C) | G98: T (°C) inferior | H98: T (°C) superior | I98: Flujo prom (m3/min)
B99: Δh (pulg H2O) | C99: Pf (mm Hg) | D99: Pa (mm Hg) | E99: Po/Pa | G99: =+H99-2 -> #REF! | H99: =EVEN(F100) -> #REF!
B100: =AVERAGE(D96,I96) -> #DIV/0! | C100: =25.4*B100/13.61 -> #DIV/0! | D100: =+'A.2.2. Promedio diarios (T y P)'!#REF! -> #REF! | E100: =1-(C100/D100) -> #DIV/0! | F100: =+'A.2.2. Promedio diarios (T y P)'!#REF! -> #REF! | I100: =-(H100-G100)/(H99-G99)*(H99-F100)+H100 -> #REF!
B102: DÍA 11 | C102: Fecha Inicio: | E102: =+'A.2.2. Promedio diarios (T y P)'!#REF! -> #REF! | G102: Fecha Final: | I102: =+'A.2.2. Promedio diarios (T y P)'!#REF! -> #REF!
B104: Presión inicial: | E104: pulg H2O | G104: Presión final: | J104: pulg H2O
B106: PRESIÓN ATMOSFÉRICA | F106: Ta (°C) | G106: T (°C) inferior | H106: T (°C) superior | I106: Flujo prom (m3/min)
B107: Δh (pulg H2O) | C107: Pf (mm Hg) | D107: Pa (mm Hg) | E107: Po/Pa | G107: =+H107-2 -> #REF! | H107: =EVEN(F108) -> #REF!
B108: =AVERAGE(D104,I104) -> #DIV/0! | C108: =25.4*B108/13.61 -> #DIV/0! | D108: =+'A.2.2. Promedio diarios (T y P)'!#REF! -> #REF! | E108: =1-(C108/D108) -> #DIV/0! | F108: =+'A.2.2. Promedio diarios (T y P)'!#REF! -> #REF! | I108: =-(H108-G108)/(H107-G107)*(H107-F108)+H108 -> #REF!
B110: DÍA 12 | C110: Fecha Inicio: | E110: =+'A.2.2. Promedio diarios (T y P)'!#REF! -> #REF! | G110: Fecha Final: | I110: =+'A.2.2. Promedio diarios (T y P)'!#REF! -> #REF!
B112: Presión inicial: | E112: pulg H2O | G112: Presión final: | J112: pulg H2O
B114: PRESIÓN ATMOSFÉRICA | F114: Ta (°C) | G114: T (°C) inferior | H114: T (°C) superior | I114: Flujo prom (m3/min)
B115: Δh (pulg H2O) | C115: Pf (mm Hg) | D115: Pa (mm Hg) | E115: Po/Pa | G115: =+H115-2 -> #REF! | H115: =EVEN(F116) -> #REF!
B116: =AVERAGE(D112,I112) -> #DIV/0! | C116: =25.4*B116/13.61 -> #DIV/0! | D116: =+'A.2.2. Promedio diarios (T y P)'!#REF! -> #REF! | E116: =1-(C116/D116) -> #DIV/0! | F116: =+'A.2.2. Promedio diarios (T y P)'!#REF! -> #REF! | I116: =-(H116-G116)/(H115-G115)*(H115-F116)+H116 -> #REF!
B118: DÍA 13 | C118: Fecha Inicio: | E118: =+'A.2.2. Promedio diarios (T y P)'!#REF! -> #REF! | G118: Fecha Final: | I118: =+'A.2.2. Promedio diarios (T y P)'!#REF! -> #REF!
B120: Presión inicial: | E120: pulg H2O | G120: Presión final: | J120: pulg H2O
B122: PRESIÓN ATMOSFÉRICA | F122: Ta (°C) | G122: T (°C) inferior | H122: T (°C) superior | I122: Flujo prom (m3/min)
B123: Δh (pulg H2O) | C123: Pf (mm Hg) | D123: Pa (mm Hg) | E123: Po/Pa | G123: =+H123-2 -> #REF! | H123: =EVEN(F124) -> #REF!
B124: =AVERAGE(D120,I120) -> #DIV/0! | C124: =25.4*B124/13.61 -> #DIV/0! | D124: =+'A.2.2. Promedio diarios (T y P)'!#REF! -> #REF! | E124: =1-(C124/D124) -> #DIV/0! | F124: =+'A.2.2. Promedio diarios (T y P)'!#REF! -> #REF! | I124: =-(H124-G124)/(H123-G123)*(H123-F124)+H124 -> #REF!
B126: DÍA 14 | C126: Fecha Inicio: | E126: =+'A.2.2. Promedio diarios (T y P)'!#REF! -> #REF! | G126: Fecha Final: | I126: =+'A.2.2. Promedio diarios (T y P)'!#REF! -> #REF!
B128: Presión inicial: | E128: pulg H2O | G128: Presión final: | J128: pulg H2O
B130: PRESIÓN ATMOSFÉRICA | F130: Ta (°C) | G130: T (°C) inferior | H130: T (°C) superior | I130: Flujo prom (m3/min)
B131: Δh (pulg H2O) | C131: Pf (mm Hg) | D131: Pa (mm Hg) | E131: Po/Pa | G131: =+H131-2 -> #REF! | H131: =EVEN(F132) -> #REF!
B132: =AVERAGE(D128,I128) -> #DIV/0! | C132: =25.4*B132/13.61 -> #DIV/0! | D132: =+'A.2.2. Promedio diarios (T y P)'!#REF! -> #REF! | E132: =1-(C132/D132) -> #DIV/0! | F132: =+'A.2.2. Promedio diarios (T y P)'!#REF! -> #REF! | I132: =-(H132-G132)/(H131-G131)*(H131-F132)+H132 -> #REF!
B134: DÍA 15 | C134: Fecha Inicio: | E134: =+'A.2.2. Promedio diarios (T y P)'!#REF! -> #REF! | G134: Fecha Final: | I134: =+'A.2.2. Promedio diarios (T y P)'!#REF! -> #REF!
B136: Presión inicial: | E136: pulg H2O | G136: Presión final: | J136: pulg H2O
B138: PRESIÓN ATMOSFÉRICA | F138: Ta (°C) | G138: T (°C) inferior | H138: T (°C) superior | I138: Flujo prom (m3/min)
B139: Δh (pulg H2O) | C139: Pf (mm Hg) | D139: Pa (mm Hg) | E139: Po/Pa | G139: =+H139-2 -> #REF! | H139: =EVEN(F140) -> #REF!
B140: =AVERAGE(D136,I136) -> #DIV/0! | C140: =25.4*B140/13.61 -> #DIV/0! | D140: =+'A.2.2. Promedio diarios (T y P)'!#REF! -> #REF! | E140: =1-(C140/D140) -> #DIV/0! | F140: =+'A.2.2. Promedio diarios (T y P)'!#REF! -> #REF! | I140: =-(H140-G140)/(H139-G139)*(H139-F140)+H140 -> #REF!
B142: OBSERVACIONES:
B143: "-" : No aplica.

Sheet A.2.4. Cálculo PM10 y VM
E2: Tabla A.2.4. Concentración de PM10 y el volumen muestreado de metales - alto volumen
B7: TÍTULO DEL ESTUDIO: | E7: =+'A.2.1. Promedio meteorologia'!E6 -> EVALUACIÓN DE SEGUIMIENTO DE LA CALIDAD DEL AIRE EN EL ÁMBITO DE LA ZONA INDUSTRIAL DE VENTANILLA - MI PERÚ, UBICADO EN LOS DISTRITOS DE VENTANILLA Y MI PERÚ, PROVINCIA CONSTITUCIONAL DEL CALLAO, DURANTE JULIO DE 2020
B9: ESTACIÓN DE MONITOREO: | E9: ='A.2.1. Promedio meteorologia'!E8 -> CA-VMP-6 | H9: CÓDIGO DE ACCIÓN: | J9: ='A.2.1. Promedio meteorologia'!G8 -> 0001-7-2020-411
B11: N° | C11: Parámetro | D11: N° Filtro | E11: Fecha Inicio | F11: Fecha Final | G11: Tiempo o periodo de muestreo en minutos (t) | I11: Flujo de muestreo, en m3/min (Qa) | K11: Volumen de muestreo en m3 (Va)* | L11: ΔPeso (µg) ** | M11: Concentración de partículas (µg/m3)
B12: 1 | C12: PM10 | D12: 431014 | E12: =+'A.2.2. Promedio diarios (T y P)'!D13 -> 0 | F12: =+'A.2.2. Promedio diarios (T y P)'!G13 -> 0 | G12: =+'A.2.2. Promedio diarios (T y P)'!M13 -> 0 | I12: =+'A.2.3. Flujo promedio'!I28 -> #DIV/0! | K12: =+I12*G12 -> #DIV/0! | L12: 97400 | M12: =IF(L12="","",L12/K12) -> #DIV/0!
B13: 2 | D13: 431015 | E13: =+'A.2.2. Promedio diarios (T y P)'!D20 -> 0 | F13: =+'A.2.2. Promedio diarios (T y P)'!G20 -> 0 | G13: =+'A.2.2. Promedio diarios (T y P)'!M20 -> 0 | I13: ='A.2.3. Flujo promedio'!I36:J36 -> #DIV/0! | K13: =+I13*G13 -> #DIV/0! | L13: 76000 | M13: =IF(L13="","",L13/K13) -> #DIV/0!
B14: 3 | D14: 431016 | E14: =+'A.2.2. Promedio diarios (T y P)'!D27 -> 0 | F14: =+'A.2.2. Promedio diarios (T y P)'!G27 -> 0 | G14: =+'A.2.2. Promedio diarios (T y P)'!M27 -> 0 | I14: ='A.2.3. Flujo promedio'!I44:J44 -> #DIV/0! | K14: =+I14*G14 -> #DIV/0! | L14: 92300 | M14: =IF(L14="","",L14/K14) -> #DIV/0!
B15: 4 | D15: 431017 | E15: =+'A.2.2. Promedio diarios (T y P)'!D34 -> 0 | F15: =+'A.2.2. Promedio diarios (T y P)'!G34 -> 0 | G15: =+'A.2.2. Promedio diarios (T y P)'!M34 -> 0 | I15: ='A.2.3. Flujo promedio'!I52:J52 -> #DIV/0! | K15: =+I15*G15 -> #DIV/0! | L15: 118200 | M15: =IF(L15="","",L15/K15) -> #DIV/0!
B16: 5 | D16: 431018 | E16: =+'A.2.2. Promedio diarios (T y P)'!D41 -> 0 | F16: =+'A.2.2. Promedio diarios (T y P)'!G41 -> 0 | G16: =+'A.2.2. Promedio diarios (T y P)'!M41 -> 0 | I16: ='A.2.3. Flujo promedio'!I60:J60 -> #DIV/0! | K16: =+I16*G16 -> #DIV/0! | L16: 122400 | M16: =IF(L16="","",L16/K16) -> #DIV/0!
B17: 6 | E17: =+'A.2.2. Promedio diarios (T y P)'!#REF! -> #REF! | F17: =+'A.2.2. Promedio diarios (T y P)'!#REF! -> #REF! | G17: =+'A.2.2. Promedio diarios (T y P)'!#REF! -> #REF! | I17: =+#REF! -> #REF! | K17: =+I17*G17 -> #REF! | M17: =IF(L17="","",L17/K17)
B18: 7 | E18: =+'A.2.2. Promedio diarios (T y P)'!#REF! -> #REF! | F18: =+'A.2.2. Promedio diarios (T y P)'!#REF! -> #REF! | G18: =+'A.2.2. Promedio diarios (T y P)'!#REF! -> #REF! | I18: =+#REF! -> #REF! | K18: =+I18*G18 -> #REF! | M18: =IF(L18="","",L18/K18)
B19: 8 | E19: =+'A.2.2. Promedio diarios (T y P)'!#REF! -> #REF! | F19: =+'A.2.2. Promedio diarios (T y P)'!#REF! -> #REF! | G19: =+'A.2.2. Promedio diarios (T y P)'!#REF! -> #REF! | I19: =+#REF! -> #REF! | K19: =+I19*G19 -> #REF! | M19: =IF(L19="","",L19/K19)
B20: 9 | E20: =+'A.2.2. Promedio diarios (T y P)'!#REF! -> #REF! | F20: =+'A.2.2. Promedio diarios (T y P)'!#REF! -> #REF! | G20: =+'A.2.2. Promedio diarios (T y P)'!#REF! -> #REF! | I20: =+#REF! -> #REF! | K20: =+I20*G20 -> #REF! | M20: =IF(L20="","",L20/K20)
B21: 10 | E21: =+'A.2.2. Promedio diarios (T y P)'!#REF! -> #REF! | F21: =+'A.2.2. Promedio diarios (T y P)'!G9 -> 0 | G21: =+'A.2.2. Promedio diarios (T y P)'!#REF! -> #REF! | I21: =+#REF! -> #REF! | K21: =+I21*G21 -> #REF! | M21: =IF(L21="","",L21/K21)
B22: 11 | E22: =+'A.2.2. Promedio diarios (T y P)'!#REF! -> #REF! | F22: =+'A.2.2. Promedio diarios (T y P)'!#REF! -> #REF! | G22: =+'A.2.2. Promedio diarios (T y P)'!#REF! -> #REF! | I22: =+#REF! -> #REF! | K22: =+I22*G22 -> #REF! | M22: =IF(L22="","",L22/K22)
B23: 12 | E23: =+'A.2.2. Promedio diarios (T y P)'!#REF! -> #REF! | F23: =+'A.2.2. Promedio diarios (T y P)'!#REF! -> #REF! | G23: =+'A.2.2. Promedio diarios (T y P)'!#REF! -> #REF! | I23: =+#REF! -> #REF! | K23: =+I23*G23 -> #REF! | M23: =IF(L23="","",L23/K23)
B24: 13 | E24: =+'A.2.2. Promedio diarios (T y P)'!#REF! -> #REF! | F24: =+'A.2.2. Promedio diarios (T y P)'!#REF! -> #REF! | G24: =+'A.2.2. Promedio diarios (T y P)'!#REF! -> #REF! | I24: =+#REF! -> #REF! | K24: =+I24*G24 -> #REF! | M24: =IF(L24="","",L24/K24)
B25: 14 | E25: =+'A.2.2. Promedio diarios (T y P)'!#REF! -> #REF! | F25: =+'A.2.2. Promedio diarios (T y P)'!#REF! -> #REF! | G25: =+'A.2.2. Promedio diarios (T y P)'!#REF! -> #REF! | I25: =+#REF! -> #REF! | K25: =+I25*G25 -> #REF! | M25: =IF(L25="","",L25/K25)
B26: 15 | E26: =+'A.2.2. Promedio diarios (T y P)'!#REF! -> #REF! | F26: =+'A.2.2. Promedio diarios (T y P)'!#REF! -> #REF! | G26: =+'A.2.2. Promedio diarios (T y P)'!#REF! -> #REF! | I26: =+#REF! -> #REF! | K26: =+I26*G26 -> #REF! | M26: =IF(L26="","",L26/K26)
B28: OBSERVACIONES:
B29: (*) En el caso del material particulado y las sustancias que deben analizarse en la fase de partículas (metales, iones, carbonáceas, otros), el volumen de muestreo se debe expresar en las condiciones ambientales (volumen actual) en términos de temperatura ambiental y presión atmosférica promedio, medidas durante el período de muestreo. (Sección L.1.3 Cálculo de concentraciones señalada en el Protocolo de Monitoreo de la Calidad del aire del MINAM - D.S. N° 010-2019-MINAM). (**) Fuente: Informe de Ensayo N.° 13036/2020, 13042/2020 y 14275/2020 del laboratorio ALS LS Perú S.A.C. "-" : No aplica.

Sheet A.2.5. Cálculo PM 2.5
E2: Tabla A.2.6. Concentración de PM2,5 - bajo volumen
B7: DESCRIPCIÓN: | E7: =+'A.2.1. Promedio meteorologia'!E6 -> EVALUACIÓN DE SEGUIMIENTO DE LA CALIDAD DEL AIRE EN EL ÁMBITO DE LA ZONA INDUSTRIAL DE VENTANILLA - MI PERÚ, UBICADO EN LOS DISTRITOS DE VENTANILLA Y MI PERÚ, PROVINCIA CONSTITUCIONAL DEL CALLAO, DURANTE JULIO DE 2020
B9: ESTACIÓN DE MONITOREO: | E9: =+'A.2.4. Cálculo PM10 y VM'!E9:F9 -> CA-VMP-6 | H9: CÓDIGO DE ACCIÓN: | J9: =+'A.2.3. Flujo promedio'!H9 -> 0001-7-2020-411
B11: N° | C11: Parámetro | D11: N° Filtro | E11: Fecha Inicio | F11: Fecha Final | G11: Tiempo o periodo de muestreo en minutos (t) | I11: Flujo de muestreo, en L/min (Q)* | J11: Volumen de muestreo (m3)* | L11: ΔPeso (µg) ** | M11: Concentración de partículas (µg/m3)
B12: 1 | C12: PM2,5 | D12: - | E12: - | F12: - | G12: - | I12: - | J12: - | L12: - | M12: -
B13: 2 | D13: - | E13: - | F13: - | G13: - | I13: - | J13: - | L13: - | M13: -
B14: 3 | D14: - | E14: - | F14: - | G14: - | I14: - | J14: - | L14: - | M14: -
B15: 4 | D15: - | E15: - | F15: - | G15: - | I15: - | J15: - | L15: - | M15: -
B16: 5 | D16: - | E16: - | F16: - | G16: - | I16: - | J16: - | L16: - | M16: -
B17: 6 | G17: =(F17-E17)*60*24 -> 0 | K17: 23.51 | M17: =IF(L17="","",L17/K17)
B18: 7 | G18: =(F18-E18)*60*24 -> 0 | K18: 23.51 | M18: =IF(L18="","",L18/K18)
B19: 8 | G19: =(F19-E19)*60*24 -> 0 | K19: 23.52 | M19: =IF(L19="","",L19/K19)
B20: 9 | G20: =(F20-E20)*60*24 -> 0 | M20: =IF(L20="","",L20/K20)
B21: 10 | G21: =(F21-E21)*60*24 -> 0 | M21: =IF(L21="","",L21/K21)
B22: 11 | G22: =(F22-E22)*60*24 -> 0 | M22: =IF(L22="","",L22/K22)
B23: 12 | G23: =(F23-E23)*60*24 -> 0 | M23: =IF(L23="","",L23/K23)
B24: 13 | G24: =(F24-E24)*60*24 -> 0 | M24: =IF(L24="","",L24/K24)
B25: 14 | G25: =(F25-E25)*60*24 -> 0 | M25: =IF(L25="","",L25/K25)
B26: 15 | G26: =(F26-E26)*60*24 -> 0 | M26: =IF(L26="","",L26/K26)
B28: OBSERVACIONES:
B29: (*) El flujo y volumen de muestreo para material particulado PM2,5 son registrados por el equipo muestreador de bajo volumen. "-" : No aplica.

Sheet A.2.6. Conc. de Metales PM 10
E2: Tabla A.2.5. Concentraciones de metales en PM10 a temperatura ambiente
B7: TÍTULO DEL ESTUDIO: | E7: =+'A.2.1. Promedio meteorologia'!E6 -> EVALUACIÓN DE SEGUIMIENTO DE LA CALIDAD DEL AIRE EN EL ÁMBITO DE LA ZONA INDUSTRIAL DE VENTANILLA - MI PERÚ, UBICADO EN LOS DISTRITOS DE VENTANILLA Y MI PERÚ, PROVINCIA CONSTITUCIONAL DEL CALLAO, DURANTE JULIO DE 2020
B9: ESTACIÓN DE MONITOREO: | E9: =+'A.2.1. Promedio meteorologia'!E8 -> CA-VMP-6 | G9: CÓDIGO DE ACCIÓN: | I9: ='A.2.1. Promedio meteorologia'!G8 -> 0001-7-2020-411
B11: RESULTADOS DE LABORATORIO
B12: Metal medido en PM10 | D12: Unidad | E12: Fecha
E13: ='A.2.4. Cálculo PM10 y VM'!$E12 -> 0 | F13: ='A.2.4. Cálculo PM10 y VM'!$E13 -> 0 | G13: ='A.2.4. Cálculo PM10 y VM'!$E14 -> 0 | H13: ='A.2.4. Cálculo PM10 y VM'!$E15 -> 0 | I13: ='A.2.4. Cálculo PM10 y VM'!$E16 -> 0 | J13: ='A.2.4. Cálculo PM10 y VM'!$E17 -> #REF! | K13: ='A.2.4. Cálculo PM10 y VM'!$E18 -> #REF! | L13: ='A.2.4. Cálculo PM10 y VM'!$E19 -> #REF! | M13: ='A.2.4. Cálculo PM10 y VM'!$E20 -> #REF! | N13: ='A.2.4. Cálculo PM10 y VM'!$E21 -> #REF! | O13: ='A.2.4. Cálculo PM10 y VM'!$E22 -> #REF! | P13: ='A.2.4. Cálculo PM10 y VM'!$E23 -> #REF! | Q13: ='A.2.4. Cálculo PM10 y VM'!$E24 -> #REF! | R13: ='A.2.4. Cálculo PM10 y VM'!$E25 -> #REF! | S13: ='A.2.4. Cálculo PM10 y VM'!$E26 -> #REF!
B14: Aluminio | C14: Al | D14: µg/mtra | E14: 874.6 | F14: 629.1 | G14: 652.1 | H14: 892 | I14: 847
B15: Antimonio | C15: Sb | D15: µg/mtra | E15: 7.363 | F15: 2.634 | G15: 3.459 | H15: 13.15 | I15: 15.43
B16: Arsénico | C16: As | D16: µg/mtra | E16: 6.409 | F16: 10.42 | G16: 7.33 | H16: 9.694 | I16: 10.3
B17: Bario | C17: Ba | D17: µg/mtra | E17: 31.61 | F17: 18.76 | G17: 22.94 | H17: 27.94 | I17: 35.55
B18: Berilio | C18: Be | D18: µg/mtra | E18: < 0,010 | F18: < 0,010 | G18: < 0,010 | H18: < 0,010 | I18: < 0,010
B19: Bismuto | C19: Bi | D19: µg/mtra | E19: 0.827 | F19: 0.5467 | G19: 0.4976 | H19: 0.7177 | I19: 0.9212
B20: Boro | C20: B | D20: µg/mtra | E20: 4.2 | F20: 3.37 | G20: 5.83 | H20: 5.31 | I20: 4.66
B21: Cadmio | C21: Cd | D21: µg/mtra | E21: 2.606 | F21: 0.982 | G21: 1.711 | H21: 2.4 | I21: 2.508
B22: Calcio | C22: Ca | D22: µg/mtra | E22: 3550 | F22: 3724 | G22: 3165 | H22: 3805 | I22: 4707
B23: Cobalto | C23: Co | D23: µg/mtra | E23: 1.229 | F23: 0.941 | G23: 0.832 | H23: 1.176 | I23: 1.47
B24: Cobre | C24: Cu | D24: µg/mtra | E24: 129.9 | F24: 71.47 | G24: 64.26 | H24: 105.7 | I24: 160.8
B25: Cromo | C25: Cr | D25: µg/mtra | E25: < 2,082 | F25: < 2,082 | G25: < 2,082 | H25: < 2,082 | I25: < 2,082
B26: Estaño | C26: Sn | D26: µg/mtra | E26: 5.458 | F26: 2.107 | G26: 4.044 | H26: 5.96 | I26: 8.295
B27: Estroncio | C27: Sr | D27: µg/mtra | E27: 13.96 | F27: 13.7 | G27: 12.97 | H27: 16.7 | I27: 16.22
B28: Fósforo | C28: P | D28: µg/mtra | E28: 349.2 | F28: 333.8 | G28: 438.6 | H28: 391.6 | I28: 566.1
B29: Hierro | C29: Fe | D29: µg/mtra | E29: 1570 | F29: 1060 | G29: 1115 | H29: 1572 | I29: 1600
B30: Litio | C30: Li | D30: µg/mtra | E30: 0.77 | F30: 0.47 | G30: 0.71 | H30: 0.85 | I30: 0.65
B31: Magnesio | C31: Mg | D31: µg/mtra | E31: 961 | F31: 1076 | G31: 947.7 | H31: 1270 | I31: 1268
B32: Manganeso | C32: Mn | D32: µg/mtra | E32: 39.18 | F32: 27.31 | G32: 31.31 | H32: 38.74 | I32: 41.76
B33: Mercurio | C33: Hg | D33: µg/mtra | E33: < 0,021 | F33: < 0,021 | G33: 0.171 | H33: < 0,021 | I33: 0.364
B34: Molibdeno | C34: Mo | D34: µg/mtra | E34: 3.665 | F34: 3.336 | G34: 3.094 | H34: 3.995 | I34: 4.275
B35: Níquel | C35: Ni | D35: µg/mtra | E35: 8.379 | F35: 4.468 | G35: 3.776 | H35: 4.355 | I35: 6.317
B36: Plata | C36: Ag | D36: µg/mtra | E36: 0.3351 | F36: 0.253 | G36: 0.2028 | H36: 0.251 | I36: 0.4812
B37: Plomo | C37: Pb | D37: µg/mtra | E37: 137 | F37: 26.86 | G37: 44.37 | H37: 195.6 | I37: 205.7
B38: Potasio | C38: K | D38: µg/mtra | E38: 565 | F38: 478.5 | G38: 502.6 | H38: 618.2 | I38: 594.3
B39: Selenio | C39: Se | D39: µg/mtra | E39: 4.368 | F39: 2.203 | G39: 4.095 | H39: 3.676 | I39: 4.861
B40: Silicio | C40: Si | D40: µg/mtra | E40: 1173 | F40: 978.3 | G40: 1377 | H40: 1405 | I40: 1168
B41: Sodio | C41: Na | D41: µg/mtra | E41: 3612 | F41: 5643 | G41: 4879 | H41: 5796 | I41: 5998
B42: Talio | C42: Tl | D42: µg/mtra | E42: 0.22 | F42: < 0,008 | G42: < 0,008 | H42: 0.294 | I42: 0.181
B43: Titanio | C43: Ti | D43: µg/mtra | E43: 42 | F43: 31.34 | G43: 32.62 | H43: 43 | I43: 43.02
B44: Uranio | C44: U | D44: µg/mtra | E44: < 0,0071 | F44: < 0,0071 | G44: < 0,0071 | H44: < 0,0071 | I44: 0.1751
B45: Vanadio | C45: V | D45: µg/mtra | E45: 5.569 | F45: 4.207 | G45: 3.983 | H45: 5.22 | I45: 6.395
B46: Zinc | C46: Zn | D46: µg/mtra | E46: 215.1 | F46: 107.3 | G46: 123.8 | H46: 155 | I46: 326.9
B48: <: Debajo del límite de detección
B49: Fuente: Informe de Ensayo N.° 35995/2020 del laboratorio ALS LS Perú S.A.C.
B51: CONCENTRACIÓN DE METALES
B52: Metal medido en PM10 | D52: Unidad | E52: =E12 -> Fecha
E53: ='A.2.4. Cálculo PM10 y VM'!$E12 -> 0 | F53: ='A.2.4. Cálculo PM10 y VM'!$E13 -> 0 | G53: ='A.2.4. Cálculo PM10 y VM'!$E14 -> 0 | H53: ='A.2.4. Cálculo PM10 y VM'!$E15 -> 0 | I53: ='A.2.4. Cálculo PM10 y VM'!$E16 -> 0 | J53: ='A.2.4. Cálculo PM10 y VM'!$E17 -> #REF! | K53: ='A.2.4. Cálculo PM10 y VM'!$E18 -> #REF! | L53: ='A.2.4. Cálculo PM10 y VM'!$E19 -> #REF! | M53: ='A.2.4. Cálculo PM10 y VM'!$E20 -> #REF! | N53: ='A.2.4. Cálculo PM10 y VM'!$E21 -> #REF! | O53: ='A.2.4. Cálculo PM10 y VM'!$E22 -> #REF! | P53: ='A.2.4. Cálculo PM10 y VM'!$E23 -> #REF! | Q53: ='A.2.4. Cálculo PM10 y VM'!$E24 -> #REF! | R53: ='A.2.4. Cálculo PM10 y VM'!$E25 -> #REF! | S53: ='A.2.4. Cálculo PM10 y VM'!$E26 -> #REF!
B54: Volumen de muestreo, en m3 (Va) | E54: ='A.2.4. Cálculo PM10 y VM'!K12 -> #DIV/0! | F54: ='A.2.4. Cálculo PM10 y VM'!K13 -> #DIV/0! | G54: ='A.2.4. Cálculo PM10 y VM'!K14 -> #DIV/0! | H54: ='A.2.4. Cálculo PM10 y VM'!K15 -> #DIV/0! | I54: ='A.2.4. Cálculo PM10 y VM'!K16 -> #DIV/0! | J54: ='A.2.4. Cálculo PM10 y VM'!#REF! -> #REF! | K54: ='A.2.4. Cálculo PM10 y VM'!#REF! -> #REF! | L54: ='A.2.4. Cálculo PM10 y VM'!#REF! -> #REF! | M54: ='A.2.4. Cálculo PM10 y VM'!#REF! -> #REF! | N54: ='A.2.4. Cálculo PM10 y VM'!#REF! -> #REF! | O54: ='A.2.4. Cálculo PM10 y VM'!#REF! -> #REF! | P54: ='A.2.4. Cálculo PM10 y VM'!#REF! -> #REF! | Q54: ='A.2.4. Cálculo PM10 y VM'!#REF! -> #REF! | ... S54: ='A.2.4. Cálculo PM10 y VM'!#REF! -> #REF! | V54: ECA Mensual: | W54: Promedio: | X54: Estado: | Y54: Cantidad:
B55: Aluminio | C55: Al | D55: µg/m3 | E55: =IF(ISNUMBER(FIND("<",E14)),"N.D.",PRODUCT(E14,1/E$54)) -> #DIV/0! | F55: =IF(ISNUMBER(FIND("<",F14)),"N.D.",PRODUCT(F14,1/F$54)) -> #DIV/0! | G55: =IF(ISNUMBER(FIND("<",G14)),"N.D.",PRODUCT(G14,1/G$54)) -> #DIV/0! | H55: =IF(ISNUMBER(FIND("<",H14)),"N.D.",PRODUCT(H14,1/H$54)) -> #DIV/0! | I55: =IF(ISNUMBER(FIND("<",I14)),"N.D.",PRODUCT(I14,1/I$54)) -> #DIV/0! | J55: =IF(ISNUMBER(FIND("<",J14)),"N.D.",PRODUCT(J14,1/J$54)) -> #REF! | K55: =IF(ISNUMBER(FIND("<",K14)),"N.D.",PRODUCT(K14,1/K$54)) -> #REF! | L55: =IF(ISNUMBER(FIND("<",L14)),"N.D.",PRODUCT(L14,1/L$54)) -> #REF! | ... S55: =IF(ISNUMBER(FIND("<",S14)),"N.D.",PRODUCT(S14,1/S$54)) -> #REF!
B56: Antimonio | C56: Sb | D56: µg/m3 | E56: =IF(ISNUMBER(FIND("<",E15)),"N.D.",PRODUCT(E15,1/E$54)) -> #DIV/0! | F56: =IF(ISNUMBER(FIND("<",F15)),"N.D.",PRODUCT(F15,1/F$54)) -> #DIV/0! | G56: =IF(ISNUMBER(FIND("<",G15)),"N.D.",PRODUCT(G15,1/G$54)) -> #DIV/0! | H56: =IF(ISNUMBER(FIND("<",H15)),"N.D.",PRODUCT(H15,1/H$54)) -> #DIV/0! | I56: =IF(ISNUMBER(FIND("<",I15)),"N.D.",PRODUCT(I15,1/I$54)) -> #DIV/0! | J56: =IF(ISNUMBER(FIND("<",J15)),"N.D.",PRODUCT(J15,1/J$54)) -> #REF! | K56: =IF(ISNUMBER(FIND("<",K15)),"N.D.",PRODUCT(K15,1/K$54)) -> #REF! | L56: =IF(ISNUMBER(FIND("<",L15)),"N.D.",PRODUCT(L15,1/L$54)) -> #REF! | ... S56: =IF(ISNUMBER(FIND("<",S15)),"N.D.",PRODUCT(S15,1/S$54)) -> #REF!
B57: Arsénico | C57: As | D57: µg/m3 | E57: =IF(ISNUMBER(FIND("<",E16)),"N.D.",PRODUCT(E16,1/E$54)) -> #DIV/0! | F57: =IF(ISNUMBER(FIND("<",F16)),"N.D.",PRODUCT(F16,1/F$54)) -> #DIV/0! | G57: =IF(ISNUMBER(FIND("<",G16)),"N.D.",PRODUCT(G16,1/G$54)) -> #DIV/0! | H57: =IF(ISNUMBER(FIND("<",H16)),"N.D.",PRODUCT(H16,1/H$54)) -> #DIV/0! | I57: =IF(ISNUMBER(FIND("<",I16)),"N.D.",PRODUCT(I16,1/I$54)) -> #DIV/0! | J57: =IF(ISNUMBER(FIND("<",J16)),"N.D.",PRODUCT(J16,1/J$54)) -> #REF! | K57: =IF(ISNUMBER(FIND("<",K16)),"N.D.",PRODUCT(K16,1/K$54)) -> #REF! | L57: =IF(ISNUMBER(FIND("<",L16)),"N.D.",PRODUCT(L16,1/L$54)) -> #REF! | ... S57: =IF(ISNUMBER(FIND("<",S16)),"N.D.",PRODUCT(S16,1/S$54)) -> #REF!
B58: Bario | C58: Ba | D58: µg/m3 | E58: =IF(ISNUMBER(FIND("<",E17)),"N.D.",PRODUCT(E17,1/E$54)) -> #DIV/0! | F58: =IF(ISNUMBER(FIND("<",F17)),"N.D.",PRODUCT(F17,1/F$54)) -> #DIV/0! | G58: =IF(ISNUMBER(FIND("<",G17)),"N.D.",PRODUCT(G17,1/G$54)) -> #DIV/0! | H58: =IF(ISNUMBER(FIND("<",H17)),"N.D.",PRODUCT(H17,1/H$54)) -> #DIV/0! | I58: =IF(ISNUMBER(FIND("<",I17)),"N.D.",PRODUCT(I17,1/I$54)) -> #DIV/0! | J58: =IF(ISNUMBER(FIND("<",J17)),"N.D.",PRODUCT(J17,1/J$54)) -> #REF! | K58: =IF(ISNUMBER(FIND("<",K17)),"N.D.",PRODUCT(K17,1/K$54)) -> #REF! | L58: =IF(ISNUMBER(FIND("<",L17)),"N.D.",PRODUCT(L17,1/L$54)) -> #REF! | ... S58: =IF(ISNUMBER(FIND("<",S17)),"N.D.",PRODUCT(S17,1/S$54)) -> #REF!
B59: Berilio | C59: Be | D59: µg/m3 | E59: =IF(ISNUMBER(FIND("<",E18)),"N.D.",PRODUCT(E18,1/E$54)) -> N.D. | F59: =IF(ISNUMBER(FIND("<",F18)),"N.D.",PRODUCT(F18,1/F$54)) -> N.D. | G59: =IF(ISNUMBER(FIND("<",G18)),"N.D.",PRODUCT(G18,1/G$54)) -> N.D. | H59: =IF(ISNUMBER(FIND("<",H18)),"N.D.",PRODUCT(H18,1/H$54)) -> N.D. | I59: =IF(ISNUMBER(FIND("<",I18)),"N.D.",PRODUCT(I18,1/I$54)) -> N.D. | J59: =IF(ISNUMBER(FIND("<",J18)),"N.D.",PRODUCT(J18,1/J$54)) -> #REF! | K59: =IF(ISNUMBER(FIND("<",K18)),"N.D.",PRODUCT(K18,1/K$54)) -> #REF! | L59: =IF(ISNUMBER(FIND("<",L18)),"N.D.",PRODUCT(L18,1/L$54)) -> #REF! | ... S59: =IF(ISNUMBER(FIND("<",S18)),"N.D.",PRODUCT(S18,1/S$54)) -> #REF!
B60: Bismuto | C60: Bi | D60: µg/m3 | E60: =IF(ISNUMBER(FIND("<",E19)),"N.D.",PRODUCT(E19,1/E$54)) -> #DIV/0! | F60: =IF(ISNUMBER(FIND("<",F19)),"N.D.",PRODUCT(F19,1/F$54)) -> #DIV/0! | G60: =IF(ISNUMBER(FIND("<",G19)),"N.D.",PRODUCT(G19,1/G$54)) -> #DIV/0! | H60: =IF(ISNUMBER(FIND("<",H19)),"N.D.",PRODUCT(H19,1/H$54)) -> #DIV/0! | I60: =IF(ISNUMBER(FIND("<",I19)),"N.D.",PRODUCT(I19,1/I$54)) -> #DIV/0! | J60: =IF(ISNUMBER(FIND("<",J19)),"N.D.",PRODUCT(J19,1/J$54)) -> #REF! | K60: =IF(ISNUMBER(FIND("<",K19)),"N.D.",PRODUCT(K19,1/K$54)) -> #REF! | L60: =IF(ISNUMBER(FIND("<",L19)),"N.D.",PRODUCT(L19,1/L$54)) -> #REF! | ... S60: =IF(ISNUMBER(FIND("<",S19)),"N.D.",PRODUCT(S19,1/S$54)) -> #REF!
B61: Boro | C61: B | D61: µg/m3 | E61: =IF(ISNUMBER(FIND("<",E20)),"N.D.",PRODUCT(E20,1/E$54)) -> #DIV/0! | F61: =IF(ISNUMBER(FIND("<",F20)),"N.D.",PRODUCT(F20,1/F$54)) -> #DIV/0! | G61: =IF(ISNUMBER(FIND("<",G20)),"N.D.",PRODUCT(G20,1/G$54)) -> #DIV/0! | H61: =IF(ISNUMBER(FIND("<",H20)),"N.D.",PRODUCT(H20,1/H$54)) -> #DIV/0! | I61: =IF(ISNUMBER(FIND("<",I20)),"N.D.",PRODUCT(I20,1/I$54)) -> #DIV/0! | J61: =IF(ISNUMBER(FIND("<",J20)),"N.D.",PRODUCT(J20,1/J$54)) -> #REF! | K61: =IF(ISNUMBER(FIND("<",K20)),"N.D.",PRODUCT(K20,1/K$54)) -> #REF! | L61: =IF(ISNUMBER(FIND("<",L20)),"N.D.",PRODUCT(L20,1/L$54)) -> #REF! | ... S61: =IF(ISNUMBER(FIND("<",S20)),"N.D.",PRODUCT(S20,1/S$54)) -> #REF!
B62: Cadmio | C62: Cd | D62: µg/m3 | E62: =IF(ISNUMBER(FIND("<",E21)),"N.D.",PRODUCT(E21,1/E$54)) -> #DIV/0! | F62: =IF(ISNUMBER(FIND("<",F21)),"N.D.",PRODUCT(F21,1/F$54)) -> #DIV/0! | G62: =IF(ISNUMBER(FIND("<",G21)),"N.D.",PRODUCT(G21,1/G$54)) -> #DIV/0! | H62: =IF(ISNUMBER(FIND("<",H21)),"N.D.",PRODUCT(H21,1/H$54)) -> #DIV/0! | I62: =IF(ISNUMBER(FIND("<",I21)),"N.D.",PRODUCT(I21,1/I$54)) -> #DIV/0! | J62: =IF(ISNUMBER(FIND("<",J21)),"N.D.",PRODUCT(J21,1/J$54)) -> #REF! | K62: =IF(ISNUMBER(FIND("<",K21)),"N.D.",PRODUCT(K21,1/K$54)) -> #REF! | L62: =IF(ISNUMBER(FIND("<",L21)),"N.D.",PRODUCT(L21,1/L$54)) -> #REF! | ... S62: =IF(ISNUMBER(FIND("<",S21)),"N.D.",PRODUCT(S21,1/S$54)) -> #REF! | V62: 0.05 | W62: =AVERAGE(E62:I62) -> #DIV/0! | X62: =IF(W62>V62,"Supera","No Supera") -> #DIV/0! | Y62: =COUNTIF(E62:J62,">0,05") -> 0 | Z62: =W62/V62 -> #DIV/0!
B63: Calcio | C63: Ca | D63: µg/m3 | E63: =IF(ISNUMBER(FIND("<",E22)),"N.D.",PRODUCT(E22,1/E$54)) -> #DIV/0! | F63: =IF(ISNUMBER(FIND("<",F22)),"N.D.",PRODUCT(F22,1/F$54)) -> #DIV/0! | G63: =IF(ISNUMBER(FIND("<",G22)),"N.D.",PRODUCT(G22,1/G$54)) -> #DIV/0! | H63: =IF(ISNUMBER(FIND("<",H22)),"N.D.",PRODUCT(H22,1/H$54)) -> #DIV/0! | I63: =IF(ISNUMBER(FIND("<",I22)),"N.D.",PRODUCT(I22,1/I$54)) -> #DIV/0! | J63: =IF(ISNUMBER(FIND("<",J22)),"N.D.",PRODUCT(J22,1/J$54)) -> #REF! | K63: =IF(ISNUMBER(FIND("<",K22)),"N.D.",PRODUCT(K22,1/K$54)) -> #REF! | L63: =IF(ISNUMBER(FIND("<",L22)),"N.D.",PRODUCT(L22,1/L$54)) -> #REF! | ... S63: =IF(ISNUMBER(FIND("<",S22)),"N.D.",PRODUCT(S22,1/S$54)) -> #REF!
B64: Cobalto | C64: Co | D64: µg/m3 | E64: =IF(ISNUMBER(FIND("<",E23)),"N.D.",PRODUCT(E23,1/E$54)) -> #DIV/0! | F64: =IF(ISNUMBER(FIND("<",F23)),"N.D.",PRODUCT(F23,1/F$54)) -> #DIV/0! | G64: =IF(ISNUMBER(FIND("<",G23)),"N.D.",PRODUCT(G23,1/G$54)) -> #DIV/0! | H64: =IF(ISNUMBER(FIND("<",H23)),"N.D.",PRODUCT(H23,1/H$54)) -> #DIV/0! | I64: =IF(ISNUMBER(FIND("<",I23)),"N.D.",PRODUCT(I23,1/I$54)) -> #DIV/0! | J64: =IF(ISNUMBER(FIND("<",J23)),"N.D.",PRODUCT(J23,1/J$54)) -> #REF! | K64: =IF(ISNUMBER(FIND("<",K23)),"N.D.",PRODUCT(K23,1/K$54)) -> #REF! | L64: =IF(ISNUMBER(FIND("<",L23)),"N.D.",PRODUCT(L23,1/L$54)) -> #REF! | ... S64: =IF(ISNUMBER(FIND("<",S23)),"N.D.",PRODUCT(S23,1/S$54)) -> #REF!
B65: Cobre | C65: Cu | D65: µg/m3 | E65: =IF(ISNUMBER(FIND("<",E24)),"N.D.",PRODUCT(E24,1/E$54)) -> #DIV/0! | F65: =IF(ISNUMBER(FIND("<",F24)),"N.D.",PRODUCT(F24,1/F$54)) -> #DIV/0! | G65: =IF(ISNUMBER(FIND("<",G24)),"N.D.",PRODUCT(G24,1/G$54)) -> #DIV/0! | H65: =IF(ISNUMBER(FIND("<",H24)),"N.D.",PRODUCT(H24,1/H$54)) -> #DIV/0! | I65: =IF(ISNUMBER(FIND("<",I24)),"N.D.",PRODUCT(I24,1/I$54)) -> #DIV/0! | J65: =IF(ISNUMBER(FIND("<",J24)),"N.D.",PRODUCT(J24,1/J$54)) -> #REF! | K65: =IF(ISNUMBER(FIND("<",K24)),"N.D.",PRODUCT(K24,1/K$54)) -> #REF! | L65: =IF(ISNUMBER(FIND("<",L24)),"N.D.",PRODUCT(L24,1/L$54)) -> #REF! | ... S65: =IF(ISNUMBER(FIND("<",S24)),"N.D.",PRODUCT(S24,1/S$54)) -> #REF!
B66: Cromo | C66: Cr | D66: µg/m3 | E66: =IF(ISNUMBER(FIND("<",E25)),"N.D.",PRODUCT(E25,1/E$54)) -> N.D. | F66: =IF(ISNUMBER(FIND("<",F25)),"N.D.",PRODUCT(F25,1/F$54)) -> N.D. | G66: =IF(ISNUMBER(FIND("<",G25)),"N.D.",PRODUCT(G25,1/G$54)) -> N.D. | H66: =IF(ISNUMBER(FIND("<",H25)),"N.D.",PRODUCT(H25,1/H$54)) -> N.D. | I66: =IF(ISNUMBER(FIND("<",I25)),"N.D.",PRODUCT(I25,1/I$54)) -> N.D. | J66: =IF(ISNUMBER(FIND("<",J25)),"N.D.",PRODUCT(J25,1/J$54)) -> #REF! | K66: =IF(ISNUMBER(FIND("<",K25)),"N.D.",PRODUCT(K25,1/K$54)) -> #REF! | L66: =IF(ISNUMBER(FIND("<",L25)),"N.D.",PRODUCT(L25,1/L$54)) -> #REF! | ... S66: =IF(ISNUMBER(FIND("<",S25)),"N.D.",PRODUCT(S25,1/S$54)) -> #REF!
B67: Estaño | C67: Sn | D67: µg/m3 | E67: =IF(ISNUMBER(FIND("<",E26)),"N.D.",PRODUCT(E26,1/E$54)) -> #DIV/0! | F67: =IF(ISNUMBER(FIND("<",F26)),"N.D.",PRODUCT(F26,1/F$54)) -> #DIV/0! | G67: =IF(ISNUMBER(FIND("<",G26)),"N.D.",PRODUCT(G26,1/G$54)) -> #DIV/0! | H67: =IF(ISNUMBER(FIND("<",H26)),"N.D.",PRODUCT(H26,1/H$54)) -> #DIV/0! | I67: =IF(ISNUMBER(FIND("<",I26)),"N.D.",PRODUCT(I26,1/I$54)) -> #DIV/0! | J67: =IF(ISNUMBER(FIND("<",J26)),"N.D.",PRODUCT(J26,1/J$54)) -> #REF! | K67: =IF(ISNUMBER(FIND("<",K26)),"N.D.",PRODUCT(K26,1/K$54)) -> #REF! | L67: =IF(ISNUMBER(FIND("<",L26)),"N.D.",PRODUCT(L26,1/L$54)) -> #REF! | ... S67: =IF(ISNUMBER(FIND("<",S26)),"N.D.",PRODUCT(S26,1/S$54)) -> #REF!
B68: Estroncio | C68: Sr | D68: µg/m3 | E68: =IF(ISNUMBER(FIND("<",E27)),"N.D.",PRODUCT(E27,1/E$54)) -> #DIV/0! | F68: =IF(ISNUMBER(FIND("<",F27)),"N.D.",PRODUCT(F27,1/F$54)) -> #DIV/0! | G68: =IF(ISNUMBER(FIND("<",G27)),"N.D.",PRODUCT(G27,1/G$54)) -> #DIV/0! | H68: =IF(ISNUMBER(FIND("<",H27)),"N.D.",PRODUCT(H27,1/H$54)) -> #DIV/0! | I68: =IF(ISNUMBER(FIND("<",I27)),"N.D.",PRODUCT(I27,1/I$54)) -> #DIV/0! | J68: =IF(ISNUMBER(FIND("<",J27)),"N.D.",PRODUCT(J27,1/J$54)) -> #REF! | K68: =IF(ISNUMBER(FIND("<",K27)),"N.D.",PRODUCT(K27,1/K$54)) -> #REF! | L68: =IF(ISNUMBER(FIND("<",L27)),"N.D.",PRODUCT(L27,1/L$54)) -> #REF! | ... S68: =IF(ISNUMBER(FIND("<",S27)),"N.D.",PRODUCT(S27,1/S$54)) -> #REF!
B69: Fósforo | C69: P | D69: µg/m3 | E69: =IF(ISNUMBER(FIND("<",E28)),"N.D.",PRODUCT(E28,1/E$54)) -> #DIV/0! | F69: =IF(ISNUMBER(FIND("<",F28)),"N.D.",PRODUCT(F28,1/F$54)) -> #DIV/0! | G69: =IF(ISNUMBER(FIND("<",G28)),"N.D.",PRODUCT(G28,1/G$54)) -> #DIV/0! | H69: =IF(ISNUMBER(FIND("<",H28)),"N.D.",PRODUCT(H28,1/H$54)) -> #DIV/0! | I69: =IF(ISNUMBER(FIND("<",I28)),"N.D.",PRODUCT(I28,1/I$54)) -> #DIV/0! | J69: =IF(ISNUMBER(FIND("<",J28)),"N.D.",PRODUCT(J28,1/J$54)) -> #REF! | K69: =IF(ISNUMBER(FIND("<",K28)),"N.D.",PRODUCT(K28,1/K$54)) -> #REF! | L69: =IF(ISNUMBER(FIND("<",L28)),"N.D.",PRODUCT(L28,1/L$54)) -> #REF! | ... S69: =IF(ISNUMBER(FIND("<",S28)),"N.D.",PRODUCT(S28,1/S$54)) -> #REF!
B70: Hierro | C70: Fe | D70: µg/m3 | E70: =IF(ISNUMBER(FIND("<",E29)),"N.D.",PRODUCT(E29,1/E$54)) -> #DIV/0! | F70: =IF(ISNUMBER(FIND("<",F29)),"N.D.",PRODUCT(F29,1/F$54)) -> #DIV/0! | G70: =IF(ISNUMBER(FIND("<",G29)),"N.D.",PRODUCT(G29,1/G$54)) -> #DIV/0! | H70: =IF(ISNUMBER(FIND("<",H29)),"N.D.",PRODUCT(H29,1/H$54)) -> #DIV/0! | I70: =IF(ISNUMBER(FIND("<",I29)),"N.D.",PRODUCT(I29,1/I$54)) -> #DIV/0! | J70: =IF(ISNUMBER(FIND("<",J29)),"N.D.",PRODUCT(J29,1/J$54)) -> #REF! | K70: =IF(ISNUMBER(FIND("<",K29)),"N.D.",PRODUCT(K29,1/K$54)) -> #REF! | L70: =IF(ISNUMBER(FIND("<",L29)),"N.D.",PRODUCT(L29,1/L$54)) -> #REF! | ... S70: =IF(ISNUMBER(FIND("<",S29)),"N.D.",PRODUCT(S29,1/S$54)) -> #REF!
B71: Litio | C71: Li | D71: µg/m3 | E71: =IF(ISNUMBER(FIND("<",E30)),"N.D.",PRODUCT(E30,1/E$54)) -> #DIV/0! | F71: =IF(ISNUMBER(FIND("<",F30)),"N.D.",PRODUCT(F30,1/F$54)) -> #DIV/0! | G71: =IF(ISNUMBER(FIND("<",G30)),"N.D.",PRODUCT(G30,1/G$54)) -> #DIV/0! | H71: =IF(ISNUMBER(FIND("<",H30)),"N.D.",PRODUCT(H30,1/H$54)) -> #DIV/0! | I71: =IF(ISNUMBER(FIND("<",I30)),"N.D.",PRODUCT(I30,1/I$54)) -> #DIV/0! | J71: =IF(ISNUMBER(FIND("<",J30)),"N.D.",PRODUCT(J30,1/J$54)) -> #REF! | K71: =IF(ISNUMBER(FIND("<",K30)),"N.D.",PRODUCT(K30,1/K$54)) -> #REF! | L71: =IF(ISNUMBER(FIND("<",L30)),"N.D.",PRODUCT(L30,1/L$54)) -> #REF! | ... S71: =IF(ISNUMBER(FIND("<",S30)),"N.D.",PRODUCT(S30,1/S$54)) -> #REF!
B72: Magnesio | C72: Mg | D72: µg/m3 | E72: =IF(ISNUMBER(FIND("<",E31)),"N.D.",PRODUCT(E31,1/E$54)) -> #DIV/0! | F72: =IF(ISNUMBER(FIND("<",F31)),"N.D.",PRODUCT(F31,1/F$54)) -> #DIV/0! | G72: =IF(ISNUMBER(FIND("<",G31)),"N.D.",PRODUCT(G31,1/G$54)) -> #DIV/0! | H72: =IF(ISNUMBER(FIND("<",H31)),"N.D.",PRODUCT(H31,1/H$54)) -> #DIV/0! | I72: =IF(ISNUMBER(FIND("<",I31)),"N.D.",PRODUCT(I31,1/I$54)) -> #DIV/0! | J72: =IF(ISNUMBER(FIND("<",J31)),"N.D.",PRODUCT(J31,1/J$54)) -> #REF! | K72: =IF(ISNUMBER(FIND("<",K31)),"N.D.",PRODUCT(K31,1/K$54)) -> #REF! | L72: =IF(ISNUMBER(FIND("<",L31)),"N.D.",PRODUCT(L31,1/L$54)) -> #REF! | ... S72: =IF(ISNUMBER(FIND("<",S31)),"N.D.",PRODUCT(S31,1/S$54)) -> #REF!
B73: Manganeso | C73: Mn | D73: µg/m3 | E73: =IF(ISNUMBER(FIND("<",E32)),"N.D.",PRODUCT(E32,1/E$54)) -> #DIV/0! | F73: =IF(ISNUMBER(FIND("<",F32)),"N.D.",PRODUCT(F32,1/F$54)) -> #DIV/0! | G73: =IF(ISNUMBER(FIND("<",G32)),"N.D.",PRODUCT(G32,1/G$54)) -> #DIV/0! | H73: =IF(ISNUMBER(FIND("<",H32)),"N.D.",PRODUCT(H32,1/H$54)) -> #DIV/0! | I73: =IF(ISNUMBER(FIND("<",I32)),"N.D.",PRODUCT(I32,1/I$54)) -> #DIV/0! | J73: =IF(ISNUMBER(FIND("<",J32)),"N.D.",PRODUCT(J32,1/J$54)) -> #REF! | K73: =IF(ISNUMBER(FIND("<",K32)),"N.D.",PRODUCT(K32,1/K$54)) -> #REF! | L73: =IF(ISNUMBER(FIND("<",L32)),"N.D.",PRODUCT(L32,1/L$54)) -> #REF! | ... S73: =IF(ISNUMBER(FIND("<",S32)),"N.D.",PRODUCT(S32,1/S$54)) -> #REF!
B74: Mercurio | C74: Hg | D74: µg/m3 | E74: =IF(ISNUMBER(FIND("<",E33)),"N.D.",PRODUCT(E33,1/E$54)) -> N.D. | F74: =IF(ISNUMBER(FIND("<",F33)),"N.D.",PRODUCT(F33,1/F$54)) -> N.D. | G74: =IF(ISNUMBER(FIND("<",G33)),"N.D.",PRODUCT(G33,1/G$54)) -> #DIV/0! | H74: =IF(ISNUMBER(FIND("<",H33)),"N.D.",PRODUCT(H33,1/H$54)) -> N.D. | I74: =IF(ISNUMBER(FIND("<",I33)),"N.D.",PRODUCT(I33,1/I$54)) -> #DIV/0! | J74: =IF(ISNUMBER(FIND("<",J33)),"N.D.",PRODUCT(J33,1/J$54)) -> #REF! | K74: =IF(ISNUMBER(FIND("<",K33)),"N.D.",PRODUCT(K33,1/K$54)) -> #REF! | L74: =IF(ISNUMBER(FIND("<",L33)),"N.D.",PRODUCT(L33,1/L$54)) -> #REF! | ... S74: =IF(ISNUMBER(FIND("<",S33)),"N.D.",PRODUCT(S33,1/S$54)) -> #REF!
... B77: Plata | C77: Ag | D77: µg/m3 | E77: =IF(ISNUMBER(FIND("<",E36)),"N.D.",PRODUCT(E36,1/E$54)) -> #DIV/0! | F77: =IF(ISNUMBER(FIND("<",F36)),"N.D.",PRODUCT(F36,1/F$54)) -> #DIV/0! | G77: =IF(ISNUMBER(FIND("<",G36)),"N.D.",PRODUCT(G36,1/G$54)) -> #DIV/0! | H77: =IF(ISNUMBER(FIND("<",H36)),"N.D.",PRODUCT(H36,1/H$54)) -> #DIV/0! | I77: =IF(ISNUMBER(FIND("<",I36)),"N.D.",PRODUCT(I36,1/I$54)) -> #DIV/0! | J77: =IF(ISNUMBER(FIND("<",J36)),"N.D.",PRODUCT(J36,1/J$54)) -> #REF! | K77: =IF(ISNUMBER(FIND("<",K36)),"N.D.",PRODUCT(K36,1/K$54)) -> #REF! | L77: =IF(ISNUMBER(FIND("<",L36)),"N.D.",PRODUCT(L36,1/L$54)) -> #REF! | ... S77: =IF(ISNUMBER(FIND("<",S36)),"N.D.",PRODUCT(S36,1/S$54)) -> #REF!
B78: Plomo | C78: Pb | D78: µg/m3 | E78: =IF(ISNUMBER(FIND("<",E37)),"N.D.",PRODUCT(E37,1/E$54)) -> #DIV/0! | F78: =IF(ISNUMBER(FIND("<",F37)),"N.D.",PRODUCT(F37,1/F$54)) -> #DIV/0! | G78: =IF(ISNUMBER(FIND("<",G37)),"N.D.",PRODUCT(G37,1/G$54)) -> #DIV/0! | H78: =IF(ISNUMBER(FIND("<",H37)),"N.D.",PRODUCT(H37,1/H$54)) -> #DIV/0! | I78: =IF(ISNUMBER(FIND("<",I37)),"N.D.",PRODUCT(I37,1/I$54)) -> #DIV/0! | J78: =IF(ISNUMBER(FIND("<",J37)),"N.D.",PRODUCT(J37,1/J$54)) -> #REF! | K78: =IF(ISNUMBER(FIND("<",K37)),"N.D.",PRODUCT(K37,1/K$54)) -> #REF! | L78: =IF(ISNUMBER(FIND("<",L37)),"N.D.",PRODUCT(L37,1/L$54)) -> #REF! | ... S78: =IF(ISNUMBER(FIND("<",S37)),"N.D.",PRODUCT(S37,1/S$54)) -> #REF! | V78: 1.5 | W78: =AVERAGE(E78:I78) -> #DIV/0! | X78: =IF(W78>V78,"Supera","No Supera") -> #DIV/0! | Y78: =COUNTIF(E78:J78,">1,5") -> 0 | Z78: =W78/V78 -> #DIV/0!
B79: Potasio | C79: K | D79: µg/m3 | E79: =IF(ISNUMBER(FIND("<",E38)),"N.D.",PRODUCT(E38,1/E$54)) -> #DIV/0! | F79: =IF(ISNUMBER(FIND("<",F38)),"N.D.",PRODUCT(F38,1/F$54)) -> #DIV/0! | G79: =IF(ISNUMBER(FIND("<",G38)),"N.D.",PRODUCT(G38,1/G$54)) -> #DIV/0! | H79: =IF(ISNUMBER(FIND("<",H38)),"N.D.",PRODUCT(H38,1/H$54)) -> #DIV/0! | I79: =IF(ISNUMBER(FIND("<",I38)),"N.D.",PRODUCT(I38,1/I$54)) -> #DIV/0! | J79: =IF(ISNUMBER(FIND("<",J38)),"N.D.",PRODUCT(J38,1/J$54)) -> #REF! | K79: =IF(ISNUMBER(FIND("<",K38)),"N.D.",PRODUCT(K38,1/K$54)) -> #REF! | L79: =IF(ISNUMBER(FIND("<",L38)),"N.D.",PRODUCT(L38,1/L$54)) -> #REF! | ... S79: =IF(ISNUMBER(FIND("<",S38)),"N.D.",PRODUCT(S38,1/S$54)) -> #REF!
B80: Selenio | C80: Se | D80: µg/m3 | E80: =IF(ISNUMBER(FIND("<",E39)),"N.D.",PRODUCT(E39,1/E$54)) -> #DIV/0! | F80: =IF(ISNUMBER(FIND("<",F39)),"N.D.",PRODUCT(F39,1/F$54)) -> #DIV/0! | G80: =IF(ISNUMBER(FIND("<",G39)),"N.D.",PRODUCT(G39,1/G$54)) -> #DIV/0! | H80: =IF(ISNUMBER(FIND("<",H39)),"N.D.",PRODUCT(H39,1/H$54)) -> #DIV/0! | I80: =IF(ISNUMBER(FIND("<",I39)),"N.D.",PRODUCT(I39,1/I$54)) -> #DIV/0! | J80: =IF(ISNUMBER(FIND("<",J39)),"N.D.",PRODUCT(J39,1/J$54)) -> #REF! | K80: =IF(ISNUMBER(FIND("<",K39)),"N.D.",PRODUCT(K39,1/K$54)) -> #REF! | L80: =IF(ISNUMBER(FIND("<",L39)),"N.D.",PRODUCT(L39,1/L$54)) -> #REF! | ... S80: =IF(ISNUMBER(FIND("<",S39)),"N.D.",PRODUCT(S39,1/S$54)) -> #REF!
B81: Silicio | C81: Si | D81: µg/m3 | E81: =IF(ISNUMBER(FIND("<",E40)),"N.D.",PRODUCT(E40,1/E$54)) -> #DIV/0! | F81: =IF(ISNUMBER(FIND("<",F40)),"N.D.",PRODUCT(F40,1/F$54)) -> #DIV/0! | G81: =IF(ISNUMBER(FIND("<",G40)),"N.D.",PRODUCT(G40,1/G$54)) -> #DIV/0! | H81: =IF(ISNUMBER(FIND("<",H40)),"N.D.",PRODUCT(H40,1/H$54)) -> #DIV/0! | I81: =IF(ISNUMBER(FIND("<",I40)),"N.D.",PRODUCT(I40,1/I$54)) -> #DIV/0! | J81: =IF(ISNUMBER(FIND("<",J40)),"N.D.",PRODUCT(J40,1/J$54)) -> #REF! | K81: =IF(ISNUMBER(FIND("<",K40)),"N.D.",PRODUCT(K40,1/K$54)) -> #REF! | L81: =IF(ISNUMBER(FIND("<",L40)),"N.D.",PRODUCT(L40,1/L$54)) -> #REF! | ... S81: =IF(ISNUMBER(FIND("<",S40)),"N.D.",PRODUCT(S40,1/S$54)) -> #REF!
B82: Sodio | C82: Na | D82: µg/m3 | E82: =IF(ISNUMBER(FIND("<",E41)),"N.D.",PRODUCT(E41,1/E$54)) -> #DIV/0! | F82: =IF(ISNUMBER(FIND("<",F41)),"N.D.",PRODUCT(F41,1/F$54)) -> #DIV/0! | G82: =IF(ISNUMBER(FIND("<",G41)),"N.D.",PRODUCT(G41,1/G$54)) -> #DIV/0! | H82: =IF(ISNUMBER(FIND("<",H41)),"N.D.",PRODUCT(H41,1/H$54)) -> #DIV/0! | I82: =IF(ISNUMBER(FIND("<",I41)),"N.D.",PRODUCT(I41,1/I$54)) -> #DIV/0! | J82: =IF(ISNUMBER(FIND("<",J41)),"N.D.",PRODUCT(J41,1/J$54)) -> #REF! | K82: =IF(ISNUMBER(FIND("<",K41)),"N.D.",PRODUCT(K41,1/K$54)) -> #REF! | L82: =IF(ISNUMBER(FIND("<",L41)),"N.D.",PRODUCT(L41,1/L$54)) -> #REF! | ... S82: =IF(ISNUMBER(FIND("<",S41)),"N.D.",PRODUCT(S41,1/S$54)) -> #REF!
B83: Talio | C83: Tl | D83: µg/m3 | E83: =IF(ISNUMBER(FIND("<",E42)),"N.D.",PRODUCT(E42,1/E$54)) -> #DIV/0! | F83: =IF(ISNUMBER(FIND("<",F42)),"N.D.",PRODUCT(F42,1/F$54)) -> N.D. | G83: =IF(ISNUMBER(FIND("<",G42)),"N.D.",PRODUCT(G42,1/G$54)) -> N.D. | H83: =IF(ISNUMBER(FIND("<",H42)),"N.D.",PRODUCT(H42,1/H$54)) -> #DIV/0! | I83: =IF(ISNUMBER(FIND("<",I42)),"N.D.",PRODUCT(I42,1/I$54)) -> #DIV/0! | J83: =IF(ISNUMBER(FIND("<",J42)),"N.D.",PRODUCT(J42,1/J$54)) -> #REF! | K83: =IF(ISNUMBER(FIND("<",K42)),"N.D.",PRODUCT(K42,1/K$54)) -> #REF! | L83: =IF(ISNUMBER(FIND("<",L42)),"N.D.",PRODUCT(L42,1/L$54)) -> #REF! | ... S83: =IF(ISNUMBER(FIND("<",S42)),"N.D.",PRODUCT(S42,1/S$54)) -> #REF!
B84: Titanio | C84: Ti | D84: µg/m3 | E84: =IF(ISNUMBER(FIND("<",E43)),"N.D.",PRODUCT(E43,1/E$54)) -> #DIV/0! | F84: =IF(ISNUMBER(FIND("<",F43)),"N.D.",PRODUCT(F43,1/F$54)) -> #DIV/0! | G84: =IF(ISNUMBER(FIND("<",G43)),"N.D.",PRODUCT(G43,1/G$54)) -> #DIV/0! | H84: =IF(ISNUMBER(FIND("<",H43)),"N.D.",PRODUCT(H43,1/H$54)) -> #DIV/0! | I84: =IF(ISNUMBER(FIND("<",I43)),"N.D.",PRODUCT(I43,1/I$54)) -> #DIV/0! | J84: =IF(ISNUMBER(FIND("<",J43)),"N.D.",PRODUCT(J43,1/J$54)) -> #REF! | K84: =IF(ISNUMBER(FIND("<",K43)),"N.D.",PRODUCT(K43,1/K$54)) -> #REF! | L84: =IF(ISNUMBER(FIND("<",L43)),"N.D.",PRODUCT(L43,1/L$54)) -> #REF! | ... S84: =IF(ISNUMBER(FIND("<",S43)),"N.D.",PRODUCT(S43,1/S$54)) -> #REF!
B85: Uranio | C85: U | D85: µg/m3 | E85: =IF(ISNUMBER(FIND("<",E44)),"N.D.",PRODUCT(E44,1/E$54)) -> N.D. | F85: =IF(ISNUMBER(FIND("<",F44)),"N.D.",PRODUCT(F44,1/F$54)) -> N.D. | G85: =IF(ISNUMBER(FIND("<",G44)),"N.D.",PRODUCT(G44,1/G$54)) -> N.D. | H85: =IF(ISNUMBER(FIND("<",H44)),"N.D.",PRODUCT(H44,1/H$54)) -> N.D. | I85: =IF(ISNUMBER(FIND("<",I44)),"N.D.",PRODUCT(I44,1/I$54)) -> #DIV/0!
B86: Vanadio | C86: V | D86: µg/m3 | E86: =IF(ISNUMBER(FIND("<",E45)),"N.D.",PRODUCT(E45,1/E$54)) -> #DIV/0! | F86: =IF(ISNUMBER(FIND("<",F45)),"N.D.",PRODUCT(F45,1/F$54)) -> #DIV/0! | G86: =IF(ISNUMBER(FIND("<",G45)),"N.D.",PRODUCT(G45,1/G$54)) -> #DIV/0! | H86: =IF(ISNUMBER(FIND("<",H45)),"N.D.",PRODUCT(H45,1/H$54)) -> #DIV/0! | I86: =IF(ISNUMBER(FIND("<",I45)),"N.D.",PRODUCT(I45,1/I$54)) -> #DIV/0! | J86: =IF(ISNUMBER(FIND("<",J45)),"N.D.",PRODUCT(J45,1/J$54)) -> #REF! | K86: =IF(ISNUMBER(FIND("<",K45)),"N.D.",PRODUCT(K45,1/K$54)) -> #REF! | L86: =IF(ISNUMBER(FIND("<",L45)),"N.D.",PRODUCT(L45,1/L$54)) -> #REF! | ... S86: =IF(ISNUMBER(FIND("<",S45)),"N.D.",PRODUCT(S45,1/S$54)) -> #REF!
B87: Zinc | C87: Zn | D87: µg/m3 | E87: =IF(ISNUMBER(FIND("<",E46)),"N.D.",PRODUCT(E46,1/E$54)) -> #DIV/0! | F87: =IF(ISNUMBER(FIND("<",F46)),"N.D.",PRODUCT(F46,1/F$54)) -> #DIV/0! | G87: =IF(ISNUMBER(FIND("<",G46)),"N.D.",PRODUCT(G46,1/G$54)) -> #DIV/0! | H87: =IF(ISNUMBER(FIND("<",H46)),"N.D.",PRODUCT(H46,1/H$54)) -> #DIV/0! | I87: =IF(ISNUMBER(FIND("<",I46)),"N.D.",PRODUCT(I46,1/I$54)) -> #DIV/0! | J87: =IF(ISNUMBER(FIND("<",J46)),"N.D.",PRODUCT(J46,1/J$54)) -> #REF! | K87: =IF(ISNUMBER(FIND("<",K46)),"N.D.",PRODUCT(K46,1/K$54)) -> #REF! | L87: =IF(ISNUMBER(FIND("<",L46)),"N.D.",PRODUCT(L46,1/L$54)) -> #REF! | ... S87: =IF(ISNUMBER(FIND("<",S46)),"N.D.",PRODUCT(S46,1/S$54)) -> #REF!
B89: N.D.: | C89: No detectable

Sheet A.2.7. Cálculo Vol E
E2: Tabla A.2.7. Volumen muestreado para metales en PM10 a temperatura de 10°C
B7: DESCRIPCIÓN: | E7: =+'A.2.1. Promedio meteorologia'!E6 -> EVALUACIÓN DE SEGUIMIENTO DE LA CALIDAD DEL AIRE EN EL ÁMBITO DE LA ZONA INDUSTRIAL DE VENTANILLA - MI PERÚ, UBICADO EN LOS DISTRITOS DE VENTANILLA Y MI PERÚ, PROVINCIA CONSTITUCIONAL DEL CALLAO, DURANTE JULIO DE 2020
B9: ESTACIÓN DE MONITOREO: | E9: =+'A.2.4. Cálculo PM10 y VM'!E9:F9 -> CA-VMP-6 | H9: CÓDIGO DE ACCIÓN: | J9: =+'A.2.3. Flujo promedio'!H9 -> 0001-7-2020-411
B11: N° | C11: Parámetro | D11: N° Filtro | E11: Fecha Inicio | F11: Fecha Final | G11: Periodo (minutos) | H11: Temperatura ambiental (°C) | I11: Presión ambiental (mm Hg) | J11: Po/Pa | K11: Flujo de muestreo (m3/min) | L11: Volumen muestreado real (m3) | M11: Volumen muestreado a 10°C (m3)
B12: 1 | C12: Metales en PM10 | D12: ='A.2.4. Cálculo PM10 y VM'!D12 -> 431014 | E12: ='A.2.4. Cálculo PM10 y VM'!E12 -> 0 | F12: ='A.2.4. Cálculo PM10 y VM'!F12 -> 0 | G12: =(F12-E12)*60*24 -> 0 | H12: ='A.2.1. Promedio meteorologia'!$F$42 -> #DIV/0! | I12: ='A.2.1. Promedio meteorologia'!$E$42 -> #DIV/0! | J12: ='A.2.3. Flujo promedio'!E28 -> #DIV/0! | K12: ='A.2.3. Flujo promedio'!I28 -> #DIV/0! | L12: =+K12*G12 -> #DIV/0! | M12: =((K12*(I12/760)*(283.15/(H12+273.15))*G12)) -> #DIV/0!
B13: 2 | D13: ='A.2.4. Cálculo PM10 y VM'!D13 -> 431015 | E13: ='A.2.4. Cálculo PM10 y VM'!E13 -> 0 | F13: ='A.2.4. Cálculo PM10 y VM'!F13 -> 0 | G13: =(F13-E13)*60*24 -> 0 | H13: ='A.2.1. Promedio meteorologia'!$F$70 -> #DIV/0! | I13: ='A.2.1. Promedio meteorologia'!$E$70 -> #DIV/0! | J13: ='A.2.3. Flujo promedio'!E36 -> #DIV/0! | K13: ='A.2.3. Flujo promedio'!I36 -> #DIV/0! | L13: =+K13*G13 -> #DIV/0! | M13: =((K13*(I13/760)*(283.15/(H13+273.15))*G13)) -> #DIV/0!
B14: 3 | D14: ='A.2.4. Cálculo PM10 y VM'!D14 -> 431016 | E14: ='A.2.4. Cálculo PM10 y VM'!E14 -> 0 | F14: ='A.2.4. Cálculo PM10 y VM'!F14 -> 0 | G14: =(F14-E14)*60*24 -> 0 | H14: ='A.2.1. Promedio meteorologia'!$F$98 -> #DIV/0! | I14: ='A.2.1. Promedio meteorologia'!$E$98 -> #DIV/0! | J14: ='A.2.3. Flujo promedio'!E44 -> #DIV/0! | K14: ='A.2.3. Flujo promedio'!I44 -> #DIV/0! | L14: =+K14*G14 -> #DIV/0! | M14: =((K14*(I14/760)*(283.15/(H14+273.15))*G14)) -> #DIV/0!
B15: 4 | D15: ='A.2.4. Cálculo PM10 y VM'!D15 -> 431017 | E15: ='A.2.4. Cálculo PM10 y VM'!E15 -> 0 | F15: ='A.2.4. Cálculo PM10 y VM'!F15 -> 0 | G15: =(F15-E15)*60*24 -> 0 | H15: ='A.2.1. Promedio meteorologia'!$F$126 -> #DIV/0! | I15: ='A.2.1. Promedio meteorologia'!$E$126 -> #DIV/0! | J15: ='A.2.3. Flujo promedio'!E52 -> #DIV/0! | K15: ='A.2.3. Flujo promedio'!I52 -> #DIV/0! | L15: =+K15*G15 -> #DIV/0! | M15: =((K15*(I15/760)*(283.15/(H15+273.15))*G15)) -> #DIV/0!
B16: 5 | D16: ='A.2.4. Cálculo PM10 y VM'!D16 -> 431018 | E16: ='A.2.4. Cálculo PM10 y VM'!E16 -> 0 | F16: ='A.2.4. Cálculo PM10 y VM'!F16 -> 0 | G16: =(F16-E16)*60*24 -> 0 | H16: ='A.2.1. Promedio meteorologia'!$F$154 -> #DIV/0! | I16: ='A.2.1. Promedio meteorologia'!$E$154 -> #DIV/0! | J16: ='A.2.3. Flujo promedio'!E60 -> #DIV/0! | K16: ='A.2.3. Flujo promedio'!I60 -> #DIV/0! | L16: =+K16*G16 -> #DIV/0! | M16: =((K16*(I16/760)*(283.15/(H16+273.15))*G16)) -> #DIV/0!
B17: 6 | G17: =(F17-E17)*60*24 -> 0 | K17: 23.51 | M17: =IF(L17="","",L17/K17)
B18: 7 | G18: =(F18-E18)*60*24 -> 0 | K18: 23.51 | M18: =IF(L18="","",L18/K18)
B19: 8 | G19: =(F19-E19)*60*24 -> 0 | K19: 23.52 | M19: =IF(L19="","",L19/K19)
B20: 9 | G20: =(F20-E20)*60*24 -> 0 | M20: =IF(L20="","",L20/K20)
B21: 10 | G21: =(F21-E21)*60*24 -> 0 | M21: =IF(L21="","",L21/K21)
B22: 11 | G22: =(F22-E22)*60*24 -> 0 | M22: =IF(L22="","",L22/K22)
B23: 12 | G23: =(F23-E23)*60*24 -> 0 | M23: =IF(L23="","",L23/K23)
B24: 13 | G24: =(F24-E24)*60*24 -> 0 | M24: =IF(L24="","",L24/K24)
B25: 14 | G25: =(F25-E25)*60*24 -> 0 | M25: =IF(L25="","",L25/K25)
B26: 15 | G26: =(F26-E26)*60*24 -> 0 | M26: =IF(L26="","",L26/K26)
B28: OBSERVACIONES:
B29: (1) El cálculo de volumen muestrado para metales en PM10, se realizó en base a las condiciones de temperatura 10°C (283,15 °K) y presión estándar (760 mmHg ó 1013,25 mBar), establecidas en la Norma referencial ONTARIO’S AMBIENT AIR QUALITY CRITERIA. "-" : No aplica.

Sheet A.2.8. Conc. Metales 10°C
E2: Tabla A.2.8. Concentraciones de metales en PM10 a temperatura de 10°C
B7: TÍTULO DEL ESTUDIO: | E7: =+'A.2.1. Promedio meteorologia'!E6 -> EVALUACIÓN DE SEGUIMIENTO DE LA CALIDAD DEL AIRE EN EL ÁMBITO DE LA ZONA INDUSTRIAL DE VENTANILLA - MI PERÚ, UBICADO EN LOS DISTRITOS DE VENTANILLA Y MI PERÚ, PROVINCIA CONSTITUCIONAL DEL CALLAO, DURANTE JULIO DE 2020
B9: ESTACIÓN DE MONITOREO: | E9: =+'A.2.1. Promedio meteorologia'!E8 -> CA-VMP-6 | G9: CÓDIGO DE ACCIÓN: | I9: =+'A.2.3. Flujo promedio'!H9 -> 0001-7-2020-411
B11: RESULTADOS DE LABORATORIO
B12: Metal medido en PM10 | D12: Unidad | E12: Fecha
E13: ='A.2.4. Cálculo PM10 y VM'!$E12 -> 0 | F13: ='A.2.4. Cálculo PM10 y VM'!$E13 -> 0 | G13: ='A.2.4. Cálculo PM10 y VM'!$E14 -> 0 | H13: ='A.2.4. Cálculo PM10 y VM'!$E15 -> 0 | I13: ='A.2.4. Cálculo PM10 y VM'!$E16 -> 0 | J13: ='A.2.4. Cálculo PM10 y VM'!$E17 -> #REF! | K13: ='A.2.4. Cálculo PM10 y VM'!$E18 -> #REF! | L13: ='A.2.4. Cálculo PM10 y VM'!$E19 -> #REF! | M13: ='A.2.4. Cálculo PM10 y VM'!$E20 -> #REF! | N13: ='A.2.4. Cálculo PM10 y VM'!$E21 -> #REF! | O13: ='A.2.4. Cálculo PM10 y VM'!$E22 -> #REF! | P13: ='A.2.4. Cálculo PM10 y VM'!$E23 -> #REF! | Q13: ='A.2.4. Cálculo PM10 y VM'!$E24 -> #REF! | R13: ='A.2.4. Cálculo PM10 y VM'!$E25 -> #REF! | S13: ='A.2.4. Cálculo PM10 y VM'!$E26 -> #REF!
B14: Aluminio | C14: Al | D14: µg/mtra | E14: 874.6 | F14: 629.1 | G14: 652.1 | H14: 892 | I14: 847
B15: Antimonio | C15: Sb | D15: µg/mtra | E15: 7.363 | F15: 2.634 | G15: 3.459 | H15: 13.15 | I15: 15.43
B16: Arsénico | C16: As | D16: µg/mtra | E16: 6.409 | F16: 10.42 | G16: 7.33 | H16: 9.694 | I16: 10.3
B17: Bario | C17: Ba | D17: µg/mtra | E17: 31.61 | F17: 18.76 | G17: 22.94 | H17: 27.94 | I17: 35.55
B18: Berilio | C18: Be | D18: µg/mtra | E18: < 0,010 | F18: < 0,010 | G18: < 0,010 | H18: < 0,010 | I18: < 0,010
B19: Bismuto | C19: Bi | D19: µg/mtra | E19: 0.827 | F19: 0.5467 | G19: 0.4976 | H19: 0.7177 | I19: 0.9212
B20: Boro | C20: B | D20: µg/mtra | E20: 4.2 | F20: 3.37 | G20: 5.83 | H20: 5.31 | I20: 4.66
B21: Cadmio | C21: Cd | D21: µg/mtra | E21: 2.606 | F21: 0.982 | G21: 1.711 | H21: 2.4 | I21: 2.508
B22: Calcio | C22: Ca | D22: µg/mtra | E22: 3550 | F22: 3724 | G22: 3165 | H22: 3805 | I22: 4707
B23: Cobalto | C23: Co | D23: µg/mtra | E23: 1.229 | F23: 0.941 | G23: 0.832 | H23: 1.176 | I23: 1.47
B24: Cobre | C24: Cu | D24: µg/mtra | E24: 129.9 | F24: 71.47 | G24: 64.26 | H24: 105.7 | I24: 160.8
B25: Cromo | C25: Cr | D25: µg/mtra | E25: < 2,082 | F25: < 2,082 | G25: < 2,082 | H25: < 2,082 | I25: < 2,082
B26: Estaño | C26: Sn | D26: µg/mtra | E26: 5.458 | F26: 2.107 | G26: 4.044 | H26: 5.96 | I26: 8.295
B27: Estroncio | C27: Sr | D27: µg/mtra | E27: 13.96 | F27: 13.7 | G27: 12.97 | H27: 16.7 | I27: 16.22
B28: Fósforo | C28: P | D28: µg/mtra | E28: 349.2 | F28: 333.8 | G28: 438.6 | H28: 391.6 | I28: 566.1
B29: Hierro | C29: Fe | D29: µg/mtra | E29: 1570 | F29: 1060 | G29: 1115 | H29: 1572 | I29: 1600
B30: Litio | C30: Li | D30: µg/mtra | E30: 0.77 | F30: 0.47 | G30: 0.71 | H30: 0.85 | I30: 0.65
B31: Magnesio | C31: Mg | D31: µg/mtra | E31: 961 | F31: 1076 | G31: 947.7 | H31: 1270 | I31: 1268
B32: Manganeso | C32: Mn | D32: µg/mtra | E32: 39.18 | F32: 27.31 | G32: 31.31 | H32: 38.74 | I32: 41.76
B33: Mercurio | C33: Hg | D33: µg/mtra | E33: < 0,021 | F33: < 0,021 | G33: 0.171 | H33: < 0,021 | I33: 0.364
B34: Molibdeno | C34: Mo | D34: µg/mtra | E34: 3.665 | F34: 3.336 | G34: 3.094 | H34: 3.995 | I34: 4.275
B35: Níquel | C35: Ni | D35: µg/mtra | E35: 8.379 | F35: 4.468 | G35: 3.776 | H35: 4.355 | I35: 6.317
B36: Plata | C36: Ag | D36: µg/mtra | E36: 0.3351 | F36: 0.253 | G36: 0.2028 | H36: 0.251 | I36: 0.4812
B37: Plomo | C37: Pb | D37: µg/mtra | E37: 137 | F37: 26.86 | G37: 44.37 | H37: 195.6 | I37: 205.7
B38: Potasio | C38: K | D38: µg/mtra | E38: 565 | F38: 478.5 | G38: 502.6 | H38: 618.2 | I38: 594.3
B39: Selenio | C39: Se | D39: µg/mtra | E39: 4.368 | F39: 2.203 | G39: 4.095 | H39: 3.676 | I39: 4.861
B40: Silicio | C40: Si | D40: µg/mtra | E40: 1173 | F40: 978.3 | G40: 1377 | H40: 1405 | I40: 1168
B41: Sodio | C41: Na | D41: µg/mtra | E41: 3612 | F41: 5643 | G41: 4879 | H41: 5796 | I41: 5998
B42: Talio | C42: Tl | D42: µg/mtra | E42: 0.22 | F42: < 0,008 | G42: < 0,008 | H42: 0.294 | I42: 0.181
B43: Titanio | C43: Ti | D43: µg/mtra | E43: 42 | F43: 31.34 | G43: 32.62 | H43: 43 | I43: 43.02
B44: Uranio | C44: U | D44: µg/mtra | E44: < 0,0071 | F44: < 0,0071 | G44: < 0,0071 | H44: < 0,0071 | I44: 0.1751
B45: Vanadio | C45: V | D45: µg/mtra | E45: 5.569 | F45: 4.207 | G45: 3.983 | H45: 5.22 | I45: 6.395
B46: Zinc | C46: Zn | D46: µg/mtra | E46: 215.1 | F46: 107.3 | G46: 123.8 | H46: 155 | I46: 326.9
B48: <: Debajo del límite de detección | C48: Debajo del límite de detección
B49: Fuente: Informe de Ensayo N.° 35995/2020 del laboratorio ALS LS Perú S.A.C.
B51: CONCENTRACIÓN DE METALES
B52: Metal medido en PM10 | D52: Unidad | E52: =E12 -> Fecha
E53: ='A.2.4. Cálculo PM10 y VM'!$E12 -> 0 | F53: ='A.2.4. Cálculo PM10 y VM'!$E13 -> 0 | G53: ='A.2.4. Cálculo PM10 y VM'!$E14 -> 0 | H53: ='A.2.4. Cálculo PM10 y VM'!$E15 -> 0 | I53: ='A.2.4. Cálculo PM10 y VM'!$E16 -> 0 | J53: ='A.2.4. Cálculo PM10 y VM'!$E17 -> #REF! | K53: ='A.2.4. Cálculo PM10 y VM'!$E18 -> #REF! | L53: ='A.2.4. Cálculo PM10 y VM'!$E19 -> #REF! | M53: ='A.2.4. Cálculo PM10 y VM'!$E20 -> #REF! | N53: ='A.2.4. Cálculo PM10 y VM'!$E21 -> #REF! | O53: ='A.2.4. Cálculo PM10 y VM'!$E22 -> #REF! | P53: ='A.2.4. Cálculo PM10 y VM'!$E23 -> #REF! | Q53: ='A.2.4. Cálculo PM10 y VM'!$E24 -> #REF! | R53: ='A.2.4. Cálculo PM10 y VM'!$E25 -> #REF! | S53: ='A.2.4. Cálculo PM10 y VM'!$E26 -> #REF!
B54: Volumen de muestreo, en m3 (Va) | E54: ='A.2.7. Cálculo Vol E'!M12 -> #DIV/0! | F54: ='A.2.7. Cálculo Vol E'!M13 -> #DIV/0! | G54: ='A.2.7. Cálculo Vol E'!M14 -> #DIV/0! | H54: ='A.2.7. Cálculo Vol E'!M15 -> #DIV/0! | I54: ='A.2.7. Cálculo Vol E'!M16 -> #DIV/0! | J54: ='A.2.4. Cálculo PM10 y VM'!#REF! -> #REF! | K54: ='A.2.4. Cálculo PM10 y VM'!#REF! -> #REF! | L54: ='A.2.4. Cálculo PM10 y VM'!#REF! -> #REF! | M54: ='A.2.4. Cálculo PM10 y VM'!#REF! -> #REF! | N54: ='A.2.4. Cálculo PM10 y VM'!#REF! -> #REF! | O54: ='A.2.4. Cálculo PM10 y VM'!#REF! -> #REF! | P54: ='A.2.4. Cálculo PM10 y VM'!#REF! -> #REF! | Q54: ='A.2.4. Cálculo PM10 y VM'!#REF! -> #REF! | ... S54: ='A.2.4. Cálculo PM10 y VM'!#REF! -> #REF! | V54: Maximo: | W54: Estado: | X54: Cantidad:
B55: Aluminio | C55: Al | D55: µg/m3 | E55: =IF(ISNUMBER(FIND("<",E14)),"N.D.",PRODUCT(E14,1/E$54)) -> #DIV/0! | F55: =IF(ISNUMBER(FIND("<",F14)),"N.D.",PRODUCT(F14,1/F$54)) -> #DIV/0! | G55: =IF(ISNUMBER(FIND("<",G14)),"N.D.",PRODUCT(G14,1/G$54)) -> #DIV/0! | H55: =IF(ISNUMBER(FIND("<",H14)),"N.D.",PRODUCT(H14,1/H$54)) -> #DIV/0! | I55: =IF(ISNUMBER(FIND("<",I14)),"N.D.",PRODUCT(I14,1/I$54)) -> #DIV/0! | J55: =IF(ISNUMBER(FIND("<",J14)),"N.D.",PRODUCT(J14,1/J$54)) -> #REF! | K55: =IF(ISNUMBER(FIND("<",K14)),"N.D.",PRODUCT(K14,1/K$54)) -> #REF! | L55: =IF(ISNUMBER(FIND("<",L14)),"N.D.",PRODUCT(L14,1/L$54)) -> #REF! | ... S55: =IF(ISNUMBER(FIND("<",S14)),"N.D.",PRODUCT(S14,1/S$54)) -> #REF! | U55: - | V55: =MAX(E55:I55) -> #DIV/0! | W55: =IF(V55>U55,"Supera","No Supera") -> #DIV/0!
B56: Antimonio | C56: Sb | D56: µg/m3 | E56: =IF(ISNUMBER(FIND("<",E15)),"N.D.",PRODUCT(E15,1/E$54)) -> #DIV/0! | F56: =IF(ISNUMBER(FIND("<",F15)),"N.D.",PRODUCT(F15,1/F$54)) -> #DIV/0! | G56: =IF(ISNUMBER(FIND("<",G15)),"N.D.",PRODUCT(G15,1/G$54)) -> #DIV/0! | H56: =IF(ISNUMBER(FIND("<",H15)),"N.D.",PRODUCT(H15,1/H$54)) -> #DIV/0! | I56: =IF(ISNUMBER(FIND("<",I15)),"N.D.",PRODUCT(I15,1/I$54)) -> #DIV/0! | J56: =IF(ISNUMBER(FIND("<",J15)),"N.D.",PRODUCT(J15,1/J$54)) -> #REF! | K56: =IF(ISNUMBER(FIND("<",K15)),"N.D.",PRODUCT(K15,1/K$54)) -> #REF! | L56: =IF(ISNUMBER(FIND("<",L15)),"N.D.",PRODUCT(L15,1/L$54)) -> #REF! | ... S56: =IF(ISNUMBER(FIND("<",S15)),"N.D.",PRODUCT(S15,1/S$54)) -> #REF! | U56: 25 | V56: =MAX(E56:I56) -> #DIV/0! | W56: =IF(V56>U56,"Supera","No Supera") -> #DIV/0!
B57: Arsénico | C57: As | D57: µg/m3 | E57: =IF(ISNUMBER(FIND("<",E16)),"N.D.",PRODUCT(E16,1/E$54)) -> #DIV/0! | F57: =IF(ISNUMBER(FIND("<",F16)),"N.D.",PRODUCT(F16,1/F$54)) -> #DIV/0! | G57: =IF(ISNUMBER(FIND("<",G16)),"N.D.",PRODUCT(G16,1/G$54)) -> #DIV/0! | H57: =IF(ISNUMBER(FIND("<",H16)),"N.D.",PRODUCT(H16,1/H$54)) -> #DIV/0! | I57: =IF(ISNUMBER(FIND("<",I16)),"N.D.",PRODUCT(I16,1/I$54)) -> #DIV/0! | J57: =IF(ISNUMBER(FIND("<",J16)),"N.D.",PRODUCT(J16,1/J$54)) -> #REF! | K57: =IF(ISNUMBER(FIND("<",K16)),"N.D.",PRODUCT(K16,1/K$54)) -> #REF! | L57: =IF(ISNUMBER(FIND("<",L16)),"N.D.",PRODUCT(L16,1/L$54)) -> #REF! | ... S57: =IF(ISNUMBER(FIND("<",S16)),"N.D.",PRODUCT(S16,1/S$54)) -> #REF! | U57: 0.3 | V57: =MAX(E57:I57) -> #DIV/0! | W57: =IF(V57>U57,"Supera","No Supera") -> #DIV/0!
B58: Bario | C58: Ba | D58: µg/m3 | E58: =IF(ISNUMBER(FIND("<",E17)),"N.D.",PRODUCT(E17,1/E$54)) -> #DIV/0! | F58: =IF(ISNUMBER(FIND("<",F17)),"N.D.",PRODUCT(F17,1/F$54)) -> #DIV/0! | G58: =IF(ISNUMBER(FIND("<",G17)),"N.D.",PRODUCT(G17,1/G$54)) -> #DIV/0! | H58: =IF(ISNUMBER(FIND("<",H17)),"N.D.",PRODUCT(H17,1/H$54)) -> #DIV/0! | I58: =IF(ISNUMBER(FIND("<",I17)),"N.D.",PRODUCT(I17,1/I$54)) -> #DIV/0! | J58: =IF(ISNUMBER(FIND("<",J17)),"N.D.",PRODUCT(J17,1/J$54)) -> #REF! | K58: =IF(ISNUMBER(FIND("<",K17)),"N.D.",PRODUCT(K17,1/K$54)) -> #REF! | L58: =IF(ISNUMBER(FIND("<",L17)),"N.D.",PRODUCT(L17,1/L$54)) -> #REF! | ... S58: =IF(ISNUMBER(FIND("<",S17)),"N.D.",PRODUCT(S17,1/S$54)) -> #REF! | U58: - | V58: =MAX(E58:I58) -> #DIV/0! | W58: =IF(V58>U58,"Supera","No Supera") -> #DIV/0!
B59: Berilio | C59: Be | D59: µg/m3 | E59: =IF(ISNUMBER(FIND("<",E18)),"N.D.",PRODUCT(E18,1/E$54)) -> N.D. | F59: =IF(ISNUMBER(FIND("<",F18)),"N.D.",PRODUCT(F18,1/F$54)) -> N.D. | G59: =IF(ISNUMBER(FIND("<",G18)),"N.D.",PRODUCT(G18,1/G$54)) -> N.D. | H59: =IF(ISNUMBER(FIND("<",H18)),"N.D.",PRODUCT(H18,1/H$54)) -> N.D. | I59: =IF(ISNUMBER(FIND("<",I18)),"N.D.",PRODUCT(I18,1/I$54)) -> N.D. | J59: =IF(ISNUMBER(FIND("<",J18)),"N.D.",PRODUCT(J18,1/J$54)) -> #REF! | K59: =IF(ISNUMBER(FIND("<",K18)),"N.D.",PRODUCT(K18,1/K$54)) -> #REF! | L59: =IF(ISNUMBER(FIND("<",L18)),"N.D.",PRODUCT(L18,1/L$54)) -> #REF! | ... S59: =IF(ISNUMBER(FIND("<",S18)),"N.D.",PRODUCT(S18,1/S$54)) -> #REF! | U59: 0.01 | V59: =MAX(E59:I59) -> 0 | W59: =IF(V59>U59,"Supera","No Supera") -> No Supera
B60: Bismuto | C60: Bi | D60: µg/m3 | E60: =IF(ISNUMBER(FIND("<",E19)),"N.D.",PRODUCT(E19,1/E$54)) -> #DIV/0! | F60: =IF(ISNUMBER(FIND("<",F19)),"N.D.",PRODUCT(F19,1/F$54)) -> #DIV/0! | G60: =IF(ISNUMBER(FIND("<",G19)),"N.D.",PRODUCT(G19,1/G$54)) -> #DIV/0! | H60: =IF(ISNUMBER(FIND("<",H19)),"N.D.",PRODUCT(H19,1/H$54)) -> #DIV/0! | I60: =IF(ISNUMBER(FIND("<",I19)),"N.D.",PRODUCT(I19,1/I$54)) -> #DIV/0! | J60: =IF(ISNUMBER(FIND("<",J19)),"N.D.",PRODUCT(J19,1/J$54)) -> #REF! | K60: =IF(ISNUMBER(FIND("<",K19)),"N.D.",PRODUCT(K19,1/K$54)) -> #REF! | L60: =IF(ISNUMBER(FIND("<",L19)),"N.D.",PRODUCT(L19,1/L$54)) -> #REF! | ... S60: =IF(ISNUMBER(FIND("<",S19)),"N.D.",PRODUCT(S19,1/S$54)) -> #REF! | U60: - | V60: =MAX(E60:I60) -> #DIV/0! | W60: =IF(V60>U60,"Supera","No Supera") -> #DIV/0!
B61: Boro | C61: B | D61: µg/m3 | E61: =IF(ISNUMBER(FIND("<",E20)),"N.D.",PRODUCT(E20,1/E$54)) -> #DIV/0! | F61: =IF(ISNUMBER(FIND("<",F20)),"N.D.",PRODUCT(F20,1/F$54)) -> #DIV/0! | G61: =IF(ISNUMBER(FIND("<",G20)),"N.D.",PRODUCT(G20,1/G$54)) -> #DIV/0! | H61: =IF(ISNUMBER(FIND("<",H20)),"N.D.",PRODUCT(H20,1/H$54)) -> #DIV/0! | I61: =IF(ISNUMBER(FIND("<",I20)),"N.D.",PRODUCT(I20,1/I$54)) -> #DIV/0! | J61: =IF(ISNUMBER(FIND("<",J20)),"N.D.",PRODUCT(J20,1/J$54)) -> #REF! | K61: =IF(ISNUMBER(FIND("<",K20)),"N.D.",PRODUCT(K20,1/K$54)) -> #REF! | L61: =IF(ISNUMBER(FIND("<",L20)),"N.D.",PRODUCT(L20,1/L$54)) -> #REF! | ... S61: =IF(ISNUMBER(FIND("<",S20)),"N.D.",PRODUCT(S20,1/S$54)) -> #REF! | U61: 120 | V61: =MAX(E61:I61) -> #DIV/0! | W61: =IF(V61>U61,"Supera","No Supera") -> #DIV/0!
B62: Cadmio | C62: Cd | D62: µg/m3 | E62: =IF(ISNUMBER(FIND("<",E21)),"N.D.",PRODUCT(E21,1/E$54)) -> #DIV/0! | F62: =IF(ISNUMBER(FIND("<",F21)),"N.D.",PRODUCT(F21,1/F$54)) -> #DIV/0! | G62: =IF(ISNUMBER(FIND("<",G21)),"N.D.",PRODUCT(G21,1/G$54)) -> #DIV/0! | H62: =IF(ISNUMBER(FIND("<",H21)),"N.D.",PRODUCT(H21,1/H$54)) -> #DIV/0! | I62: =IF(ISNUMBER(FIND("<",I21)),"N.D.",PRODUCT(I21,1/I$54)) -> #DIV/0! | J62: =IF(ISNUMBER(FIND("<",J21)),"N.D.",PRODUCT(J21,1/J$54)) -> #REF! | K62: =IF(ISNUMBER(FIND("<",K21)),"N.D.",PRODUCT(K21,1/K$54)) -> #REF! | L62: =IF(ISNUMBER(FIND("<",L21)),"N.D.",PRODUCT(L21,1/L$54)) -> #REF! | ... S62: =IF(ISNUMBER(FIND("<",S21)),"N.D.",PRODUCT(S21,1/S$54)) -> #REF! | U62: 0.025 | V62: =MAX(E62:I62) -> #DIV/0! | W62: =IF(V62>U62,"Supera","No Supera") -> #DIV/0! | X62: =COUNTIF(E62:I62,">0,025") -> 0 | Y62: =E62/$U$62 -> #DIV/0! | Z62: =F62/$U$62 -> #DIV/0! | AA62: =G62/$U$62 -> #DIV/0! | AB62: =H62/$U$62 -> #DIV/0! | AC62: =I62/$U$62 -> #DIV/0! | AD62: =MAX(Y62:AC62) -> #DIV/0!
B63: Calcio | C63: Ca | D63: µg/m3 | E63: =IF(ISNUMBER(FIND("<",E22)),"N.D.",PRODUCT(E22,1/E$54)) -> #DIV/0! | F63: =IF(ISNUMBER(FIND("<",F22)),"N.D.",PRODUCT(F22,1/F$54)) -> #DIV/0! | G63: =IF(ISNUMBER(FIND("<",G22)),"N.D.",PRODUCT(G22,1/G$54)) -> #DIV/0! | H63: =IF(ISNUMBER(FIND("<",H22)),"N.D.",PRODUCT(H22,1/H$54)) -> #DIV/0! | I63: =IF(ISNUMBER(FIND("<",I22)),"N.D.",PRODUCT(I22,1/I$54)) -> #DIV/0! | J63: =IF(ISNUMBER(FIND("<",J22)),"N.D.",PRODUCT(J22,1/J$54)) -> #REF! | K63: =IF(ISNUMBER(FIND("<",K22)),"N.D.",PRODUCT(K22,1/K$54)) -> #REF! | L63: =IF(ISNUMBER(FIND("<",L22)),"N.D.",PRODUCT(L22,1/L$54)) -> #REF! | ... S63: =IF(ISNUMBER(FIND("<",S22)),"N.D.",PRODUCT(S22,1/S$54)) -> #REF! | U63: - | V63: =MAX(E63:I63) -> #DIV/0! | W63: =IF(V63>U63,"Supera","No Supera") -> #DIV/0!
B64: Cobalto | C64: Co | D64: µg/m3 | E64: =IF(ISNUMBER(FIND("<",E23)),"N.D.",PRODUCT(E23,1/E$54)) -> #DIV/0! | F64: =IF(ISNUMBER(FIND("<",F23)),"N.D.",PRODUCT(F23,1/F$54)) -> #DIV/0! | G64: =IF(ISNUMBER(FIND("<",G23)),"N.D.",PRODUCT(G23,1/G$54)) -> #DIV/0! | H64: =IF(ISNUMBER(FIND("<",H23)),"N.D.",PRODUCT(H23,1/H$54)) -> #DIV/0! | I64: =IF(ISNUMBER(FIND("<",I23)),"N.D.",PRODUCT(I23,1/I$54)) -> #DIV/0! | J64: =IF(ISNUMBER(FIND("<",J23)),"N.D.",PRODUCT(J23,1/J$54)) -> #REF! | K64: =IF(ISNUMBER(FIND("<",K23)),"N.D.",PRODUCT(K23,1/K$54)) -> #REF! | L64: =IF(ISNUMBER(FIND("<",L23)),"N.D.",PRODUCT(L23,1/L$54)) -> #REF! | ... S64: =IF(ISNUMBER(FIND("<",S23)),"N.D.",PRODUCT(S23,1/S$54)) -> #REF! | U64: 0.1 | V64: =MAX(E64:I64) -> #DIV/0! | W64: =IF(V64>U64,"Supera","No Supera") -> #DIV/0!
B65: Cobre | C65: Cu | D65: µg/m3 | E65: =IF(ISNUMBER(FIND("<",E24)),"N.D.",PRODUCT(E24,1/E$54)) -> #DIV/0! | F65: =IF(ISNUMBER(FIND("<",F24)),"N.D.",PRODUCT(F24,1/F$54)) -> #DIV/0! | G65: =IF(ISNUMBER(FIND("<",G24)),"N.D.",PRODUCT(G24,1/G$54)) -> #DIV/0! | H65: =IF(ISNUMBER(FIND("<",H24)),"N.D.",PRODUCT(H24,1/H$54)) -> #DIV/0! | I65: =IF(ISNUMBER(FIND("<",I24)),"N.D.",PRODUCT(I24,1/I$54)) -> #DIV/0! | J65: =IF(ISNUMBER(FIND("<",J24)),"N.D.",PRODUCT(J24,1/J$54)) -> #REF! | K65: =IF(ISNUMBER(FIND("<",K24)),"N.D.",PRODUCT(K24,1/K$54)) -> #REF! | L65: =IF(ISNUMBER(FIND("<",L24)),"N.D.",PRODUCT(L24,1/L$54)) -> #REF! | ... S65: =IF(ISNUMBER(FIND("<",S24)),"N.D.",PRODUCT(S24,1/S$54)) -> #REF! | U65: 50 | V65: =MAX(E65:I65) -> #DIV/0! | W65: =IF(V65>U65,"Supera","No Supera") -> #DIV/0!
B66: Cromo | C66: Cr | D66: µg/m3 | E66: =IF(ISNUMBER(FIND("<",E25)),"N.D.",PRODUCT(E25,1/E$54)) -> N.D. | F66: =IF(ISNUMBER(FIND("<",F25)),"N.D.",PRODUCT(F25,1/F$54)) -> N.D. | G66: =IF(ISNUMBER(FIND("<",G25)),"N.D.",PRODUCT(G25,1/G$54)) -> N.D. | H66: =IF(ISNUMBER(FIND("<",H25)),"N.D.",PRODUCT(H25,1/H$54)) -> N.D. | I66: =IF(ISNUMBER(FIND("<",I25)),"N.D.",PRODUCT(I25,1/I$54)) -> N.D. | J66: =IF(ISNUMBER(FIND("<",J25)),"N.D.",PRODUCT(J25,1/J$54)) -> #REF! | K66: =IF(ISNUMBER(FIND("<",K25)),"N.D.",PRODUCT(K25,1/K$54)) -> #REF! | L66: =IF(ISNUMBER(FIND("<",L25)),"N.D.",PRODUCT(L25,1/L$54)) -> #REF! | ... S66: =IF(ISNUMBER(FIND("<",S25)),"N.D.",PRODUCT(S25,1/S$54)) -> #REF! | U66: 0.5 | V66: =MAX(E66:I66) -> 0 | W66: =IF(V66>U66,"Supera","No Supera") -> No Supera
B67: Estaño | C67: Sn | D67: µg/m3 | E67: =IF(ISNUMBER(FIND("<",E26)),"N.D.",PRODUCT(E26,1/E$54)) -> #DIV/0! | F67: =IF(ISNUMBER(FIND("<",F26)),"N.D.",PRODUCT(F26,1/F$54)) -> #DIV/0! | G67: =IF(ISNUMBER(FIND("<",G26)),"N.D.",PRODUCT(G26,1/G$54)) -> #DIV/0! | H67: =IF(ISNUMBER(FIND("<",H26)),"N.D.",PRODUCT(H26,1/H$54)) -> #DIV/0! | I67: =IF(ISNUMBER(FIND("<",I26)),"N.D.",PRODUCT(I26,1/I$54)) -> #DIV/0! | J67: =IF(ISNUMBER(FIND("<",J26)),"N.D.",PRODUCT(J26,1/J$54)) -> #REF! | K67: =IF(ISNUMBER(FIND("<",K26)),"N.D.",PRODUCT(K26,1/K$54)) -> #REF! | L67: =IF(ISNUMBER(FIND("<",L26)),"N.D.",PRODUCT(L26,1/L$54)) -> #REF! | ... S67: =IF(ISNUMBER(FIND("<",S26)),"N.D.",PRODUCT(S26,1/S$54)) -> #REF! | U67: 10 | V67: =MAX(E67:I67) -> #DIV/0! | W67: =IF(V67>U67,"Supera","No Supera") -> #DIV/0!
B68: Estroncio | C68: Sr | D68: µg/m3 | E68: =IF(ISNUMBER(FIND("<",E27)),"N.D.",PRODUCT(E27,1/E$54)) -> #DIV/0! | F68: =IF(ISNUMBER(FIND("<",F27)),"N.D.",PRODUCT(F27,1/F$54)) -> #DIV/0! | G68: =IF(ISNUMBER(FIND("<",G27)),"N.D.",PRODUCT(G27,1/G$54)) -> #DIV/0! | H68: =IF(ISNUMBER(FIND("<",H27)),"N.D.",PRODUCT(H27,1/H$54)) -> #DIV/0! | I68: =IF(ISNUMBER(FIND("<",I27)),"N.D.",PRODUCT(I27,1/I$54)) -> #DIV/0! | J68: =IF(ISNUMBER(FIND("<",J27)),"N.D.",PRODUCT(J27,1/J$54)) -> #REF! | K68: =IF(ISNUMBER(FIND("<",K27)),"N.D.",PRODUCT(K27,1/K$54)) -> #REF! | L68: =IF(ISNUMBER(FIND("<",L27)),"N.D.",PRODUCT(L27,1/L$54)) -> #REF! | ... S68: =IF(ISNUMBER(FIND("<",S27)),"N.D.",PRODUCT(S27,1/S$54)) -> #REF! | U68: 120 | V68: =MAX(E68:I68) -> #DIV/0! | W68: =IF(V68>U68,"Supera","No Supera") -> #DIV/0!
B69: Fósforo | C69: P | D69: µg/m3 | E69: =IF(ISNUMBER(FIND("<",E28)),"N.D.",PRODUCT(E28,1/E$54)) -> #DIV/0! | F69: =IF(ISNUMBER(FIND("<",F28)),"N.D.",PRODUCT(F28,1/F$54)) -> #DIV/0! | G69: =IF(ISNUMBER(FIND("<",G28)),"N.D.",PRODUCT(G28,1/G$54)) -> #DIV/0! | H69: =IF(ISNUMBER(FIND("<",H28)),"N.D.",PRODUCT(H28,1/H$54)) -> #DIV/0! | I69: =IF(ISNUMBER(FIND("<",I28)),"N.D.",PRODUCT(I28,1/I$54)) -> #DIV/0! | J69: =IF(ISNUMBER(FIND("<",J28)),"N.D.",PRODUCT(J28,1/J$54)) -> #REF! | K69: =IF(ISNUMBER(FIND("<",K28)),"N.D.",PRODUCT(K28,1/K$54)) -> #REF! | L69: =IF(ISNUMBER(FIND("<",L28)),"N.D.",PRODUCT(L28,1/L$54)) -> #REF! | ... S69: =IF(ISNUMBER(FIND("<",S28)),"N.D.",PRODUCT(S28,1/S$54)) -> #REF! | U69: - | V69: =MAX(E69:I69) -> #DIV/0! | W69: =IF(V69>U69,"Supera","No Supera") -> #DIV/0!
B70: Hierro | C70: Fe | D70: µg/m3 | E70: =IF(ISNUMBER(FIND("<",E29)),"N.D.",PRODUCT(E29,1/E$54)) -> #DIV/0! | F70: =IF(ISNUMBER(FIND("<",F29)),"N.D.",PRODUCT(F29,1/F$54)) -> #DIV/0! | G70: =IF(ISNUMBER(FIND("<",G29)),"N.D.",PRODUCT(G29,1/G$54)) -> #DIV/0! | H70: =IF(ISNUMBER(FIND("<",H29)),"N.D.",PRODUCT(H29,1/H$54)) -> #DIV/0! | I70: =IF(ISNUMBER(FIND("<",I29)),"N.D.",PRODUCT(I29,1/I$54)) -> #DIV/0! | J70: =IF(ISNUMBER(FIND("<",J29)),"N.D.",PRODUCT(J29,1/J$54)) -> #REF! | K70: =IF(ISNUMBER(FIND("<",K29)),"N.D.",PRODUCT(K29,1/K$54)) -> #REF! | L70: =IF(ISNUMBER(FIND("<",L29)),"N.D.",PRODUCT(L29,1/L$54)) -> #REF! | ... S70: =IF(ISNUMBER(FIND("<",S29)),"N.D.",PRODUCT(S29,1/S$54)) -> #REF! | U70: 4 | V70: =MAX(E70:I70) -> #DIV/0! | W70: =IF(V70>U70,"Supera","No Supera") -> #DIV/0! | X70: =COUNTIF(E70:I70,">4") -> 0 | Y70: =E70/$U$70 -> #DIV/0! | Z70: =F70/$U$70 -> #DIV/0! | AA70: =G70/$U$70 -> #DIV/0! | AB70: =H70/$U$70 -> #DIV/0! | AC70: =I70/$U$70 -> #DIV/0! | AD70: =MAX(Y70:AC70) -> #DIV/0!
B71: Litio | C71: Li | D71: µg/m3 | E71: =IF(ISNUMBER(FIND("<",E30)),"N.D.",PRODUCT(E30,1/E$54)) -> #DIV/0! | F71: =IF(ISNUMBER(FIND("<",F30)),"N.D.",PRODUCT(F30,1/F$54)) -> #DIV/0! | G71: =IF(ISNUMBER(FIND("<",G30)),"N.D.",PRODUCT(G30,1/G$54)) -> #DIV/0! | H71: =IF(ISNUMBER(FIND("<",H30)),"N.D.",PRODUCT(H30,1/H$54)) -> #DIV/0! | I71: =IF(ISNUMBER(FIND("<",I30)),"N.D.",PRODUCT(I30,1/I$54)) -> #DIV/0! | J71: =IF(ISNUMBER(FIND("<",J30)),"N.D.",PRODUCT(J30,1/J$54)) -> #REF! | K71: =IF(ISNUMBER(FIND("<",K30)),"N.D.",PRODUCT(K30,1/K$54)) -> #REF! | L71: =IF(ISNUMBER(FIND("<",L30)),"N.D.",PRODUCT(L30,1/L$54)) -> #REF! | ... S71: =IF(ISNUMBER(FIND("<",S30)),"N.D.",PRODUCT(S30,1/S$54)) -> #REF! | U71: - | V71: =MAX(E71:I71) -> #DIV/0! | W71: =IF(V71>U71,"Supera","No Supera") -> #DIV/0!
B72: Magnesio | C72: Mg | D72: µg/m3 | E72: =IF(ISNUMBER(FIND("<",E31)),"N.D.",PRODUCT(E31,1/E$54)) -> #DIV/0! | F72: =IF(ISNUMBER(FIND("<",F31)),"N.D.",PRODUCT(F31,1/F$54)) -> #DIV/0! | G72: =IF(ISNUMBER(FIND("<",G31)),"N.D.",PRODUCT(G31,1/G$54)) -> #DIV/0! | H72: =IF(ISNUMBER(FIND("<",H31)),"N.D.",PRODUCT(H31,1/H$54)) -> #DIV/0! | I72: =IF(ISNUMBER(FIND("<",I31)),"N.D.",PRODUCT(I31,1/I$54)) -> #DIV/0! | J72: =IF(ISNUMBER(FIND("<",J31)),"N.D.",PRODUCT(J31,1/J$54)) -> #REF! | K72: =IF(ISNUMBER(FIND("<",K31)),"N.D.",PRODUCT(K31,1/K$54)) -> #REF! | L72: =IF(ISNUMBER(FIND("<",L31)),"N.D.",PRODUCT(L31,1/L$54)) -> #REF! | ... S72: =IF(ISNUMBER(FIND("<",S31)),"N.D.",PRODUCT(S31,1/S$54)) -> #REF! | U72: - | V72: =MAX(E72:I72) -> #DIV/0! | W72: =IF(V72>U72,"Supera","No Supera") -> #DIV/0!
B73: Manganeso | C73: Mn | D73: µg/m3 | E73: =IF(ISNUMBER(FIND("<",E32)),"N.D.",PRODUCT(E32,1/E$54)) -> #DIV/0! | F73: =IF(ISNUMBER(FIND("<",F32)),"N.D.",PRODUCT(F32,1/F$54)) -> #DIV/0! | G73: =IF(ISNUMBER(FIND("<",G32)),"N.D.",PRODUCT(G32,1/G$54)) -> #DIV/0! | H73: =IF(ISNUMBER(FIND("<",H32)),"N.D.",PRODUCT(H32,1/H$54)) -> #DIV/0! | I73: =IF(ISNUMBER(FIND("<",I32)),"N.D.",PRODUCT(I32,1/I$54)) -> #DIV/0! | J73: =IF(ISNUMBER(FIND("<",J32)),"N.D.",PRODUCT(J32,1/J$54)) -> #REF! | K73: =IF(ISNUMBER(FIND("<",K32)),"N.D.",PRODUCT(K32,1/K$54)) -> #REF! | L73: =IF(ISNUMBER(FIND("<",L32)),"N.D.",PRODUCT(L32,1/L$54)) -> #REF! | ... S73: =IF(ISNUMBER(FIND("<",S32)),"N.D.",PRODUCT(S32,1/S$54)) -> #REF! | U73: 0.2 | V73: =MAX(E73:I73) -> #DIV/0! | W73: =IF(V73>U73,"Supera","No Supera") -> #DIV/0!
B74: Mercurio | C74: Hg | D74: µg/m3 | E74: =IF(ISNUMBER(FIND("<",E33)),"N.D.",PRODUCT(E33,1/E$54)) -> N.D. | F74: =IF(ISNUMBER(FIND("<",F33)),"N.D.",PRODUCT(F33,1/F$54)) -> N.D. | G74: =IF(ISNUMBER(FIND("<",G33)),"N.D.",PRODUCT(G33,1/G$54)) -> #DIV/0! | H74: =IF(ISNUMBER(FIND("<",H33)),"N.D.",PRODUCT(H33,1/H$54)) -> N.D. | I74: =IF(ISNUMBER(FIND("<",I33)),"N.D.",PRODUCT(I33,1/I$54)) -> #DIV/0! | J74: =IF(ISNUMBER(FIND("<",J33)),"N.D.",PRODUCT(J33,1/J$54)) -> #REF! | K74: =IF(ISNUMBER(FIND("<",K33)),"N.D.",PRODUCT(K33,1/K$54)) -> #REF! | L74: =IF(ISNUMBER(FIND("<",L33)),"N.D.",PRODUCT(L33,1/L$54)) -> #REF! | ... S74: =IF(ISNUMBER(FIND("<",S33)),"N.D.",PRODUCT(S33,1/S$54)) -> #REF! | U74: 2 | V74: =MAX(E74:I74) -> #DIV/0! | W74: =IF(V74>U74,"Supera","No Supera") -> #DIV/0!
B75: Molibdeno | C75: Mo | D75: µg/m3 | E75: =IF(ISNUMBER(FIND("<",E34)),"N.D.",PRODUCT(E34,1/E$54)) -> #DIV/0! | F75: =IF(ISNUMBER(FIND("<",F34)),"N.D.",PRODUCT(F34,1/F$54)) -> #DIV/0! | G75: =IF(ISNUMBER(FIND("<",G34)),"N.D.",PRODUCT(G34,1/G$54)) -> #DIV/0! | H75: =IF(ISNUMBER(FIND("<",H34)),"N.D.",PRODUCT(H34,1/H$54)) -> #DIV/0! | I75: =IF(ISNUMBER(FIND("<",I34)),"N.D.",PRODUCT(I34,1/I$54)) -> #DIV/0! | J75: =IF(ISNUMBER(FIND("<",J34)),"N.D.",PRODUCT(J34,1/J$54)) -> #REF! | K75: =IF(ISNUMBER(FIND("<",K34)),"N.D.",PRODUCT(K34,1/K$54)) -> #REF! | L75: =IF(ISNUMBER(FIND("<",L34)),"N.D.",PRODUCT(L34,1/L$54)) -> #REF! | ... S75: =IF(ISNUMBER(FIND("<",S34)),"N.D.",PRODUCT(S34,1/S$54)) -> #REF! | U75: 120 | V75: =MAX(E75:I75) -> #DIV/0! | W75: =IF(V75>U75,"Supera","No Supera") -> #DIV/0!
B76: Níquel | C76: Ni | D76: µg/m3 | E76: =IF(ISNUMBER(FIND("<",E35)),"N.D.",PRODUCT(E35,1/E$54)) -> #DIV/0! | F76: =IF(ISNUMBER(FIND("<",F35)),"N.D.",PRODUCT(F35,1/F$54)) -> #DIV/0! | G76: =IF(ISNUMBER(FIND("<",G35)),"N.D.",PRODUCT(G35,1/G$54)) -> #DIV/0! | H76: =IF(ISNUMBER(FIND("<",H35)),"N.D.",PRODUCT(H35,1/H$54)) -> #DIV/0! | I76: =IF(ISNUMBER(FIND("<",I35)),"N.D.",PRODUCT(I35,1/I$54)) -> #DIV/0! | J76: =IF(ISNUMBER(FIND("<",J35)),"N.D.",PRODUCT(J35,1/J$54)) -> #REF! | K76: =IF(ISNUMBER(FIND("<",K35)),"N.D.",PRODUCT(K35,1/K$54)) -> #REF! | L76: =IF(ISNUMBER(FIND("<",L35)),"N.D.",PRODUCT(L35,1/L$54)) -> #REF! | ... S76: =IF(ISNUMBER(FIND("<",S35)),"N.D.",PRODUCT(S35,1/S$54)) -> #REF! | U76: 0.1 | V76: =MAX(E76:I76) -> #DIV/0! | W76: =IF(V76>U76,"Supera","No Supera") -> #DIV/0!
B77: Plata | C77: Ag | D77: µg/m3 | E77: =IF(ISNUMBER(FIND("<",E36)),"N.D.",PRODUCT(E36,1/E$54)) -> #DIV/0! | F77: =IF(ISNUMBER(FIND("<",F36)),"N.D.",PRODUCT(F36,1/F$54)) -> #DIV/0! | G77: =IF(ISNUMBER(FIND("<",G36)),"N.D.",PRODUCT(G36,1/G$54)) -> #DIV/0! | H77: =IF(ISNUMBER(FIND("<",H36)),"N.D.",PRODUCT(H36,1/H$54)) -> #DIV/0! | I77: =IF(ISNUMBER(FIND("<",I36)),"N.D.",PRODUCT(I36,1/I$54)) -> #DIV/0! | J77: =IF(ISNUMBER(FIND("<",J36)),"N.D.",PRODUCT(J36,1/J$54)) -> #REF! | K77: =IF(ISNUMBER(FIND("<",K36)),"N.D.",PRODUCT(K36,1/K$54)) -> #REF! | L77: =IF(ISNUMBER(FIND("<",L36)),"N.D.",PRODUCT(L36,1/L$54)) -> #REF! | ... S77: =IF(ISNUMBER(FIND("<",S36)),"N.D.",PRODUCT(S36,1/S$54)) -> #REF! | U77: 1 | V77: =MAX(E77:I77) -> #DIV/0! | W77: =IF(V77>U77,"Supera","No Supera") -> #DIV/0!
B78: Plomo | C78: Pb | D78: µg/m3 | E78: =IF(ISNUMBER(FIND("<",E37)),"N.D.",PRODUCT(E37,1/E$54)) -> #DIV/0! | F78: =IF(ISNUMBER(FIND("<",F37)),"N.D.",PRODUCT(F37,1/F$54)) -> #DIV/0! | G78: =IF(ISNUMBER(FIND("<",G37)),"N.D.",PRODUCT(G37,1/G$54)) -> #DIV/0! | H78: =IF(ISNUMBER(FIND("<",H37)),"N.D.",PRODUCT(H37,1/H$54)) -> #DIV/0! | I78: =IF(ISNUMBER(FIND("<",I37)),"N.D.",PRODUCT(I37,1/I$54)) -> #DIV/0! | J78: =IF(ISNUMBER(FIND("<",J37)),"N.D.",PRODUCT(J37,1/J$54)) -> #REF! | K78: =IF(ISNUMBER(FIND("<",K37)),"N.D.",PRODUCT(K37,1/K$54)) -> #REF! | L78: =IF(ISNUMBER(FIND("<",L37)),"N.D.",PRODUCT(L37,1/L$54)) -> #REF! | ... S78: =IF(ISNUMBER(FIND("<",S37)),"N.D.",PRODUCT(S37,1/S$54)) -> #REF! | U78: 0.5 | V78: =MAX(E78:I78) -> #DIV/0! | W78: =IF(V78>U78,"Supera","No Supera") -> #DIV/0! | X78: =COUNTIF(E78:I78,">0,5") -> 0 | Y78: =E78/$U$78 -> #DIV/0! | Z78: =F78/$U$78 -> #DIV/0! | AA78: =G78/$U$78 -> #DIV/0! | AB78: =H78/$U$78 -> #DIV/0! | AC78: =I78/$U$78 -> #DIV/0! | AD78: =MAX(Y78:AC78) -> #DIV/0!
B79: Potasio | C79: K | D79: µg/m3 | E79: =IF(ISNUMBER(FIND("<",E38)),"N.D.",PRODUCT(E38,1/E$54)) -> #DIV/0! | F79: =IF(ISNUMBER(FIND("<",F38)),"N.D.",PRODUCT(F38,1/F$54)) -> #DIV/0! | G79: =IF(ISNUMBER(FIND("<",G38)),"N.D.",PRODUCT(G38,1/G$54)) -> #DIV/0! | H79: =IF(ISNUMBER(FIND("<",H38)),"N.D.",PRODUCT(H38,1/H$54)) -> #DIV/0! | I79: =IF(ISNUMBER(FIND("<",I38)),"N.D.",PRODUCT(I38,1/I$54)) -> #DIV/0! | J79: =IF(ISNUMBER(FIND("<",J38)),"N.D.",PRODUCT(J38,1/J$54)) -> #REF! | K79: =IF(ISNUMBER(FIND("<",K38)),"N.D.",PRODUCT(K38,1/K$54)) -> #REF! | L79: =IF(ISNUMBER(FIND("<",L38)),"N.D.",PRODUCT(L38,1/L$54)) -> #REF! | ... S79: =IF(ISNUMBER(FIND("<",S38)),"N.D.",PRODUCT(S38,1/S$54)) -> #REF! | U79: - | V79: =MAX(E79:I79) -> #DIV/0! | W79: =IF(V79>U79,"Supera","No Supera") -> #DIV/0!
B80: Selenio | C80: Se | D80: µg/m3 | E80: =IF(ISNUMBER(FIND("<",E39)),"N.D.",PRODUCT(E39,1/E$54)) -> #DIV/0! | F80: =IF(ISNUMBER(FIND("<",F39)),"N.D.",PRODUCT(F39,1/F$54)) -> #DIV/0! | G80: =IF(ISNUMBER(FIND("<",G39)),"N.D.",PRODUCT(G39,1/G$54)) -> #DIV/0! | H80: =IF(ISNUMBER(FIND("<",H39)),"N.D.",PRODUCT(H39,1/H$54)) -> #DIV/0! | I80: =IF(ISNUMBER(FIND("<",I39)),"N.D.",PRODUCT(I39,1/I$54)) -> #DIV/0! | J80: =IF(ISNUMBER(FIND("<",J39)),"N.D.",PRODUCT(J39,1/J$54)) -> #REF! | K80: =IF(ISNUMBER(FIND("<",K39)),"N.D.",PRODUCT(K39,1/K$54)) -> #REF! | L80: =IF(ISNUMBER(FIND("<",L39)),"N.D.",PRODUCT(L39,1/L$54)) -> #REF! | ... S80: =IF(ISNUMBER(FIND("<",S39)),"N.D.",PRODUCT(S39,1/S$54)) -> #REF! | U80: 10 | V80: =MAX(E80:I80) -> #DIV/0! | W80: =IF(V80>U80,"Supera","No Supera") -> #DIV/0!
B81: Silicio | C81: Si | D81: µg/m3 | E81: =IF(ISNUMBER(FIND("<",E40)),"N.D.",PRODUCT(E40,1/E$54)) -> #DIV/0! | F81: =IF(ISNUMBER(FIND("<",F40)),"N.D.",PRODUCT(F40,1/F$54)) -> #DIV/0! | G81: =IF(ISNUMBER(FIND("<",G40)),"N.D.",PRODUCT(G40,1/G$54)) -> #DIV/0! | H81: =IF(ISNUMBER(FIND("<",H40)),"N.D.",PRODUCT(H40,1/H$54)) -> #DIV/0! | I81: =IF(ISNUMBER(FIND("<",I40)),"N.D.",PRODUCT(I40,1/I$54)) -> #DIV/0! | J81: =IF(ISNUMBER(FIND("<",J40)),"N.D.",PRODUCT(J40,1/J$54)) -> #REF! | K81: =IF(ISNUMBER(FIND("<",K40)),"N.D.",PRODUCT(K40,1/K$54)) -> #REF! | L81: =IF(ISNUMBER(FIND("<",L40)),"N.D.",PRODUCT(L40,1/L$54)) -> #REF! | ... S81: =IF(ISNUMBER(FIND("<",S40)),"N.D.",PRODUCT(S40,1/S$54)) -> #REF! | U81: - | V81: =MAX(E81:I81) -> #DIV/0! | W81: =IF(V81>U81,"Supera","No Supera") -> #DIV/0!
B82: Sodio | C82: Na | D82: µg/m3 | E82: =IF(ISNUMBER(FIND("<",E41)),"N.D.",PRODUCT(E41,1/E$54)) -> #DIV/0! | F82: =IF(ISNUMBER(FIND("<",F41)),"N.D.",PRODUCT(F41,1/F$54)) -> #DIV/0! | G82: =IF(ISNUMBER(FIND("<",G41)),"N.D.",PRODUCT(G41,1/G$54)) -> #DIV/0! | H82: =IF(ISNUMBER(FIND("<",H41)),"N.D.",PRODUCT(H41,1/H$54)) -> #DIV/0! | I82: =IF(ISNUMBER(FIND("<",I41)),"N.D.",PRODUCT(I41,1/I$54)) -> #DIV/0! | J82: =IF(ISNUMBER(FIND("<",J41)),"N.D.",PRODUCT(J41,1/J$54)) -> #REF! | K82: =IF(ISNUMBER(FIND("<",K41)),"N.D.",PRODUCT(K41,1/K$54)) -> #REF! | L82: =IF(ISNUMBER(FIND("<",L41)),"N.D.",PRODUCT(L41,1/L$54)) -> #REF! | ... S82: =IF(ISNUMBER(FIND("<",S41)),"N.D.",PRODUCT(S41,1/S$54)) -> #REF! | U82: - | V82: =MAX(E82:I82) -> #DIV/0! | W82: =IF(V82>U82,"Supera","No Supera") -> #DIV/0!
B83: Talio | C83: Tl | D83: µg/m3 | E83: =IF(ISNUMBER(FIND("<",E42)),"N.D.",PRODUCT(E42,1/E$54)) -> #DIV/0! | F83: =IF(ISNUMBER(FIND("<",F42)),"N.D.",PRODUCT(F42,1/F$54)) -> N.D. | G83: =IF(ISNUMBER(FIND("<",G42)),"N.D.",PRODUCT(G42,1/G$54)) -> N.D. | H83: =IF(ISNUMBER(FIND("<",H42)),"N.D.",PRODUCT(H42,1/H$54)) -> #DIV/0! | I83: =IF(ISNUMBER(FIND("<",I42)),"N.D.",PRODUCT(I42,1/I$54)) -> #DIV/0! | J83: =IF(ISNUMBER(FIND("<",J42)),"N.D.",PRODUCT(J42,1/J$54)) -> #REF! | K83: =IF(ISNUMBER(FIND("<",K42)),"N.D.",PRODUCT(K42,1/K$54)) -> #REF! | L83: =IF(ISNUMBER(FIND("<",L42)),"N.D.",PRODUCT(L42,1/L$54)) -> #REF! | ... S83: =IF(ISNUMBER(FIND("<",S42)),"N.D.",PRODUCT(S42,1/S$54)) -> #REF! | U83: - | V83: =MAX(E83:I83) -> #DIV/0! | W83: =IF(V83>U83,"Supera","No Supera") -> #DIV/0!
B84: Titanio | C84: Ti | D84: µg/m3 | E84: =IF(ISNUMBER(FIND("<",E43)),"N.D.",PRODUCT(E43,1/E$54)) -> #DIV/0! | F84: =IF(ISNUMBER(FIND("<",F43)),"N.D.",PRODUCT(F43,1/F$54)) -> #DIV/0! | G84: =IF(ISNUMBER(FIND("<",G43)),"N.D.",PRODUCT(G43,1/G$54)) -> #DIV/0! | H84: =IF(ISNUMBER(FIND("<",H43)),"N.D.",PRODUCT(H43,1/H$54)) -> #DIV/0! | I84: =IF(ISNUMBER(FIND("<",I43)),"N.D.",PRODUCT(I43,1/I$54)) -> #DIV/0! | J84: =IF(ISNUMBER(FIND("<",J43)),"N.D.",PRODUCT(J43,1/J$54)) -> #REF! | K84: =IF(ISNUMBER(FIND("<",K43)),"N.D.",PRODUCT(K43,1/K$54)) -> #REF! | L84: =IF(ISNUMBER(FIND("<",L43)),"N.D.",PRODUCT(L43,1/L$54)) -> #REF! | ... S84: =IF(ISNUMBER(FIND("<",S43)),"N.D.",PRODUCT(S43,1/S$54)) -> #REF! | U84: 120 | V84: =MAX(E84:I84) -> #DIV/0! | W84: =IF(V84>U84,"Supera","No Supera") -> #DIV/0!
B85: Uranio | C85: U | D85: µg/m3 | E85: =IF(ISNUMBER(FIND("<",E44)),"N.D.",PRODUCT(E44,1/E$54)) -> N.D. | F85: =IF(ISNUMBER(FIND("<",F44)),"N.D.",PRODUCT(F44,1/F$54)) -> N.D. | G85: =IF(ISNUMBER(FIND("<",G44)),"N.D.",PRODUCT(G44,1/G$54)) -> N.D. | H85: =IF(ISNUMBER(FIND("<",H44)),"N.D.",PRODUCT(H44,1/H$54)) -> N.D. | I85: =IF(ISNUMBER(FIND("<",I44)),"N.D.",PRODUCT(I44,1/I$54)) -> #DIV/0! | U85: 0.15 | V85: =MAX(E85:I85) -> #DIV/0! | W85: =IF(V85>U85,"Supera","No Supera") -> #DIV/0!
B86: Vanadio | C86: V | D86: µg/m3 | E86: =IF(ISNUMBER(FIND("<",E45)),"N.D.",PRODUCT(E45,1/E$54)) -> #DIV/0! | F86: =IF(ISNUMBER(FIND("<",F45)),"N.D.",PRODUCT(F45,1/F$54)) -> #DIV/0! | G86: =IF(ISNUMBER(FIND("<",G45)),"N.D.",PRODUCT(G45,1/G$54)) -> #DIV/0! | H86: =IF(ISNUMBER(FIND("<",H45)),"N.D.",PRODUCT(H45,1/H$54)) -> #DIV/0! | I86: =IF(ISNUMBER(FIND("<",I45)),"N.D.",PRODUCT(I45,1/I$54)) -> #DIV/0! | J86: =IF(ISNUMBER(FIND("<",J45)),"N.D.",PRODUCT(J45,1/J$54)) -> #REF! | K86: =IF(ISNUMBER(FIND("<",K45)),"N.D.",PRODUCT(K45,1/K$54)) -> #REF! | L86: =IF(ISNUMBER(FIND("<",L45)),"N.D.",PRODUCT(L45,1/L$54)) -> #REF! | ... S86: =IF(ISNUMBER(FIND("<",S45)),"N.D.",PRODUCT(S45,1/S$54)) -> #REF! | U86: 2 | V86: =MAX(E86:I86) -> #DIV/0! | W86: =IF(V86>U86,"Supera","No Supera") -> #DIV/0!
B87: Zinc | C87: Zn | D87: µg/m3 | E87: =IF(ISNUMBER(FIND("<",E46)),"N.D.",PRODUCT(E46,1/E$54)) -> #DIV/0! | F87: =IF(ISNUMBER(FIND("<",F46)),"N.D.",PRODUCT(F46,1/F$54)) -> #DIV/0! | G87: =IF(ISNUMBER(FIND("<",G46)),"N.D.",PRODUCT(G46,1/G$54)) -> #DIV/0! | H87: =IF(ISNUMBER(FIND("<",H46)),"N.D.",PRODUCT(H46,1/H$54)) -> #DIV/0! | I87: =IF(ISNUMBER(FIND("<",I46)),"N.D.",PRODUCT(I46,1/I$54)) -> #DIV/0! | J87: =IF(ISNUMBER(FIND("<",J46)),"N.D.",PRODUCT(J46,1/J$54)) -> #REF! | K87: =IF(ISNUMBER(FIND("<",K46)),"N.D.",PRODUCT(K46,1/K$54)) -> #REF! | L87: =IF(ISNUMBER(FIND("<",L46)),"N.D.",PRODUCT(L46,1/L$54)) -> #REF! | ... S87: =IF(ISNUMBER(FIND("<",S46)),"N.D.",PRODUCT(S46,1/S$54)) -> #REF! | U87: 120 | V87: =MAX(E87:I87) -> #DIV/0! | W87: =IF(V87>U87,"Supera","No Supera") -> #DIV/0!
B89: OBSERVACIONES:
B90: (1) La concentración de metales en PM10, se realizó en base a las condiciones de temperatura T= 10°C (283.15 °K) y presión estándar (760 mmHg ó 1013,25 mBar). N.D. : No detectable.

Sheet Resumen
B2: Fecha Inicio | C2: Fecha Final | D2: PM10 (µg/m3) | F2: Pb en PM10 (24 horas) | H2: Cd en PM10 (24 horas) | I2: a 10°C | J2: =IF(F3>F13,"CORRECTO Pb","ERROR") -> #DIV/0!
B3: ='A.2.4. Cálculo PM10 y VM'!E12 -> 0 | C3: ='A.2.4. Cálculo PM10 y VM'!F12 -> 0 | D3: ='A.2.4. Cálculo PM10 y VM'!M12 -> #DIV/0! | F3: ='A.2.8. Conc. Metales 10°C'!E78 -> #DIV/0! | H3: ='A.2.8. Conc. Metales 10°C'!E62 -> #DIV/0! | J3: =IF(H3>H13,"CORRECTO Cd","ERROR") -> #DIV/0!
B4: ='A.2.4. Cálculo PM10 y VM'!E13 -> 0 | C4: ='A.2.4. Cálculo PM10 y VM'!F13 -> 0 | D4: ='A.2.4. Cálculo PM10 y VM'!M13 -> #DIV/0! | F4: ='A.2.8. Conc. Metales 10°C'!F78 -> #DIV/0! | H4: ='A.2.8. Conc. Metales 10°C'!F62 -> #DIV/0!
B5: ='A.2.4. Cálculo PM10 y VM'!E14 -> 0 | C5: ='A.2.4. Cálculo PM10 y VM'!F14 -> 0 | D5: ='A.2.4. Cálculo PM10 y VM'!M14 -> #DIV/0! | F5: ='A.2.8. Conc. Metales 10°C'!G78 -> #DIV/0! | H5: ='A.2.8. Conc. Metales 10°C'!G62 -> #DIV/0!
B6: ='A.2.4. Cálculo PM10 y VM'!E15 -> 0 | C6: ='A.2.4. Cálculo PM10 y VM'!F15 -> 0 | D6: ='A.2.4. Cálculo PM10 y VM'!M15 -> #DIV/0! | F6: ='A.2.8. Conc. Metales 10°C'!H78 -> #DIV/0! | H6: ='A.2.8. Conc. Metales 10°C'!H62 -> #DIV/0!
B7: ='A.2.4. Cálculo PM10 y VM'!E16 -> 0 | C7: ='A.2.4. Cálculo PM10 y VM'!F16 -> 0 | D7: ='A.2.4. Cálculo PM10 y VM'!M16 -> #DIV/0! | F7: ='A.2.8. Conc. Metales 10°C'!I78 -> #DIV/0! | H7: ='A.2.8. Conc. Metales 10°C'!I62 -> #DIV/0!
B9: Promedios: | D9: =AVERAGE(D3:D7) -> #DIV/0! | F9: =AVERAGE(F3:F7) -> #DIV/0! | H9: =AVERAGE(H3:H7) -> #DIV/0!
D10: AAQC 24 horas: | F10: 0.5 | H10: 0.025
B12: Fecha Inicio | C12: Fecha Final | D12: PM2,5 (µg/m3) | F12: Pb en PM10 (mensual) | H12: Cd en PM10 (mensual) | I12: a T de muestreo
B13: ='A.2.5. Cálculo PM 2.5'!E12 -> - | C13: ='A.2.5. Cálculo PM 2.5'!F12 -> - | D13: ='A.2.5. Cálculo PM 2.5'!M12 -> - | F13: ='A.2.6. Conc. de Metales PM 10'!E78 -> #DIV/0! | H13: ='A.2.6. Conc. de Metales PM 10'!E62 -> #DIV/0!
B14: ='A.2.5. Cálculo PM 2.5'!E13 -> - | C14: ='A.2.5. Cálculo PM 2.5'!F13 -> - | D14: ='A.2.5. Cálculo PM 2.5'!M13 -> - | F14: ='A.2.6. Conc. de Metales PM 10'!F78 -> #DIV/0! | H14: ='A.2.6. Conc. de Metales PM 10'!F62 -> #DIV/0!
B15: ='A.2.5. Cálculo PM 2.5'!E14 -> - | C15: ='A.2.5. Cálculo PM 2.5'!F14 -> - | D15: ='A.2.5. Cálculo PM 2.5'!M14 -> - | F15: ='A.2.6. Conc. de Metales PM 10'!G78 -> #DIV/0! | H15: ='A.2.6. Conc. de Metales PM 10'!G62 -> #DIV/0!
B16: ='A.2.5. Cálculo PM 2.5'!E15 -> - | C16: ='A.2.5. Cálculo PM 2.5'!F15 -> - | D16: ='A.2.5. Cálculo PM 2.5'!M15 -> - | F16: ='A.2.6. Conc. de Metales PM 10'!H78 -> #DIV/0! | H16: ='A.2.6. Conc. de Metales PM 10'!H62 -> #DIV/0!
B17: ='A.2.5. Cálculo PM 2.5'!E16 -> - | C17: ='A.2.5. Cálculo PM 2.5'!F16 -> - | D17: ='A.2.5. Cálculo PM 2.5'!M16 -> - | F17: ='A.2.6. Conc. de Metales PM 10'!I78 -> #DIV/0! | H17: ='A.2.6. Conc. de Metales PM 10'!I62 -> #DIV/0!
B19: Promedios: | D19: =AVERAGE(D13:D17) -> #DIV/0! | F19: =AVERAGE(F13:F17) -> #DIV/0! | H19: =AVERAGE(H13:H17) -> #DIV/0!
D20: ECA Mensual: | F20: 1.5 | H20: ---

Sheet Fórmula EPA
A1: De acuerdo a Compendium EPA Method IO-2.1 SAMPLING OF AMBIENT AIR FOR TOTAL SUSPENDED PARTICULATE MATTER (SPM) AND PM10 USING HIGH VOLUME (HV) SAMPLER
A2: 1.- Calcular el flujo promedio del periodo de muestreo corregido a las condiciones estándar
A7: Dónde:
A8: Qa (m³/min): | B8: Velocidad del flujo del volumen real
A9: Qstd (m³/min std): | B9: Velocidad del flujo del volumen estándar
A10: Pstd (mm Hg): | B10: Presión barométrica estándar según EPA (760 mm Hg)
A11: Pa (mm Hg): | B11: Presión barométrica ambiental
A12: Ta (°K): | B12: Temperatura ambiental
A13: Tstd: | B13: Temperatura estándar según EPA (298 °K)
A16: 2.- Calcular el volumen total de aire muestreado
A19: Dónde:
A20: Vstd (m³std): | B20: Volumen total de aire muestreado en condiciones estándar
A21: Qstd (m³/min std): | B21: Velocidad del flujo del volumen estándar
A22: t (min): | B22: Tiempo de muestreo
A25: 3.- Calcular la concentración de material particulado
A30: Dónde:
A31: PM10 (µg/m3 std): | B31: Concentración de PM-10
A32: Wf, Wi (g): | B32: Pesos final e inicial de partículas de PM-10 colectadas en el filtro
A33: 10E6: | B33: Conversión de g a µg
A34: Vstd (m³std): | B34: Volumen total de aire muestreado en condiciones estándar
