Workbook

Sheet PM10_CA-ILO-01
F2: Tabla 3.1. Concentraciones horarias de PM₁₀
B6: TÍTULO DEL ESTUDIO: | F6: Evaluación de seguimiento de la calidad del aire en la I.E. Francisco Bolognesi, distrito Ilo, provincia Ilo, departamento Moquegua, en febrero 2022
B8: ESTACIÓN DE MONITOREO: | F8: CA-ILO-01 | Q8: CÓDIGO DE ACCIÓN:
B10: DATOS DEL EQUIPO
B12: EQUIPO: | F12: Monitor automático de partículas | Q12: MARCA: | V12: GRIMM AEROSOL TECHNIK
B14: MODELO: | F14: EDM180 | Q14: SERIE: | V14: 18A19094
B16: Hora\Día | C16: 1 | D16: 2 | E16: 3 | F16: 4 | G16: 5 | H16: 6 | I16: 7 | J16: 8 | K16: 9 | L16: 10 | M16: 11 | N16: 12 | O16: 13 | P16: 14 | Q16: 15 | R16: 16 | S16: 17 | T16: 18 | U16: 19 | V16: 20 | W16: 21 | X16: 22 | Y16: 23 | Z16: 24 | AA16: 25 | AB16: 26 | AC16: 27 | AD16: 28 | AE16: 29 | AF16: 30 | AG16: 31
B17: 0 | C17: 15.4 | D17: 22 | E17: 27.2 | F17: 9.3 | G17: 10.9 | H17: 20.3 | I17: 6.4 | J17: 17.4 | K17: 11.1 | L17: 8.2 | M17: 11.4 | N17: 12.3 | O17: 42.9 | P17: 10 | Q17: 12.1 | R17: 9.5 | S17: 13.2 | T17: 9.4 | U17: 24.5 | V17: 10.6 | W17: 25.2 | X17: 48.2 | Y17: 20.7 | Z17: 8.9 | AA17: 15.8 | AB17: 10.1 | AC17: 14.5 | AD17: 19.9
B18: 0.041666667 | C18: 5.4 | D18: 16.9 | E18: 39.6 | F18: 15.2 | G18: 13.2 | H18: 37.2 | I18: 5.8 | J18: 30.4 | K18: 17.3 | L18: 10.3 | M18: 15.4 | N18: 7.1 | O18: 70 | P18: 14.8 | Q18: 21.2 | R18: 8.1 | S18: 37.4 | T18: 10 | U18: 36.7 | V18: 9.1 | W18: 8.1 | X18: 60.1 | Y18: 28.4 | Z18: 8.3 | AA18: 16.3 | AB18: 14.4 | AC18: 13 | AD18: 18.1
B19: 0.083333333 | C19: 4.7 | D19: 32 | E19: 23.4 | F19: 10.3 | G19: 40.2 | H19: 28.9 | I19: 6.8 | J19: 25.9 | K19: 31.1 | L19: 35 | M19: 47.3 | N19: 7.5 | O19: 37.2 | P19: 23.2 | Q19: 35.8 | R19: 10.4 | S19: 33.4 | T19: 11.7 | U19: 29.4 | V19: 8.8 | W19: 6.8 | X19: 26.3 | Y19: 26.7 | Z19: 7 | AA19: 10.6 | AB19: 12.3 | AC19: 22.3 | AD19: 20.9
B20: 0.125 | C20: 7.4 | D20: 24.6 | E20: 17.2 | F20: 8.4 | G20: 13.2 | H20: 21.2 | I20: 7.6 | J20: 23.9 | K20: 45.8 | L20: 39.4 | M20: 36.3 | N20: 8.5 | O20: 19.8 | P20: 36.5 | Q20: 33.4 | R20: 7.8 | S20: 31.4 | T20: 17.6 | U20: 21.1 | V20: 9.6 | W20: 5.3 | X20: 39.5 | Y20: 30 | Z20: 5.9 | AA20: 9.3 | AB20: 26 | AC20: 27.8 | AD20: 27.5
B21: 0.16666667 | C21: 18.9 | D21: 10.9 | E21: 27.1 | F21: 9.3 | G21: 15.6 | H21: 14.7 | I21: 12 | J21: 27.6 | K21: 27.5 | L21: 27.5 | M21: 19.8 | N21: 16.2 | O21: 8.9 | P21: 20.4 | Q21: 21.9 | R21: 7.7 | S21: 45.3 | T21: 22.5 | U21: 20.5 | V21: 68.8 | W21: 5.9 | X21: 52.9 | Y21: 27.9 | Z21: 9.4 | AA21: 6.9 | AB21: 19.4 | AC21: 24.8 | AD21: 27.3
B22: 0.20833333 | C22: 23 | D22: 11.1 | E22: 27.6 | F22: 11.6 | G22: 17.9 | H22: 18.2 | I22: 36.7 | J22: 22 | K22: 29.2 | L22: 24.6 | M22: 17 | N22: 16.9 | O22: 16.1 | P22: 21.7 | Q22: 18.1 | R22: 9.4 | S22: 33.4 | T22: 28.5 | U22: 26.4 | V22: 49 | W22: 13.6 | X22: 25.3 | Y22: 18.4 | Z22: 9.3 | AA22: 8.6 | AB22: 19.1 | AC22: 30.1 | AD22: 16.8
B23: 0.25 | C23: 16.1 | D23: 12.3 | E23: 47.4 | F23: 22.9 | G23: 15.8 | H23: 23 | I23: 37.1 | J23: 23.1 | K23: 51.8 | L23: 26.1 | M23: 20.8 | N23: 14.8 | O23: 25.3 | P23: 25.7 | Q23: 15.3 | R23: 28 | S23: 31.6 | T23: 79.9 | U23: 27.3 | V23: 37 | W23: 42.7 | X23: 23.9 | Y23: 12 | Z23: 17.7 | AA23: 17.7 | AB23: 21.7 | AC23: 27.6 | AD23: 25.7
B24: 0.29166667 | C24: 22.3 | D24: 17.7 | E24: 34.3 | F24: 32.4 | G24: 14.4 | H24: 20 | I24: 22 | J24: 17.5 | K24: 37.8 | L24: 29 | M24: 32.1 | N24: 22 | O24: 36.8 | P24: 23.3 | Q24: 27.6 | R24: 21.9 | S24: 26.6 | T24: 42.5 | U24: 30 | V24: 37.1 | W24: 23.4 | X24: 13.2 | Y24: 16.1 | Z24: 25.8 | AA24: 19.9 | AB24: 19.9 | AC24: 23.5 | AD24: 20.6
B25: 0.33333333 | C25: 15.1 | D25: 22.5 | E25: 34.3 | F25: 17.2 | G25: 17.6 | H25: 21 | I25: 18.6 | J25: 15.2 | K25: 30.1 | L25: 35.9 | M25: 39 | N25: 38.8 | O25: 20.5 | P25: 19.2 | Q25: 15.7 | R25: 21.7 | S25: 23.2 | T25: 29 | U25: 29.6 | V25: 21.7 | W25: 20.3 | X25: 13.3 | Y25: 27.9 | Z25: 21.3 | AA25: 15.4 | AB25: 18.3 | AC25: 27.1 | AD25: 18.3
B26: 0.375 | C26: 17.4 | D26: 35.9 | E26: 21.9 | F26: 12.8 | G26: 16.9 | H26: 14.4 | I26: 18.1 | J26: 14.8 | K26: 30.7 | L26: 26.3 | M26: 32.4 | N26: 36.6 | O26: 13.3 | P26: 14.2 | Q26: 11.3 | R26: 16.1 | S26: 20.4 | T26: 31.3 | U26: 18.8 | V26: 13.8 | W26: 14.4 | X26: 19.8 | Y26: 18.6 | Z26: 26.9 | AA26: 12.6 | AB26: 17 | AC26: 55.5 | AD26: 17.3
B27: 0.41666667 | C27: 16.5 | D27: 27.1 | E27: 8.4 | F27: 14.9 | G27: 13.3 | H27: 12.5 | I27: 17.3 | J27: 13.3 | K27: 18.7 | L27: 10.6 | M27: 24.3 | N27: 22.7 | O27: 9 | P27: 16.5 | Q27: 10.3 | R27: 16 | S27: 15.7 | T27: 21.2 | U27: 23 | V27: 11.3 | W27: 12.6 | X27: 16.6 | Y27: 11 | Z27: 23.9 | AA27: 9.7 | AB27: 11.6 | AC27: 41.8 | AD27: 17.3
B28: 0.45833333 | C28: 13.3 | D28: 16.2 | E28: 11.2 | F28: 13.7 | G28: 19.8 | H28: 10.3 | I28: 14.1 | J28: 11.4 | K28: 16.7 | L28: ID | M28: 26.9 | N28: 27.1 | O28: 8 | P28: 13.6 | Q28: 9 | R28: 11.7 | S28: 14.7 | T28: 11.1 | U28: 19.5 | V28: 19.9 | W28: 15.5 | X28: 15.2 | Y28: 10.8 | Z28: 14.9 | AA28: 10.9 | AB28: 12.6 | AC28: 53.6 | AD28: 24
B29: 0.5 | C29: 10.9 | D29: 12 | E29: 11.9 | F29: 13.2 | G29: 10 | H29: 9.4 | I29: 20.4 | J29: 11.9 | K29: 13 | L29: 12.1 | M29: 27.6 | N29: 25.9 | O29: 7.9 | P29: 10.3 | Q29: 9.5 | R29: 14.1 | S29: 11.5 | T29: 11 | U29: 19.4 | V29: 25.7 | W29: 11.9 | X29: 12.2 | Y29: 11.4 | Z29: 17 | AA29: 7.9 | AB29: 11 | AC29: 30.4 | AD29: 11.4
B30: 0.54166667 | C30: 17.8 | D30: 12.1 | E30: 11.3 | F30: 15.4 | G30: 12.6 | H30: 9 | I30: 23.9 | J30: 12.2 | K30: 12.8 | L30: 12.8 | M30: 30.5 | N30: 19.1 | O30: 9.1 | P30: 10.8 | Q30: 10.8 | R30: 16.2 | S30: 8.7 | T30: 10.1 | U30: 12.3 | V30: 18.3 | W30: 9.7 | X30: 11.8 | Y30: 12.1 | Z30: 25.2 | AA30: 6.5 | AB30: 8.4 | AC30: 18.7 | AD30: 11.5
B31: 0.58333333 | C31: 25.6 | D31: 9.5 | E31: 8.9 | F31: 14.9 | G31: 11.5 | H31: 7.6 | I31: 15 | J31: 11 | K31: 14.1 | L31: 13.1 | M31: 31.3 | N31: 11.9 | O31: 15.3 | P31: 11.5 | Q31: 9 | R31: 16.4 | S31: 9.7 | T31: 9.2 | U31: 12.5 | V31: 11.7 | W31: 10.3 | X31: 12.2 | Y31: 13.6 | Z31: 31.7 | AA31: 6.7 | AB31: 12.9 | AC31: 20.6 | AD31: 14.6
B32: 0.625 | C32: 32.1 | D32: 9.7 | E32: 8.5 | F32: 13.9 | G32: 12.4 | H32: 8.9 | I32: 13.1 | J32: 11.4 | K32: 14.8 | L32: 10.8 | M32: 23.9 | N32: 8.1 | O32: 15 | P32: 8.3 | Q32: 10.3 | R32: 11.1 | S32: 10.6 | T32: 13.1 | U32: 13.9 | V32: 11 | W32: 8.7 | X32: 12.2 | Y32: 10.6 | Z32: 28 | AA32: 7.8 | AB32: 12.1 | AC32: 18.4 | AD32: 11.5
B33: 0.66666667 | C33: 57.2 | D33: 8 | E33: 8.7 | F33: 12.8 | G33: 11 | H33: 8.6 | I33: 9.9 | J33: 10.3 | K33: 15.3 | L33: 11.4 | M33: 20.3 | N33: 7.4 | O33: 15.4 | P33: 9.1 | Q33: 8.9 | R33: 10 | S33: 9.9 | T33: 12.5 | U33: 9.1 | V33: 9.9 | W33: 9.5 | X33: 10.5 | Y33: 10.2 | Z33: 25 | AA33: 7.7 | AB33: 13.6 | AC33: 13.9 | AD33: 10.7
B34: 0.70833333 | C34: 34.2 | D34: 8 | E34: 9.1 | F34: 12.8 | G34: 10.3 | H34: 6.7 | I34: 8.8 | J34: 10.2 | K34: 17.1 | L34: 9.6 | M34: 16 | N34: 8.6 | O34: 9.3 | P34: 8.5 | Q34: 9.1 | R34: 10.8 | S34: 11.8 | T34: 13.4 | U34: 15.7 | V34: 8.4 | W34: 8.9 | X34: 12.1 | Y34: 10.2 | Z34: 16.8 | AA34: 9.1 | AB34: 11.7 | AC34: 9.9 | AD34: 13
B35: 0.75 | C35: 19.6 | D35: 9.3 | E35: 10.8 | F35: 14.2 | G35: 10.6 | H35: 9.3 | I35: 8.9 | J35: 11.3 | K35: 13.5 | L35: 11 | M35: 12.9 | N35: 9.1 | O35: 8.1 | P35: 10.2 | Q35: 9.5 | R35: 12.6 | S35: 13 | T35: 12.5 | U35: 11.4 | V35: 6.7 | W35: 10.2 | X35: 11.2 | Y35: 8.6 | Z35: 14 | AA35: 7.8 | AB35: 11.2 | AC35: 11.5 | AD35: 15.2
B36: 0.79166667 | C36: 13.3 | D36: 8.5 | E36: 10.5 | F36: 10.5 | G36: 11.9 | H36: 8.3 | I36: 8.1 | J36: 18.3 | K36: 11.1 | L36: 12 | M36: 11.4 | N36: 10.2 | O36: 7.3 | P36: 9 | Q36: 9 | R36: 11 | S36: 11.7 | T36: 12.6 | U36: 19 | V36: 8.2 | W36: 8.8 | X36: 8.6 | Y36: 8 | Z36: 9.2 | AA36: 8.1 | AB36: 11.5 | AC36: 10.7 | AD36: 15.2
B37: 0.83333333 | C37: 11.4 | D37: 19 | E37: 16.1 | F37: 14.1 | G37: 12.8 | H37: 9.8 | I37: 8.9 | J37: 23.1 | K37: 14 | L37: 11.7 | M37: 12.9 | N37: 37.1 | O37: 8.6 | P37: 8.7 | Q37: 9.2 | R37: 16.1 | S37: 17.3 | T37: 13.1 | U37: 16.8 | V37: 8.4 | W37: 9.6 | X37: 8.6 | Y37: 9.6 | Z37: 8.1 | AA37: 9.2 | AB37: 13.7 | AC37: 11.4 | AD37: 17.1
B38: 0.875 | C38: 9.5 | D38: 13.1 | E38: 11.9 | F38: 16 | G38: 12.4 | H38: 9.4 | I38: 12 | J38: 12.5 | K38: 11 | L38: 11.3 | M38: 11.2 | N38: 15.9 | O38: 8.3 | P38: 9.8 | Q38: 11.5 | R38: 12.8 | S38: 19 | T38: 12.5 | U38: 28.1 | V38: 8.1 | W38: 11.2 | X38: 9.5 | Y38: 7.9 | Z38: 9.1 | AA38: 9 | AB38: 17.6 | AC38: 12.6 | AD38: 15.5
B39: 0.91666667 | C39: 8.5 | D39: 10.5 | E39: 8.1 | F39: 10.9 | G39: 11.8 | H39: 6.9 | I39: 12.6 | J39: 9.3 | K39: 9.3 | L39: 10.8 | M39: 34.9 | N39: 11.3 | O39: 10.6 | P39: 11.3 | Q39: 11.1 | R39: 9.9 | S39: 22.6 | T39: 10.3 | U39: 21.3 | V39: 8.5 | W39: 11.8 | X39: 15.2 | Y39: 6.9 | Z39: 8.5 | AA39: 8.8 | AB39: 17 | AC39: 15.6 | AD39: 19.9
B40: 0.95833333 | C40: 12.5 | D40: 14.8 | E40: 13.1 | F40: 9.6 | G40: 9.2 | H40: 7.7 | I40: 12.7 | J40: 10.3 | K40: 8.4 | L40: 10.6 | M40: 30.7 | N40: 27.9 | O40: 10.4 | P40: 9.1 | Q40: 8.6 | R40: 13.7 | S40: 12.7 | T40: 13.7 | U40: 20.9 | V40: 23.5 | W40: 42.3 | X40: 21 | Y40: 8 | Z40: 13.4 | AA40: 9.8 | AB40: 13.9 | AC40: 21.8 | AD40: 16.8
B41: Promedio de PM₁₀ en 24 h | C41: 17.8 | D41: 16 | E41: 18.7 | F41: 14 | G41: 14.4 | H41: 14.3 | I41: 14.9 | J41: 16.4 | K41: 20.9 | L41: 17.8 | M41: 24.4 | N41: 17.6 | O41: 18 | P41: 14.8 | Q41: 14.5 | R41: 13.5 | S41: 20.2 | T41: 19.1 | U41: 21.1 | V41: 18.5 | W41: 14.4 | X41: 20.8 | Y41: 15.2 | Z41: 16.1 | AA41: 10.5 | AB41: 14.9 | AC41: 23.2 | AD41: 17.8
B42: ECA aire de PM₁₀ | C42: 100 µg/m³ en periodo de 24 horas
B44: ID: Insuficiencia de data

Sheet PM2.5_CA-ILO-01
F2: Tabla 3.2. Concentraciones horarias de PM₂,₅
B6: TÍTULO DEL ESTUDIO: | F6: ='PM10_CA-ILO-01'!F6 -> Evaluación de seguimiento de la calidad del aire en la I.E. Francisco Bolognesi, distrito Ilo, provincia Ilo, departamento Moquegua, en febrero 2022
B8: ESTACIÓN DE MONITOREO: | F8: CA-ILO-01 | Q8: CÓDIGO DE ACCIÓN:
B10: DATOS DEL EQUIPO
B12: EQUIPO: | F12: Monitor automático de partículas | Q12: MARCA: | V12: GRIMM AEROSOL TECHNIK
B14: MODELO: | F14: EDM180 | Q14: SERIE: | V14: 18A19094
B16: Hora\Día | C16: 1 | D16: 2 | E16: 3 | F16: 4 | G16: 5 | H16: 6 | I16: 7 | J16: 8 | K16: 9 | L16: 10 | M16: 11 | N16: 12 | O16: 13 | P16: 14 | Q16: 15 | R16: 16 | S16: 17 | T16: 18 | U16: 19 | V16: 20 | W16: 21 | X16: 22 | Y16: 23 | Z16: 24 | AA16: 25 | AB16: 26 | AC16: 27 | AD16: 28 | AE16: 29 | AF16: 30 | AG16: 31
B17: 0 | C17: 7.5 | D17: 10.9 | E17: 14 | F17: 7.1 | G17: 7.8 | H17: 12.5 | I17: 4.3 | J17: 10.8 | K17: 8.4 | L17: 5.8 | M17: 7 | N17: 7.7 | O17: 26.9 | P17: 7.4 | Q17: 9.1 | R17: 7.6 | S17: 9.3 | T17: 7.2 | U17: 16.7 | V17: 6 | W17: 17.3 | X17: 30.9 | Y17: 15.7 | Z17: 6.8 | AA17: 8.1 | AB17: 7 | AC17: 8.8 | AD17: 13.2
B18: 0.041666667 | C18: 3.9 | D18: 10.2 | E18: 22.1 | F18: 9.3 | G18: 8.6 | H18: 22.3 | I18: 4.2 | J18: 18 | K18: 12.1 | L18: 6.8 | M18: 8.9 | N18: 5.6 | O18: 46.3 | P18: 9.7 | Q18: 13.3 | R18: 6.5 | S18: 23.9 | T18: 7.5 | U18: 24.6 | V18: 5.3 | W18: 5.4 | X18: 41 | Y18: 19.9 | Z18: 6.5 | AA18: 8.6 | AB18: 9.3 | AC18: 8.4 | AD18: 11.2
B19: 0.083333333 | C19: 3.7 | D19: 19.3 | E19: 13.8 | F19: 7.5 | G19: 22.3 | H19: 19.2 | I19: 4.8 | J19: 16.3 | K19: 20.1 | L19: 21.1 | M19: 26.1 | N19: 5.7 | O19: 27.5 | P19: 15.3 | Q19: 21.9 | R19: 7.8 | S19: 22 | T19: 8.3 | U19: 20.3 | V19: 5 | W19: 5 | X19: 19.5 | Y19: 18.9 | Z19: 5.6 | AA19: 6.8 | AB19: 8.6 | AC19: 14.3 | AD19: 12
B20: 0.125 | C20: 5 | D20: 14.6 | E20: 10.8 | F20: 6.4 | G20: 9.1 | H20: 15.2 | I20: 5.5 | J20: 15.6 | K20: 24.6 | L20: 21.9 | M20: 20.7 | N20: 6.3 | O20: 12.3 | P20: 22.3 | Q20: 20 | R20: 6.1 | S20: 19.9 | T20: 13.1 | U20: 14.8 | V20: 5.7 | W20: 4.1 | X20: 25.7 | Y20: 21 | Z20: 4.9 | AA20: 6.6 | AB20: 19.2 | AC20: 16.8 | AD20: 18.1
B21: 0.16666667 | C21: 11.2 | D21: 7.3 | E21: 15.8 | F21: 6.7 | G21: 11.2 | H21: 9.7 | I21: 7.3 | J21: 17.6 | K21: 18.6 | L21: 16.6 | M21: 11.9 | N21: 9.5 | O21: 6.4 | P21: 13 | Q21: 13.1 | R21: 5.7 | S21: 29.7 | T21: 15.3 | U21: 15.2 | V21: 32.2 | W21: 4.2 | X21: 37.5 | Y21: 20.1 | Z21: 7 | AA21: 4.9 | AB21: 14.1 | AC21: 15.3 | AD21: 18.3
B22: 0.20833333 | C22: 9.9 | D22: 7.4 | E22: 16.4 | F22: 7.8 | G22: 12.8 | H22: 9.2 | I22: 23.7 | J22: 14.9 | K22: 18.8 | L22: 12.3 | M22: 9.9 | N22: 8.7 | O22: 11 | P22: 15.6 | Q22: 11.2 | R22: 5.6 | S22: 21.2 | T22: 17.6 | U22: 18.1 | V22: 23 | W22: 6.9 | X22: 18.9 | Y22: 13.5 | Z22: 6.2 | AA22: 5.3 | AB22: 14 | AC22: 19.5 | AD22: 11.8
B23: 0.25 | C23: 6.6 | D23: 7.2 | E23: 27.2 | F23: 12.9 | G23: 10.6 | H23: 13 | I23: 12.9 | J23: 15.6 | K23: 26.6 | L23: 11.4 | M23: 11.1 | N23: 7.1 | O23: 16 | P23: 18.5 | Q23: 9.4 | R23: 11 | S23: 20.5 | T23: 45.5 | U23: 19 | V23: 18.9 | W23: 17.1 | X23: 17.3 | Y23: 8.3 | Z23: 8.6 | AA23: 10.6 | AB23: 15.4 | AC23: 16 | AD23: 14.5
B24: 0.29166667 | C24: 11.2 | D24: 8.5 | E24: 21.7 | F24: 17.2 | G24: 9.1 | H24: 12.8 | I24: 8.4 | J24: 11.9 | K24: 20.1 | L24: 13.3 | M24: 17.8 | N24: 9.5 | O24: 24.6 | P24: 13.9 | Q24: 15.7 | R24: 10.8 | S24: 17.2 | T24: 25.8 | U24: 19.2 | V24: 19.4 | W24: 15 | X24: 8.6 | Y24: 9.1 | Z24: 11.5 | AA24: 11.7 | AB24: 12.4 | AC24: 13.3 | AD24: 12.2
B25: 0.33333333 | C25: 8.2 | D25: 10.4 | E25: 18.3 | F25: 9.8 | G25: 10.3 | H25: 13.9 | I25: 10 | J25: 10.5 | K25: 17.3 | L25: 15.7 | M25: 15.4 | N25: 21.1 | O25: 14.6 | P25: 11 | Q25: 10 | R25: 11.4 | S25: 12.4 | T25: 16.8 | U25: 17.4 | V25: 13.8 | W25: 12.8 | X25: 8.3 | Y25: 15.3 | Z25: 12.4 | AA25: 7.9 | AB25: 8.9 | AC25: 14.7 | AD25: 9.6
B26: 0.375 | C26: 7.7 | D26: 13.7 | E26: 11.6 | F26: 7 | G26: 9.7 | H26: 9.4 | I26: 9.1 | J26: 9.8 | K26: 18 | L26: 13.1 | M26: 12.8 | N26: 16.2 | O26: 7.5 | P26: 7.7 | Q26: 6.6 | R26: 8.9 | S26: 12.2 | T26: 16.4 | U26: 12.7 | V26: 9.7 | W26: 8.7 | X26: 10.2 | Y26: 10.7 | Z26: 12.5 | AA26: 6 | AB26: 7.8 | AC26: 25.8 | AD26: 9.5
B27: 0.41666667 | C27: 6.4 | D27: 10.8 | E27: 5.1 | F27: 7.6 | G27: 8.1 | H27: 8 | I27: 7.7 | J27: 8.8 | K27: 14.6 | L27: 6.7 | M27: 9.9 | N27: 11.1 | O27: 5.3 | P27: 8.1 | Q27: 5.9 | R27: 7.8 | S27: 8.5 | T27: 11.9 | U27: 14.2 | V27: 7.9 | W27: 5.8 | X27: 9.2 | Y27: 6.7 | Z27: 9.3 | AA27: 4.9 | AB27: 6.5 | AC27: 18.3 | AD27: 8.9
B28: 0.45833333 | C28: 5 | D28: 6.5 | E28: 5.2 | F28: 6.7 | G28: 9.3 | H28: 6.6 | I28: 7.1 | J28: 7.1 | K28: 12.3 | L28: ID | M28: 10 | N28: 11 | O28: 5.1 | P28: 7.9 | Q28: 5.5 | R28: 6.4 | S28: 6.8 | T28: 7.1 | U28: 13.5 | V28: 8.8 | W28: 6.7 | X28: 8.4 | Y28: 6.8 | Z28: 6.6 | AA28: 5 | AB28: 6.9 | AC28: 18.6 | AD28: 13.3
B29: 0.5 | C29: 4.9 | D29: 5.6 | E29: 5.4 | F29: 6.7 | G29: 6.1 | H29: 5.6 | I29: 8.9 | J29: 7.6 | K29: 9.9 | L29: 6.7 | M29: 10.1 | N29: 10.4 | O29: 5 | P29: 6 | Q29: 6.2 | R29: 6.5 | S29: 6.3 | T29: 7 | U29: 9.8 | V29: 9.3 | W29: 5.6 | X29: 8.3 | Y29: 6.5 | Z29: 6.7 | AA29: 4.5 | AB29: 6.3 | AC29: 13 | AD29: 7
B30: 0.54166667 | C30: 6.2 | D30: 5.4 | E30: 6.4 | F30: 7 | G30: 6.7 | H30: 5.6 | I30: 9.7 | J30: 8 | K30: 9.6 | L30: 6.4 | M30: 10.8 | N30: 8.2 | O30: 4.9 | P30: 6 | Q30: 7.1 | R30: 6.8 | S30: 5.6 | T30: 6.4 | U30: 6.3 | V30: 8 | W30: 5.1 | X30: 8 | Y30: 6.5 | Z30: 8.7 | AA30: 4.2 | AB30: 5.4 | AC30: 8.5 | AD30: 6.6
B31: 0.58333333 | C31: 8.2 | D31: 4.8 | E31: 5.3 | F31: 6.9 | G31: 6.2 | H31: 5.1 | I31: 7 | J31: 7 | K31: 9.5 | L31: 6.5 | M31: 11.4 | N31: 6.7 | O31: 6.5 | P31: 5.9 | Q31: 5.7 | R31: 7 | S31: 5.5 | T31: 6.2 | U31: 6.6 | V31: 5.9 | W31: 6.3 | X31: 7.9 | Y31: 6.5 | Z31: 10.2 | AA31: 4.3 | AB31: 6.3 | AC31: 9.4 | AD31: 7.4
B32: 0.625 | C32: 12 | D32: 5 | E32: 5.2 | F32: 6.6 | G32: 6.5 | H32: 5.8 | I32: 6.4 | J32: 6.6 | K32: 9.2 | L32: 6 | M32: 9.8 | N32: 5.3 | O32: 6.5 | P32: 5.1 | Q32: 6 | R32: 6.4 | S32: 6 | T32: 8.2 | U32: 7.1 | V32: 5 | W32: 6.2 | X32: 7.9 | Y32: 5.6 | Z32: 9.3 | AA32: 4.5 | AB32: 6.1 | AC32: 8.7 | AD32: 6.5
B33: 0.66666667 | C33: 23.1 | D33: 4.9 | E33: 5.6 | F33: 7.1 | G33: 6.5 | H33: 5.5 | I33: 5.6 | J33: 6.3 | K33: 10 | L33: 6.3 | M33: 9 | N33: 4.8 | O33: 7 | P33: 5.7 | Q33: 5.8 | R33: 6.5 | S33: 6.2 | T33: 9 | U33: 5.6 | V33: 5 | W33: 6.2 | X33: 6.7 | Y33: 5.7 | Z33: 8.1 | AA33: 4.4 | AB33: 6.8 | AC33: 8 | AD33: 6.5
B34: 0.70833333 | C34: 14.7 | D34: 5.2 | E34: 5.9 | F34: 8.1 | G34: 6.2 | H34: 4.4 | I34: 5.5 | J34: 6.6 | K34: 11.5 | L34: 5.4 | M34: 7.6 | N34: 5.8 | O34: 5.6 | P34: 5.9 | Q34: 6.1 | R34: 7.1 | S34: 7.3 | T34: 9.7 | U34: 7.5 | V34: 5.3 | W34: 5.9 | X34: 6.8 | Y34: 5.7 | Z34: 7.6 | AA34: 5 | AB34: 5.9 | AC34: 7.4 | AD34: 7.8
B35: 0.75 | C35: 9.7 | D35: 5.8 | E35: 6.8 | F35: 9.6 | G35: 7.1 | H35: 6.2 | I35: 6 | J35: 7.7 | K35: 8.5 | L35: 6 | M35: 6.8 | N35: 6.4 | O35: 5.4 | P35: 8.1 | Q35: 6.5 | R35: 8 | S35: 7.5 | T35: 9.4 | U35: 6.2 | V35: 4.7 | W35: 6.7 | X35: 7 | Y35: 5.7 | Z35: 7.7 | AA35: 5.2 | AB35: 6.3 | AC35: 9.1 | AD35: 10
B36: 0.79166667 | C36: 8.1 | D36: 5.6 | E36: 7.3 | F36: 7.4 | G36: 9 | H36: 5.5 | I36: 5.8 | J36: 15.1 | K36: 7.1 | L36: 6.9 | M36: 7.2 | N36: 7.4 | O36: 5.6 | P36: 7 | Q36: 6.5 | R36: 6.7 | S36: 7.1 | T36: 9.7 | U36: 9.1 | V36: 6 | W36: 6.6 | X36: 6.1 | Y36: 5.9 | Z36: 5.3 | AA36: 5.7 | AB36: 7.5 | AC36: 8.3 | AD36: 8.6
B37: 0.83333333 | C37: 7.5 | D37: 13.1 | E37: 10.3 | F37: 9.7 | G37: 9.5 | H37: 6.7 | I37: 6.4 | J37: 19.3 | K37: 9.2 | L37: 6.3 | M37: 8.2 | N37: 28.1 | O37: 6.2 | P37: 7.1 | Q37: 7 | R37: 11.7 | S37: 9.6 | T37: 9.9 | U37: 9.7 | V37: 6.5 | W37: 7.3 | X37: 6.4 | Y37: 7.8 | Z37: 5 | AA37: 6 | AB37: 8.6 | AC37: 8.3 | AD37: 9.6
B38: 0.875 | C38: 6.8 | D38: 6.9 | E38: 8 | F38: 10.8 | G38: 9.1 | H38: 6.7 | I38: 8.3 | J38: 9.8 | K38: 7.2 | L38: 6.3 | M38: 7.2 | N38: 11 | O38: 6.2 | P38: 7.9 | Q38: 8.6 | R38: 8.6 | S38: 9.9 | T38: 10.1 | U38: 13.4 | V38: 6.1 | W38: 7.2 | X38: 7.2 | Y38: 6.5 | Z38: 5.8 | AA38: 6 | AB38: 10.3 | AC38: 9.2 | AD38: 9.8
B39: 0.91666667 | C39: 5.8 | D39: 6.3 | E39: 5.6 | F39: 7.5 | G39: 8.6 | H39: 4.7 | I39: 8.6 | J39: 7.2 | K39: 6.5 | L39: 6.2 | M39: 18.9 | N39: 7.7 | O39: 7.7 | P39: 8.7 | Q39: 8.6 | R39: 7 | S39: 11.5 | T39: 7.9 | U39: 12.5 | V39: 5.5 | W39: 8.4 | X39: 11 | Y39: 5.8 | Z39: 5.6 | AA39: 5.9 | AB39: 10.9 | AC39: 11.6 | AD39: 11.6
B40: 0.95833333 | C40: 6.9 | D40: 8.7 | E40: 10.2 | F40: 7.1 | G40: 6.5 | H40: 4.6 | I40: 8.3 | J40: 7.6 | K40: 5.9 | L40: 5.9 | M40: 16.6 | N40: 19.2 | O40: 7.6 | P40: 7.4 | Q40: 6.8 | R40: 8.8 | S40: 8.5 | T40: 9.4 | U40: 10.6 | V40: 14.7 | W40: 26.4 | X40: 15.6 | Y40: 6.5 | Z40: 7.5 | AA40: 6.6 | AB40: 9.3 | AC40: 14.7 | AD40: 10.2
B41: Promedio de PM₂,₅ en 24 h | C41: 8.3 | D41: 8.5 | E41: 11 | F41: 8.4 | G41: 9 | H41: 9.1 | I41: 8 | J41: 11.1 | K41: 13.2 | L41: 9.5 | M41: 11.9 | N41: 10 | O41: 11.6 | P41: 9.6 | Q41: 9.3 | R41: 7.8 | S41: 12.3 | T41: 12.3 | U41: 12.9 | V41: 9.9 | W41: 8.6 | X41: 13.9 | Y41: 10 | Z41: 7.7 | AA41: 6.2 | AB41: 9.2 | AC41: 12.8 | AD41: 10.6
B42: ECA aire de PM₂,₅ | C42: 50 µg/m³ en periodo de 24 horas
B44: ID: Insuficiencia de data

Sheet SO2_CA-ILO-01
F2: Tabla 3.3. Concentraciones horarias de SO₂
B6: TÍTULO DEL ESTUDIO: | F6: ='PM10_CA-ILO-01'!F6 -> Evaluación de seguimiento de la calidad del aire en la I.E. Francisco Bolognesi, distrito Ilo, provincia Ilo, departamento Moquegua, en febrero 2022
B8: ESTACIÓN DE MONITOREO: | F8: CA-ILO-01 | Q8: CÓDIGO DE ACCIÓN:
B10: DATOS DEL EQUIPO
B12: EQUIPO: | F12: Analizador de dióxido de azufre | Q12: MARCA: | V12: THERMO SCIENTIFIC
B14: MODELO: | F14: 43i | Q14: SERIE: | V14: 1200416204
B16: Hora\Día | C16: 1 | D16: 2 | E16: 3 | F16: 4 | G16: 5 | H16: 6 | I16: 7 | J16: 8 | K16: 9 | L16: 10 | M16: 11 | N16: 12 | O16: 13 | P16: 14 | Q16: 15 | R16: 16 | S16: 17 | T16: 18 | U16: 19 | V16: 20 | W16: 21 | X16: 22 | Y16: 23 | Z16: 24 | AA16: 25 | AB16: 26 | AC16: 27 | AD16: 28 | AE16: 29 | AF16: 30 | AG16: 31
B17: 0 | C17: 41.37 | D17: 23.61 | E17: 26.86 | F17: 16.69 | G17: 16.58 | H17: 47.79 | I17: 16.35 | J17: 16.53 | K17: 16.32 | L17: 16.58 | M17: 16.82 | N17: 27.22 | O17: 40.06 | P17: 16.69 | Q17: 16.69 | R17: 16.58 | S17: 41.5 | T17: 16.87 | U17: 20.23 | V17: 18.42 | W17: 50.57 | X17: 59.95 | Y17: 27.8 | Z17: 17.24 | AA17: 22.98 | AB17: 14.44 | AC17: 43.39 | AD17: 17.19
B18: 0.041666667 | C18: 17.19 | D18: 22.69 | E18: 24.92 | F18: 20.57 | G18: 16.79 | H18: 86.17 | I18: 16.45 | J18: 16.64 | K18: 16.53 | L18: 29.74 | M18: 17.19 | N18: 17.4 | O18: 62.28 | P18: 18.97 | Q18: 23.29 | R18: 16.61 | S18: 109.33 | T18: 17.21 | U18: 22.45 | V18: 17.24 | W18: 27.09 | X18: 158.35 | Y18: 39.64 | Z18: 17.4 | AA18: 26.33 | AB18: 20.44 | AC18: 17.84 | AD18: 18.47
B19: 0.083333333 | C19: 16.85 | D19: 59.74 | E19: 39.59 | F19: 16.87 | G19: 25.91 | H19: 110.54 | I19: 16.45 | J19: 17.03 | K19: 17.11 | L19: 105.38 | M19: 33.9 | N19: 17.11 | O19: 220.89 | P19: 20.02 | Q19: 40.85 | R19: 16.64 | S19: 86.15 | T19: 17.03 | U19: 23.16 | V19: 17 | W19: 17.5 | X19: 83.26 | Y19: 53.16 | Z19: 17.24 | AA19: 14.54 | AB19: 17.27 | AC19: 15.14 | AD19: 16.24
B20: 0.125 | C20: 21.67 | D20: 40.69 | E20: 48.65 | F20: 16.53 | G20: 16.87 | H20: 145.31 | I20: 16.45 | J20: 18.34 | K20: 33.64 | L20: 126.28 | M20: 35.53 | N20: 17.13 | O20: 50.88 | P20: 18.58 | Q20: 37.62 | R20: 16.58 | S20: 98.25 | T20: 17.11 | U20: 24.94 | V20: 20.2 | W20: 17.08 | X20: 32.09 | Y20: 116.98 | Z20: 17.21 | AA20: 14.2 | AB20: 87.53 | AC20: 15.64 | AD20: 17.87
B21: 0.16666667 | C21: 45.56 | D21: 20.2 | E21: 54 | F21: 16.61 | G21: 16.61 | H21: 67.41 | I21: 19.94 | J21: 18.71 | K21: 36.34 | L21: 116.12 | M21: 27.64 | N21: 28.17 | O21: 20.62 | P21: 22.85 | Q21: 66.5 | R21: 16.61 | S21: 89.79 | T21: 16.87 | U21: 102.21 | V21: 23.79 | W21: 16.98 | X21: 52.85 | Y21: 102.08 | Z21: 23.55 | AA21: 14.02 | AB21: 53.5 | AC21: 32.96 | AD21: 21.72
B22: 0.20833333 | C22: 45.54 | D22: 17.71 | E22: 27.46 | F22: 16.64 | G22: 16.48 | H22: 28.69 | I22: 18.63 | J22: 16.9 | K22: 33.75 | L22: 30.21 | M22: 17.19 | N22: 20.38 | O22: 89.66 | P22: 17.4 | Q22: 54.97 | R22: 16.72 | S22: 42.92 | T22: 17.71 | U22: 66.6 | V22: 26.67 | W22: 19.52 | X22: 39.14 | Y22: 41.71 | Z22: 18.34 | AA22: 14.17 | AB22: 97.96 | AC22: 78.57 | AD22: 20.65
B23: 0.25 | C23: 20.12 | D23: 17.13 | E23: 34.43 | F23: 25.15 | G23: 16.45 | H23: 24.47 | I23: 20.51 | J23: 16.74 | K23: 29.37 | L23: 20.15 | M23: 34.01 | N23: 17.32 | O23: 92.85 | P23: 17.34 | Q23: 19.26 | R23: 16.56 | S23: 121.15 | T23: 69.9 | U23: 23.34 | V23: 48.86 | W23: 43.05 | X23: 31.2 | Y23: 19.41 | Z23: 18.63 | AA23: 19.57 | AB23: 72.52 | AC23: 33.72 | AD23: 15.75
B24: 0.29166667 | C24: 72.5 | D24: 17.06 | E24: 72.26 | F24: 32.36 | G24: 16.48 | H24: 17.61 | I24: 17.87 | J24: 16.74 | K24: 24.5 | L24: 28.61 | M24: 118.19 | N24: 17 | O24: 83.68 | P24: 17.19 | Q24: 19.52 | R24: 16.82 | S24: 86.15 | T24: 129.3 | U24: 44.46 | V24: 63.69 | W24: 94.14 | X24: 18.65 | Y24: 18.84 | Z24: 19.94 | AA24: 24.03 | AB24: 51.22 | AC24: 15.43 | AD24: 14.8
B25: 0.33333333 | C25: 51.82 | D25: 17.19 | E25: 53.58 | F25: 17.45 | G25: 16.56 | H25: 17.63 | I25: 27.38 | J25: 16.66 | K25: 25.78 | L25: 36.18 | M25: 18.03 | N25: 59.08 | O25: 60.05 | P25: 17.79 | Q25: 17.69 | R25: 16.9 | S25: 43.31 | T25: 73.73 | U25: 56.88 | V25: 158.82 | W25: 92.72 | X25: 18.03 | Y25: 19.1 | Z25: 25.62 | AA25: 15.54 | AB25: 18.31 | AC25: 15.27 | AD25: 14.65
B26: 0.375 | C26: 30.63 | D26: 17.24 | E26: 29.08 | F26: ID | G26: 16.69 | H26: 16.9 | I26: 19.13 | J26: 16.77 | K26: 26.57 | L26: 25.96 | M26: 17.13 | N26: 25.73 | O26: 22.95 | P26: 17.97 | Q26: 17.4 | R26: 16.85 | S26: 41.74 | T26: 59 | U26: 50.3 | V26: 65.84 | W26: 28.85 | X26: 17.69 | Y26: 19.05 | Z26: 18.16 | AA26: 15.09 | AB26: 15.62 | AC26: 14.86 | AD26: 14.72
B27: 0.41666667 | C27: 17.34 | D27: 16.95 | E27: 17.24 | F27: 16.72 | G27: 16.66 | H27: 16.66 | I27: 16.61 | J27: 16.48 | K27: 21.46 | L27: 17.48 | M27: 17.06 | N27: 17.45 | O27: 18.26 | P27: 17.34 | Q27: 17.34 | R27: 16.79 | S27: 20.51 | T27: 30.39 | U27: 52.71 | V27: 26.04 | W27: 17.87 | X27: 17.69 | Y27: 18.05 | Z27: 17.53 | AA27: 14.67 | AB27: 15.27 | AC27: 14.78 | AD27: 14.91
B28: 0.45833333 | C28: 17.03 | D28: 16.87 | E28: 17.16 | F28: 16.87 | G28: 16.51 | H28: 16.53 | I28: 16.87 | J28: 16.69 | K28: 19.73 | L28: 17.03 | M28: 16.95 | N28: 17.19 | O28: 17.84 | P28: 17.11 | Q28: 17.32 | R28: 16.79 | S28: 17.5 | T28: 19.2 | U28: 63.61 | V28: 23.71 | W28: 17.29 | X28: 18.21 | Y28: 17.87 | Z28: 17.4 | AA28: 14.8 | AB28: 14.8 | AC28: 14.59 | AD28: 17.55
B29: 0.5 | C29: 17.06 | D29: 16.85 | E29: 17.03 | F29: 16.77 | G29: 16.53 | H29: 16.58 | I29: 16.72 | J29: 16.51 | K29: 18.34 | L29: 17.08 | M29: 16.93 | N29: 17.03 | O29: 17.66 | P29: 17.03 | Q29: 17.03 | R29: 16.82 | S29: 17.37 | T29: 18.68 | U29: 23.97 | V29: 17.76 | W29: 17.13 | X29: 18.55 | Y29: 17.63 | Z29: 17.55 | AA29: 14.75 | AB29: 14.7 | AC29: 14.78 | AD29: 14.7
B30: 0.54166667 | C30: 17 | D30: 16.74 | E30: 17.08 | F30: 16.85 | G30: 16.69 | H30: 16.51 | I30: 16.74 | J30: 16.51 | K30: 17.69 | L30: 16.85 | M30: 16.85 | N30: 16.95 | O30: 17.63 | P30: 17.08 | Q30: 16.93 | R30: 16.72 | S30: 17.37 | T30: 17.61 | U30: 17.95 | V30: 17.74 | W30: 17.16 | X30: 17.84 | Y30: 17.82 | Z30: 17.45 | AA30: 14.28 | AB30: 14.62 | AC30: 14.72 | AD30: 14.7
B31: 0.58333333 | C31: 16.74 | D31: 16.72 | E31: 17.16 | F31: 16.61 | G31: 16.45 | H31: 16.58 | I31: 16.74 | J31: 16.51 | K31: 17.34 | L31: 17.08 | M31: 16.93 | N31: 17 | O31: 17.37 | P31: 17.13 | Q31: 16.9 | R31: 16.79 | S31: 17.06 | T31: 17.48 | U31: 17.82 | V31: 17.69 | W31: 17.08 | X31: 17.76 | Y31: 17.84 | Z31: ID | AA31: 14.41 | AB31: 14.41 | AC31: 14.54 | AD31: 14.54
B32: 0.625 | C32: 16.98 | D32: 16.95 | E32: 16.98 | F32: 16.69 | G32: 16.51 | H32: 16.58 | I32: 16.61 | J32: 16.48 | K32: 16.77 | L32: 16.9 | M32: ID | N32: 16.98 | O32: 17.29 | P32: 17.03 | Q32: 16.87 | R32: 16.64 | S32: 17.11 | T32: 17.84 | U32: 17.42 | V32: 17.37 | W32: 17.27 | X32: 17.71 | Y32: 17.66 | Z32: 14.04 | AA32: 14.54 | AB32: 14.57 | AC32: 14.75 | AD32: 14.57
B33: 0.66666667 | C33: 16.93 | D33: 16.82 | E33: 17 | F33: 16.53 | G33: 16.48 | H33: 16.64 | I33: 16.77 | J33: 16.45 | K33: 16.82 | L33: 16.79 | M33: 17.24 | N33: 16.95 | O33: 17.16 | P33: 16.93 | Q33: 16.72 | R33: 16.69 | S33: 17.16 | T33: 17.66 | U33: 17.16 | V33: 17.34 | W33: 17.21 | X33: 17.21 | Y33: 17.71 | Z33: 13.91 | AA33: 14.31 | AB33: 14.67 | AC33: 14.67 | AD33: 14.54
B34: 0.70833333 | C34: 16.95 | D34: 16.79 | E34: 16.82 | F34: 16.93 | G34: 16.58 | H34: 16.51 | I34: 16.51 | J34: 16.51 | K34: 16.9 | L34: 16.77 | M34: 16.95 | N34: 16.95 | O34: 17.08 | P34: 17 | Q34: 16.95 | R34: 16.74 | S34: 16.87 | T34: 17.42 | U34: 17.24 | V34: 17.45 | W34: 17.24 | X34: 17.24 | Y34: 17.55 | Z34: 13.86 | AA34: 14.36 | AB34: 14.46 | AC34: 14.54 | AD34: 14.57
B35: 0.75 | C35: 16.95 | D35: 16.69 | E35: 16.79 | F35: 16.82 | G35: 16.69 | H35: 16.64 | I35: 16.64 | J35: 16.66 | K35: 16.61 | L35: 16.77 | M35: 16.79 | N35: 16.95 | O35: 17 | P35: 16.79 | Q35: 16.77 | R35: 16.79 | S35: 17.11 | T35: 17.24 | U35: 17.27 | V35: 17.27 | W35: 17.24 | X35: 17.11 | Y35: 17.5 | Z35: 14.2 | AA35: 14.31 | AB35: 14.31 | AC35: 14.51 | AD35: 14.54
B36: 0.79166667 | C36: 16.85 | D36: 16.72 | E36: 16.66 | F36: 16.93 | G36: 16.56 | H36: 16.48 | I36: 16.69 | J36: 17.55 | K36: 16.58 | L36: 16.74 | M36: 16.64 | N36: 16.77 | O36: 16.98 | P36: 16.77 | Q36: 16.95 | R36: 16.77 | S36: 17.11 | T36: 17.13 | U36: 17.74 | V36: 17.55 | W36: 17.37 | X36: 17.16 | Y36: 17.55 | Z36: 14.02 | AA36: 14.41 | AB36: 14.51 | AC36: 14.54 | AD36: 14.44
B37: 0.83333333 | C37: 16.82 | D37: 16.9 | E37: 16.72 | F37: 16.53 | G37: 16.56 | H37: 16.61 | I37: 16.45 | J37: 18.21 | K37: 16.56 | L37: 16.79 | M37: 16.56 | N37: 18.55 | O37: 16.9 | P37: 16.77 | Q37: 16.74 | R37: 16.79 | S37: 17.79 | T37: 17.32 | U37: 18.73 | V37: 17.06 | W37: 17.21 | X37: 17.19 | Y37: 17.42 | Z37: 13.91 | AA37: 14.41 | AB37: 14.44 | AC37: 14.41 | AD37: 14.2
B38: 0.875 | C38: 16.77 | D38: 16.64 | E38: 16.48 | F38: 16.58 | G38: 16.51 | H38: 16.3 | I38: 16.53 | J38: 16.61 | K38: 16.61 | L38: 16.77 | M38: 16.79 | N38: 17.34 | O38: 16.82 | P38: 16.82 | Q38: 16.69 | R38: 16.74 | S38: 17.71 | T38: 17.21 | U38: 19.15 | V38: 17.21 | W38: 17.03 | X38: 16.95 | Y38: 17.42 | Z38: 14.04 | AA38: 14.36 | AB38: 58.69 | AC38: 14.49 | AD38: 14.36
B39: 0.91666667 | C39: 16.85 | D39: 16.58 | E39: 16.58 | F39: 16.48 | G39: 16.43 | H39: 16.43 | I39: 16.45 | J39: 16.51 | K39: 16.61 | L39: 16.87 | M39: 35.89 | N39: 17 | O39: 16.82 | P39: 16.72 | Q39: 16.58 | R39: 16.61 | S39: 17.45 | T39: 17.13 | U39: 18.47 | V39: 17.13 | W39: 17.06 | X39: 21.2 | Y39: 17.45 | Z39: 13.99 | AA39: 14.2 | AB39: 110.77 | AC39: 14.59 | AD39: 26.04
B40: 0.95833333 | C40: 18.79 | D40: 29.61 | E40: 16.79 | F40: 16.4 | G40: 16.45 | H40: 16.45 | I40: 16.48 | J40: 16.4 | K40: 16.56 | L40: 16.74 | M40: 41.68 | N40: 20.41 | O40: 16.74 | P40: 16.77 | Q40: 16.72 | R40: 19.47 | S40: 17.58 | T40: 16.93 | U40: 20.3 | V40: 37.2 | W40: 27.98 | X40: 24.73 | Y40: 17.19 | Z40: 20.54 | AA40: 15.22 | AB40: 88.11 | AC40: 20.41 | AD40: 21.72
B41: Promedio de SO₂ en 24 h | C41: 25.1 | D41: 20.9 | E41: 27 | F41: 17.9 | G41: 17 | H41: 33.1 | I41: 17.6 | J41: 16.9 | K41: 21 | L41: 32.2 | M41: 26 | N41: 20.4 | O41: 41.1 | P41: 17.6 | Q41: 22.9 | R41: 16.8 | S41: 41.9 | T41: 28.9 | U41: 32.3 | V41: 30.8 | W41: 27.5 | X41: 32 | Y41: 29.4 | Z41: 17.2 | AA41: 16 | AB41: 36.1 | AC41: 20.5 | AD41: 16.6
B42: ECA aire de SO₂ | C42: 250 µg/m³ en periodo de 24 horas
B44: ID: Insuficiencia de data

Sheet SO2_m3h_CA-ILO-01
F2: Tabla 3.4. Concentraciones horarias de SO₂
B6: TÍTULO DEL ESTUDIO: | F6: ='PM10_CA-ILO-01'!F6 -> Evaluación de seguimiento de la calidad del aire en la I.E. Francisco Bolognesi, distrito Ilo, provincia Ilo, departamento Moquegua, en febrero 2022
B8: ESTACIÓN DE MONITOREO: | F8: CA-ILO-01 | Q8: CÓDIGO DE ACCIÓN:
B10: DATOS DEL EQUIPO
B12: EQUIPO: | F12: Analizador de dióxido de azufre | Q12: MARCA: | V12: THERMO SCIENTIFIC
B14: MODELO: | F14: 43i | Q14: SERIE: | V14: 1200416204
B16: Hora\Día | C16: 1 | D16: 2 | E16: 3 | F16: 4 | G16: 5 | H16: 6 | I16: 7 | J16: 8 | K16: 9 | L16: 10 | M16: 11 | N16: 12 | O16: 13 | P16: 14 | Q16: 15 | R16: 16 | S16: 17 | T16: 18 | U16: 19 | V16: 20 | W16: 21 | X16: 22 | Y16: 23 | Z16: 24 | AA16: 25 | AB16: 26 | AC16: 27 | AD16: 28 | AE16: 29 | AF16: 30 | AG16: 31
B17: 0 | C17: 28.77 | D17: 19.75 | E17: 24.35 | F17: 16.69 | G17: 16.49 | H17: 26.89 | I17: 16.41 | J17: 16.49 | K17: 16.41 | L17: 16.58 | M17: 16.81 | N17: 34.93 | O17: 25.82 | P17: 16.75 | Q17: 16.73 | R17: 16.63 | S17: 25.86 | T17: 17.3 | U17: 18.1 | V17: 19.06 | W17: 34.97 | X17: 35 | Y17: 24.58 | Z17: 17.29 | AA17: 19.17 | AB17: 14.62 | AC17: 80.76 | AD17: 17.4
B18: 0.041666667 | C18: 28.11 | D18: 21.7 | E18: 27.13 | F18: 18.02 | G18: 16.59 | H18: 50.14 | I18: 16.42 | J18: 16.55 | K18: 16.42 | L18: 20.96 | M18: 16.92 | N18: 28.77 | O18: 40.92 | P18: 17.47 | Q18: 18.92 | R18: 16.64 | S18: 56.77 | T18: 17.22 | U18: 19.87 | V18: 18.65 | W18: 38.29 | X18: 82.09 | Y18: 30.72 | Z18: 17.28 | AA18: 23.28 | AB18: 16.7 | AC18: 49.78 | AD18: 18.69
B19: 0.083333333 | C19: 25.14 | D19: 35.35 | E19: 30.46 | F19: 18.04 | G19: 19.76 | H19: 81.5 | I19: 16.42 | J19: 16.73 | K19: 16.65 | L19: 50.57 | M19: 22.64 | N19: 20.58 | O19: 107.74 | P19: 18.56 | Q19: 26.94 | R19: 16.61 | S19: 78.99 | T19: 17.04 | U19: 21.95 | V19: 17.55 | W19: 31.72 | X19: 100.52 | Y19: 40.2 | Z19: 17.29 | AA19: 21.28 | AB19: 17.38 | AC19: 25.46 | AD19: 17.3
B20: 0.125 | C20: 18.57 | D20: 41.04 | E20: 37.72 | F20: 17.99 | G20: 19.86 | H20: 114.01 | I20: 16.45 | J20: 17.34 | K20: 22.43 | L20: 87.13 | M20: 28.87 | N20: 17.21 | O20: 111.35 | P20: 19.19 | Q20: 33.92 | R20: 16.61 | S20: 97.91 | T20: 17.12 | U20: 23.52 | V20: 18.15 | W20: 20.56 | X20: 91.23 | Y20: 69.93 | Z20: 17.28 | AA20: 18.36 | AB20: 41.75 | AC20: 16.21 | AD20: 17.53
B21: 0.16666667 | C21: 28.03 | D21: 40.21 | E21: 47.41 | F21: 16.67 | G21: 19.8 | H21: 107.75 | I21: 17.61 | J21: 18.03 | K21: 29.03 | L21: 115.93 | M21: 32.36 | N21: 20.8 | O21: 97.46 | P21: 20.48 | Q21: 48.32 | R21: 16.61 | S21: 91.4 | T21: 17 | U21: 50.1 | V21: 20.33 | W21: 17.19 | X21: 56.07 | Y21: 90.74 | Z21: 19.33 | AA21: 14.25 | AB21: 52.77 | AC21: 21.25 | AD21: 18.61
B22: 0.20833333 | C22: 37.59 | D22: 26.2 | E22: 43.37 | F22: 16.59 | G22: 16.65 | H22: 80.47 | I22: 18.34 | J22: 17.98 | K22: 34.58 | L22: 90.87 | M22: 26.79 | N22: 21.89 | O22: 53.72 | P22: 19.61 | Q22: 53.03 | R22: 16.64 | S22: 76.99 | T22: 17.23 | U22: 64.58 | V22: 23.55 | W22: 17.86 | X22: 41.36 | Y22: 86.92 | Z22: 19.7 | AA22: 14.13 | AB22: 79.66 | AC22: 42.39 | AD22: 20.08
B23: 0.25 | C23: 37.07 | D23: 18.35 | E23: 38.63 | F23: 19.47 | G23: 16.51 | H23: 40.19 | I23: 19.69 | J23: 17.45 | K23: 33.15 | L23: 55.49 | M23: 26.28 | N23: 21.96 | O23: 67.71 | P23: 19.2 | Q23: 46.91 | R23: 16.63 | S23: 84.62 | T23: 34.83 | U23: 64.05 | V23: 33.11 | W23: 26.52 | X23: 41.06 | Y23: 54.4 | Z23: 20.17 | AA23: 15.92 | AB23: 74.66 | AC23: 48.42 | AD23: 19.37
B24: 0.29166667 | C24: 46.05 | D24: 17.3 | E24: 44.72 | F24: 24.72 | G24: 16.47 | H24: 23.59 | I24: 19 | J24: 16.79 | K24: 29.21 | L24: 26.32 | M24: 56.46 | N24: 18.23 | O24: 88.73 | P24: 17.31 | Q24: 31.25 | R24: 16.7 | S24: 83.41 | T24: 72.3 | U24: 44.8 | V24: 46.41 | W24: 52.24 | X24: 29.66 | Y24: 26.65 | Z24: 18.97 | AA24: 19.26 | AB24: 73.9 | AC24: 42.57 | AD24: 17.07
B25: 0.33333333 | C25: 48.15 | D25: 17.13 | E25: 53.42 | F25: 24.99 | G25: 16.5 | H25: 19.9 | I25: 21.92 | J25: 16.71 | K25: 26.55 | L25: 28.31 | M25: 56.74 | N25: 31.13 | O25: 78.86 | P25: 17.44 | Q25: 18.82 | R25: 16.76 | S25: 83.54 | T25: 90.98 | U25: 41.56 | V25: 90.46 | W25: 76.64 | X25: 22.63 | Y25: 19.12 | Z25: 21.4 | AA25: 19.71 | AB25: 47.35 | AC25: 21.47 | AD25: 15.07
B26: 0.375 | C26: 51.65 | D26: 17.16 | E26: 51.64 | F26: ID | G26: 16.58 | H26: 17.38 | I26: 21.46 | J26: 16.72 | K26: 25.62 | L26: 30.25 | M26: 51.12 | N26: 33.94 | O26: 55.56 | P26: 17.65 | Q26: 18.2 | R26: 16.86 | S26: 57.07 | T26: 87.34 | U26: 50.55 | V26: 96.12 | W26: 71.9 | X26: 18.12 | Y26: 19 | Z26: 21.24 | AA26: 18.22 | AB26: 28.38 | AC26: 15.19 | AD26: 14.72
B27: 0.41666667 | C27: 33.26 | D27: 17.13 | E27: 33.3 | F27: ID | G27: 16.64 | H27: 17.06 | I27: 21.04 | J27: 16.64 | K27: 24.6 | L27: 26.54 | M27: 17.41 | N27: 34.09 | O27: 33.75 | P27: 17.7 | Q27: 17.48 | R27: 16.85 | S27: 35.19 | T27: 54.37 | U27: 53.3 | V27: 83.57 | W27: 46.48 | X27: 17.8 | Y27: 18.73 | Z27: 20.44 | AA27: 15.1 | AB27: 16.4 | AC27: 14.97 | AD27: 14.76
B28: 0.45833333 | C28: 21.67 | D28: 17.02 | E28: 21.16 | F28: ID | G28: 16.62 | H28: 16.7 | I28: 17.54 | J28: 16.65 | K28: 22.59 | L28: 20.16 | M28: 17.05 | N28: 20.12 | O28: 19.68 | P28: 17.47 | Q28: 17.35 | R28: 16.81 | S28: 26.58 | T28: 36.2 | U28: 55.54 | V28: 38.53 | W28: 21.34 | X28: 17.86 | Y28: 18.32 | Z28: 17.7 | AA28: 14.85 | AB28: 15.23 | AC28: 14.74 | AD28: 15.73
B29: 0.5 | C29: 17.14 | D29: 16.89 | E29: 17.14 | F29: 16.79 | G29: 16.57 | H29: 16.59 | I29: 16.73 | J29: 16.56 | K29: 19.84 | L29: 17.2 | M29: 16.98 | N29: 17.22 | O29: 17.92 | P29: 17.16 | Q29: 17.23 | R29: 16.8 | S29: 18.46 | T29: 22.76 | U29: 46.76 | V29: 22.5 | W29: 17.43 | X29: 18.15 | Y29: 17.85 | Z29: 17.49 | AA29: 14.74 | AB29: 14.92 | AC29: 14.72 | AD29: 15.72
B30: 0.54166667 | C30: 17.03 | D30: 16.82 | E30: 17.09 | F30: 16.83 | G30: 16.58 | H30: 16.54 | I30: 16.78 | J30: 16.57 | K30: 18.59 | L30: 16.99 | M30: 16.91 | N30: 17.06 | O30: 17.71 | P30: 17.07 | Q30: 17.09 | R30: 16.78 | S30: 17.41 | T30: 18.5 | U30: 35.18 | V30: 19.74 | W30: 17.19 | X30: 18.2 | Y30: 17.77 | Z30: 17.47 | AA30: 14.61 | AB30: 14.71 | AC30: 14.7 | AD30: 15.65
B31: 0.58333333 | C31: 16.93 | D31: 16.77 | E31: 17.09 | F31: 16.74 | G31: 16.56 | H31: 16.56 | I31: 16.73 | J31: 16.51 | K31: 17.79 | L31: 17 | M31: 16.9 | N31: 16.99 | O31: 17.55 | P31: 17.08 | Q31: 16.95 | R31: 16.78 | S31: 17.27 | T31: 17.92 | U31: 19.91 | V31: 17.73 | W31: 17.12 | X31: 18.05 | Y31: 17.76 | Z31: ID | AA31: 14.48 | AB31: 14.58 | AC31: 14.68 | AD31: 14.65
B32: 0.625 | C32: 16.91 | D32: 16.8 | E32: 17.07 | F32: 16.72 | G32: 16.55 | H32: 16.56 | I32: 16.7 | J32: 16.5 | K32: 17.27 | L32: 16.94 | M32: ID | N32: 16.98 | O32: 17.43 | P32: 17.08 | Q32: 16.9 | R32: 16.72 | S32: 17.18 | T32: 17.64 | U32: 17.73 | V32: 17.6 | W32: 17.17 | X32: 17.77 | Y32: 17.77 | Z32: ID | AA32: 14.41 | AB32: 14.53 | AC32: 14.67 | AD32: 14.6
B33: 0.66666667 | C33: 16.88 | D33: 16.83 | E33: 17.05 | F33: 16.61 | G33: 16.48 | H33: 16.6 | I33: 16.71 | J33: 16.48 | K33: 16.98 | L33: 16.92 | M33: ID | N33: 16.98 | O33: 17.27 | P33: 17.03 | Q33: 16.83 | R33: 16.71 | S33: 17.11 | T33: 17.66 | U33: 17.47 | V33: 17.47 | W33: 17.19 | X33: 17.56 | Y33: 17.74 | Z33: ID | AA33: 14.42 | AB33: 14.55 | AC33: 14.65 | AD33: 14.55
B34: 0.70833333 | C34: 16.95 | D34: 16.85 | E34: 16.93 | F34: 16.72 | G34: 16.52 | H34: 16.58 | I34: 16.63 | J34: 16.48 | K34: 16.83 | L34: 16.82 | M34: ID | N34: 16.96 | O34: 17.18 | P34: 16.99 | Q34: 16.85 | R34: 16.69 | S34: 17.05 | T34: 17.64 | U34: 17.27 | V34: 17.39 | W34: 17.24 | X34: 17.39 | Y34: 17.64 | Z34: 13.94 | AA34: 14.4 | AB34: 14.57 | AC34: 14.65 | AD34: 14.56
B35: 0.75 | C35: 16.94 | D35: 16.77 | E35: 16.87 | F35: 16.76 | G35: 16.58 | H35: 16.6 | I35: 16.64 | J35: 16.54 | K35: 16.78 | L35: 16.78 | M35: 16.99 | N35: 16.95 | O35: 17.08 | P35: 16.91 | Q35: 16.81 | R35: 16.74 | S35: 17.05 | T35: 17.44 | U35: 17.22 | V35: 17.35 | W35: 17.23 | X35: 17.19 | Y35: 17.59 | Z35: 13.99 | AA35: 14.33 | AB35: 14.48 | AC35: 14.57 | AD35: 14.55
B36: 0.79166667 | C36: 16.92 | D36: 16.73 | E36: 16.76 | F36: 16.89 | G36: 16.61 | H36: 16.54 | I36: 16.61 | J36: 16.91 | K36: 16.7 | L36: 16.76 | M36: 16.79 | N36: 16.89 | O36: 17.02 | P36: 16.85 | Q36: 16.89 | R36: 16.77 | S36: 17.03 | T36: 17.26 | U36: 17.42 | V36: 17.42 | W36: 17.28 | X36: 17.17 | Y36: 17.53 | Z36: 14.03 | AA36: 14.36 | AB36: 14.43 | AC36: 14.53 | AD36: 14.52
B37: 0.83333333 | C37: 16.87 | D37: 16.77 | E37: 16.72 | F37: 16.76 | G37: 16.6 | H37: 16.58 | I37: 16.59 | J37: 17.47 | K37: 16.58 | L37: 16.77 | M37: 16.66 | N37: 17.42 | O37: 16.96 | P37: 16.78 | Q37: 16.82 | R37: 16.78 | S37: 17.34 | T37: 17.23 | U37: 17.91 | V37: 17.29 | W37: 17.27 | X37: 17.15 | Y37: 17.49 | Z37: 14.04 | AA37: 14.38 | AB37: 14.42 | AC37: 14.49 | AD37: 14.39
B38: 0.875 | C38: 16.81 | D38: 16.75 | E38: 16.62 | F38: 16.68 | G38: 16.54 | H38: 16.46 | I38: 16.56 | J38: 17.46 | K38: 16.58 | L38: 16.77 | M38: 16.66 | N38: 17.55 | O38: 16.9 | P38: 16.79 | Q38: 16.79 | R38: 16.77 | S38: 17.54 | T38: 17.22 | U38: 18.54 | V38: 17.27 | W38: 17.2 | X38: 17.1 | Y38: 17.46 | Z38: 13.99 | AA38: 14.39 | AB38: 29.21 | AC38: 14.48 | AD38: 14.33
B39: 0.91666667 | C39: 16.81 | D39: 16.71 | E39: 16.59 | F39: 16.53 | G39: 16.5 | H39: 16.45 | I39: 16.48 | J39: 17.11 | K39: 16.59 | L39: 16.81 | M39: 23.08 | N39: 17.63 | O39: 16.85 | P39: 16.77 | Q39: 16.67 | R39: 16.71 | S39: 17.65 | T39: 17.22 | U39: 18.78 | V39: 17.13 | W39: 17.1 | X39: 18.45 | Y39: 17.43 | Z39: 13.98 | AA39: 14.32 | AB39: 61.3 | AC39: 14.5 | AD39: 18.2
B40: 0.95833333 | C40: 17.47 | D40: 20.94 | E40: 16.62 | F40: 16.49 | G40: 16.46 | H40: 16.39 | I40: 16.49 | J40: 16.51 | K40: 16.59 | L40: 16.79 | M40: 31.45 | N40: 18.25 | O40: 16.79 | P40: 16.77 | Q40: 16.66 | R40: 17.61 | S40: 17.58 | T40: 17.09 | U40: 19.31 | V40: 23.85 | W40: 20.69 | X40: 20.96 | Y40: 17.35 | Z40: 16.19 | AA40: 14.59 | AB40: 85.86 | AC40: 16.5 | AD40: 20.71
B41: Estado de cuidado de SO₂ | C41: 500 µg/m³ en periodo de 3 horas móviles
B43: ID: Insuficiencia de data

Sheet H2S_CA-ILO-01
F2: Tabla 3.5. Concentraciones horarias de H₂S
B6: TÍTULO DEL ESTUDIO: | F6: ='PM10_CA-ILO-01'!F6 -> Evaluación de seguimiento de la calidad del aire en la I.E. Francisco Bolognesi, distrito Ilo, provincia Ilo, departamento Moquegua, en febrero 2022
B8: ESTACIÓN DE MONITOREO: | F8: CA-ILO-01 | Q8: CÓDIGO DE ACCIÓN:
B10: DATOS DEL EQUIPO
B12: EQUIPO: | F12: Analizador sulfuro de hidrógeno | Q12: MARCA: | V12: THERMO SCIENTIFIC
B14: MODELO: | F14: 450i | Q14: SERIE: | V14: CM19490141
B16: Hora\Día | C16: 1 | D16: 2 | E16: 3 | F16: 4 | G16: 5 | H16: 6 | I16: 7 | J16: 8 | K16: 9 | L16: 10 | M16: 11 | N16: 12 | O16: 13 | P16: 14 | Q16: 15 | R16: 16 | S16: 17 | T16: 18 | U16: 19 | V16: 20 | W16: 21 | X16: 22 | Y16: 23 | Z16: 24 | AA16: 25 | AB16: 26 | AC16: 27 | AD16: 28 | AE16: 29 | AF16: 30 | AG16: 31
B17: 0 | C17: 17.01 | D17: 21.21 | E17: 11.8 | F17: 6.7 | G17: 8.33 | H17: 9.63 | I17: 6.8 | J17: 7.24 | K17: 8.33 | L17: 8.53 | M17: 6.88 | N17: 7.91 | O17: 28.72 | P17: 9.49 | Q17: 9.45 | R17: 9.77 | S17: 10.65 | T17: 9.02 | U17: 49.91 | V17: 10.74 | W17: 36.4 | X17: 64.47 | Y17: 86.68 | Z17: 8.3 | AA17: 8.69 | AB17: 10.63 | AC17: 7.69 | AD17: 13.34
B18: 0.041666667 | C18: 7.16 | D18: 10.62 | E18: 21.53 | F18: 8.62 | G18: 10.74 | H18: 13.93 | I18: 6.66 | J18: 7.46 | K18: 8.38 | L18: 9.01 | M18: 7.2 | N18: 7.02 | O18: 99.55 | P18: 14.12 | Q18: 15.47 | R18: 9.76 | S18: 29.01 | T18: 9.83 | U18: 70.74 | V18: 9.62 | W18: 8.47 | X18: 55.24 | Y18: 126.24 | Z18: 8.28 | AA18: 8.45 | AB18: 24.81 | AC18: 7.7 | AD18: 8.48
B19: 0.083333333 | C19: 7.13 | D19: 49.01 | E19: 11.9 | F19: 6.82 | G19: 26.8 | H19: 10.12 | I19: 7.16 | J19: 8.95 | K19: 32.44 | L19: 18.5 | M19: 37.28 | N19: 7.05 | O19: 23.55 | P19: 61.54 | Q19: 52.64 | R19: 9.8 | S19: 48.87 | T19: 10.01 | U19: 32.25 | V19: 8.99 | W19: 7.9 | X19: 10.52 | Y19: 68.37 | Z19: 8.21 | AA19: 8.17 | AB19: 23.1 | AC19: 8.26 | AD19: 8.31
B20: 0.125 | C20: 7.44 | D20: 21.63 | E20: 8.47 | F20: 6.73 | G20: 7.08 | H20: 7.78 | I20: 7.19 | J20: 11.26 | K20: 42.42 | L20: 31.72 | M20: 17.07 | N20: 6.88 | O20: 11.37 | P20: 38.53 | Q20: 37.35 | R20: 9.83 | S20: 18.46 | T20: 10.3 | U20: 19.03 | V20: 9.4 | W20: 7.49 | X20: 8.97 | Y20: 63.02 | Z20: 8.02 | AA20: 7.98 | AB20: 19.74 | AC20: 13.12 | AD20: 11.13
B21: 0.16666667 | C21: 19.99 | D21: 7.73 | E21: 9.12 | F21: 6.73 | G21: 7.23 | H21: 7.06 | I21: 6.95 | J21: 15.11 | K21: 13.87 | L21: 14.14 | M21: 8.24 | N21: 7.19 | O21: 9.58 | P21: 14.16 | Q21: 11.26 | R21: 10.04 | S21: 80.06 | T21: 10.66 | U21: 15.8 | V21: 22.55 | W21: 7.62 | X21: 55.22 | Y21: 41.28 | Z21: 8.34 | AA21: 7.9 | AB21: 29.43 | AC21: 16 | AD21: 51.26
B22: 0.20833333 | C22: 8.8 | D22: 7.06 | E22: 7.98 | F22: 6.69 | G22: 7.62 | H22: 6.96 | I22: 7.17 | J22: 8.21 | K22: 12.55 | L22: 8.49 | M22: 7.37 | N22: 7.17 | O22: 9.52 | P22: 7.83 | Q22: 10.02 | R22: 9.79 | S22: 49.89 | T22: 22.37 | U22: 67.87 | V22: 34.01 | W22: 7.67 | X22: 16.11 | Y22: 13.08 | Z22: 7.87 | AA22: 7.99 | AB22: 28.38 | AC22: 24.74 | AD22: 12.37
B23: 0.25 | C23: 6.98 | D23: 7.03 | E23: 16.86 | F23: 11.41 | G23: 7.16 | H23: 7.03 | I23: 7.23 | J23: 9.15 | K23: 12.38 | L23: 8.33 | M23: 7.84 | N23: 6.87 | O23: 11.87 | P23: 7.78 | Q23: 9.29 | R23: 10.04 | S23: 29.4 | T23: 106.93 | U23: 86.4 | V23: 37.17 | W23: 8.3 | X23: 10.86 | Y23: 9.62 | Z23: 7.87 | AA23: 13.98 | AB23: 12.37 | AC23: 10.83 | AD23: 9.17
B24: 0.29166667 | C24: 18.31 | D24: 7.01 | E24: 25.95 | F24: 9.45 | G24: 7.24 | H24: 6.89 | I24: 6.7 | J24: 9.05 | K24: 9.79 | L24: 8.84 | M24: 8.44 | N24: 7.16 | O24: 22.64 | P24: 7.87 | Q24: 13.08 | R24: 10.11 | S24: 13.76 | T24: 37.61 | U24: 36.58 | V24: 17.86 | W24: 18.07 | X24: 8.15 | Y24: 8.94 | Z24: 9.8 | AA24: 30.08 | AB24: 9.33 | AC24: 9.95 | AD24: 9.38
B25: 0.33333333 | C25: 9.34 | D25: 7.03 | E25: 12.47 | F25: 6.89 | G25: 7.69 | H25: 6.82 | I25: 6.96 | J25: 8.98 | K25: 9.45 | L25: 8.78 | M25: 7.35 | N25: 7.8 | O25: 14.37 | P25: 7.74 | Q25: 9.49 | R25: 10.16 | S25: 9.22 | T25: 14.57 | U25: 22.64 | V25: 12.13 | W25: 10.66 | X25: 8.1 | Y25: 8.87 | Z25: 11.58 | AA25: 8.51 | AB25: 8.47 | AC25: 8.49 | AD25: 10.13
B26: 0.375 | C26: 7.28 | D26: 6.96 | E26: 8.9 | F26: 6.7 | G26: 8.74 | H26: 6.76 | I26: 6.91 | J26: 8.56 | K26: 8.83 | L26: 8.67 | M26: 6.92 | N26: 7.02 | O26: 9.34 | P26: 7.52 | Q26: 9.54 | R26: 9.92 | S26: 8.76 | T26: 11.37 | U26: 10.16 | V26: 8.6 | W26: 8.1 | X26: 8.15 | Y26: 8.7 | Z26: 7.9 | AA26: 7.84 | AB26: 8.23 | AC26: 7.52 | AD26: 10.11
B27: 0.41666667 | C27: 6.7 | D27: 7.08 | E27: 6.76 | F27: ID | G27: 7.46 | H27: 6.74 | I27: 6.67 | J27: 8.35 | K27: 8.58 | L27: 8.34 | M27: 6.78 | N27: 6.84 | O27: 9.24 | P27: 8.42 | Q27: 9.17 | R27: 9.59 | S27: 9.55 | T27: 9.69 | U27: 9.79 | V27: 8.56 | W27: 7.48 | X27: 8.05 | Y27: 8.58 | Z27: 7.35 | AA27: 7.02 | AB27: 7.67 | AC27: 7.33 | AD27: 9.42
B28: 0.45833333 | C28: 6.67 | D28: 6.81 | E28: 6.74 | F28: ID | G28: 6.73 | H28: 6.76 | I28: 6.62 | J28: 8.33 | K28: 8.55 | L28: 7.94 | M28: 6.78 | N28: 6.78 | O28: 8.88 | P28: 9.67 | Q28: 8.81 | R28: 9.52 | S28: 9.69 | T28: 8.98 | U28: 9.42 | V28: 8.49 | W28: 7.46 | X28: 7.7 | Y28: 8.42 | Z28: 7.38 | AA28: 7.13 | AB28: 7.42 | AC28: 7.35 | AD28: 9.77
B29: 0.5 | C29: 6.66 | D29: 6.91 | E29: 6.84 | F29: 7.12 | G29: 6.95 | H29: 7.02 | I29: 6.62 | J29: 8.35 | K29: 8.37 | L29: 7.98 | M29: 6.74 | N29: 7.23 | O29: 7.98 | P29: 9.79 | Q29: 9.02 | R29: 9.55 | S29: 9.47 | T29: 9.17 | U29: 9.19 | V29: 8.13 | W29: 7.44 | X29: 7.69 | Y29: 8.38 | Z29: 7.28 | AA29: 7.17 | AB29: 7.33 | AC29: 7.23 | AD29: 9.4
B30: 0.54166667 | C30: 6.52 | D30: 6.82 | E30: 6.84 | F30: 6.48 | G30: 6.96 | H30: 7.16 | I30: 6.6 | J30: 8.6 | K30: 8.31 | L30: 7.8 | M30: 6.76 | N30: 8.01 | O30: 8.7 | P30: 9.48 | Q30: 9.4 | R30: 9.51 | S30: 9.04 | T30: 9.51 | U30: 8.77 | V30: 8.01 | W30: 7.33 | X30: 7.66 | Y30: 8.3 | Z30: ID | AA30: 6.99 | AB30: 7.45 | AC30: 7.24 | AD30: 9.42
B31: 0.58333333 | C31: 6.6 | D31: 6.78 | E31: 6.8 | F31: 6.35 | G31: 6.76 | H31: 7.39 | I31: 6.53 | J31: 8.59 | K31: 8.3 | L31: 7.76 | M31: 6.84 | N31: 8.85 | O31: 9.31 | P31: 9.45 | Q31: 8.91 | R31: 9.62 | S31: 7.98 | T31: 9.44 | U31: 8.58 | V31: 8.19 | W31: 7.2 | X31: 7.63 | Y31: 8.3 | Z31: 8.47 | AA31: 7.16 | AB31: 7.48 | AC31: 7.21 | AD31: 9.41
B32: 0.625 | C32: 6.66 | D32: 6.7 | E32: 6.77 | F32: 6.35 | G32: 6.87 | H32: 7.01 | I32: 6.73 | J32: 8.58 | K32: 8.62 | L32: 7.98 | M32: ID | N32: 8.85 | O32: 9.62 | P32: 9.45 | Q32: 9.26 | R32: 9.66 | S32: 8.19 | T32: 7.69 | U32: 8.53 | V32: 8.2 | W32: 7.2 | X32: 7.58 | Y32: 8.24 | Z32: 7.53 | AA32: 7.21 | AB32: 7.41 | AC32: 7.38 | AD32: 8.7
B33: 0.66666667 | C33: 6.64 | D33: 6.82 | E33: 6.77 | F33: 6.55 | G33: 6.81 | H33: 7.06 | I33: 7.27 | J33: 8.73 | K33: 8.38 | L33: 8.1 | M33: 7.1 | N33: 8.85 | O33: 9.83 | P33: 9.62 | Q33: 9.31 | R33: 9.52 | S33: 9.05 | T33: 7.52 | U33: 8.58 | V33: 8.09 | W33: 7.33 | X33: 7.6 | Y33: 8.4 | Z33: 7.73 | AA33: 7.1 | AB33: 7.28 | AC33: 7.44 | AD33: 8.66
B34: 0.70833333 | C34: 6.69 | D34: 6.82 | E34: 6.81 | F34: 6.62 | G34: 7.95 | H34: 7.05 | I34: 7.33 | J34: 8.69 | K34: 8.44 | L34: 7.06 | M34: 7.05 | N34: 8.8 | O34: 9.65 | P34: 9.62 | Q34: 9.54 | R34: 9.67 | S34: 9.23 | T34: 7.7 | U34: 8.56 | V34: 8.17 | W34: 7.41 | X34: 7.88 | Y34: 8.23 | Z34: 7.41 | AA34: 7.06 | AB34: 7.33 | AC34: 7.24 | AD34: 9.3
B35: 0.75 | C35: 6.74 | D35: 6.8 | E35: 6.77 | F35: 6.7 | G35: 6.76 | H35: 6.81 | I35: 6.96 | J35: 8.72 | K35: 8.63 | L35: 6.82 | M35: 6.95 | N35: 8.9 | O35: 9.9 | P35: 9.62 | Q35: 9.42 | R35: 9.66 | S35: 9.23 | T35: 7.84 | U35: 8.63 | V35: 8.35 | W35: 7.45 | X35: 7.74 | Y35: 8.35 | Z35: 7.51 | AA35: 7.21 | AB35: 7.31 | AC35: 7.19 | AD35: 8.7
B36: 0.79166667 | C36: 6.82 | D36: 6.84 | E36: 6.8 | F36: 6.73 | G36: 6.71 | H36: 6.82 | I36: 6.7 | J36: 8.52 | K36: 8.74 | L36: 6.95 | M36: 6.99 | N36: 9.06 | O36: 9.63 | P36: 9.63 | Q36: 9.08 | R36: 9.6 | S36: 9.54 | T36: 7.96 | U36: 15.61 | V36: 8.28 | W36: 7.49 | X36: 7.71 | Y36: 8.56 | Z36: 7.58 | AA36: 7.19 | AB36: 7.45 | AC36: 7.35 | AD36: 8.78
B37: 0.83333333 | C37: 6.8 | D37: 6.76 | E37: 6.8 | F37: 6.76 | G37: 6.73 | H37: 6.62 | I37: 7.05 | J37: 8.78 | K37: 8.55 | L37: 6.91 | M37: 7.56 | N37: 9.15 | O37: 9.37 | P37: 9.55 | Q37: 9.91 | R37: 9.48 | S37: 10.87 | T37: 7.95 | U37: 34.61 | V37: 8.19 | W37: 7.42 | X37: 7.7 | Y37: 8.66 | Z37: 7.48 | AA37: 7.48 | AB37: 7.42 | AC37: 7.33 | AD37: 8.83
B38: 0.875 | C38: 6.89 | D38: 6.87 | E38: 6.71 | F38: 6.77 | G38: 6.89 | H38: 6.76 | I38: 7.2 | J38: 8.28 | K38: 8.63 | L38: 6.99 | M38: 7.49 | N38: 8.88 | O38: 9.38 | P38: 9.67 | Q38: 9.86 | R38: 9.66 | S38: 10.55 | T38: 7.81 | U38: 64.43 | V38: 8.02 | W38: 7.31 | X38: 7.77 | Y38: 8.63 | Z38: 7.35 | AA38: 7.84 | AB38: 8.69 | AC38: 7.41 | AD38: 9.35
B39: 0.91666667 | C39: 6.87 | D39: 6.88 | E39: 6.76 | F39: 7.42 | G39: 6.91 | H39: 6.82 | I39: 7.27 | J39: 8.28 | K39: 8.87 | L39: 7.03 | M39: 23.21 | N39: 10.05 | O39: 9.42 | P39: 9.7 | Q39: 9.94 | R39: 9.49 | S39: 12.95 | T39: 7.8 | U39: 29.91 | V39: 7.77 | W39: 7.3 | X39: 21.42 | Y39: 8.53 | Z39: 7.55 | AA39: 7.83 | AB39: 7.45 | AC39: 7.41 | AD39: 11.02
B40: 0.95833333 | C40: 6.96 | D40: 8.52 | E40: 6.7 | F40: 8.45 | G40: 6.87 | H40: 6.73 | I40: 7.8 | J40: 8.03 | K40: 8.53 | L40: 6.82 | M40: 12.43 | N40: 34.46 | O40: 9.33 | P40: 9.38 | Q40: 9.88 | R40: 12.09 | S40: 12.72 | T40: 8.97 | U40: 22.5 | V40: 26.84 | W40: 39.56 | X40: 49.89 | Y40: 8.38 | Z40: 7.92 | AA40: 9.6 | AB40: 7.52 | AC40: 31.71 | AD40: 9.55
B41: Promedio de H₂S en 24 h | C41: 8.5 | D41: 10.1 | E41: 9.6 | F41: 7.2 | G41: 8.2 | H41: 7.5 | I41: 7 | J41: 8.9 | K41: 11.6 | L41: 9.6 | M41: 9.9 | N41: 9 | O41: 15.4 | P41: 12.9 | Q41: 12.9 | R41: 9.8 | S41: 18.2 | T41: 15 | U41: 27.4 | V41: 12.7 | W41: 10.7 | X41: 17.1 | Y41: 23 | Z41: 8 | AA41: 8.9 | AB41: 11.7 | AC41: 10 | AD41: 11.4
B42: ECA aire de H₂S | C42: 150 µg/m³ en periodo de 24 horas
B44: ID: Insuficiencia de data

Sheet NO2_CA-ILO-01
F2: Tabla 3.6. Concentraciones horarias de NO₂
B6: TÍTULO DEL ESTUDIO: | F6: ='PM10_CA-ILO-01'!F6 -> Evaluación de seguimiento de la calidad del aire en la I.E. Francisco Bolognesi, distrito Ilo, provincia Ilo, departamento Moquegua, en febrero 2022
B8: ESTACIÓN DE MONITOREO: | F8: CA-ILO-01 | Q8: CÓDIGO DE ACCIÓN:
B10: DATOS DEL EQUIPO
B12: EQUIPO: | F12: Analizador dióxido de nitrógeno | Q12: MARCA: | V12: THERMO SCIENTIFIC
B14: MODELO: | F14: 42i | Q14: SERIE: | V14: 1192914962
B16: Hora\Día | C16: 1 | D16: 2 | E16: 3 | F16: 4 | G16: 5 | H16: 6 | I16: 7 | J16: 8 | K16: 9 | L16: 10 | M16: 11 | N16: 12 | O16: 13 | P16: 14 | Q16: 15 | R16: 16 | S16: 17 | T16: 18 | U16: 19 | V16: 20 | W16: 21 | X16: 22 | Y16: 23 | Z16: 24 | AA16: 25 | AB16: 26 | AC16: 27 | AD16: 28 | AE16: 29 | AF16: 30 | AG16: 31
B17: 0 | C17: 5.87 | D17: 6.6 | E17: 10.42 | F17: 3.44 | G17: 3.65 | H17: 7.56 | I17: 3.4 | J17: 3.93 | K17: 3.12 | L17: 3.99 | M17: 4.64 | N17: 7.09 | O17: 14.18 | P17: 2.95 | Q17: 4.06 | R17: 3.57 | S17: 5.32 | T17: 3.57 | U17: 12.05 | V17: 6.62 | W17: 12.3 | X17: 18.69 | Y17: 11.92 | Z17: 3.37 | AA17: 7.22 | AB17: 4.12 | AC17: 17.58 | AD17: 6.17
B18: 0.041666667 | C18: 2.59 | D18: 5.96 | E18: 18.01 | F18: 6.41 | G18: 3.52 | H18: 11.77 | I18: 3.42 | J18: 10.19 | K18: 2.88 | L18: 4.1 | M18: 6.2 | N18: 3.08 | O18: 17.31 | P18: 5.02 | Q18: 6.73 | R18: 2.91 | S18: 18.39 | T18: 3.63 | U18: 14.72 | V18: 4.49 | W18: 4.21 | X18: 18.99 | Y18: 15.34 | Z18: 3.12 | AA18: 6.13 | AB18: 8.91 | AC18: 5.32 | AD18: 5.21
B19: 0.083333333 | C19: 2.54 | D19: 10 | E19: 13.95 | F19: 3.23 | G19: 6.75 | H19: 11.84 | I19: 3.63 | J19: 12.9 | K19: 3.67 | L19: 10.42 | M19: 16.49 | N19: 2.78 | O19: 17.65 | P19: 6.64 | Q19: 15.49 | R19: 2.8 | S19: 14.81 | T19: 3.65 | U19: 18.86 | V19: 4.04 | W19: 3.05 | X19: 15.19 | Y19: 16.28 | Z19: 2.9 | AA19: 3.44 | AB19: 5.08 | AC19: 4.93 | AD19: 4.46
B20: 0.125 | C20: 3.14 | D20: 8.8 | E20: 9.93 | F20: 3.31 | G20: 3.4 | H20: 11.81 | I20: 3.37 | J20: 11.83 | K20: 6.19 | L20: 12.26 | M20: 18.72 | N20: 3.05 | O20: 8.8 | P20: 7.46 | Q20: 14.18 | R20: 2.63 | S20: 9.93 | T20: 4.1 | U20: 18.44 | V20: 4.81 | W20: 2.95 | X20: 10.6 | Y20: 15.72 | Z20: 2.82 | AA20: 3.5 | AB20: 15.94 | AC20: 6.47 | AD20: 7.52
B21: 0.16666667 | C21: 7.33 | D21: 3.99 | E21: 15.28 | F21: 4.29 | G21: 3.93 | H21: 7.86 | I21: 6.28 | J21: 9.53 | K21: 8.07 | L21: 12.82 | M21: 9.55 | N21: 7.24 | O21: 4.51 | P21: 7.39 | Q21: 12.03 | R21: 2.86 | S21: 11.3 | T21: 5.25 | U21: 22.05 | V21: 13.76 | W21: 3.63 | X21: 12.88 | Y21: 15.62 | Z21: 5.3 | AA21: 3.5 | AB21: 15.23 | AC21: 10.11 | AD21: 8.1
B22: 0.20833333 | C22: 11.96 | D22: 4.93 | E22: 14.27 | F22: 5.56 | G22: 3.87 | H22: 7.13 | I22: 18.61 | J22: 5.36 | K22: 12.35 | L22: 15.43 | M22: 6.99 | N22: 8.27 | O22: 8.25 | P22: 6.62 | Q22: 10.9 | R22: 3.97 | S22: 13.95 | T22: 8.07 | U22: 20.23 | V22: 16.32 | W22: 8.03 | X22: 9.85 | Y22: 10 | Z22: 5.7 | AA22: 4.7 | AB22: 16.32 | AC22: 14.66 | AD22: 11.54
B23: 0.25 | C23: 8.44 | D23: 5.38 | E23: 15.83 | F23: 9.32 | G23: 4.7 | H23: 8.38 | I23: 16.22 | J23: 6.11 | K23: 23.18 | L23: 9.1 | M23: 7.95 | N23: 7.09 | O23: 10.89 | P23: 7.31 | Q23: 7.97 | R23: 10.81 | S23: 19.27 | T23: 15.75 | U23: 16.24 | V23: 17.31 | W23: 14.98 | X23: 13.72 | Y23: 5.09 | Z23: 10.15 | AA23: 8.31 | AB23: 20.59 | AC23: 10.83 | AD23: 7.93
B24: 0.29166667 | C24: 10.79 | D24: 5.26 | E24: 12.22 | F24: 8.27 | G24: 4.55 | H24: 4.68 | I24: 7.58 | J24: 4.66 | K24: 13.12 | L24: 13.39 | M24: 10.75 | N24: 6.32 | O24: 13.48 | P24: 8.76 | Q24: 10.4 | R24: 7.29 | S24: 20.17 | T24: 15.25 | U24: 14.74 | V24: 10.98 | W24: 12.31 | X24: 6.62 | Y24: 4.79 | Z24: 10.38 | AA24: 8.8 | AB24: 19.14 | AC24: 4.68 | AD24: 9.21
B25: 0.33333333 | C25: 7.24 | D25: 3.89 | E25: 10.87 | F25: 4.4 | G25: 4.93 | H25: 4.34 | I25: 6.81 | J25: 3.97 | K25: 10.08 | L25: 13.59 | M25: 4.96 | N25: 8.95 | O25: 9.27 | P25: 5.64 | Q25: 5.49 | R25: 5.45 | S25: 9.32 | T25: 11.26 | U25: 10.96 | V25: 8.82 | W25: 10.36 | X25: 4.94 | Y25: 5.51 | Z25: 8.69 | AA25: 5.36 | AB25: 5.25 | AC25: 3.67 | AD25: 7.9
B26: 0.375 | C26: 6.07 | D26: 3.48 | E26: 8.05 | F26: 4.44 | G26: 4.47 | H26: 4.12 | I26: 5.79 | J26: 3.91 | K26: 9.29 | L26: 8.55 | M26: 4.04 | N26: 7.44 | O26: 4.17 | P26: 4.66 | Q26: 3.95 | R26: 4.42 | S26: 7.29 | T26: 9.66 | U26: 7.78 | V26: 5.08 | W26: 7.46 | X26: 4.79 | Y26: 6.32 | Z26: 4.34 | AA26: 4.27 | AB26: 4.1 | AC26: 3.42 | AD26: 7.14
B27: 0.41666667 | C27: 3.68 | D27: 3.55 | E27: 4.68 | F27: 5.92 | G27: 4.57 | H27: 4.23 | I27: 3.87 | J27: 4.59 | K27: 5.21 | L27: 5.25 | M27: 3.87 | N27: 4.31 | O27: 3.76 | P27: 4.42 | Q27: 3.72 | R27: 3.82 | S27: 5.56 | T27: 8.87 | U27: 7.75 | V27: 6 | W27: 3.99 | X27: 4.72 | Y27: 3.85 | Z27: 4.14 | AA27: 3.85 | AB27: 3.7 | AC27: 3.27 | AD27: 5.88
B28: 0.45833333 | C28: 3.52 | D28: 3.27 | E28: 4.85 | F28: ID | G28: 4.38 | H28: 3.5 | I28: 4.08 | J28: 3.84 | K28: 4.66 | L28: 4.57 | M28: 3.57 | N28: 3.68 | O28: 3.35 | P28: 4.15 | Q28: 3.84 | R28: 3.95 | S28: 3.68 | T28: 4.32 | U28: 8.61 | V28: 4.98 | W28: 3.97 | X28: 3.95 | Y28: 3.7 | Z28: 3.97 | AA28: 3.61 | AB28: 3.63 | AC28: 3.29 | AD28: 11.77
B29: 0.5 | C29: 3.78 | D29: 3.33 | E29: 4.61 | F29: VF | G29: 4.21 | H29: 3.63 | I29: 3.93 | J29: 3.84 | K29: 4.42 | L29: 4.4 | M29: 3.44 | N29: 3.91 | O29: 3.61 | P29: 3.78 | Q29: 3.67 | R29: 3.76 | S29: 3.89 | T29: 4.51 | U29: 7.93 | V29: 3.44 | W29: 3.91 | X29: 4.36 | Y29: 3.78 | Z29: 3.78 | AA29: 3.99 | AB29: 3.46 | AC29: 3.2 | AD29: 5.15
B30: 0.54166667 | C30: 3.29 | D30: 3.29 | E30: 3.42 | F30: ID | G30: 4.42 | H30: 3.91 | I30: 3.55 | J30: 3.5 | K30: 4.79 | L30: 3.72 | M30: 3.25 | N30: 3.4 | O30: 3.31 | P30: 3.5 | Q30: 3.38 | R30: 3.52 | S30: 3.78 | T30: 4.15 | U30: 5.53 | V30: 3.35 | W30: 3.53 | X30: 4.19 | Y30: 3.5 | Z30: 3.55 | AA30: 3.42 | AB30: 3.27 | AC30: 3.12 | AD30: 4.76
B31: 0.58333333 | C31: 3.16 | D31: 2.99 | E31: 3.87 | F31: 3.7 | G31: 3.72 | H31: 3.23 | I31: 3.33 | J31: 3.23 | K31: 4.66 | L31: 3.76 | M31: 3.35 | N31: 4.34 | O31: 3.35 | P31: 3.59 | Q31: 3.57 | R31: 3.55 | S31: 3.38 | T31: 4.74 | U31: 5.49 | V31: 3.18 | W31: 3.65 | X31: 4.53 | Y31: 3.4 | Z31: 3.21 | AA31: 3.44 | AB31: 3.48 | AC31: 3.16 | AD31: 3.99
B32: 0.625 | C32: 3.48 | D32: 3.25 | E32: 4.12 | F32: 3.4 | G32: 3.44 | H32: 3.25 | I32: 3.68 | J32: 3.16 | K32: 3.78 | L32: 3.99 | M32: ID | N32: 4.23 | O32: 3.12 | P32: 3.61 | Q32: 3.89 | R32: 3.82 | S32: 3.42 | T32: 6.34 | U32: 6.92 | V32: 2.99 | W32: 3.76 | X32: 4.15 | Y32: 3.63 | Z32: ID | AA32: 3.61 | AB32: 3.29 | AC32: 2.95 | AD32: 3.74
B33: 0.66666667 | C33: 3.55 | D33: 3.38 | E33: 3.95 | F33: 3.37 | G33: 3.63 | H33: 3.1 | I33: 3.46 | J33: 3.29 | K33: 4 | L33: 3.91 | M33: 3.72 | N33: 3.7 | O33: 2.95 | P33: 4.1 | Q33: 3.44 | R33: 3.72 | S33: 3.63 | T33: 5.55 | U33: 5.04 | V33: 3.06 | W33: 3.97 | X33: 3.76 | Y33: 3.63 | Z33: 3.63 | AA33: 3.72 | AB33: 3.87 | AC33: 2.99 | AD33: 4
B34: 0.70833333 | C34: 4.25 | D34: 4 | E34: 4.79 | F34: 4.32 | G34: 3.61 | H34: 3.37 | I34: 3.84 | J34: 3.95 | K34: 4.34 | L34: 4.14 | M34: 4.1 | N34: 3.97 | O34: 3.37 | P34: 4.47 | Q34: 3.85 | R34: 3.95 | S34: 4.49 | T34: 4.89 | U34: 9.42 | V34: 3.31 | W34: 4.1 | X34: 4.38 | Y34: 4.34 | Z34: 3.76 | AA34: 3.97 | AB34: 4.19 | AC34: 4 | AD34: 4.32
B35: 0.75 | C35: 5.36 | D35: 4.83 | E35: 5.02 | F35: 4.85 | G35: 4.68 | H35: 3.84 | I35: 4.61 | J35: 5 | K35: 5.08 | L35: 5.3 | M35: 4.66 | N35: 4.91 | O35: 3.84 | P35: 5.49 | Q35: 4.78 | R35: 5.56 | S35: 6.19 | T35: 9.93 | U35: 12.3 | V35: 4.08 | W35: 5.04 | X35: 5.4 | Y35: 4.62 | Z35: 5.73 | AA35: 5.04 | AB35: 4.83 | AC35: 4.55 | AD35: 6.37
B36: 0.79166667 | C36: 6.02 | D36: 5.3 | E36: 5.23 | F36: 5.45 | G36: 5.02 | H36: 4.47 | I36: 4.93 | J36: 5.79 | K36: 5.47 | L36: 5.94 | M36: 5.64 | N36: 5.19 | O36: 4.44 | P36: 4.81 | Q36: 5.23 | R36: 6.05 | S36: 7.37 | T36: 10.17 | U36: 14.14 | V36: 5.06 | W36: 5.49 | X36: 4.61 | Y36: 4.29 | Z36: 5.38 | AA36: 5.47 | AB36: 6.24 | AC36: 4.64 | AD36: 8.1
B37: 0.83333333 | C37: 5.64 | D37: 6.6 | E37: 6.2 | F37: 6.09 | G37: 5.28 | H37: 4.51 | I37: 5.08 | J37: 7.35 | K37: 6.35 | L37: 5.98 | M37: 6.5 | N37: 7.82 | O37: 4.94 | P37: 4.72 | Q37: 5 | R37: 6.45 | S37: 14.19 | T37: 13.76 | U37: 11.77 | V37: 5.13 | W37: 4.83 | X37: 4.59 | Y37: 4.57 | Z37: 5.4 | AA37: 6.05 | AB37: 6.54 | AC37: 5.3 | AD37: 8.93
B38: 0.875 | C38: 4.68 | D38: 6.79 | E38: 5.9 | F38: 6.94 | G38: 4.81 | H38: 4.44 | I38: 5.11 | J38: 4.31 | K38: 6.03 | L38: 5.98 | M38: 7.22 | N38: 6.58 | O38: 4.04 | P38: 4.55 | Q38: 4.79 | R38: 4.79 | S38: 12.75 | T38: 12.09 | U38: 17.43 | V38: 4.42 | W38: 5.36 | X38: 4.66 | Y38: 3.95 | Z38: 5.02 | AA38: 6.09 | AB38: 8.72 | AC38: 5.45 | AD38: 6.54
B39: 0.91666667 | C39: 3.63 | D39: 6.15 | E39: 4.46 | F39: 6.03 | G39: 4.66 | H39: 3.93 | I39: 4.31 | J39: 3.4 | K39: 5.73 | L39: 7.43 | M39: 9.36 | N39: 6.82 | O39: 4.25 | P39: 4.34 | Q39: 4.49 | R39: 4.51 | S39: 14.48 | T39: 12.48 | U39: 21.79 | V39: 4.62 | W39: 4.47 | X39: 8.74 | Y39: 3.68 | Z39: 4.68 | AA39: 5.17 | AB39: 11.64 | AC39: 4.36 | AD39: 8.59
B40: 0.95833333 | C40: 4.91 | D40: 8.2 | E40: 4.72 | F40: 3.82 | G40: 4.17 | H40: 3.87 | I40: 3.93 | J40: 3.37 | K40: 4.14 | L40: 5.28 | M40: 11.22 | N40: 12.24 | O40: 3.29 | P40: 3.85 | Q40: 3.91 | R40: 5.25 | S40: 9.79 | T40: 8.72 | U40: 22.13 | V40: 10.04 | W40: 11.19 | X40: 12.5 | Y40: 3.37 | Z40: 7.03 | AA40: 5.09 | AB40: 15.28 | AC40: 8.82 | AD40: 6.24
B41: ECA aire de NO₂ | C41: 200 µg/m³ en periodo de 1 hora
B43: VF: verificación del equipo
B44: ID: Insuficiencia de data

Sheet CO_CA-ILO-01
F2: Tabla 3.7. Concentraciones horarias de CO
B6: TÍTULO DEL ESTUDIO: | F6: ='PM10_CA-ILO-01'!F6 -> Evaluación de seguimiento de la calidad del aire en la I.E. Francisco Bolognesi, distrito Ilo, provincia Ilo, departamento Moquegua, en febrero 2022
B8: ESTACIÓN DE MONITOREO: | F8: CA-ILO-01 | Q8: CÓDIGO DE ACCIÓN:
B10: DATOS DEL EQUIPO
B12: EQUIPO: | F12: Analizador monóxido de carbono | Q12: MARCA: | V12: THERMO SCIENTIFIC
B14: MODELO: | F14: 48i | Q14: SERIE: | V14: 1193085163
B16: Hora\Día | C16: 1 | D16: 2 | E16: 3 | F16: 4 | G16: 5 | H16: 6 | I16: 7 | J16: 8 | K16: 9 | L16: 10 | M16: 11 | N16: 12 | O16: 13 | P16: 14 | Q16: 15 | R16: 16 | S16: 17 | T16: 18 | U16: 19 | V16: 20 | W16: 21 | X16: 22 | Y16: 23 | Z16: 24 | AA16: 25 | AB16: 26 | AC16: 27 | AD16: 28 | AE16: 29 | AF16: 30 | AG16: 31
B17: 0 | C17: 237.91 | D17: 270.88 | E17: 262.18 | F17: 237.16 | G17: 247.78 | H17: 267.94 | I17: 259.52 | J17: 276.71 | K17: 240.8 | L17: 225.35 | M17: 231.82 | N17: 230.13 | O17: 296.77 | P17: 227.93 | Q17: 254.94 | R17: 249.31 | S17: 256.69 | T17: 273.01 | U17: 265.42 | V17: 244.89 | W17: 268.77 | X17: 281.93 | Y17: 274.67 | Z17: 250.85 | AA17: 242.71 | AB17: 233.68 | AC17: 273.73 | AD17: 267.48
B18: 0.041666667 | C18: 223.34 | D18: 253.48 | E18: 278.69 | F18: 247.81 | G18: 246.11 | H18: 277.89 | I18: 250.33 | J18: 277.75 | K18: 240.9 | L18: 225.02 | M18: 250.32 | N18: 214.66 | O18: 340.25 | P18: 226.25 | Q18: 261.43 | R18: 242.96 | S18: 269.46 | T18: 268.01 | U18: 260.91 | V18: 226.79 | W18: 217.1 | X18: 281.47 | Y18: 280.06 | Z18: 241.37 | AA18: 239.41 | AB18: 247.33 | AC18: 240.81 | AD18: 269.09
